{"text_format":"1","workbook":"xlsx","n_sheets":6,"sheets":["Calculation","Author1","Author2","Author1Ind","Author2Ind","Test"],"not_rendered":{"charts":0,"images":0,"macros":1,"external_links":0,"defined_names":11,"comments":0,"pivot_tables":0},"unopened":[],"bounds":{"document_bytes":16777216,"sheet_cells":100000,"rows_first":2000,"rows_last":500,"rows_between":2000,"halvings":0,"cell_chars":16384,"cell_head_chars":4096},"cells_cut":0,"cells_raw":0,"read":"whole","date_system":"1900"}

{"sheet":"Calculation","index":0,"n_rows":39689,"n_cols":46,"rows_kept":4500,"cut":true,"hidden":false,"merged":[],"bounds":{"rows_first":2000,"rows_last":500,"rows_between":2000,"halvings":0}}
["Wide-Spectrum Text-Analysis -- © 2015 David L. Hoover",null,null,null,null,null,"# Words to Analyze",{"$f":"VALUE(OFFSET(H1,EndRow,0))","v":507},482,483,506,617,492,445,465,494,516,507,530,491,478,474,458,459,514,508,482,643,675,602,589,780,474,529,514,589,"1550-1600","1600-1650","1550-1600","Primary/Secondary","100 1550-1600 words","100 1600-1650 words","1816 1550-1600 words","1330 1600-1650 words","908 1550-1600 words","665 1600-1650 words"]
["Wordlist Size",{"$f":"COUNTA(Author1!A1:A100003)-3","v":6310},"50000 Max",null,"Max Auth. 1 words for Cell F2 is 3632",100,{"$f":"F2&\" \"&Author1&\" words\"","v":"100 1550-1600 words"},{"$f":"COUNTIF(OFFSET(H$11,0,0,$F2,1),\">0\")/H$1","v":6.1143984220907298E-2},{"$f":"COUNTIF(OFFSET(I$11,0,0,$F2,1),\">0\")/I$1","v":6.0165975103734441E-2},4.5548654244306416E-2,6.9169960474308304E-2,5.6726094003241488E-2,8.5365853658536592E-2,0.10786516853932585,7.3118279569892475E-2,9.7165991902834009E-2,0.11434108527131782,9.8619329388560162E-2,0.10377358490566038,9.368635437881874E-2,0.13807531380753138,0.12236286919831224,0.1331877729257642,0.13725490196078433,0.12645914396887159,0.13582677165354332,0.12033195020746888,9.9533437013996889E-2,2.6666666666666668E-2,8.3056478405315621E-3,6.7911714770797962E-3,5.1282051282051282E-3,8.4388185654008432E-3,1.1342155009451797E-2,1.3618677042801557E-2,2.037351443123939E-2,"faire","every",null,"Writingsduring 1550-1600 (1)",6.1143984220907298E-2,1.5779092702169626E-2,0.4911242603550296,9.270216962524655E-2,0.33530571992110453,9.270216962524655E-2]
[{"$f":"Author1&\" Sections\"","v":"1550-1600 Sections"},{"$f":"COUNTA(Author1!B1:ALM1)","v":21},"1000 Max",null,"Max Auth. 2 words for Cell F3 is 2660",100,{"$f":"F3&\" \"&Author2&\" words\"","v":"100 1600-1650 words"},{"$f":"COUNTIF(OFFSET(H$11,Changepoint,0,$F3,1),\">0\")/H$1","v":1.5779092702169626E-2},2.0746887966804978E-2,3.1055900621118012E-2,1.5810276679841896E-2,1.9448946515397084E-2,6.0975609756097563E-3,2.6966292134831461E-2,1.5053763440860216E-2,1.417004048582996E-2,1.5503875968992248E-2,9.8619329388560158E-3,1.509433962264151E-2,1.6293279022403257E-2,2.0920502092050208E-2,1.2658227848101266E-2,8.7336244541484712E-3,1.3071895424836602E-2,1.1673151750972763E-2,1.3779527559055118E-2,6.2240663900414933E-3,1.3996889580093312E-2,7.2592592592592597E-2,8.6378737541528236E-2,0.100169779286927,8.7179487179487175E-2,9.49367088607595E-2,0.10964083175803403,8.5603112840466927E-2,7.4702886247877756E-2,"selfe","fresh",null,"Writingsduring 1550-1600 (2)",6.0165975103734441E-2,2.0746887966804978E-2,0.48962655601659749,0.1016597510373444,0.36721991701244816,0.1016597510373444]
[{"$f":"Author2&\" Sections\"","v":"1600-1650 Sections"},{"$f":"COUNTA(Author2!A1:ALL1)","v":8},"1000 Max",null,100,1816,{"$f":"F4&\" \"&Author1&\" words\"","v":"1816 1550-1600 words"},{"$f":"COUNTIF(OFFSET(H$11,0,0,$F4,1),\">0\")/H$1","v":0.4911242603550296},{"$f":"COUNTIF(OFFSET(I$11,0,0,$F4,1),\">0\")/I$1","v":0.48962655601659749},0.48033126293995859,0.5,0.51377633711507298,0.53658536585365857,0.54157303370786514,0.49677419354838709,0.53441295546558709,0.51744186046511631,0.50887573964497046,0.52641509433962264,0.51731160896130346,0.54393305439330542,0.54008438818565396,0.57205240174672489,0.53376906318082784,0.5622568093385214,0.57480314960629919,0.56639004149377592,0.51632970451010884,0.13037037037037036,6.9767441860465115E-2,7.8098471986417659E-2,6.2820512820512819E-2,9.7046413502109699E-2,0.1001890359168242,0.11673151750972763,9.6774193548387094E-2,"loue","love",null,"Writingsduring 1550-1600 (3)",4.5548654244306416E-2,3.1055900621118012E-2,0.48033126293995859,0.11801242236024845,0.36024844720496896,0.11801242236024845]
[{"$f":"Author1&\" Ind. Sections\"","v":"1550-1600 Ind. Sections"},{"$f":"COUNTA(Author1Ind!A$1:CP$1)","v":0},"100 Max",null,"Keep",1330,{"$f":"F5&\" \"&Author2&\" words\"","v":"1330 1600-1650 words"},{"$f":"COUNTIF(OFFSET(H$11,Changepoint,0,$F5,1),\">0\")/H$1","v":9.270216962524655E-2},0.1016597510373444,0.11801242236024845,8.8932806324110672E-2,0.1166936790923825,8.1300813008130079E-2,0.10786516853932585,9.8924731182795697E-2,0.10121457489878542,0.1065891472868217,0.1203155818540434,0.11509433962264151,0.11405295315682282,0.10669456066945607,9.49367088607595E-2,9.606986899563319E-2,9.8039215686274508E-2,7.0038910505836577E-2,8.6614173228346455E-2,7.4688796680497924E-2,8.553654743390357E-2,0.43259259259259258,0.53156146179401997,0.53310696095076404,0.48333333333333334,0.49156118143459915,0.51417769376181477,0.51750972762645919,0.51103565365025472,"owne","green",null,"Writingsduring 1550-1600 (4)",6.9169960474308304E-2,1.5810276679841896E-2,0.5,8.8932806324110672E-2,0.3715415019762846,8.8932806324110672E-2]
[{"$f":"Author2&\" Ind. Sections\"","v":"1600-1650 Ind. Sections"},{"$f":"COUNTA(Author2Ind!A$1:BP$1)","v":0},"100 Max",null,"Enter Names for Authors below:",908,{"$f":"F6&\" \"&Author1&\" words\"","v":"908 1550-1600 words"},{"$f":"COUNTIF(OFFSET(H$11,0,0,$F6,1),\">0\")/H$1","v":0.33530571992110453},{"$f":"COUNTIF(OFFSET(I$11,0,0,$F6,1),\">0\")/I$1","v":0.36721991701244816},0.36024844720496896,0.3715415019762846,0.36304700162074555,0.38008130081300812,0.42022471910112358,0.33118279569892473,0.41902834008097167,0.38565891472868219,0.38264299802761342,0.39245283018867927,0.38085539714867617,0.43514644351464438,0.44092827004219409,0.44104803493449779,0.44008714596949888,0.44747081712062259,0.46850393700787402,0.44190871369294604,0.39502332814930013,0.10518518518518519,5.3156146179401995E-2,5.2631578947368418E-2,4.8717948717948718E-2,7.3839662447257384E-2,7.3724007561436669E-2,8.7548638132295714E-2,7.3005093378607805E-2,"euen","leaves",null,"Writingsduring 1550-1600 (5)",5.6726094003241488E-2,1.9448946515397084E-2,0.51377633711507298,0.1166936790923825,0.36304700162074555,0.1166936790923825]
["Test Sections",{"$f":"COUNTA(Test!A1:GR1)","v":0},"100 Max","Author 1:","1550-1600",665,{"$f":"F7&\" \"&Author2&\" words\"","v":"665 1600-1650 words"},{"$f":"COUNTIF(OFFSET(H$11,Changepoint,0,$F7,1),\">0\")/H$1","v":9.270216962524655E-2},0.1016597510373444,0.11801242236024845,8.8932806324110672E-2,0.1166936790923825,8.1300813008130079E-2,0.10786516853932585,9.8924731182795697E-2,0.10121457489878542,0.1065891472868217,0.1203155818540434,0.11509433962264151,0.11405295315682282,0.10669456066945607,9.49367088607595E-2,9.606986899563319E-2,9.8039215686274508E-2,7.0038910505836577E-2,8.6614173228346455E-2,7.4688796680497924E-2,8.553654743390357E-2,0.31111111111111112,0.36544850498338871,0.3769100169779287,0.33974358974358976,0.40717299578059074,0.38563327032136108,0.36575875486381321,0.35314091680814941,"soule","fair",null,"Writing between 1550-1600 (1)",8.5365853658536592E-2,6.0975609756097563E-3,0.53658536585365857,8.1300813008130079E-2,0.38008130081300812,8.1300813008130079E-2]
["Total Sections",{"$f":"VALUE(SUM(B3:B7))","v":29},"2300 Max","Author 2:","1600-1650",null,"white = OK to edit",null,null,null,null,null,null,null,null,null,null,null,null,null,null,null,null,null,null,null,null,null,null,null,null,null,null,null,null,null,"paine","hence",null,"Writing between 1550-1600 (2)",0.10786516853932585,2.6966292134831461E-2,0.54157303370786514,0.10786516853932585,0.42022471910112358,0.10786516853932585]
["EndRow",{"$f":"COUNTA(Author1!A1:A50003)+7","v":6320},null,null,"Author 2--1st Word:",3651,"1550-1600",null,null,null,null,null,null,null,null,null,null,null,null,null,null,null,null,null,null,null,null,null,"1600-1650",null,null,null,null,null,null,null,"can","hear",null,"Writing between 1550-1600 (3)",7.3118279569892475E-2,1.5053763440860216E-2,0.49677419354838709,9.8924731182795697E-2,0.33118279569892473,9.8924731182795697E-2]
["Distinctiveness Score",{"$f":"Author1&\" Present %\"","v":"1550-1600 Present %"},{"$f":"Author2&\" Absent %\"","v":"1600-1650 Absent %"},{"$f":"\"Present \"&Author1","v":"Present 1550-1600"},{"$f":"\"Absent \"&Author2","v":"Absent 1600-1650"},"Rank","Word","Writingsduring 1550-1600 (1)","Writingsduring 1550-1600 (2)","Writingsduring 1550-1600 (3)","Writingsduring 1550-1600 (4)","Writingsduring 1550-1600 (5)","Writing between 1550-1600 (1)","Writing between 1550-1600 (2)","Writing between 1550-1600 (3)","Writing between 1550-1600 (4)","Writing between 1550-1600 (5)","Writing between 1550-1600 (6)","Writing between 1550-1600 (7)","Writing between 1550-1600 (8)","Writing between 1550-1600 (9)","Writing between 1550-1600 (10)","Writing between 1550-1600 (11)","Writing between 1550-1600 (12)","Writing between 1550-1600 (13)","Writing between 1550-1600 (14)","Writing between 1550-1600 (15)","Writing between 1550-1600 (16)","Writings from 1600-1650 (1)","Writings between 1600-1650 (1)","Writings between 1600-1650 (2)","Writings between 1600-1650 (3)","Writings during 1600-1650 (1)","Writings during 1600-1650 (2)","Writings during 1600-1650 (3)","Writings during 1600-1650 (4)","thinke","o'er",null,"Writing between 1550-1600 (4)",9.7165991902834009E-2,1.417004048582996E-2,0.53441295546558709,0.10121457489878542,0.41902834008097167,0.10121457489878542]
[{"$f":"B11+C11","v":1.8571428571428572},{"$f":"D11/Author1Sections","v":0.8571428571428571},{"$f":"E11/Author2Sections","v":1},{"$f":"COUNTIF(OFFSET(H11,0,0,1,Author1Sections),\">0\")","v":18},{"$f":"COUNTIF(OFFSET(H11,0,Author1Sections,1,Author2Sections),\"=0\")","v":8},91,"faire",0.3,0.1,0.1,0.1,0.14836795999999999,0.1,0.2,0.2,0,0.4,0.3,0,0,0.2,0.1,0.3,0.4,0.2,0.4,0.1,0.56298380000000003,0,0,0,0,0,0,0,0,"stella","tears",null,"Writing between 1550-1600 (5)",0.11434108527131782,1.5503875968992248E-2,0.51744186046511631,0.1065891472868217,0.38565891472868219,0.1065891472868217]
[{"$f":"B12+C12","v":1.7619047619047619},{"$f":"D12/Author1Sections","v":0.76190476190476186},{"$f":"E12/Author2Sections","v":1},{"$f":"COUNTIF(OFFSET(H12,0,0,1,Author1Sections),\">0\")","v":16},{"$f":"COUNTIF(OFFSET(H12,0,Author1Sections,1,Author2Sections),\"=0\")","v":8},104,"selfe",0,0.1,0.3,0,0,0.2,0.2,0,0.1,0,0.1,0.1,0.3,0.3,0.3,0.2,0.2,0.3,0.4,0.4,0.35186487,0,0,0,0,0,0,0,0,"haue","appear",null,"Writing between 1550-1600 (6)",9.8619329388560162E-2,9.8619329388560158E-3,0.50887573964497046,0.1203155818540434,0.38264299802761342,0.1203155818540434]
[{"$f":"B13+C13","v":1.7142857142857144},{"$f":"D13/Author1Sections","v":0.7142857142857143},{"$f":"E13/Author2Sections","v":1},{"$f":"COUNTIF(OFFSET(H13,0,0,1,Author1Sections),\">0\")","v":15},{"$f":"COUNTIF(OFFSET(H13,0,Author1Sections,1,Author2Sections),\"=0\")","v":8},38,"loue",0,0,0,0,0,0.1,0.4,0,0.4,1.1000000000000001,0.8,0.9,0.7,0.5,1.2,2,0.5,0.9,0.4,0.7,0.42223787000000002,0,0,0,0,0,0,0,0,"stellas","seen",null,"Writing between 1550-1600 (7)",0.10377358490566038,1.509433962264151E-2,0.52641509433962264,0.11509433962264151,0.39245283018867927,0.11509433962264151]
[{"$f":"B14+C14","v":1.7142857142857144},{"$f":"D14/Author1Sections","v":0.7142857142857143},{"$f":"E14/Author2Sections","v":1},{"$f":"COUNTIF(OFFSET(H14,0,0,1,Author1Sections),\">0\")","v":15},{"$f":"COUNTIF(OFFSET(H14,0,Author1Sections,1,Author2Sections),\"=0\")","v":8},131,"owne",0.2,0.1,0.2,0.2,0.14836795999999999,0.3,0.1,0,0.1,0.1,0,0.2,0,0,0,0.4,0,0.3,0.1,0.3,0.14074595000000001,0,0,0,0,0,0,0,0,"alas","fear",null,"Writing between 1550-1600 (8)",9.368635437881874E-2,1.6293279022403257E-2,0.51731160896130346,0.11405295315682282,0.38085539714867617,0.11405295315682282]
[{"$f":"B15+C15","v":1.6666666666666665},{"$f":"D15/Author1Sections","v":0.66666666666666663},{"$f":"E15/Author2Sections","v":1},{"$f":"COUNTIF(OFFSET(H15,0,0,1,Author1Sections),\">0\")","v":14},{"$f":"COUNTIF(OFFSET(H15,0,Author1Sections,1,Author2Sections),\"=0\")","v":8},145,"euen",0,0,0,0,0,0.1,0.1,0.2,0.3,0.1,0.3,0.1,0.2,0,0.2,0.4,0,0.1,0.2,0.2,7.0372980000000002E-2,0,0,0,0,0,0,0,0,"giue","hill",null,"Writing between 1550-1600 (9)",0.13807531380753138,2.0920502092050208E-2,0.54393305439330542,0.10669456066945607,0.43514644351464438,0.10669456066945607]
[{"$f":"B16+C16","v":1.6666666666666665},{"$f":"D16/Author1Sections","v":0.66666666666666663},{"$f":"E16/Author2Sections","v":1},{"$f":"COUNTIF(OFFSET(H16,0,0,1,Author1Sections),\">0\")","v":14},{"$f":"COUNTIF(OFFSET(H16,0,Author1Sections,1,Author2Sections),\"=0\")","v":8},183,"soule",0,0,0.2,0.1,0,0.1,0.2,0.1,0,0.2,0,0.1,0,0.1,0.1,0.3,0,0.1,0.1,0.1,0.14074595000000001,0,0,0,0,0,0,0,0,"name","upon",null,"Writing between 1550-1600 (10)",0.12236286919831224,1.2658227848101266E-2,0.54008438818565396,9.49367088607595E-2,0.44092827004219409,9.49367088607595E-2]
[{"$f":"B17+C17","v":1.6666666666666665},{"$f":"D17/Author1Sections","v":0.66666666666666663},{"$f":"E17/Author2Sections","v":1},{"$f":"COUNTIF(OFFSET(H17,0,0,1,Author1Sections),\">0\")","v":14},{"$f":"COUNTIF(OFFSET(H17,0,Author1Sections,1,Author2Sections),\"=0\")","v":8},220,"paine",0.1,0,0,0.2,7.4183979999999997E-2,0.1,0,0,0.1,0.1,0.2,0.1,0,0,0.1,0,0.1,0.1,0.1,0.1,0.14074595000000001,0,0,0,0,0,0,0,0,"hart","down",null,"Writing between 1550-1600 (11)",0.1331877729257642,8.7336244541484712E-3,0.57205240174672489,9.606986899563319E-2,0.44104803493449779,9.606986899563319E-2]
[{"$f":"B18+C18","v":1.6547619047619047},{"$f":"D18/Author1Sections","v":0.90476190476190477},{"$f":"E18/Author2Sections","v":0.75},{"$f":"COUNTIF(OFFSET(H18,0,0,1,Author1Sections),\">0\")","v":19},{"$f":"COUNTIF(OFFSET(H18,0,Author1Sections,1,Author2Sections),\"=0\")","v":6},77,"can",0.1,0,0.3,0.1,0.14836795999999999,0.3,0.5,0.3,0,0.3,0.1,0.4,0.8,0.1,0.3,0.3,0.1,0.2,0.2,0.2,7.0372980000000002E-2,0.19762845000000001,0,0,0,0,0.2,0,0,"poore",false,null,"Writing between 1550-1600 (12)",0.13725490196078433,1.3071895424836602E-2,0.53376906318082784,9.8039215686274508E-2,0.44008714596949888,9.8039215686274508E-2]
[{"$f":"B19+C19","v":1.6190476190476191},{"$f":"D19/Author1Sections","v":0.61904761904761907},{"$f":"E19/Author2Sections","v":1},{"$f":"COUNTIF(OFFSET(H19,0,0,1,Author1Sections),\">0\")","v":13},{"$f":"COUNTIF(OFFSET(H19,0,Author1Sections,1,Author2Sections),\"=0\")","v":8},185,"thinke",0,0.1,0,0,0,0.1,0.1,0.1,0,0.1,0,0.3,0.2,0.3,0.1,0.2,0.1,0,0.1,0.2,0,0,0,0,0,0,0,0,0,"sweete","weep",null,"Writing between 1550-1600 (13)",0.12645914396887159,1.1673151750972763E-2,0.5622568093385214,7.0038910505836577E-2,0.44747081712062259,7.0038910505836577E-2]
[{"$f":"B20+C20","v":1.5714285714285714},{"$f":"D20/Author1Sections","v":0.5714285714285714},{"$f":"E20/Author2Sections","v":1},{"$f":"COUNTIF(OFFSET(H20,0,0,1,Author1Sections),\">0\")","v":12},{"$f":"COUNTIF(OFFSET(H20,0,Author1Sections,1,Author2Sections),\"=0\")","v":8},98,"stella",0,0,0,0,0,0,0,0,0.1,0.3,0.3,0.3,0.2,0.3,0.6,0.2,0.5,0,0.3,0.3,0.56298380000000003,0,0,0,0,0,0,0,0,"because","bear",null,"Writing between 1550-1600 (14)",0.13582677165354332,1.3779527559055118E-2,0.57480314960629919,8.6614173228346455E-2,0.46850393700787402,8.6614173228346455E-2]
[{"$f":"B21+C21","v":1.5714285714285714},{"$f":"D21/Author1Sections","v":0.5714285714285714},{"$f":"E21/Author2Sections","v":1},{"$f":"COUNTIF(OFFSET(H21,0,0,1,Author1Sections),\">0\")","v":12},{"$f":"COUNTIF(OFFSET(H21,0,Author1Sections,1,Author2Sections),\"=0\")","v":8},102,"haue",0,0,0,0,0,0.3,0.5,0.7,0.3,0.1,0.5,0.1,0,0,0.4,0,0,0.1,0.4,0.3,0.21111894,0,0,0,0,0,0,0,0,"teares","ask'd",null,"Writing between 1550-1600 (15)",0.12033195020746888,6.2240663900414933E-3,0.56639004149377592,7.4688796680497924E-2,0.44190871369294604,7.4688796680497924E-2]
[{"$f":"B22+C22","v":1.5714285714285714},{"$f":"D22/Author1Sections","v":0.5714285714285714},{"$f":"E22/Author2Sections","v":1},{"$f":"COUNTIF(OFFSET(H22,0,0,1,Author1Sections),\">0\")","v":12},{"$f":"COUNTIF(OFFSET(H22,0,Author1Sections,1,Author2Sections),\"=0\")","v":8},184,"stellas",0,0,0,0,0,0,0,0,0,0.2,0.3,0.1,0.3,0.1,0.3,0.2,0.1,0.1,0.1,0.1,7.0372980000000002E-2,0,0,0,0,0,0,0,0,"doe","cheek",null,"Writing between 1550-1600 (16)",9.9533437013996889E-2,1.3996889580093312E-2,0.51632970451010884,8.553654743390357E-2,0.39502332814930013,8.553654743390357E-2]
[{"$f":"B23+C23","v":1.5416666666666665},{"$f":"D23/Author1Sections","v":0.66666666666666663},{"$f":"E23/Author2Sections","v":0.875},{"$f":"COUNTIF(OFFSET(H23,0,0,1,Author1Sections),\">0\")","v":14},{"$f":"COUNTIF(OFFSET(H23,0,Author1Sections,1,Author2Sections),\"=0\")","v":7},160,"alas",0,0,0,0,7.4183979999999997E-2,0.1,0.1,0,0,0.1,0.1,0.1,0,0.3,0.1,0.3,0.1,0.1,0.3,0.1,0.14074595000000001,0,0,0,6.7658999999999997E-2,0,0,0,0,"blisse","form","1600-1650","Writings from 1600-1650 (1)",2.6666666666666668E-2,7.2592592592592597E-2,0.13037037037037036,0.43259259259259258,0.10518518518518519,0.31111111111111112]
[{"$f":"B24+C24","v":1.5238095238095237},{"$f":"D24/Author1Sections","v":0.52380952380952384},{"$f":"E24/Author2Sections","v":1},{"$f":"COUNTIF(OFFSET(H24,0,0,1,Author1Sections),\">0\")","v":11},{"$f":"COUNTIF(OFFSET(H24,0,Author1Sections,1,Author2Sections),\"=0\")","v":8},147,"giue",0,0,0,0,0,0.2,0.5,0.2,0,0,0,0,0.2,0.1,0.2,0,0.3,0.3,0.1,0.3,0.14074595000000001,0,0,0,0,0,0,0,0,"leaue","stream",null,"Writings between 1600-1650 (1)",8.3056478405315621E-3,8.6378737541528236E-2,6.9767441860465115E-2,0.53156146179401997,5.3156146179401995E-2,0.36544850498338871]
[{"$f":"B25+C25","v":1.5238095238095237},{"$f":"D25/Author1Sections","v":0.52380952380952384},{"$f":"E25/Author2Sections","v":1},{"$f":"COUNTIF(OFFSET(H25,0,0,1,Author1Sections),\">0\")","v":11},{"$f":"COUNTIF(OFFSET(H25,0,Author1Sections,1,Author2Sections),\"=0\")","v":8},191,"name",0.2,0.2,0,0,0,0,0.1,0.1,0,0.2,0.2,0,0.1,0,0.2,0.2,0,0.2,0,0.2,0,0,0,0,0,0,0,0,0,"wise","visage",null,"Writings between 1600-1650 (2)",6.7911714770797962E-3,0.100169779286927,7.8098471986417659E-2,0.53310696095076404,5.2631578947368418E-2,0.3769100169779287]
[{"$f":"B26+C26","v":1.5238095238095237},{"$f":"D26/Author1Sections","v":0.52380952380952384},{"$f":"E26/Author2Sections","v":1},{"$f":"COUNTIF(OFFSET(H26,0,0,1,Author1Sections),\">0\")","v":11},{"$f":"COUNTIF(OFFSET(H26,0,Author1Sections,1,Author2Sections),\"=0\")","v":8},202,"hart",0,0,0,0,0,0.1,0,0,0.1,0.1,0,0,0.1,0.1,0.2,0,0.2,0.1,0.2,0.3,0.21111894,0,0,0,0,0,0,0,0,"downe","vows",null,"Writings between 1600-1650 (3)",5.1282051282051282E-3,8.7179487179487175E-2,6.2820512820512819E-2,0.48333333333333334,4.8717948717948718E-2,0.33974358974358976]
[{"$f":"B27+C27","v":1.5238095238095237},{"$f":"D27/Author1Sections","v":0.52380952380952384},{"$f":"E27/Author2Sections","v":1},{"$f":"COUNTIF(OFFSET(H27,0,0,1,Author1Sections),\">0\")","v":11},{"$f":"COUNTIF(OFFSET(H27,0,Author1Sections,1,Author2Sections),\"=0\")","v":8},233,"poore",0,0,0,0,0,0.2,0.2,0.2,0.1,0.1,0.1,0.1,0,0.1,0,0,0,0.2,0,0.2,7.0372980000000002E-2,0,0,0,0,0,0,0,0,"neuer","hair",null,"Writings during 1600-1650 (1)",8.4388185654008432E-3,9.49367088607595E-2,9.7046413502109699E-2,0.49156118143459915,7.3839662447257384E-2,0.40717299578059074]
[{"$f":"B28+C28","v":1.5238095238095237},{"$f":"D28/Author1Sections","v":0.52380952380952384},{"$f":"E28/Author2Sections","v":1},{"$f":"COUNTIF(OFFSET(H28,0,0,1,Author1Sections),\">0\")","v":11},{"$f":"COUNTIF(OFFSET(H28,0,Author1Sections,1,Author2Sections),\"=0\")","v":8},271,"sweete",0.1,0.1,0,0.1,7.4183979999999997E-2,0.1,0.1,0,0,0,0,0,0.1,0,0.1,0,0.1,0,0.1,0,0.28149190000000002,0,0,0,0,0,0,0,0,"most","have",null,"Writings during 1600-1650 (2)",1.1342155009451797E-2,0.10964083175803403,0.1001890359168242,0.51417769376181477,7.3724007561436669E-2,0.38563327032136108]
[{"$f":"B29+C29","v":1.4940476190476191},{"$f":"D29/Author1Sections","v":0.61904761904761907},{"$f":"E29/Author2Sections","v":0.875},{"$f":"COUNTIF(OFFSET(H29,0,0,1,Author1Sections),\">0\")","v":13},{"$f":"COUNTIF(OFFSET(H29,0,Author1Sections,1,Author2Sections),\"=0\")","v":7},176,"because",0,0.1,0.1,0,0,0,0.3,0.1,0,0.1,0.1,0.3,0.1,0.1,0.2,0,0,0.2,0.1,0.1,0,6.5876156000000005E-2,0,0,0,0,0,0,0,"ioy","give",null,"Writings during 1600-1650 (3)",1.3618677042801557E-2,8.5603112840466927E-2,0.11673151750972763,0.51750972762645919,8.7548638132295714E-2,0.36575875486381321]
[{"$f":"B30+C30","v":1.4761904761904763},{"$f":"D30/Author1Sections","v":0.47619047619047616},{"$f":"E30/Author2Sections","v":1},{"$f":"COUNTIF(OFFSET(H30,0,0,1,Author1Sections),\">0\")","v":10},{"$f":"COUNTIF(OFFSET(H30,0,Author1Sections,1,Author2Sections),\"=0\")","v":8},205,"teares",0.2,0.1,0,0,0.14836795999999999,0,0,0,0,0.1,0,0,0,0.1,0,0.1,0.1,0,0.1,0.4,0.28149190000000002,0,0,0,0,0,0,0,0,"deare","youth",null,"Writings during 1600-1650 (4)",2.037351443123939E-2,7.4702886247877756E-2,9.6774193548387094E-2,0.51103565365025472,7.3005093378607805E-2,0.35314091680814941]
[{"$f":"B31+C31","v":1.4761904761904763},{"$f":"D31/Author1Sections","v":0.47619047619047616},{"$f":"E31/Author2Sections","v":1},{"$f":"COUNTIF(OFFSET(H31,0,0,1,Author1Sections),\">0\")","v":10},{"$f":"COUNTIF(OFFSET(H31,0,Author1Sections,1,Author2Sections),\"=0\")","v":8},216,"doe",0,0,0,0.1,0,0,0.1,0,0,0.1,0.1,0,0.1,0.3,0.1,0.4,0,0.2,0,0,0.14074595000000001,0,0,0,0,0,0,0,0,"heau'nly","head"]
[{"$f":"B32+C32","v":1.4761904761904763},{"$f":"D32/Author1Sections","v":0.47619047619047616},{"$f":"E32/Author2Sections","v":1},{"$f":"COUNTIF(OFFSET(H32,0,0,1,Author1Sections),\">0\")","v":10},{"$f":"COUNTIF(OFFSET(H32,0,Author1Sections,1,Author2Sections),\"=0\")","v":8},241,"blisse",0,0,0,0,7.4183979999999997E-2,0,0,0,0.1,0,0,0,0.1,0.2,0.1,0.2,0.4,0,0.1,0.1,7.0372980000000002E-2,0,0,0,0,0,0,0,0,"onely","look"]
[{"$f":"B33+C33","v":1.4761904761904763},{"$f":"D33/Author1Sections","v":0.47619047619047616},{"$f":"E33/Author2Sections","v":1},{"$f":"COUNTIF(OFFSET(H33,0,0,1,Author1Sections),\">0\")","v":10},{"$f":"COUNTIF(OFFSET(H33,0,Author1Sections,1,Author2Sections),\"=0\")","v":8},246,"leaue",0,0,0,0,0,0,0.1,0,0.1,0.3,0,0,0.1,0.2,0.1,0.1,0.1,0,0.2,0.2,0,0,0,0,0,0,0,0,0,"vaine","under"]
[{"$f":"B34+C34","v":1.4761904761904763},{"$f":"D34/Author1Sections","v":0.47619047619047616},{"$f":"E34/Author2Sections","v":1},{"$f":"COUNTIF(OFFSET(H34,0,0,1,Author1Sections),\">0\")","v":10},{"$f":"COUNTIF(OFFSET(H34,0,Author1Sections,1,Author2Sections),\"=0\")","v":8},255,"wise",0,0,0,0.2,0,0.1,0.1,0.1,0,0.1,0,0.2,0.2,0,0,0.1,0.2,0.2,0,0,0,0,0,0,0,0,0,0,0,"stellaes","live"]
[{"$f":"B35+C35","v":1.4761904761904763},{"$f":"D35/Author1Sections","v":0.47619047619047616},{"$f":"E35/Author2Sections","v":1},{"$f":"COUNTIF(OFFSET(H35,0,0,1,Author1Sections),\">0\")","v":10},{"$f":"COUNTIF(OFFSET(H35,0,Author1Sections,1,Author2Sections),\"=0\")","v":8},261,"downe",0.1,0.1,0,0.1,0.22255193000000001,0,0.1,0.1,0,0.1,0,0,0,0,0,0.1,0,0.1,0,0,0.21111894,0,0,0,0,0,0,0,0,"proue","than"]
[{"$f":"B36+C36","v":1.4761904761904763},{"$f":"D36/Author1Sections","v":0.47619047619047616},{"$f":"E36/Author2Sections","v":1},{"$f":"COUNTIF(OFFSET(H36,0,0,1,Author1Sections),\">0\")","v":10},{"$f":"COUNTIF(OFFSET(H36,0,Author1Sections,1,Author2Sections),\"=0\")","v":8},289,"neuer",0,0,0,0,0,0,0.2,0.1,0.1,0.1,0,0.1,0.1,0.2,0,0.1,0,0.2,0.1,0,0,0,0,0,0,0,0,0,0,"beautie","again"]
[{"$f":"B37+C37","v":1.4523809523809523},{"$f":"D37/Author1Sections","v":0.95238095238095233},{"$f":"E37/Author2Sections","v":0.5},{"$f":"COUNTIF(OFFSET(H37,0,0,1,Author1Sections),\">0\")","v":20},{"$f":"COUNTIF(OFFSET(H37,0,Author1Sections,1,Author2Sections),\"=0\")","v":4},65,"most",0,0.2,0.2,0.1,0.2967359,0.3,0.2,0.1,0.4,0.7,0.3,0.3,0.2,0.1,0.3,0.4,0.1,0.5,0.3,0.1,0.35186487,0.19762845000000001,0,0.2,0,0,0.1,0,0.17730497000000001,"mee","us"]
[{"$f":"B38+C38","v":1.4285714285714286},{"$f":"D38/Author1Sections","v":0.42857142857142855},{"$f":"E38/Author2Sections","v":1},{"$f":"COUNTIF(OFFSET(H38,0,0,1,Author1Sections),\">0\")","v":9},{"$f":"COUNTIF(OFFSET(H38,0,Author1Sections,1,Author2Sections),\"=0\")","v":8},156,"ioy",0,0,0,0,0,0,0,0,0.2,0,0.1,0.1,0,0,0.1,0,0.4,0.3,0.2,0.1,0.56298380000000003,0,0,0,0,0,0,0,0,"vertues","winds"]
[{"$f":"B39+C39","v":1.4285714285714286},{"$f":"D39/Author1Sections","v":0.42857142857142855},{"$f":"E39/Author2Sections","v":1},{"$f":"COUNTIF(OFFSET(H39,0,0,1,Author1Sections),\">0\")","v":9},{"$f":"COUNTIF(OFFSET(H39,0,Author1Sections,1,Author2Sections),\"=0\")","v":8},215,"deare",0,0.5,0.1,0,0,0,0,0,0.2,0,0,0,0,0.2,0.1,0,0.2,0.2,0.1,0.1,0,0,0,0,0,0,0,0,0,"vpon","bore"]
[{"$f":"B40+C40","v":1.4285714285714286},{"$f":"D40/Author1Sections","v":0.42857142857142855},{"$f":"E40/Author2Sections","v":1},{"$f":"COUNTIF(OFFSET(H40,0,0,1,Author1Sections),\">0\")","v":9},{"$f":"COUNTIF(OFFSET(H40,0,Author1Sections,1,Author2Sections),\"=0\")","v":8},244,"heau'nly",0,0,0,0,0,0,0,0,0,0.2,0.1,0,0.2,0.2,0.2,0,0.2,0.1,0.1,0,0.14074595000000001,0,0,0,0,0,0,0,0,"flie","maid"]
[{"$f":"B41+C41","v":1.4285714285714286},{"$f":"D41/Author1Sections","v":0.42857142857142855},{"$f":"E41/Author2Sections","v":1},{"$f":"COUNTIF(OFFSET(H41,0,0,1,Author1Sections),\">0\")","v":9},{"$f":"COUNTIF(OFFSET(H41,0,Author1Sections,1,Author2Sections),\"=0\")","v":8},248,"onely",0,0,0,0,0,0.1,0,0.1,0.1,0,0,0.1,0,0.1,0,0.3,0.1,0.4,0,0,0.14074595000000001,0,0,0,0,0,0,0,0,"vse","takes"]
[{"$f":"B42+C42","v":1.4285714285714286},{"$f":"D42/Author1Sections","v":0.42857142857142855},{"$f":"E42/Author2Sections","v":1},{"$f":"COUNTIF(OFFSET(H42,0,0,1,Author1Sections),\">0\")","v":9},{"$f":"COUNTIF(OFFSET(H42,0,Author1Sections,1,Author2Sections),\"=0\")","v":8},254,"vaine",0.2,0,0,0.5,7.4183979999999997E-2,0,0,0,0.1,0.2,0,0.1,0,0,0,0.1,0.1,0,0,0.1,0,0,0,0,0,0,0,0,0,"braine","due"]
[{"$f":"B43+C43","v":1.4285714285714286},{"$f":"D43/Author1Sections","v":0.42857142857142855},{"$f":"E43/Author2Sections","v":1},{"$f":"COUNTIF(OFFSET(H43,0,0,1,Author1Sections),\">0\")","v":9},{"$f":"COUNTIF(OFFSET(H43,0,Author1Sections,1,Author2Sections),\"=0\")","v":8},270,"stellaes",0,0,0,0,0,0,0,0,0.1,0.3,0.1,0.4,0.1,0.1,0.1,0,0,0,0.1,0.1,0,0,0,0,0,0,0,0,0,"am","fill"]
[{"$f":"B44+C44","v":1.4285714285714286},{"$f":"D44/Author1Sections","v":0.42857142857142855},{"$f":"E44/Author2Sections","v":1},{"$f":"COUNTIF(OFFSET(H44,0,0,1,Author1Sections),\">0\")","v":9},{"$f":"COUNTIF(OFFSET(H44,0,Author1Sections,1,Author2Sections),\"=0\")","v":8},290,"proue",0,0,0,0,0,0,0,0,0,0.1,0.1,0.1,0,0.1,0.3,0.2,0,0.2,0,0.1,7.0372980000000002E-2,0,0,0,0,0,0,0,0,"late","self"]
[{"$f":"B45+C45","v":1.4285714285714286},{"$f":"D45/Author1Sections","v":0.42857142857142855},{"$f":"E45/Author2Sections","v":1},{"$f":"COUNTIF(OFFSET(H45,0,0,1,Author1Sections),\">0\")","v":9},{"$f":"COUNTIF(OFFSET(H45,0,Author1Sections,1,Author2Sections),\"=0\")","v":8},299,"beautie",0,0,0,0,7.4183979999999997E-2,0,0.1,0,0.1,0.2,0,0,0,0.1,0.3,0,0.1,0.1,0,0,7.0372980000000002E-2,0,0,0,0,0,0,0,0,"breath","ere"]
[{"$f":"B46+C46","v":1.4285714285714286},{"$f":"D46/Author1Sections","v":0.42857142857142855},{"$f":"E46/Author2Sections","v":1},{"$f":"COUNTIF(OFFSET(H46,0,0,1,Author1Sections),\">0\")","v":9},{"$f":"COUNTIF(OFFSET(H46,0,Author1Sections,1,Author2Sections),\"=0\")","v":8},308,"mee",0.1,0,0,0.2,0,0,0.1,0.1,0,0,0.1,0.1,0.1,0,0.1,0,0,0,0.3,0,0,0,0,0,0,0,0,0,0,"since","up"]
[{"$f":"B47+C47","v":1.4285714285714286},{"$f":"D47/Author1Sections","v":0.42857142857142855},{"$f":"E47/Author2Sections","v":1},{"$f":"COUNTIF(OFFSET(H47,0,0,1,Author1Sections),\">0\")","v":9},{"$f":"COUNTIF(OFFSET(H47,0,Author1Sections,1,Author2Sections),\"=0\")","v":8},321,"vertues",0,0,0.1,0.1,0,0.1,0,0,0,0,0,0.1,0,0.2,0,0.2,0.1,0.2,0.1,0,0,0,0,0,0,0,0,0,0,"vertue","thyself"]
[{"$f":"B48+C48","v":1.4285714285714286},{"$f":"D48/Author1Sections","v":0.42857142857142855},{"$f":"E48/Author2Sections","v":1},{"$f":"COUNTIF(OFFSET(H48,0,0,1,Author1Sections),\">0\")","v":9},{"$f":"COUNTIF(OFFSET(H48,0,Author1Sections,1,Author2Sections),\"=0\")","v":8},322,"vpon",0,0,0,0,0,0.2,0.1,0.1,0.2,0,0.1,0,0.2,0.1,0,0,0,0,0,0.1,7.0372980000000002E-2,0,0,0,0,0,0,0,0,"beames","thousand"]
[{"$f":"B49+C49","v":1.4285714285714286},{"$f":"D49/Author1Sections","v":0.42857142857142855},{"$f":"E49/Author2Sections","v":1},{"$f":"COUNTIF(OFFSET(H49,0,0,1,Author1Sections),\">0\")","v":9},{"$f":"COUNTIF(OFFSET(H49,0,Author1Sections,1,Author2Sections),\"=0\")","v":8},364,"flie",0,0,0,0.1,0,0,0,0,0.1,0.1,0,0.1,0,0,0,0.1,0.2,0.1,0.1,0,7.0372980000000002E-2,0,0,0,0,0,0,0,0,"iudge","wind"]
[{"$f":"B50+C50","v":1.4285714285714286},{"$f":"D50/Author1Sections","v":0.42857142857142855},{"$f":"E50/Author2Sections","v":1},{"$f":"COUNTIF(OFFSET(H50,0,0,1,Author1Sections),\">0\")","v":9},{"$f":"COUNTIF(OFFSET(H50,0,Author1Sections,1,Author2Sections),\"=0\")","v":8},387,"vse",0,0,0,0,0,0.1,0,0.1,0,0.1,0,0.2,0.1,0.1,0.1,0,0,0,0.1,0,7.0372980000000002E-2,0,0,0,0,0,0,0,0,"loues","ear"]
[{"$f":"B51+C51","v":1.4285714285714286},{"$f":"D51/Author1Sections","v":0.42857142857142855},{"$f":"E51/Author2Sections","v":1},{"$f":"COUNTIF(OFFSET(H51,0,0,1,Author1Sections),\">0\")","v":9},{"$f":"COUNTIF(OFFSET(H51,0,Author1Sections,1,Author2Sections),\"=0\")","v":8},397,"braine",0,0,0,0.1,0,0.1,0,0,0,0,0,0,0,0,0.1,0.1,0.1,0.1,0.1,0.1,7.0372980000000002E-2,0,0,0,0,0,0,0,0,"soone","lives"]
[{"$f":"B52+C52","v":1.4166666666666665},{"$f":"D52/Author1Sections","v":0.66666666666666663},{"$f":"E52/Author2Sections","v":0.75},{"$f":"COUNTIF(OFFSET(H52,0,0,1,Author1Sections),\">0\")","v":14},{"$f":"COUNTIF(OFFSET(H52,0,Author1Sections,1,Author2Sections),\"=0\")","v":6},134,"am",0.2,0,0,0,0,0.3,0.5,0.1,0,0.1,0.1,0,0.1,0.2,0.1,0.1,0.2,0.1,0,0.2,0.14074595000000001,0.13175231000000001,0,0,0,0,0,0.1,0,"moue","sweets"]
[{"$f":"B53+C53","v":1.3988095238095237},{"$f":"D53/Author1Sections","v":0.52380952380952384},{"$f":"E53/Author2Sections","v":0.875},{"$f":"COUNTIF(OFFSET(H53,0,0,1,Author1Sections),\">0\")","v":11},{"$f":"COUNTIF(OFFSET(H53,0,Author1Sections,1,Author2Sections),\"=0\")","v":7},245,"late",0,0.2,0.1,0,7.4183979999999997E-2,0,0,0,0,0.1,0.1,0.1,0,0.1,0,0.3,0,0.1,0.1,0.1,0,0,0,0,0,0,0,0,8.8652484000000004E-2,"shee","art"]
[{"$f":"B54+C54","v":1.3988095238095237},{"$f":"D54/Author1Sections","v":0.52380952380952384},{"$f":"E54/Author2Sections","v":0.875},{"$f":"COUNTIF(OFFSET(H54,0,0,1,Author1Sections),\">0\")","v":11},{"$f":"COUNTIF(OFFSET(H54,0,Author1Sections,1,Author2Sections),\"=0\")","v":7},259,"breath",0.1,0,0.3,0,0,0,0,0,0.1,0,0.1,0,0,0.1,0,0.1,0.1,0.1,0.1,0.1,7.0372980000000002E-2,0,0,0,0,0,0,0,8.8652484000000004E-2,"eares","age"]
[{"$f":"B55+C55","v":1.3869047619047619},{"$f":"D55/Author1Sections","v":0.76190476190476186},{"$f":"E55/Author2Sections","v":0.625},{"$f":"COUNTIF(OFFSET(H55,0,0,1,Author1Sections),\">0\")","v":16},{"$f":"COUNTIF(OFFSET(H55,0,Author1Sections,1,Author2Sections),\"=0\")","v":5},97,"since",0,0.1,0,0.1,7.4183979999999997E-2,0,0.2,0.1,0.4,0,0,0.2,0.5,0.3,0.3,0.2,0.3,0.1,0.3,0.3,7.0372980000000002E-2,0.26350462000000002,0,0,0,0,0.1,0,8.8652484000000004E-2,"farre","set"]
[{"$f":"B56+C56","v":1.3809523809523809},{"$f":"D56/Author1Sections","v":0.38095238095238093},{"$f":"E56/Author2Sections","v":1},{"$f":"COUNTIF(OFFSET(H56,0,0,1,Author1Sections),\">0\")","v":8},{"$f":"COUNTIF(OFFSET(H56,0,Author1Sections,1,Author2Sections),\"=0\")","v":8},207,"vertue",0,0,0,0.2,0,0,0,0,0,0.1,0,0.3,0.1,0,0.5,0.2,0.3,0.1,0,0,0,0,0,0,0,0,0,0,0,"wo","sweet"]
[{"$f":"B57+C57","v":1.3809523809523809},{"$f":"D57/Author1Sections","v":0.38095238095238093},{"$f":"E57/Author2Sections","v":1},{"$f":"COUNTIF(OFFSET(H57,0,0,1,Author1Sections),\">0\")","v":8},{"$f":"COUNTIF(OFFSET(H57,0,Author1Sections,1,Author2Sections),\"=0\")","v":8},275,"beames",0,0,0,0,0,0.1,0,0,0,0.2,0,0,0,0.2,0.2,0,0.1,0.3,0.1,0.1,0,0,0,0,0,0,0,0,0,"dare","beauty's"]
[{"$f":"B58+C58","v":1.3809523809523809},{"$f":"D58/Author1Sections","v":0.38095238095238093},{"$f":"E58/Author2Sections","v":1},{"$f":"COUNTIF(OFFSET(H58,0,0,1,Author1Sections),\">0\")","v":8},{"$f":"COUNTIF(OFFSET(H58,0,Author1Sections,1,Author2Sections),\"=0\")","v":8},286,"iudge",0,0,0,0,0,0,0.3,0,0.3,0,0.1,0.1,0.1,0.2,0,0.1,0,0,0.1,0,0,0,0,0,0,0,0,0,0,"race","'gainst"]
[{"$f":"B59+C59","v":1.3809523809523809},{"$f":"D59/Author1Sections","v":0.38095238095238093},{"$f":"E59/Author2Sections","v":1},{"$f":"COUNTIF(OFFSET(H59,0,0,1,Author1Sections),\">0\")","v":8},{"$f":"COUNTIF(OFFSET(H59,0,Author1Sections,1,Author2Sections),\"=0\")","v":8},288,"loues",0,0,0,0,0,0,0,0,0.1,0,0.1,0,0,0.3,0.3,0.1,0.1,0,0.2,0,7.0372980000000002E-2,0,0,0,0,0,0,0,0,"inward","morn"]
[{"$f":"B60+C60","v":1.3809523809523809},{"$f":"D60/Author1Sections","v":0.38095238095238093},{"$f":"E60/Author2Sections","v":1},{"$f":"COUNTIF(OFFSET(H60,0,0,1,Author1Sections),\">0\")","v":8},{"$f":"COUNTIF(OFFSET(H60,0,Author1Sections,1,Author2Sections),\"=0\")","v":8},293,"soone",0,0.2,0.3,0,0.14836795999999999,0,0,0,0.1,0.1,0,0,0,0,0.1,0.2,0,0,0,0,7.0372980000000002E-2,0,0,0,0,0,0,0,0,"now","music"]
[{"$f":"B61+C61","v":1.3809523809523809},{"$f":"D61/Author1Sections","v":0.38095238095238093},{"$f":"E61/Author2Sections","v":1},{"$f":"COUNTIF(OFFSET(H61,0,0,1,Author1Sections),\">0\")","v":8},{"$f":"COUNTIF(OFFSET(H61,0,Author1Sections,1,Author2Sections),\"=0\")","v":8},309,"moue",0,0,0,0,0,0,0,0,0,0.2,0.1,0,0,0.2,0.2,0.1,0.2,0.1,0,0.1,0,0,0,0,0,0,0,0,0,"delight","sometime"]
[{"$f":"B62+C62","v":1.3809523809523809},{"$f":"D62/Author1Sections","v":0.38095238095238093},{"$f":"E62/Author2Sections","v":1},{"$f":"COUNTIF(OFFSET(H62,0,0,1,Author1Sections),\">0\")","v":8},{"$f":"COUNTIF(OFFSET(H62,0,Author1Sections,1,Author2Sections),\"=0\")","v":8},315,"shee",0.3,0,0,0.1,0,0.2,0,0,0.1,0,0.1,0,0,0,0,0.1,0.1,0,0,0,0.14074595000000001,0,0,0,0,0,0,0,0,"take","feast"]
[{"$f":"B63+C63","v":1.3809523809523809},{"$f":"D63/Author1Sections","v":0.38095238095238093},{"$f":"E63/Author2Sections","v":1},{"$f":"COUNTIF(OFFSET(H63,0,0,1,Author1Sections),\">0\")","v":8},{"$f":"COUNTIF(OFFSET(H63,0,Author1Sections,1,Author2Sections),\"=0\")","v":8},331,"eares",0,0,0,0,0,0.2,0.1,0.2,0.1,0,0,0,0,0,0,0.1,0,0.1,0.2,0.1,0,0,0,0,0,0,0,0,0,"much","gray"]
[{"$f":"B64+C64","v":1.3809523809523809},{"$f":"D64/Author1Sections","v":0.38095238095238093},{"$f":"E64/Author2Sections","v":1},{"$f":"COUNTIF(OFFSET(H64,0,0,1,Author1Sections),\">0\")","v":8},{"$f":"COUNTIF(OFFSET(H64,0,Author1Sections,1,Author2Sections),\"=0\")","v":8},332,"farre",0,0.1,0,0.2,7.4183979999999997E-2,0,0,0,0,0,0,0,0.1,0.2,0,0.1,0,0,0.2,0,7.0372980000000002E-2,0,0,0,0,0,0,0,0,"things","heav'n"]
[{"$f":"B65+C65","v":1.3809523809523809},{"$f":"D65/Author1Sections","v":0.38095238095238093},{"$f":"E65/Author2Sections","v":1},{"$f":"COUNTIF(OFFSET(H65,0,0,1,Author1Sections),\">0\")","v":8},{"$f":"COUNTIF(OFFSET(H65,0,Author1Sections,1,Author2Sections),\"=0\")","v":8},355,"wo",0,0,0,0,0,0,0,0,0.2,0,0,0,0,0.1,0,0.2,0.2,0.1,0.1,0.1,7.0372980000000002E-2,0,0,0,0,0,0,0,0,"sure","judgment"]
[{"$f":"B66+C66","v":1.3809523809523809},{"$f":"D66/Author1Sections","v":0.38095238095238093},{"$f":"E66/Author2Sections","v":1},{"$f":"COUNTIF(OFFSET(H66,0,0,1,Author1Sections),\">0\")","v":8},{"$f":"COUNTIF(OFFSET(H66,0,Author1Sections,1,Author2Sections),\"=0\")","v":8},361,"dare",0,0,0,0,0,0.3,0,0,0,0.1,0,0.1,0,0.1,0.1,0,0,0.1,0,0.1,7.0372980000000002E-2,0,0,0,0,0,0,0,0,"highest","stage"]
[{"$f":"B67+C67","v":1.3809523809523809},{"$f":"D67/Author1Sections","v":0.38095238095238093},{"$f":"E67/Author2Sections","v":1},{"$f":"COUNTIF(OFFSET(H67,0,0,1,Author1Sections),\">0\")","v":8},{"$f":"COUNTIF(OFFSET(H67,0,Author1Sections,1,Author2Sections),\"=0\")","v":8},374,"race",0,0.1,0,0,0,0,0,0,0,0.1,0,0.3,0,0.1,0,0.1,0.1,0,0.1,0,7.0372980000000002E-2,0,0,0,0,0,0,0,0,"wit","work"]
[{"$f":"B68+C68","v":1.3809523809523809},{"$f":"D68/Author1Sections","v":0.38095238095238093},{"$f":"E68/Author2Sections","v":1},{"$f":"COUNTIF(OFFSET(H68,0,0,1,Author1Sections),\">0\")","v":8},{"$f":"COUNTIF(OFFSET(H68,0,Author1Sections,1,Author2Sections),\"=0\")","v":8},416,"inward",0,0,0,0.2,0,0,0,0,0,0.1,0.1,0.1,0,0.1,0,0,0.1,0,0,0.1,7.0372980000000002E-2,0,0,0,0,0,0,0,0,"vnto","'this"]
[{"$f":"B69+C69","v":1.375},{"$f":"D69/Author1Sections","v":1},{"$f":"E69/Author2Sections","v":0.375},{"$f":"COUNTIF(OFFSET(H69,0,0,1,Author1Sections),\">0\")","v":21},{"$f":"COUNTIF(OFFSET(H69,0,Author1Sections,1,Author2Sections),\"=0\")","v":3},34,"now",1.1000000000000001,1.2,0.7,0.4,0.44510385000000002,0.4,0.5,0.2,0.6,0.2,0.2,0.3,0.4,0.2,0.7,0.9,0.4,0.6,0.3,0.5,0.28149190000000002,0.52700924999999998,0,0,0.54127199999999998,0.5,0,0.1,0.17730497000000001,"blacke","anon"]
[{"$f":"B70+C70","v":1.3690476190476191},{"$f":"D70/Author1Sections","v":0.61904761904761907},{"$f":"E70/Author2Sections","v":0.75},{"$f":"COUNTIF(OFFSET(H70,0,0,1,Author1Sections),\">0\")","v":13},{"$f":"COUNTIF(OFFSET(H70,0,Author1Sections,1,Author2Sections),\"=0\")","v":6},143,"delight",0.1,0,0.1,0,0.14836795999999999,0.1,0,0,0,0.1,0,0,0.1,0,0.2,0.3,0.3,0.3,0.2,0.1,0.21111894,6.5876156000000005E-2,0.1,0,0,0,0,0,0,"speech","bears"]
[{"$f":"B71+C71","v":1.3690476190476191},{"$f":"D71/Author1Sections","v":0.61904761904761907},{"$f":"E71/Author2Sections","v":0.75},{"$f":"COUNTIF(OFFSET(H71,0,0,1,Author1Sections),\">0\")","v":13},{"$f":"COUNTIF(OFFSET(H71,0,Author1Sections,1,Author2Sections),\"=0\")","v":6},151,"take",0,0,0,0,0,0.1,0.3,0,0.3,0.2,0.2,0.1,0,0.2,0.1,0.1,0.2,0.1,0.1,0.1,0,0.19762845000000001,0,0,0,0,0,0,8.8652484000000004E-2,"beare","beauteous"]
[{"$f":"B72+C72","v":1.3571428571428572},{"$f":"D72/Author1Sections","v":0.8571428571428571},{"$f":"E72/Author2Sections","v":0.5},{"$f":"COUNTIF(OFFSET(H72,0,0,1,Author1Sections),\">0\")","v":18},{"$f":"COUNTIF(OFFSET(H72,0,Author1Sections,1,Author2Sections),\"=0\")","v":4},103,"much",0.2,0.1,0,0.2,0.14836795999999999,0.2,0.2,0.4,0.2,0.1,0,0.1,0.1,0.2,0,0.1,0.1,0.1,0.2,0.1,7.0372980000000002E-2,0.32938075,0,0,6.7658999999999997E-2,0.2,0,0,0.26595743999999999,"comfort","blown"]
[{"$f":"B73+C73","v":1.3511904761904763},{"$f":"D73/Author1Sections","v":0.47619047619047616},{"$f":"E73/Author2Sections","v":0.875},{"$f":"COUNTIF(OFFSET(H73,0,0,1,Author1Sections),\">0\")","v":10},{"$f":"COUNTIF(OFFSET(H73,0,Author1Sections,1,Author2Sections),\"=0\")","v":7},238,"things",0,0.2,0.1,0.1,7.4183979999999997E-2,0,0,0,0.2,0,0.1,0.2,0,0.3,0,0.1,0,0.1,0,0,0,0,0,0,0,0,0,0,8.8652484000000004E-2,"foole","brown"]
[{"$f":"B74+C74","v":1.3511904761904763},{"$f":"D74/Author1Sections","v":0.47619047619047616},{"$f":"E74/Author2Sections","v":0.875},{"$f":"COUNTIF(OFFSET(H74,0,0,1,Author1Sections),\">0\")","v":10},{"$f":"COUNTIF(OFFSET(H74,0,Author1Sections,1,Author2Sections),\"=0\")","v":7},252,"sure",0.1,0,0,0,0,0,0.2,0,0,0.1,0.1,0.2,0.2,0,0.1,0,0.1,0.1,0,0,7.0372980000000002E-2,0.13175231000000001,0,0,0,0,0,0,0,"vp","charm"]
[{"$f":"B75+C75","v":1.3511904761904763},{"$f":"D75/Author1Sections","v":0.47619047619047616},{"$f":"E75/Author2Sections","v":0.875},{"$f":"COUNTIF(OFFSET(H75,0,0,1,Author1Sections),\">0\")","v":10},{"$f":"COUNTIF(OFFSET(H75,0,Author1Sections,1,Author2Sections),\"=0\")","v":7},284,"highest",0.1,0.1,0.2,0.1,7.4183979999999997E-2,0.1,0.1,0,0,0,0,0.2,0,0,0,0,0,0,0.1,0,7.0372980000000002E-2,0,0,0.1,0,0,0,0,0,"wretch","clear"]
[{"$f":"B76+C76","v":1.3392857142857144},{"$f":"D76/Author1Sections","v":0.7142857142857143},{"$f":"E76/Author2Sections","v":0.625},{"$f":"COUNTIF(OFFSET(H76,0,0,1,Author1Sections),\">0\")","v":15},{"$f":"COUNTIF(OFFSET(H76,0,Author1Sections,1,Author2Sections),\"=0\")","v":5},113,"wit",0,0,0,0.1,0,0,0.1,0.1,0.1,0.3,0.5,0.1,0.6,0.1,0,0.2,0.2,0.1,0.4,0.2,7.0372980000000002E-2,0.19762845000000001,0.1,0,0,0,0,0,8.8652484000000004E-2,"deere","drawn"]
[{"$f":"B77+C77","v":1.3333333333333333},{"$f":"D77/Author1Sections","v":0.33333333333333331},{"$f":"E77/Author2Sections","v":1},{"$f":"COUNTIF(OFFSET(H77,0,0,1,Author1Sections),\">0\")","v":7},{"$f":"COUNTIF(OFFSET(H77,0,Author1Sections,1,Author2Sections),\"=0\")","v":8},294,"vnto",0,0,0,0,0,0,0.2,0,0.1,0,0.2,0.2,0,0.2,0,0,0.1,0,0,0,0.21111894,0,0,0,0,0,0,0,0,"nay","dream"]
[{"$f":"B78+C78","v":1.3333333333333333},{"$f":"D78/Author1Sections","v":0.33333333333333331},{"$f":"E78/Author2Sections","v":1},{"$f":"COUNTIF(OFFSET(H78,0,0,1,Author1Sections),\">0\")","v":7},{"$f":"COUNTIF(OFFSET(H78,0,Author1Sections,1,Author2Sections),\"=0\")","v":8},301,"blacke",0.1,0,0,0,0,0,0,0,0,0.3,0,0,0,0,0.1,0.1,0.1,0,0,0.3,0.14074595000000001,0,0,0,0,0,0,0,0,"wonder","frost"]
[{"$f":"B79+C79","v":1.3333333333333333},{"$f":"D79/Author1Sections","v":0.33333333333333331},{"$f":"E79/Author2Sections","v":1},{"$f":"COUNTIF(OFFSET(H79,0,0,1,Author1Sections),\">0\")","v":7},{"$f":"COUNTIF(OFFSET(H79,0,Author1Sections,1,Author2Sections),\"=0\")","v":8},318,"speech",0,0,0,0,0,0.2,0,0.1,0,0,0,0.2,0,0,0.2,0.2,0.2,0.1,0,0,0,0,0,0,0,0,0,0,0,"euer","glowing"]
[{"$f":"B80+C80","v":1.3333333333333333},{"$f":"D80/Author1Sections","v":0.33333333333333331},{"$f":"E80/Author2Sections","v":1},{"$f":"COUNTIF(OFFSET(H80,0,0,1,Author1Sections),\">0\")","v":7},{"$f":"COUNTIF(OFFSET(H80,0,Author1Sections,1,Author2Sections),\"=0\")","v":8},326,"beare",0,0.2,0,0,0.14836795999999999,0,0,0,0,0,0.1,0,0,0,0.2,0.1,0,0,0.1,0,0.14074595000000001,0,0,0,0,0,0,0,0,"feare","hairy"]
[{"$f":"B81+C81","v":1.3333333333333333},{"$f":"D81/Author1Sections","v":0.33333333333333331},{"$f":"E81/Author2Sections","v":1},{"$f":"COUNTIF(OFFSET(H81,0,0,1,Author1Sections),\">0\")","v":7},{"$f":"COUNTIF(OFFSET(H81,0,Author1Sections,1,Author2Sections),\"=0\")","v":8},329,"comfort",0.1,0.2,0,0,7.4183979999999997E-2,0.1,0,0,0.2,0,0,0,0,0,0,0,0.2,0,0,0,0.14074595000000001,0,0,0,0,0,0,0,0,"gifts","hang"]
[{"$f":"B82+C82","v":1.3333333333333333},{"$f":"D82/Author1Sections","v":0.33333333333333331},{"$f":"E82/Author2Sections","v":1},{"$f":"COUNTIF(OFFSET(H82,0,0,1,Author1Sections),\">0\")","v":7},{"$f":"COUNTIF(OFFSET(H82,0,Author1Sections,1,Author2Sections),\"=0\")","v":8},335,"foole",0,0,0,0,0,0,0.3,0.3,0,0,0,0.1,0.1,0,0.1,0,0,0.1,0.1,0,0,0,0,0,0,0,0,0,0,"looke","hideous"]
[{"$f":"B83+C83","v":1.3333333333333333},{"$f":"D83/Author1Sections","v":0.33333333333333331},{"$f":"E83/Author2Sections","v":1},{"$f":"COUNTIF(OFFSET(H83,0,0,1,Author1Sections),\">0\")","v":7},{"$f":"COUNTIF(OFFSET(H83,0,Author1Sections,1,Author2Sections),\"=0\")","v":8},354,"vp",0,0,0,0,0,0.1,0,0.3,0,0,0.1,0,0.2,0.1,0,0,0,0,0.1,0,0.14074595000000001,0,0,0,0,0,0,0,0,"nought","past"]
[{"$f":"B84+C84","v":1.3333333333333333},{"$f":"D84/Author1Sections","v":0.33333333333333331},{"$f":"E84/Author2Sections","v":1},{"$f":"COUNTIF(OFFSET(H84,0,0,1,Author1Sections),\">0\")","v":7},{"$f":"COUNTIF(OFFSET(H84,0,Author1Sections,1,Author2Sections),\"=0\")","v":8},356,"wretch",0,0,0,0,0,0.3,0.1,0,0.1,0,0,0,0.1,0.1,0,0,0,0,0,0.2,0.14074595000000001,0,0,0,0,0,0,0,0,"passe","prime"]
[{"$f":"B85+C85","v":1.3333333333333333},{"$f":"D85/Author1Sections","v":0.33333333333333331},{"$f":"E85/Author2Sections","v":1},{"$f":"COUNTIF(OFFSET(H85,0,0,1,Author1Sections),\">0\")","v":7},{"$f":"COUNTIF(OFFSET(H85,0,Author1Sections,1,Author2Sections),\"=0\")","v":8},404,"deere",0.1,0,0,0,0,0,0.1,0,0,0,0.1,0,0,0,0.1,0.2,0,0,0.1,0.2,0,0,0,0,0,0,0,0,0,"sighes","sage"]
[{"$f":"B86+C86","v":1.3333333333333333},{"$f":"D86/Author1Sections","v":0.33333333333333331},{"$f":"E86/Author2Sections","v":1},{"$f":"COUNTIF(OFFSET(H86,0,0,1,Author1Sections),\">0\")","v":7},{"$f":"COUNTIF(OFFSET(H86,0,Author1Sections,1,Author2Sections),\"=0\")","v":8},418,"nay",0,0,0,0,0,0,0,0,0,0,0,0,0.1,0,0,0.1,0.2,0.2,0.1,0.1,7.0372980000000002E-2,0,0,0,0,0,0,0,0,"armes","son"]
[{"$f":"B87+C87","v":1.3333333333333333},{"$f":"D87/Author1Sections","v":0.33333333333333331},{"$f":"E87/Author2Sections","v":1},{"$f":"COUNTIF(OFFSET(H87,0,0,1,Author1Sections),\">0\")","v":7},{"$f":"COUNTIF(OFFSET(H87,0,Author1Sections,1,Author2Sections),\"=0\")","v":8},431,"wonder",0.1,0,0.1,0.1,7.4183979999999997E-2,0,0,0,0,0,0,0.1,0,0,0,0,0,0.2,0.2,0,0,0,0,0,0,0,0,0,0,"flow","story"]
[{"$f":"B88+C88","v":1.3333333333333333},{"$f":"D88/Author1Sections","v":0.33333333333333331},{"$f":"E88/Author2Sections","v":1},{"$f":"COUNTIF(OFFSET(H88,0,0,1,Author1Sections),\">0\")","v":7},{"$f":"COUNTIF(OFFSET(H88,0,Author1Sections,1,Author2Sections),\"=0\")","v":8},446,"euer",0,0,0,0,0,0,0.1,0,0,0.1,0,0,0,0.1,0,0.1,0.1,0.2,0.1,0,0,0,0,0,0,0,0,0,0,"pray","strain"]
[{"$f":"B89+C89","v":1.3333333333333333},{"$f":"D89/Author1Sections","v":0.33333333333333331},{"$f":"E89/Author2Sections","v":1},{"$f":"COUNTIF(OFFSET(H89,0,0,1,Author1Sections),\">0\")","v":7},{"$f":"COUNTIF(OFFSET(H89,0,Author1Sections,1,Author2Sections),\"=0\")","v":8},448,"feare",0,0,0,0,7.4183979999999997E-2,0.2,0.1,0,0,0.1,0,0,0,0,0.1,0,0.1,0.1,0,0,0,0,0,0,0,0,0,0,0,"shine","string"]
[{"$f":"B90+C90","v":1.3333333333333333},{"$f":"D90/Author1Sections","v":0.33333333333333331},{"$f":"E90/Author2Sections","v":1},{"$f":"COUNTIF(OFFSET(H90,0,0,1,Author1Sections),\">0\")","v":7},{"$f":"COUNTIF(OFFSET(H90,0,Author1Sections,1,Author2Sections),\"=0\")","v":8},452,"gifts",0.1,0,0.1,0,0,0.2,0,0,0,0,0,0,0.1,0.1,0,0,0,0.1,0.1,0,0,0,0,0,0,0,0,0,0,"see","sweetness"]
[{"$f":"B91+C91","v":1.3333333333333333},{"$f":"D91/Author1Sections","v":0.33333333333333331},{"$f":"E91/Author2Sections","v":1},{"$f":"COUNTIF(OFFSET(H91,0,0,1,Author1Sections),\">0\")","v":7},{"$f":"COUNTIF(OFFSET(H91,0,Author1Sections,1,Author2Sections),\"=0\")","v":8},465,"looke",0.1,0,0,0,0,0,0.1,0,0.1,0,0,0.1,0,0,0.1,0.2,0.1,0,0,0,0,0,0,0,0,0,0,0,0,"wits","tear"]
[{"$f":"B92+C92","v":1.3333333333333333},{"$f":"D92/Author1Sections","v":0.33333333333333331},{"$f":"E92/Author2Sections","v":1},{"$f":"COUNTIF(OFFSET(H92,0,0,1,Author1Sections),\">0\")","v":7},{"$f":"COUNTIF(OFFSET(H92,0,Author1Sections,1,Author2Sections),\"=0\")","v":8},473,"nought",0.2,0.1,0,0.1,7.4183979999999997E-2,0,0,0,0,0,0.1,0.1,0,0.1,0,0,0,0,0,0,0,0,0,0,0,0,0,0,0,"heart","trim"]
[{"$f":"B93+C93","v":1.3333333333333333},{"$f":"D93/Author1Sections","v":0.33333333333333331},{"$f":"E93/Author2Sections","v":1},{"$f":"COUNTIF(OFFSET(H93,0,0,1,Author1Sections),\">0\")","v":7},{"$f":"COUNTIF(OFFSET(H93,0,Author1Sections,1,Author2Sections),\"=0\")","v":8},474,"passe",0,0.1,0,0.1,0,0,0,0,0,0,0.1,0,0,0,0,0,0.1,0.1,0.1,0,0.14074595000000001,0,0,0,0,0,0,0,0,"should","yours"]
[{"$f":"B94+C94","v":1.3333333333333333},{"$f":"D94/Author1Sections","v":0.33333333333333331},{"$f":"E94/Author2Sections","v":1},{"$f":"COUNTIF(OFFSET(H94,0,0,1,Author1Sections),\">0\")","v":7},{"$f":"COUNTIF(OFFSET(H94,0,Author1Sections,1,Author2Sections),\"=0\")","v":8},480,"sighes",0,0,0,0,7.4183979999999997E-2,0,0,0,0,0.1,0.1,0,0,0,0,0,0.1,0,0.2,0.1,7.0372980000000002E-2,0,0,0,0,0,0,0,0,"thus","else"]
[{"$f":"B95+C95","v":1.3333333333333333},{"$f":"D95/Author1Sections","v":0.33333333333333331},{"$f":"E95/Author2Sections","v":1},{"$f":"COUNTIF(OFFSET(H95,0,0,1,Author1Sections),\">0\")","v":7},{"$f":"COUNTIF(OFFSET(H95,0,Author1Sections,1,Author2Sections),\"=0\")","v":8},493,"armes",0,0,0,0.1,7.4183979999999997E-2,0,0,0,0,0,0.1,0,0,0.1,0,0,0.1,0,0.1,0.1,0,0,0,0,0,0,0,0,0,"lips","dear"]
[{"$f":"B96+C96","v":1.3333333333333333},{"$f":"D96/Author1Sections","v":0.33333333333333331},{"$f":"E96/Author2Sections","v":1},{"$f":"COUNTIF(OFFSET(H96,0,0,1,Author1Sections),\">0\")","v":7},{"$f":"COUNTIF(OFFSET(H96,0,Author1Sections,1,Author2Sections),\"=0\")","v":8},508,"flow",0,0,0,0,0,0,0,0,0.1,0.1,0,0.1,0,0.1,0,0,0,0.1,0,0.1,7.0372980000000002E-2,0,0,0,0,0,0,0,0,"cannot","deep"]
[{"$f":"B97+C97","v":1.3333333333333333},{"$f":"D97/Author1Sections","v":0.33333333333333331},{"$f":"E97/Author2Sections","v":1},{"$f":"COUNTIF(OFFSET(H97,0,0,1,Author1Sections),\">0\")","v":7},{"$f":"COUNTIF(OFFSET(H97,0,Author1Sections,1,Author2Sections),\"=0\")","v":8},542,"pray",0,0,0,0.1,0,0,0,0,0,0,0.1,0,0,0.1,0.1,0,0,0.1,0.1,0.1,0,0,0,0,0,0,0,0,0,"rich","off"]
[{"$f":"B98+C98","v":1.3333333333333333},{"$f":"D98/Author1Sections","v":0.33333333333333331},{"$f":"E98/Author2Sections","v":1},{"$f":"COUNTIF(OFFSET(H98,0,0,1,Author1Sections),\">0\")","v":7},{"$f":"COUNTIF(OFFSET(H98,0,Author1Sections,1,Author2Sections),\"=0\")","v":8},549,"shine",0,0,0,0,0,0,0,0,0.1,0,0,0.1,0,0.1,0.1,0.1,0.1,0,0,0,7.0372980000000002E-2,0,0,0,0,0,0,0,0,"straight","bright"]
[{"$f":"B99+C99","v":1.3273809523809523},{"$f":"D99/Author1Sections","v":0.95238095238095233},{"$f":"E99/Author2Sections","v":0.375},{"$f":"COUNTIF(OFFSET(H99,0,0,1,Author1Sections),\">0\")","v":20},{"$f":"COUNTIF(OFFSET(H99,0,Author1Sections,1,Author2Sections),\"=0\")","v":3},66,"see",0.3,0.2,0.2,0.3,0.37091987999999998,0,0.1,0.2,0.3,0.1,0.5,0.2,0.4,0.3,0.4,0.1,0.4,0.2,0.4,0.1,0.21111894,0.13175231000000001,0,0.1,0,0.2,0.3,0.2,0,"borne","folly"]
[{"$f":"B100+C100","v":1.3214285714285714},{"$f":"D100/Author1Sections","v":0.5714285714285714},{"$f":"E100/Author2Sections","v":0.75},{"$f":"COUNTIF(OFFSET(H100,0,0,1,Author1Sections),\">0\")","v":12},{"$f":"COUNTIF(OFFSET(H100,0,Author1Sections,1,Author2Sections),\"=0\")","v":6},195,"wits",0.1,0,0.1,0,0,0.1,0.1,0,0.2,0,0.1,0.3,0.1,0.1,0,0,0,0.1,0.1,0,7.0372980000000002E-2,0.19762845000000001,0,0,0,0,0,0.1,0,"cause","never"]
[{"$f":"B101+C101","v":1.3095238095238095},{"$f":"D101/Author1Sections","v":0.80952380952380953},{"$f":"E101/Author2Sections","v":0.5},{"$f":"COUNTIF(OFFSET(H101,0,0,1,Author1Sections),\">0\")","v":17},{"$f":"COUNTIF(OFFSET(H101,0,Author1Sections,1,Author2Sections),\"=0\")","v":4},70,"heart",0.1,0.1,0,0.1,0.14836795999999999,0,0,0.3,0.1,0.4,0.3,0.4,0.6,0.5,0.5,0.2,0.3,0.3,0.7,0.1,0,6.5876156000000005E-2,0.1,0,0,0,0,0.2,0.4432624,"force","th'"]
[{"$f":"B102+C102","v":1.3095238095238095},{"$f":"D102/Author1Sections","v":0.80952380952380953},{"$f":"E102/Author2Sections","v":0.5},{"$f":"COUNTIF(OFFSET(H102,0,0,1,Author1Sections),\">0\")","v":17},{"$f":"COUNTIF(OFFSET(H102,0,Author1Sections,1,Author2Sections),\"=0\")","v":4},105,"should",0.1,0,0.1,0.1,7.4183979999999997E-2,0.2,0.2,0.1,0.1,0.3,0,0.1,0.1,0,0.1,0.3,0.2,0,0.2,0.2,0.21111894,0.26350462000000002,0,0,0,0.2,0.5,0,8.8652484000000004E-2,"lay","gave"]
[{"$f":"B103+C103","v":1.3095238095238095},{"$f":"D103/Author1Sections","v":0.80952380952380953},{"$f":"E103/Author2Sections","v":0.5},{"$f":"COUNTIF(OFFSET(H103,0,0,1,Author1Sections),\">0\")","v":17},{"$f":"COUNTIF(OFFSET(H103,0,Author1Sections,1,Author2Sections),\"=0\")","v":4},111,"thus",0,0.1,0,0.1,7.4183979999999997E-2,0.2,0.2,0.3,0.5,0.1,0.2,0,0.3,0.2,0.3,0.1,0.2,0.1,0.2,0.3,0,0,0.1,0.1,6.7658999999999997E-2,0,0,0.1,0,"while","think"]
[{"$f":"B104+C104","v":1.3035714285714286},{"$f":"D104/Author1Sections","v":0.42857142857142855},{"$f":"E104/Author2Sections","v":0.875},{"$f":"COUNTIF(OFFSET(H104,0,0,1,Author1Sections),\">0\")","v":9},{"$f":"COUNTIF(OFFSET(H104,0,Author1Sections,1,Author2Sections),\"=0\")","v":7},180,"lips",0,0.1,0,0,0,0,0,0,0,0,0.1,0,0.2,0.2,0.2,0.1,0,0.2,0.5,0.3,0,0,0,0,0,0,0,0.1,0,"words","met"]
[{"$f":"B105+C105","v":1.3035714285714286},{"$f":"D105/Author1Sections","v":0.42857142857142855},{"$f":"E105/Author2Sections","v":0.875},{"$f":"COUNTIF(OFFSET(H105,0,0,1,Author1Sections),\">0\")","v":9},{"$f":"COUNTIF(OFFSET(H105,0,Author1Sections,1,Author2Sections),\"=0\")","v":7},197,"cannot",0,0,0,0,0,0.1,0.1,0.1,0,0.1,0,0,0,0.1,0.4,0.1,0.1,0,0.3,0,0,0.26350462000000002,0,0,0,0,0,0,0,"sight","pale"]
[{"$f":"B106+C106","v":1.3035714285714286},{"$f":"D106/Author1Sections","v":0.42857142857142855},{"$f":"E106/Author2Sections","v":0.875},{"$f":"COUNTIF(OFFSET(H106,0,0,1,Author1Sections),\">0\")","v":9},{"$f":"COUNTIF(OFFSET(H106,0,Author1Sections,1,Author2Sections),\"=0\")","v":7},204,"rich",0.1,0,0.1,0,7.4183979999999997E-2,0,0.1,0,0,0.1,0,0.4,0.6,0.1,0,0,0,0.1,0,0,0,6.5876156000000005E-2,0,0,0,0,0,0,0,"kisse","flood"]
[{"$f":"B107+C107","v":1.3035714285714286},{"$f":"D107/Author1Sections","v":0.42857142857142855},{"$f":"E107/Author2Sections","v":0.875},{"$f":"COUNTIF(OFFSET(H107,0,0,1,Author1Sections),\">0\")","v":9},{"$f":"COUNTIF(OFFSET(H107,0,Author1Sections,1,Author2Sections),\"=0\")","v":7},251,"straight",0,0,0,0,7.4183979999999997E-2,0,0,0.1,0.1,0.2,0.2,0.1,0,0.2,0,0.3,0,0,0,0,7.0372980000000002E-2,0,0.1,0,0,0,0,0,0,"ne","playing"]
[{"$f":"B108+C108","v":1.3035714285714286},{"$f":"D108/Author1Sections","v":0.42857142857142855},{"$f":"E108/Author2Sections","v":0.875},{"$f":"COUNTIF(OFFSET(H108,0,0,1,Author1Sections),\">0\")","v":9},{"$f":"COUNTIF(OFFSET(H108,0,Author1Sections,1,Author2Sections),\"=0\")","v":7},257,"borne",0,0.1,0,0.1,0.22255193000000001,0,0,0,0.1,0.1,0.2,0,0,0,0.1,0,0.2,0,0.1,0,0,0,0,0,0,0,0.1,0,0,"heare","ring"]
[{"$f":"B109+C109","v":1.3035714285714286},{"$f":"D109/Author1Sections","v":0.42857142857142855},{"$f":"E109/Author2Sections","v":0.875},{"$f":"COUNTIF(OFFSET(H109,0,0,1,Author1Sections),\">0\")","v":9},{"$f":"COUNTIF(OFFSET(H109,0,Author1Sections,1,Author2Sections),\"=0\")","v":7},260,"cause",0,0,0,0,0,0,0,0.1,0.1,0,0,0.2,0,0.3,0,0,0.1,0.2,0.1,0.1,7.0372980000000002E-2,6.5876156000000005E-2,0,0,0,0,0,0,0,"griefe","told"]
[{"$f":"B110+C110","v":1.3035714285714286},{"$f":"D110/Author1Sections","v":0.42857142857142855},{"$f":"E110/Author2Sections","v":0.875},{"$f":"COUNTIF(OFFSET(H110,0,0,1,Author1Sections),\">0\")","v":9},{"$f":"COUNTIF(OFFSET(H110,0,Author1Sections,1,Author2Sections),\"=0\")","v":7},282,"force",0.1,0,0,0,0,0,0.1,0,0,0.1,0,0,0.1,0.1,0,0,0.3,0.1,0.1,0,7.0372980000000002E-2,0,0,0,0,0,0,0,0.17730497000000001,"shepheards","aught"]
[{"$f":"B111+C111","v":1.3035714285714286},{"$f":"D111/Author1Sections","v":0.42857142857142855},{"$f":"E111/Author2Sections","v":0.875},{"$f":"COUNTIF(OFFSET(H111,0,0,1,Author1Sections),\">0\")","v":9},{"$f":"COUNTIF(OFFSET(H111,0,Author1Sections,1,Author2Sections),\"=0\")","v":7},287,"lay",0,0,0,0.1,0.14836795999999999,0,0,0,0,0.1,0,0.2,0,0.1,0.1,0,0.1,0.1,0,0,0.14074595000000001,0,0,0,6.7658999999999997E-2,0,0,0,0,"write","drew"]
[{"$f":"B112+C112","v":1.2916666666666665},{"$f":"D112/Author1Sections","v":0.66666666666666663},{"$f":"E112/Author2Sections","v":0.625},{"$f":"COUNTIF(OFFSET(H112,0,0,1,Author1Sections),\">0\")","v":14},{"$f":"COUNTIF(OFFSET(H112,0,Author1Sections,1,Author2Sections),\"=0\")","v":5},78,"while",0.1,0,0,0,0,0,0,0,0.2,0.2,0.4,0.2,0.3,0.3,0.6,0.1,0.3,0.5,0.3,0.3,0.49261083999999999,0,0.3,0.4,6.7658999999999997E-2,0,0,0,0,"bene","half"]
[{"$f":"B113+C113","v":1.2916666666666665},{"$f":"D113/Author1Sections","v":0.66666666666666663},{"$f":"E113/Author2Sections","v":0.625},{"$f":"COUNTIF(OFFSET(H113,0,0,1,Author1Sections),\">0\")","v":14},{"$f":"COUNTIF(OFFSET(H113,0,Author1Sections,1,Author2Sections),\"=0\")","v":5},107,"words",0,0,0,0,0,0.1,0,0,0.2,0.1,0.3,0.2,0.5,0.1,0.1,0.6,0.3,0.1,0.5,0.4,7.0372980000000002E-2,0.13175231000000001,0,0,6.7658999999999997E-2,0,0,0.1,0,"cupids","holy"]
[{"$f":"B114+C114","v":1.2916666666666665},{"$f":"D114/Author1Sections","v":0.66666666666666663},{"$f":"E114/Author2Sections","v":0.625},{"$f":"COUNTIF(OFFSET(H114,0,0,1,Author1Sections),\">0\")","v":14},{"$f":"COUNTIF(OFFSET(H114,0,Author1Sections,1,Author2Sections),\"=0\")","v":5},132,"sight",0,0,0,0.1,0.44510385000000002,0.2,0.2,0.1,0.1,0.1,0.1,0.1,0,0,0.1,0.2,0.1,0,0,0.2,0.35186487,0,0,0.1,0,0.1,0.1,0,0,"fine","liberty"]
[{"$f":"B115+C115","v":1.2857142857142856},{"$f":"D115/Author1Sections","v":0.2857142857142857},{"$f":"E115/Author2Sections","v":1},{"$f":"COUNTIF(OFFSET(H115,0,0,1,Author1Sections),\">0\")","v":6},{"$f":"COUNTIF(OFFSET(H115,0,Author1Sections,1,Author2Sections),\"=0\")","v":8},226,"kisse",0,0,0,0,0,0,0,0,0.1,0,0,0.1,0,0.1,0,0,0,0.6,0.6,0,7.0372980000000002E-2,0,0,0,0,0,0,0,0,"heau'n","melting"]
[{"$f":"B116+C116","v":1.2857142857142856},{"$f":"D116/Author1Sections","v":0.2857142857142857},{"$f":"E116/Author2Sections","v":1},{"$f":"COUNTIF(OFFSET(H116,0,0,1,Author1Sections),\">0\")","v":6},{"$f":"COUNTIF(OFFSET(H116,0,Author1Sections,1,Author2Sections),\"=0\")","v":8},230,"ne",0.1,0.5,0.4,0.3,0.14836795999999999,0,0,0,0,0,0,0,0,0,0,0,0,0,0,0.1,0,0,0,0,0,0,0,0,0,"lesse","tale"]
[{"$f":"B117+C117","v":1.2857142857142856},{"$f":"D117/Author1Sections","v":0.2857142857142857},{"$f":"E117/Author2Sections","v":1},{"$f":"COUNTIF(OFFSET(H117,0,0,1,Author1Sections),\">0\")","v":6},{"$f":"COUNTIF(OFFSET(H117,0,Author1Sections,1,Author2Sections),\"=0\")","v":8},306,"heare",0,0,0.5,0,0,0,0.1,0,0,0,0,0,0,0,0,0.2,0,0.1,0.2,0.1,0,0,0,0,0,0,0,0,0,"meane","wear"]
[{"$f":"B118+C118","v":1.2857142857142856},{"$f":"D118/Author1Sections","v":0.2857142857142857},{"$f":"E118/Author2Sections","v":1},{"$f":"COUNTIF(OFFSET(H118,0,0,1,Author1Sections),\">0\")","v":6},{"$f":"COUNTIF(OFFSET(H118,0,Author1Sections,1,Author2Sections),\"=0\")","v":8},367,"griefe",0,0.1,0,0.2,0.22255193000000001,0,0,0,0,0,0,0,0,0,0,0.1,0.1,0,0,0.2,0,0,0,0,0,0,0,0,0,"misse","till"]
[{"$f":"B119+C119","v":1.2857142857142856},{"$f":"D119/Author1Sections","v":0.2857142857142857},{"$f":"E119/Author2Sections","v":1},{"$f":"COUNTIF(OFFSET(H119,0,0,1,Author1Sections),\">0\")","v":6},{"$f":"COUNTIF(OFFSET(H119,0,Author1Sections,1,Author2Sections),\"=0\")","v":8},378,"shepheards",0,0.2,0.1,0,0,0.2,0.1,0.3,0.1,0,0,0,0,0,0,0,0,0,0,0,0,0,0,0,0,0,0,0,0,"faith","lies"]
[{"$f":"B120+C120","v":1.2857142857142856},{"$f":"D120/Author1Sections","v":0.2857142857142857},{"$f":"E120/Author2Sections","v":1},{"$f":"COUNTIF(OFFSET(H120,0,0,1,Author1Sections),\">0\")","v":6},{"$f":"COUNTIF(OFFSET(H120,0,Author1Sections,1,Author2Sections),\"=0\")","v":8},434,"write",0,0,0,0,0,0,0,0,0.1,0,0,0,0.3,0.1,0.2,0,0,0,0,0.1,7.0372980000000002E-2,0,0,0,0,0,0,0,0,"feele","hand"]
[{"$f":"B121+C121","v":1.2857142857142856},{"$f":"D121/Author1Sections","v":0.2857142857142857},{"$f":"E121/Author2Sections","v":1},{"$f":"COUNTIF(OFFSET(H121,0,0,1,Author1Sections),\">0\")","v":6},{"$f":"COUNTIF(OFFSET(H121,0,Author1Sections,1,Author2Sections),\"=0\")","v":8},437,"bene",0,0,0,0,0,0.1,0.2,0,0.2,0,0,0,0.1,0,0,0,0,0,0.1,0,7.0372980000000002E-2,0,0,0,0,0,0,0,0,"friend","blood"]
[{"$f":"B122+C122","v":1.2857142857142856},{"$f":"D122/Author1Sections","v":0.2857142857142857},{"$f":"E122/Author2Sections","v":1},{"$f":"COUNTIF(OFFSET(H122,0,0,1,Author1Sections),\">0\")","v":6},{"$f":"COUNTIF(OFFSET(H122,0,Author1Sections,1,Author2Sections),\"=0\")","v":8},442,"cupids",0,0,0,0,0,0,0,0,0,0.2,0.1,0,0,0.1,0.1,0,0,0.2,0.1,0,0,0,0,0,0,0,0,0,0,"keepe","bring"]
[{"$f":"B123+C123","v":1.2857142857142856},{"$f":"D123/Author1Sections","v":0.2857142857142857},{"$f":"E123/Author2Sections","v":1},{"$f":"COUNTIF(OFFSET(H123,0,0,1,Author1Sections),\">0\")","v":6},{"$f":"COUNTIF(OFFSET(H123,0,Author1Sections,1,Author2Sections),\"=0\")","v":8},450,"fine",0.1,0,0,0,0,0,0,0,0.2,0.2,0.1,0,0,0,0,0.1,0,0,0,0,7.0372980000000002E-2,0,0,0,0,0,0,0,0,"lookes","gentle"]
[{"$f":"B124+C124","v":1.2857142857142856},{"$f":"D124/Author1Sections","v":0.2857142857142857},{"$f":"E124/Author2Sections","v":1},{"$f":"COUNTIF(OFFSET(H124,0,0,1,Author1Sections),\">0\")","v":6},{"$f":"COUNTIF(OFFSET(H124,0,Author1Sections,1,Author2Sections),\"=0\")","v":8},455,"heau'n",0,0,0,0,0,0,0,0,0,0.1,0,0.2,0,0,0,0.1,0.2,0,0.1,0,7.0372980000000002E-2,0,0,0,0,0,0,0,0,"reasons","father"]
[{"$f":"B125+C125","v":1.2857142857142856},{"$f":"D125/Author1Sections","v":0.2857142857142857},{"$f":"E125/Author2Sections","v":1},{"$f":"COUNTIF(OFFSET(H125,0,0,1,Author1Sections),\">0\")","v":6},{"$f":"COUNTIF(OFFSET(H125,0,Author1Sections,1,Author2Sections),\"=0\")","v":8},463,"lesse",0,0,0,0,0,0,0.1,0,0,0,0,0,0,0,0.1,0,0.2,0.2,0,0.1,7.0372980000000002E-2,0,0,0,0,0,0,0,0,"smart","low"]
[{"$f":"B126+C126","v":1.2857142857142856},{"$f":"D126/Author1Sections","v":0.2857142857142857},{"$f":"E126/Author2Sections","v":1},{"$f":"COUNTIF(OFFSET(H126,0,0,1,Author1Sections),\">0\")","v":6},{"$f":"COUNTIF(OFFSET(H126,0,Author1Sections,1,Author2Sections),\"=0\")","v":8},468,"meane",0,0.1,0,0,0,0,0,0.1,0,0,0,0.1,0,0,0,0.1,0,0.3,0,0.1,0,0,0,0,0,0,0,0,0,"sprites","pure"]
[{"$f":"B127+C127","v":1.2857142857142856},{"$f":"D127/Author1Sections","v":0.2857142857142857},{"$f":"E127/Author2Sections","v":1},{"$f":"COUNTIF(OFFSET(H127,0,0,1,Author1Sections),\">0\")","v":6},{"$f":"COUNTIF(OFFSET(H127,0,Author1Sections,1,Author2Sections),\"=0\")","v":8},470,"misse",0,0,0,0,0,0,0.1,0,0,0,0,0,0.1,0,0.2,0.1,0,0.2,0,0.1,0,0,0,0,0,0,0,0,0,"wish","done"]
[{"$f":"B128+C128","v":1.2857142857142856},{"$f":"D128/Author1Sections","v":0.2857142857142857},{"$f":"E128/Author2Sections","v":1},{"$f":"COUNTIF(OFFSET(H128,0,0,1,Author1Sections),\">0\")","v":6},{"$f":"COUNTIF(OFFSET(H128,0,Author1Sections,1,Author2Sections),\"=0\")","v":8},502,"faith",0,0,0,0,0,0,0,0,0,0.1,0.1,0,0,0,0.1,0,0.1,0.1,0.2,0,0,0,0,0,0,0,0,0,0,"fortunes","end"]
[{"$f":"B129+C129","v":1.2857142857142856},{"$f":"D129/Author1Sections","v":0.2857142857142857},{"$f":"E129/Author2Sections","v":1},{"$f":"COUNTIF(OFFSET(H129,0,0,1,Author1Sections),\">0\")","v":6},{"$f":"COUNTIF(OFFSET(H129,0,Author1Sections,1,Author2Sections),\"=0\")","v":8},505,"feele",0,0,0.1,0,0,0,0,0,0,0.2,0.1,0,0.1,0,0,0.1,0,0,0,0.1,0,0,0,0,0,0,0,0,0,"god","go"]
[{"$f":"B130+C130","v":1.2857142857142856},{"$f":"D130/Author1Sections","v":0.2857142857142857},{"$f":"E130/Author2Sections","v":1},{"$f":"COUNTIF(OFFSET(H130,0,0,1,Author1Sections),\">0\")","v":6},{"$f":"COUNTIF(OFFSET(H130,0,Author1Sections,1,Author2Sections),\"=0\")","v":8},512,"friend",0,0,0,0,0,0,0,0,0,0,0.1,0.1,0,0,0,0.1,0.1,0,0,0.1,0.14074595000000001,0,0,0,0,0,0,0,0,"helpe","peace"]
[{"$f":"B131+C131","v":1.2857142857142856},{"$f":"D131/Author1Sections","v":0.2857142857142857},{"$f":"E131/Author2Sections","v":1},{"$f":"COUNTIF(OFFSET(H131,0,0,1,Author1Sections),\">0\")","v":6},{"$f":"COUNTIF(OFFSET(H131,0,Author1Sections,1,Author2Sections),\"=0\")","v":8},522,"keepe",0,0,0,0,0,0,0.1,0,0,0,0.1,0,0.1,0,0,0,0.1,0,0.2,0,7.0372980000000002E-2,0,0,0,0,0,0,0,0,"hopes","joy"]
[{"$f":"B132+C132","v":1.2857142857142856},{"$f":"D132/Author1Sections","v":0.2857142857142857},{"$f":"E132/Author2Sections","v":1},{"$f":"COUNTIF(OFFSET(H132,0,0,1,Author1Sections),\">0\")","v":6},{"$f":"COUNTIF(OFFSET(H132,0,Author1Sections,1,Author2Sections),\"=0\")","v":8},533,"lookes",0,0,0,0,0,0,0,0,0,0,0.1,0,0.1,0.1,0,0,0,0.1,0.1,0,0.14074595000000001,0,0,0,0,0,0,0,0,"lost","reason"]
[{"$f":"B133+C133","v":1.2857142857142856},{"$f":"D133/Author1Sections","v":0.2857142857142857},{"$f":"E133/Author2Sections","v":1},{"$f":"COUNTIF(OFFSET(H133,0,0,1,Author1Sections),\">0\")","v":6},{"$f":"COUNTIF(OFFSET(H133,0,Author1Sections,1,Author2Sections),\"=0\")","v":8},544,"reasons",0,0,0,0.1,0,0,0,0,0.1,0,0.1,0,0.1,0,0,0.1,0.2,0,0,0,0,0,0,0,0,0,0,0,0,"scorne","fly"]
[{"$f":"B134+C134","v":1.2857142857142856},{"$f":"D134/Author1Sections","v":0.2857142857142857},{"$f":"E134/Author2Sections","v":1},{"$f":"COUNTIF(OFFSET(H134,0,0,1,Author1Sections),\">0\")","v":6},{"$f":"COUNTIF(OFFSET(H134,0,Author1Sections,1,Author2Sections),\"=0\")","v":8},555,"smart",0,0,0,0,0,0,0,0,0,0.1,0,0.1,0.1,0.2,0.1,0,0,0,0.1,0,0,0,0,0,0,0,0,0,0,"shot","bid"]
[{"$f":"B135+C135","v":1.2857142857142856},{"$f":"D135/Author1Sections","v":0.2857142857142857},{"$f":"E135/Author2Sections","v":1},{"$f":"COUNTIF(OFFSET(H135,0,0,1,Author1Sections),\">0\")","v":6},{"$f":"COUNTIF(OFFSET(H135,0,Author1Sections,1,Author2Sections),\"=0\")","v":8},559,"sprites",0,0,0,0,0,0,0,0,0.1,0,0.1,0,0,0.1,0,0,0,0.1,0.1,0.2,0,0,0,0,0,0,0,0,0,"sweare","soul"]
[{"$f":"B136+C136","v":1.2857142857142856},{"$f":"D136/Author1Sections","v":0.2857142857142857},{"$f":"E136/Author2Sections","v":1},{"$f":"COUNTIF(OFFSET(H136,0,0,1,Author1Sections),\">0\")","v":6},{"$f":"COUNTIF(OFFSET(H136,0,Author1Sections,1,Author2Sections),\"=0\")","v":8},573,"wish",0,0,0,0,0,0.1,0,0,0.1,0,0,0,0,0,0,0,0.1,0,0.2,0.1,7.0372980000000002E-2,0,0,0,0,0,0,0,0,"tedious","knew"]
[{"$f":"B137+C137","v":1.2857142857142856},{"$f":"D137/Author1Sections","v":0.2857142857142857},{"$f":"E137/Author2Sections","v":1},{"$f":"COUNTIF(OFFSET(H137,0,0,1,Author1Sections),\">0\")","v":6},{"$f":"COUNTIF(OFFSET(H137,0,Author1Sections,1,Author2Sections),\"=0\")","v":8},605,"fortunes",0.1,0.1,0,0.1,7.4183979999999997E-2,0,0,0,0,0,0,0.1,0,0,0,0.1,0,0,0,0,0,0,0,0,0,0,0,0,0,"death","pleasures"]
[{"$f":"B138+C138","v":1.2857142857142856},{"$f":"D138/Author1Sections","v":0.2857142857142857},{"$f":"E138/Author2Sections","v":1},{"$f":"COUNTIF(OFFSET(H138,0,0,1,Author1Sections),\">0\")","v":6},{"$f":"COUNTIF(OFFSET(H138,0,Author1Sections,1,Author2Sections),\"=0\")","v":8},607,"god",0,0.1,0,0,7.4183979999999997E-2,0,0,0,0.1,0.1,0,0,0,0,0,0,0,0.1,0,0.1,0,0,0,0,0,0,0,0,0,"same","sister"]
[{"$f":"B139+C139","v":1.2857142857142856},{"$f":"D139/Author1Sections","v":0.2857142857142857},{"$f":"E139/Author2Sections","v":1},{"$f":"COUNTIF(OFFSET(H139,0,0,1,Author1Sections),\">0\")","v":6},{"$f":"COUNTIF(OFFSET(H139,0,Author1Sections,1,Author2Sections),\"=0\")","v":8},613,"helpe",0,0,0,0,0,0.1,0,0,0,0,0,0,0.1,0,0.1,0.1,0,0.1,0,0,7.0372980000000002E-2,0,0,0,0,0,0,0,0,"say","child"]
[{"$f":"B140+C140","v":1.2857142857142856},{"$f":"D140/Author1Sections","v":0.2857142857142857},{"$f":"E140/Author2Sections","v":1},{"$f":"COUNTIF(OFFSET(H140,0,0,1,Author1Sections),\">0\")","v":6},{"$f":"COUNTIF(OFFSET(H140,0,Author1Sections,1,Author2Sections),\"=0\")","v":8},615,"hopes",0,0,0,0,0,0,0.1,0,0.1,0.1,0,0,0,0,0,0,0.1,0.1,0.1,0,0,0,0,0,0,0,0,0,0,"case","herself"]
[{"$f":"B141+C141","v":1.2857142857142856},{"$f":"D141/Author1Sections","v":0.2857142857142857},{"$f":"E141/Author2Sections","v":1},{"$f":"COUNTIF(OFFSET(H141,0,0,1,Author1Sections),\">0\")","v":6},{"$f":"COUNTIF(OFFSET(H141,0,Author1Sections,1,Author2Sections),\"=0\")","v":8},619,"lost",0.1,0.1,0,0,0,0,0,0.1,0.1,0,0,0,0.1,0,0,0,0.1,0,0,0,0,0,0,0,0,0,0,0,0,"length","question"]
[{"$f":"B142+C142","v":1.2857142857142856},{"$f":"D142/Author1Sections","v":0.2857142857142857},{"$f":"E142/Author2Sections","v":1},{"$f":"COUNTIF(OFFSET(H142,0,0,1,Author1Sections),\">0\")","v":6},{"$f":"COUNTIF(OFFSET(H142,0,Author1Sections,1,Author2Sections),\"=0\")","v":8},652,"scorne",0.1,0,0,0,7.4183979999999997E-2,0,0,0,0,0,0,0.1,0,0,0.1,0,0.1,0.1,0,0,0,0,0,0,0,0,0,0,0,"therefore","sings"]
[{"$f":"B143+C143","v":1.2857142857142856},{"$f":"D143/Author1Sections","v":0.2857142857142857},{"$f":"E143/Author2Sections","v":1},{"$f":"COUNTIF(OFFSET(H143,0,0,1,Author1Sections),\">0\")","v":6},{"$f":"COUNTIF(OFFSET(H143,0,Author1Sections,1,Author2Sections),\"=0\")","v":8},658,"shot",0,0,0,0,0,0,0,0,0.1,0,0.1,0.1,0.1,0.1,0.1,0,0,0,0,0,0,0,0,0,0,0,0,0,0,"frame","together"]
[{"$f":"B144+C144","v":1.2857142857142856},{"$f":"D144/Author1Sections","v":0.2857142857142857},{"$f":"E144/Author2Sections","v":1},{"$f":"COUNTIF(OFFSET(H144,0,0,1,Author1Sections),\">0\")","v":6},{"$f":"COUNTIF(OFFSET(H144,0,Author1Sections,1,Author2Sections),\"=0\")","v":8},668,"sweare",0,0,0,0,0,0,0,0,0,0.1,0,0,0,0,0.1,0,0,0.1,0.1,0.1,7.0372980000000002E-2,0,0,0,0,0,0,0,0,"staid","beside"]
[{"$f":"B145+C145","v":1.2857142857142856},{"$f":"D145/Author1Sections","v":0.2857142857142857},{"$f":"E145/Author2Sections","v":1},{"$f":"COUNTIF(OFFSET(H145,0,0,1,Author1Sections),\">0\")","v":6},{"$f":"COUNTIF(OFFSET(H145,0,Author1Sections,1,Author2Sections),\"=0\")","v":8},671,"tedious",0,0,0,0,0,0,0.1,0,0,0.1,0,0,0,0,0,0,0.1,0.1,0,0.1,7.0372980000000002E-2,0,0,0,0,0,0,0,0,"word","cast"]
[{"$f":"B146+C146","v":1.2738095238095237},{"$f":"D146/Author1Sections","v":0.52380952380952384},{"$f":"E146/Author2Sections","v":0.75},{"$f":"COUNTIF(OFFSET(H146,0,0,1,Author1Sections),\">0\")","v":11},{"$f":"COUNTIF(OFFSET(H146,0,Author1Sections,1,Author2Sections),\"=0\")","v":6},198,"death",0.1,0.1,0.3,0.1,7.4183979999999997E-2,0,0.1,0,0,0,0,0,0,0.1,0.2,0,0,0.1,0.1,0.1,0,0.19762845000000001,0,0,0,0.1,0,0,0,"for","delights"]
[{"$f":"B147+C147","v":1.2738095238095237},{"$f":"D147/Author1Sections","v":0.52380952380952384},{"$f":"E147/Author2Sections","v":0.75},{"$f":"COUNTIF(OFFSET(H147,0,0,1,Author1Sections),\">0\")","v":11},{"$f":"COUNTIF(OFFSET(H147,0,Author1Sections,1,Author2Sections),\"=0\")","v":6},234,"same",0.1,0,0,0.2,7.4183979999999997E-2,0,0,0,0,0,0.1,0.2,0.1,0,0.1,0.1,0,0,0.1,0.1,7.0372980000000002E-2,0,0,0,0.13531799999999999,0.1,0,0,0,"doth","himself"]
[{"$f":"B148+C148","v":1.2619047619047619},{"$f":"D148/Author1Sections","v":0.76190476190476186},{"$f":"E148/Author2Sections","v":0.5},{"$f":"COUNTIF(OFFSET(H148,0,0,1,Author1Sections),\">0\")","v":16},{"$f":"COUNTIF(OFFSET(H148,0,Author1Sections,1,Author2Sections),\"=0\")","v":4},101,"say",0.1,0,0,0.1,0,0.5,0.2,0.2,0.3,0,0.2,0.2,0.2,0.1,0.3,0.1,0.2,0,0.1,0.2,0.28149190000000002,6.5876156000000005E-2,0,0,0,0.1,0.2,0.3,0,"o","meant"]
[{"$f":"B149+C149","v":1.2559523809523809},{"$f":"D149/Author1Sections","v":0.38095238095238093},{"$f":"E149/Author2Sections","v":0.875},{"$f":"COUNTIF(OFFSET(H149,0,0,1,Author1Sections),\">0\")","v":8},{"$f":"COUNTIF(OFFSET(H149,0,Author1Sections,1,Author2Sections),\"=0\")","v":7},302,"case",0,0,0,0.1,0,0.1,0,0,0,0,0,0,0.1,0.2,0,0.2,0.1,0.1,0,0,0.14074595000000001,0,0,0,0,0,0,0.1,0,"then","rude"]
[{"$f":"B150+C150","v":1.2559523809523809},{"$f":"D150/Author1Sections","v":0.38095238095238093},{"$f":"E150/Author2Sections","v":0.875},{"$f":"COUNTIF(OFFSET(H150,0,0,1,Author1Sections),\">0\")","v":8},{"$f":"COUNTIF(OFFSET(H150,0,Author1Sections,1,Author2Sections),\"=0\")","v":7},307,"length",0,0.1,0,0.1,0.14836795999999999,0,0,0,0.3,0.1,0.1,0,0,0,0.1,0,0,0,0,0.1,0,0,0.1,0,0,0,0,0,0,"thoughts","sable"]
[{"$f":"B151+C151","v":1.2559523809523809},{"$f":"D151/Author1Sections","v":0.38095238095238093},{"$f":"E151/Author2Sections","v":0.875},{"$f":"COUNTIF(OFFSET(H151,0,0,1,Author1Sections),\">0\")","v":8},{"$f":"COUNTIF(OFFSET(H151,0,Author1Sections,1,Author2Sections),\"=0\")","v":7},352,"therefore",0,0.1,0.1,0.1,0,0,0.1,0,0.3,0,0,0,0,0,0.1,0.1,0,0,0,0.1,0,0,0,0.1,0,0,0,0,0,"right","simple"]
[{"$f":"B152+C152","v":1.2559523809523809},{"$f":"D152/Author1Sections","v":0.38095238095238093},{"$f":"E152/Author2Sections","v":0.875},{"$f":"COUNTIF(OFFSET(H152,0,0,1,Author1Sections),\">0\")","v":8},{"$f":"COUNTIF(OFFSET(H152,0,Author1Sections,1,Author2Sections),\"=0\")","v":7},366,"frame",0,0,0,0,0,0,0,0,0,0.1,0.2,0.1,0.1,0,0,0,0.1,0.1,0,0.1,7.0372980000000002E-2,0,0,0,0,0.1,0,0,0,"doo","sits"]
[{"$f":"B153+C153","v":1.2559523809523809},{"$f":"D153/Author1Sections","v":0.38095238095238093},{"$f":"E153/Author2Sections","v":0.875},{"$f":"COUNTIF(OFFSET(H153,0,0,1,Author1Sections),\">0\")","v":8},{"$f":"COUNTIF(OFFSET(H153,0,Author1Sections,1,Author2Sections),\"=0\")","v":7},425,"staid",0,0,0,0.1,0,0,0,0,0,0,0.1,0.1,0,0,0.1,0.1,0,0.1,0,0.1,7.0372980000000002E-2,0,0,0.1,0,0,0,0,0,"heavens","themselves"]
[{"$f":"B154+C154","v":1.2559523809523809},{"$f":"D154/Author1Sections","v":0.38095238095238093},{"$f":"E154/Author2Sections","v":0.875},{"$f":"COUNTIF(OFFSET(H154,0,0,1,Author1Sections),\">0\")","v":8},{"$f":"COUNTIF(OFFSET(H154,0,Author1Sections,1,Author2Sections),\"=0\")","v":7},432,"word",0,0.1,0.1,0.1,0,0.1,0,0,0,0,0.1,0,0.1,0,0,0,0.1,0,0,0,7.0372980000000002E-2,6.5876156000000005E-2,0,0,0,0,0,0,0,"pitie","new"]
[{"$f":"B155+C155","v":1.25},{"$f":"D155/Author1Sections","v":1},{"$f":"E155/Author2Sections","v":0.25},{"$f":"COUNTIF(OFFSET(H155,0,0,1,Author1Sections),\">0\")","v":21},{"$f":"COUNTIF(OFFSET(H155,0,Author1Sections,1,Author2Sections),\"=0\")","v":2},14,"for",0.4,1,0.7,1.7,0.81602377000000004,1,0.8,0.7,0.8,0.7,1,1.4,0.5,0.6,0.5,0.6,0.9,0.6,0.6,0.9,0.49261083999999999,0.72463770000000005,0,0,0.74424900000000005,1,0.5,0.9,0.53191489999999997,"speake","own"]
[{"$f":"B156+C156","v":1.25},{"$f":"D156/Author1Sections","v":1},{"$f":"E156/Author2Sections","v":0.25},{"$f":"COUNTIF(OFFSET(H156,0,0,1,Author1Sections),\">0\")","v":21},{"$f":"COUNTIF(OFFSET(H156,0,Author1Sections,1,Author2Sections),\"=0\")","v":2},35,"doth",0.3,0.3,0.2,0.3,0.14836795999999999,0.2,0.1,0.4,0.1,0.3,1.1000000000000001,0.5,1.1000000000000001,1,0.8,0.5,0.6,0.8,0.3,0.6,0.56298380000000003,0.39525690000000002,0.1,0.3,0.13531799999999999,0.5,0,0.1,0,"minde","behold"]
[{"$f":"B157+C157","v":1.25},{"$f":"D157/Author1Sections","v":1},{"$f":"E157/Author2Sections","v":0.25},{"$f":"COUNTIF(OFFSET(H157,0,0,1,Author1Sections),\">0\")","v":21},{"$f":"COUNTIF(OFFSET(H157,0,Author1Sections,1,Author2Sections),\"=0\")","v":2},42,"o",0.3,0.2,0.4,0.8,7.4183979999999997E-2,0.1,0.4,0.6,0.1,0.1,0.4,0.1,0.4,0.9,0.6,0.5,0.7,0.2,0.3,0.5,0.56298380000000003,0.26350462000000002,0,0.1,0.27063599999999999,0,0.3,0.1,0.79787235999999995,"mouth","sun"]
[{"$f":"B158+C158","v":1.25},{"$f":"D158/Author1Sections","v":1},{"$f":"E158/Author2Sections","v":0.25},{"$f":"COUNTIF(OFFSET(H158,0,0,1,Author1Sections),\">0\")","v":21},{"$f":"COUNTIF(OFFSET(H158,0,Author1Sections,1,Author2Sections),\"=0\")","v":2},43,"then",0.1,0.1,0.1,0.4,0.14836795999999999,0.3,0.2,0.4,0.5,0.1,0.6,0.2,0.6,0.9,0.2,0.7,0.5,0.5,0.4,0.5,0.56298380000000003,0.26350462000000002,0.6,0,6.7658999999999997E-2,0.6,0.2,0,0.26595743999999999,"natures","sound"]
[{"$f":"B159+C159","v":1.2440476190476191},{"$f":"D159/Author1Sections","v":0.61904761904761907},{"$f":"E159/Author2Sections","v":0.625},{"$f":"COUNTIF(OFFSET(H159,0,0,1,Author1Sections),\">0\")","v":13},{"$f":"COUNTIF(OFFSET(H159,0,Author1Sections,1,Author2Sections),\"=0\")","v":5},163,"thoughts",0,0,0,0.1,7.4183979999999997E-2,0,0.2,0.1,0.1,0.1,0.1,0.2,0.1,0,0.2,0,0,0.2,0.2,0,0.14074595000000001,6.5876156000000005E-2,0,0,6.7658999999999997E-2,0,0,0.1,0,"fault","ten"]
[{"$f":"B160+C160","v":1.2440476190476191},{"$f":"D160/Author1Sections","v":0.61904761904761907},{"$f":"E160/Author2Sections","v":0.625},{"$f":"COUNTIF(OFFSET(H160,0,0,1,Author1Sections),\">0\")","v":13},{"$f":"COUNTIF(OFFSET(H160,0,Author1Sections,1,Author2Sections),\"=0\")","v":5},182,"right",0.1,0.1,0.1,0,0,0.1,0,0,0,0.1,0.1,0.1,0.2,0.1,0.2,0,0,0.1,0,0.1,0.14074595000000001,6.5876156000000005E-2,0.2,0,0,0,0.1,0,0,"felt","'o"]
[{"$f":"B161+C161","v":1.2380952380952381},{"$f":"D161/Author1Sections","v":0.23809523809523808},{"$f":"E161/Author2Sections","v":1},{"$f":"COUNTIF(OFFSET(H161,0,0,1,Author1Sections),\">0\")","v":5},{"$f":"COUNTIF(OFFSET(H161,0,Author1Sections,1,Author2Sections),\"=0\")","v":8},217,"doo",0.1,0.5,0.6,0.4,0,0,0,0,0.1,0,0,0,0,0,0,0,0,0,0,0,0,0,0,0,0,0,0,0,0,"ladie","'but"]
[{"$f":"B162+C162","v":1.2380952380952381},{"$f":"D162/Author1Sections","v":0.23809523809523808},{"$f":"E162/Author2Sections","v":1},{"$f":"COUNTIF(OFFSET(H162,0,0,1,Author1Sections),\">0\")","v":5},{"$f":"COUNTIF(OFFSET(H162,0,Author1Sections,1,Author2Sections),\"=0\")","v":8},368,"heavens",0.2,0.1,0.4,0.1,0.14836795999999999,0,0,0,0,0,0,0,0,0,0,0,0,0,0,0,0,0,0,0,0,0,0,0,0,"sence","glass"]
[{"$f":"B163+C163","v":1.2380952380952381},{"$f":"D163/Author1Sections","v":0.23809523809523808},{"$f":"E163/Author2Sections","v":1},{"$f":"COUNTIF(OFFSET(H163,0,0,1,Author1Sections),\">0\")","v":5},{"$f":"COUNTIF(OFFSET(H163,0,Author1Sections,1,Author2Sections),\"=0\")","v":8},372,"pitie",0.1,0,0,0.1,7.4183979999999997E-2,0,0,0,0,0,0,0,0,0.6,0,0.1,0,0,0,0,0,0,0,0,0,0,0,0,0,"slaue","rhyme"]
[{"$f":"B164+C164","v":1.2380952380952381},{"$f":"D164/Author1Sections","v":0.23809523809523808},{"$f":"E164/Author2Sections","v":1},{"$f":"COUNTIF(OFFSET(H164,0,0,1,Author1Sections),\">0\")","v":5},{"$f":"COUNTIF(OFFSET(H164,0,Author1Sections,1,Author2Sections),\"=0\")","v":8},379,"speake",0,0,0,0,0,0.1,0,0,0,0.2,0.1,0,0.3,0,0,0,0,0.3,0,0,0,0,0,0,0,0,0,0,0,"whole","soon"]
[{"$f":"B165+C165","v":1.2380952380952381},{"$f":"D165/Author1Sections","v":0.23809523809523808},{"$f":"E165/Author2Sections","v":1},{"$f":"COUNTIF(OFFSET(H165,0,0,1,Author1Sections),\">0\")","v":5},{"$f":"COUNTIF(OFFSET(H165,0,Author1Sections,1,Author2Sections),\"=0\")","v":8},469,"minde",0,0.2,0,0,0.22255193000000001,0,0,0,0,0,0,0,0,0.1,0.1,0,0,0,0,0,7.0372980000000002E-2,0,0,0,0,0,0,0,0,"againe","star"]
[{"$f":"B166+C166","v":1.2380952380952381},{"$f":"D166/Author1Sections","v":0.23809523809523808},{"$f":"E166/Author2Sections","v":1},{"$f":"COUNTIF(OFFSET(H166,0,0,1,Author1Sections),\">0\")","v":5},{"$f":"COUNTIF(OFFSET(H166,0,Author1Sections,1,Author2Sections),\"=0\")","v":8},471,"mouth",0,0,0,0,0,0.1,0,0.1,0,0.1,0,0,0.1,0,0,0,0,0,0.4,0,0,0,0,0,0,0,0,0,0,"appeare","sunk"]
[{"$f":"B167+C167","v":1.2380952380952381},{"$f":"D167/Author1Sections","v":0.23809523809523808},{"$f":"E167/Author2Sections","v":1},{"$f":"COUNTIF(OFFSET(H167,0,0,1,Author1Sections),\">0\")","v":5},{"$f":"COUNTIF(OFFSET(H167,0,Author1Sections,1,Author2Sections),\"=0\")","v":8},472,"natures",0,0,0,0,0,0,0,0,0.1,0.3,0.1,0,0,0,0,0,0,0.1,0.2,0,0,0,0,0,0,0,0,0,0,"beares","'that"]
[{"$f":"B168+C168","v":1.2380952380952381},{"$f":"D168/Author1Sections","v":0.23809523809523808},{"$f":"E168/Author2Sections","v":1},{"$f":"COUNTIF(OFFSET(H168,0,0,1,Author1Sections),\">0\")","v":5},{"$f":"COUNTIF(OFFSET(H168,0,Author1Sections,1,Author2Sections),\"=0\")","v":8},503,"fault",0,0,0,0,0,0,0,0,0,0.1,0,0.1,0,0,0,0,0,0,0.1,0.2,0.14074595000000001,0,0,0,0,0,0,0,0,"cruell","'tis"]
[{"$f":"B169+C169","v":1.2380952380952381},{"$f":"D169/Author1Sections","v":0.23809523809523808},{"$f":"E169/Author2Sections","v":1},{"$f":"COUNTIF(OFFSET(H169,0,0,1,Author1Sections),\">0\")","v":5},{"$f":"COUNTIF(OFFSET(H169,0,Author1Sections,1,Author2Sections),\"=0\")","v":8},507,"felt",0.2,0,0,0.1,0,0,0,0,0,0,0,0,0,0,0,0.1,0,0,0.2,0,7.0372980000000002E-2,0,0,0,0,0,0,0,0,"dart","affections"]
[{"$f":"B170+C170","v":1.2380952380952381},{"$f":"D170/Author1Sections","v":0.23809523809523808},{"$f":"E170/Author2Sections","v":1},{"$f":"COUNTIF(OFFSET(H170,0,0,1,Author1Sections),\">0\")","v":5},{"$f":"COUNTIF(OFFSET(H170,0,Author1Sections,1,Author2Sections),\"=0\")","v":8},526,"ladie",0,0,0.2,0,7.4183979999999997E-2,0.1,0.2,0,0.1,0,0,0,0,0,0,0,0,0,0,0,0,0,0,0,0,0,0,0,0,"disgrace","applied"]
[{"$f":"B171+C171","v":1.2380952380952381},{"$f":"D171/Author1Sections","v":0.23809523809523808},{"$f":"E171/Author2Sections","v":1},{"$f":"COUNTIF(OFFSET(H171,0,0,1,Author1Sections),\">0\")","v":5},{"$f":"COUNTIF(OFFSET(H171,0,Author1Sections,1,Author2Sections),\"=0\")","v":8},547,"sence",0,0,0,0,0,0,0,0,0,0.1,0,0,0,0.1,0,0.2,0,0.1,0,0.2,0,0,0,0,0,0,0,0,0,"excell","barren"]
[{"$f":"B172+C172","v":1.2380952380952381},{"$f":"D172/Author1Sections","v":0.23809523809523808},{"$f":"E172/Author2Sections","v":1},{"$f":"COUNTIF(OFFSET(H172,0,0,1,Author1Sections),\">0\")","v":5},{"$f":"COUNTIF(OFFSET(H172,0,Author1Sections,1,Author2Sections),\"=0\")","v":8},551,"slaue",0,0,0,0,0,0,0.1,0,0.1,0,0,0,0.2,0,0.2,0,0,0,0.1,0,0,0,0,0,0,0,0,0,0,"excellent","fears"]
[{"$f":"B173+C173","v":1.2380952380952381},{"$f":"D173/Author1Sections","v":0.23809523809523808},{"$f":"E173/Author2Sections","v":1},{"$f":"COUNTIF(OFFSET(H173,0,0,1,Author1Sections),\">0\")","v":5},{"$f":"COUNTIF(OFFSET(H173,0,Author1Sections,1,Author2Sections),\"=0\")","v":8},569,"whole",0.1,0,0,0,0,0.2,0.1,0,0,0,0,0,0.1,0,0,0.2,0,0,0,0,0,0,0,0,0,0,0,0,0,"glorie","flame"]
[{"$f":"B174+C174","v":1.2380952380952381},{"$f":"D174/Author1Sections","v":0.23809523809523808},{"$f":"E174/Author2Sections","v":1},{"$f":"COUNTIF(OFFSET(H174,0,0,1,Author1Sections),\">0\")","v":5},{"$f":"COUNTIF(OFFSET(H174,0,Author1Sections,1,Author2Sections),\"=0\")","v":8},576,"againe",0,0,0,0.2,0,0,0.1,0.1,0,0,0,0,0,0,0,0,0.1,0.1,0,0,0,0,0,0,0,0,0,0,0,"indeed","fountain"]
[{"$f":"B175+C175","v":1.2380952380952381},{"$f":"D175/Author1Sections","v":0.23809523809523808},{"$f":"E175/Author2Sections","v":1},{"$f":"COUNTIF(OFFSET(H175,0,0,1,Author1Sections),\">0\")","v":5},{"$f":"COUNTIF(OFFSET(H175,0,Author1Sections,1,Author2Sections),\"=0\")","v":8},577,"appeare",0,0,0,0.1,7.4183979999999997E-2,0,0,0,0,0,0,0,0,0,0,0,0,0.2,0.1,0,7.0372980000000002E-2,0,0,0,0,0,0,0,0,"lou'd","goddess"]
[{"$f":"B176+C176","v":1.2380952380952381},{"$f":"D176/Author1Sections","v":0.23809523809523808},{"$f":"E176/Author2Sections","v":1},{"$f":"COUNTIF(OFFSET(H176,0,0,1,Author1Sections),\">0\")","v":5},{"$f":"COUNTIF(OFFSET(H176,0,Author1Sections,1,Author2Sections),\"=0\")","v":8},579,"beares",0.1,0,0,0,0.14836795999999999,0,0,0,0,0,0,0,0,0,0,0.1,0,0.1,0,0.1,0,0,0,0,0,0,0,0,0,"manie","hail"]
[{"$f":"B177+C177","v":1.2380952380952381},{"$f":"D177/Author1Sections","v":0.23809523809523808},{"$f":"E177/Author2Sections","v":1},{"$f":"COUNTIF(OFFSET(H177,0,0,1,Author1Sections),\">0\")","v":5},{"$f":"COUNTIF(OFFSET(H177,0,Author1Sections,1,Author2Sections),\"=0\")","v":8},589,"cruell",0,0.2,0,0,0,0,0,0.1,0,0,0,0,0,0,0.1,0,0.1,0,0,0.1,0,0,0,0,0,0,0,0,0,"paint","laid"]
[{"$f":"B178+C178","v":1.2380952380952381},{"$f":"D178/Author1Sections","v":0.23809523809523808},{"$f":"E178/Author2Sections","v":1},{"$f":"COUNTIF(OFFSET(H178,0,0,1,Author1Sections),\">0\")","v":5},{"$f":"COUNTIF(OFFSET(H178,0,Author1Sections,1,Author2Sections),\"=0\")","v":8},591,"dart",0,0,0,0,0,0.1,0,0,0,0.2,0,0.1,0,0.1,0,0,0,0.1,0,0,0,0,0,0,0,0,0,0,0,"pen","lov'd"]
[{"$f":"B179+C179","v":1.2380952380952381},{"$f":"D179/Author1Sections","v":0.23809523809523808},{"$f":"E179/Author2Sections","v":1},{"$f":"COUNTIF(OFFSET(H179,0,0,1,Author1Sections),\">0\")","v":5},{"$f":"COUNTIF(OFFSET(H179,0,Author1Sections,1,Author2Sections),\"=0\")","v":8},592,"disgrace",0,0,0,0,0,0,0,0,0,0,0.1,0,0,0.1,0,0.1,0.1,0,0,0,0.14074595000000001,0,0,0,0,0,0,0,0,"point","lovely"]
[{"$f":"B180+C180","v":1.2380952380952381},{"$f":"D180/Author1Sections","v":0.23809523809523808},{"$f":"E180/Author2Sections","v":1},{"$f":"COUNTIF(OFFSET(H180,0,0,1,Author1Sections),\">0\")","v":5},{"$f":"COUNTIF(OFFSET(H180,0,Author1Sections,1,Author2Sections),\"=0\")","v":8},597,"excell",0,0,0,0,7.4183979999999997E-2,0,0.2,0,0.1,0,0,0,0.1,0.1,0,0,0,0,0,0,0,0,0,0,0,0,0,0,0,"reach","nun"]
[{"$f":"B181+C181","v":1.2380952380952381},{"$f":"D181/Author1Sections","v":0.23809523809523808},{"$f":"E181/Author2Sections","v":1},{"$f":"COUNTIF(OFFSET(H181,0,0,1,Author1Sections),\">0\")","v":5},{"$f":"COUNTIF(OFFSET(H181,0,Author1Sections,1,Author2Sections),\"=0\")","v":8},598,"excellent",0,0,0.1,0,0,0.2,0.1,0.1,0.1,0,0,0,0,0,0,0,0,0,0,0,0,0,0,0,0,0,0,0,0,"seeke","rain"]
[{"$f":"B182+C182","v":1.2380952380952381},{"$f":"D182/Author1Sections","v":0.23809523809523808},{"$f":"E182/Author2Sections","v":1},{"$f":"COUNTIF(OFFSET(H182,0,0,1,Author1Sections),\">0\")","v":5},{"$f":"COUNTIF(OFFSET(H182,0,Author1Sections,1,Author2Sections),\"=0\")","v":8},606,"glorie",0.1,0.1,0,0.1,0.14836795999999999,0,0,0,0.1,0,0,0,0,0,0,0,0,0,0,0,0,0,0,0,0,0,0,0,0,"sinfull","round"]
[{"$f":"B183+C183","v":1.2380952380952381},{"$f":"D183/Author1Sections","v":0.23809523809523808},{"$f":"E183/Author2Sections","v":1},{"$f":"COUNTIF(OFFSET(H183,0,0,1,Author1Sections),\">0\")","v":5},{"$f":"COUNTIF(OFFSET(H183,0,Author1Sections,1,Author2Sections),\"=0\")","v":8},616,"indeed",0,0,0,0,0,0,0.1,0.1,0,0.1,0,0,0,0,0.1,0.2,0,0,0,0,0,0,0,0,0,0,0,0,0,"vertuous","spreads"]
[{"$f":"B184+C184","v":1.2380952380952381},{"$f":"D184/Author1Sections","v":0.23809523809523808},{"$f":"E184/Author2Sections","v":1},{"$f":"COUNTIF(OFFSET(H184,0,0,1,Author1Sections),\">0\")","v":5},{"$f":"COUNTIF(OFFSET(H184,0,Author1Sections,1,Author2Sections),\"=0\")","v":8},620,"lou'd",0,0,0,0,0,0,0,0,0.1,0,0,0,0.1,0.1,0,0.2,0,0,0,0.1,0,0,0,0,0,0,0,0,0,"whiles","suffering"]
[{"$f":"B185+C185","v":1.2380952380952381},{"$f":"D185/Author1Sections","v":0.23809523809523808},{"$f":"E185/Author2Sections","v":1},{"$f":"COUNTIF(OFFSET(H185,0,0,1,Author1Sections),\">0\")","v":5},{"$f":"COUNTIF(OFFSET(H185,0,Author1Sections,1,Author2Sections),\"=0\")","v":8},623,"manie",0.1,0.2,0.1,0,7.4183979999999997E-2,0,0.1,0,0,0,0,0,0,0,0,0,0,0,0,0,0,0,0,0,0,0,0,0,0,"wight","summer"]
[{"$f":"B186+C186","v":1.2380952380952381},{"$f":"D186/Author1Sections","v":0.23809523809523808},{"$f":"E186/Author2Sections","v":1},{"$f":"COUNTIF(OFFSET(H186,0,0,1,Author1Sections),\">0\")","v":5},{"$f":"COUNTIF(OFFSET(H186,0,Author1Sections,1,Author2Sections),\"=0\")","v":8},633,"paint",0,0,0,0,0,0,0,0,0.2,0,0,0,0,0,0,0,0.1,0,0.1,0.1,7.0372980000000002E-2,0,0,0,0,0,0,0,0,"wound","tells"]
[{"$f":"B187+C187","v":1.2380952380952381},{"$f":"D187/Author1Sections","v":0.23809523809523808},{"$f":"E187/Author2Sections","v":1},{"$f":"COUNTIF(OFFSET(H187,0,0,1,Author1Sections),\">0\")","v":5},{"$f":"COUNTIF(OFFSET(H187,0,Author1Sections,1,Author2Sections),\"=0\")","v":8},638,"pen",0,0,0,0,0,0,0,0,0.1,0.1,0.1,0,0,0,0.1,0,0.2,0,0,0,0,0,0,0,0,0,0,0,0,"although","touch'd"]
[{"$f":"B188+C188","v":1.2380952380952381},{"$f":"D188/Author1Sections","v":0.23809523809523808},{"$f":"E188/Author2Sections","v":1},{"$f":"COUNTIF(OFFSET(H188,0,0,1,Author1Sections),\">0\")","v":5},{"$f":"COUNTIF(OFFSET(H188,0,Author1Sections,1,Author2Sections),\"=0\")","v":8},644,"point",0,0,0,0,0,0.1,0,0.2,0.1,0,0.1,0,0,0,0.1,0,0,0,0,0,0,0,0,0,0,0,0,0,0,"betweene","unseen"]
[{"$f":"B189+C189","v":1.2380952380952381},{"$f":"D189/Author1Sections","v":0.23809523809523808},{"$f":"E189/Author2Sections","v":1},{"$f":"COUNTIF(OFFSET(H189,0,0,1,Author1Sections),\">0\")","v":5},{"$f":"COUNTIF(OFFSET(H189,0,Author1Sections,1,Author2Sections),\"=0\")","v":8},649,"reach",0,0,0,0.2,7.4183979999999997E-2,0,0,0,0.1,0.1,0,0,0.1,0,0,0,0,0,0,0,0,0,0,0,0,0,0,0,0,"crie","wet"]
[{"$f":"B190+C190","v":1.2380952380952381},{"$f":"D190/Author1Sections","v":0.23809523809523808},{"$f":"E190/Author2Sections","v":1},{"$f":"COUNTIF(OFFSET(H190,0,0,1,Author1Sections),\">0\")","v":5},{"$f":"COUNTIF(OFFSET(H190,0,Author1Sections,1,Author2Sections),\"=0\")","v":8},653,"seeke",0,0,0,0.1,7.4183979999999997E-2,0.1,0.1,0,0,0,0,0,0,0,0,0,0,0,0,0.2,0,0,0,0,0,0,0,0,0,"dame","world's"]
[{"$f":"B191+C191","v":1.2380952380952381},{"$f":"D191/Author1Sections","v":0.23809523809523808},{"$f":"E191/Author2Sections","v":1},{"$f":"COUNTIF(OFFSET(H191,0,0,1,Author1Sections),\">0\")","v":5},{"$f":"COUNTIF(OFFSET(H191,0,Author1Sections,1,Author2Sections),\"=0\")","v":8},661,"sinfull",0.1,0,0.1,0,7.4183979999999997E-2,0,0,0,0,0,0.2,0,0,0,0,0,0,0,0.1,0,0,0,0,0,0,0,0,0,0,"eies","youthful"]
[{"$f":"B192+C192","v":1.2380952380952381},{"$f":"D192/Author1Sections","v":0.23809523809523808},{"$f":"E192/Author2Sections","v":1},{"$f":"COUNTIF(OFFSET(H192,0,0,1,Author1Sections),\">0\")","v":5},{"$f":"COUNTIF(OFFSET(H192,0,Author1Sections,1,Author2Sections),\"=0\")","v":8},678,"vertuous",0,0,0.1,0.2,0,0,0,0,0,0,0,0.1,0,0,0.1,0,0.1,0,0,0,0,0,0,0,0,0,0,0,0,"hauing","'and"]
[{"$f":"B193+C193","v":1.2380952380952381},{"$f":"D193/Author1Sections","v":0.23809523809523808},{"$f":"E193/Author2Sections","v":1},{"$f":"COUNTIF(OFFSET(H193,0,0,1,Author1Sections),\">0\")","v":5},{"$f":"COUNTIF(OFFSET(H193,0,Author1Sections,1,Author2Sections),\"=0\")","v":8},682,"whiles",0,0.2,0.1,0,0,0,0,0,0,0,0,0.1,0,0,0,0,0,0,0,0.1,7.0372980000000002E-2,0,0,0,0,0,0,0,0,"mourning","'for"]
[{"$f":"B194+C194","v":1.2380952380952381},{"$f":"D194/Author1Sections","v":0.23809523809523808},{"$f":"E194/Author2Sections","v":1},{"$f":"COUNTIF(OFFSET(H194,0,0,1,Author1Sections),\">0\")","v":5},{"$f":"COUNTIF(OFFSET(H194,0,Author1Sections,1,Author2Sections),\"=0\")","v":8},683,"wight",0,0.1,0,0.1,7.4183979999999997E-2,0,0,0,0,0,0,0.1,0,0,0,0,0,0,0,0,0.14074595000000001,0,0,0,0,0,0,0,0,"plaint","acceptance"]
[{"$f":"B195+C195","v":1.2380952380952381},{"$f":"D195/Author1Sections","v":0.23809523809523808},{"$f":"E195/Author2Sections","v":1},{"$f":"COUNTIF(OFFSET(H195,0,0,1,Author1Sections),\">0\")","v":5},{"$f":"COUNTIF(OFFSET(H195,0,Author1Sections,1,Author2Sections),\"=0\")","v":8},687,"wound",0,0,0,0.1,0,0,0,0,0.2,0,0.1,0,0,0,0.1,0,0,0.1,0,0,0,0,0,0,0,0,0,0,0,"powre","aim"]
[{"$f":"B196+C196","v":1.2380952380952381},{"$f":"D196/Author1Sections","v":0.23809523809523808},{"$f":"E196/Author2Sections","v":1},{"$f":"COUNTIF(OFFSET(H196,0,0,1,Author1Sections),\">0\")","v":5},{"$f":"COUNTIF(OFFSET(H196,0,Author1Sections,1,Author2Sections),\"=0\")","v":8},691,"although",0,0,0,0,7.4183979999999997E-2,0.1,0,0,0.1,0,0,0,0,0.1,0,0,0,0.1,0,0,0,0,0,0,0,0,0,0,0,"raine","airy"]
[{"$f":"B197+C197","v":1.2380952380952381},{"$f":"D197/Author1Sections","v":0.23809523809523808},{"$f":"E197/Author2Sections","v":1},{"$f":"COUNTIF(OFFSET(H197,0,0,1,Author1Sections),\">0\")","v":5},{"$f":"COUNTIF(OFFSET(H197,0,Author1Sections,1,Author2Sections),\"=0\")","v":8},700,"betweene",0,0,0,0,0,0,0.1,0,0,0.1,0.1,0,0,0.1,0,0,0,0.1,0,0,0,0,0,0,0,0,0,0,0,"riches","aloof"]
[{"$f":"B198+C198","v":1.2380952380952381},{"$f":"D198/Author1Sections","v":0.23809523809523808},{"$f":"E198/Author2Sections","v":1},{"$f":"COUNTIF(OFFSET(H198,0,0,1,Author1Sections),\">0\")","v":5},{"$f":"COUNTIF(OFFSET(H198,0,Author1Sections,1,Author2Sections),\"=0\")","v":8},712,"crie",0,0.1,0,0.1,0,0,0,0,0.1,0,0.1,0,0,0,0,0,0.1,0,0,0,0,0,0,0,0,0,0,0,0,"saying","altar"]
[{"$f":"B199+C199","v":1.2380952380952381},{"$f":"D199/Author1Sections","v":0.23809523809523808},{"$f":"E199/Author2Sections","v":1},{"$f":"COUNTIF(OFFSET(H199,0,0,1,Author1Sections),\">0\")","v":5},{"$f":"COUNTIF(OFFSET(H199,0,Author1Sections,1,Author2Sections),\"=0\")","v":8},716,"dame",0,0.1,0.1,0,0,0.1,0,0.1,0.1,0,0,0,0,0,0,0,0,0,0,0,0,0,0,0,0,0,0,0,0,"seruants","april"]
[{"$f":"B200+C200","v":1.2380952380952381},{"$f":"D200/Author1Sections","v":0.23809523809523808},{"$f":"E200/Author2Sections","v":1},{"$f":"COUNTIF(OFFSET(H200,0,0,1,Author1Sections),\">0\")","v":5},{"$f":"COUNTIF(OFFSET(H200,0,Author1Sections,1,Author2Sections),\"=0\")","v":8},724,"eies",0,0,0,0.1,0,0.1,0,0.1,0,0,0,0.1,0,0,0.1,0,0,0,0,0,0,0,0,0,0,0,0,0,0,"sort","aptly"]
[{"$f":"B201+C201","v":1.2380952380952381},{"$f":"D201/Author1Sections","v":0.23809523809523808},{"$f":"E201/Author2Sections","v":1},{"$f":"COUNTIF(OFFSET(H201,0,0,1,Author1Sections),\">0\")","v":5},{"$f":"COUNTIF(OFFSET(H201,0,Author1Sections,1,Author2Sections),\"=0\")","v":8},744,"hauing",0,0,0,0,0,0,0,0,0,0,0.1,0.1,0,0.1,0.1,0.1,0,0,0,0,0,0,0,0,0,0,0,0,0,"streames","arms"]
[{"$f":"B202+C202","v":1.2380952380952381},{"$f":"D202/Author1Sections","v":0.23809523809523808},{"$f":"E202/Author2Sections","v":1},{"$f":"COUNTIF(OFFSET(H202,0,0,1,Author1Sections),\">0\")","v":5},{"$f":"COUNTIF(OFFSET(H202,0,Author1Sections,1,Author2Sections),\"=0\")","v":8},764,"mourning",0,0.1,0.1,0,7.4183979999999997E-2,0,0,0,0,0.1,0,0,0,0,0,0,0,0,0,0,7.0372980000000002E-2,0,0,0,0,0,0,0,0,"sugred","audit"]
[{"$f":"B203+C203","v":1.2380952380952381},{"$f":"D203/Author1Sections","v":0.23809523809523808},{"$f":"E203/Author2Sections","v":1},{"$f":"COUNTIF(OFFSET(H203,0,0,1,Author1Sections),\">0\")","v":5},{"$f":"COUNTIF(OFFSET(H203,0,Author1Sections,1,Author2Sections),\"=0\")","v":8},769,"plaint",0.1,0.1,0,0.1,0,0,0,0,0,0.1,0,0,0,0,0,0,0,0,0,0.1,0,0,0,0,0,0,0,0,0,"three","bards"]
[{"$f":"B204+C204","v":1.2380952380952381},{"$f":"D204/Author1Sections","v":0.23809523809523808},{"$f":"E204/Author2Sections","v":1},{"$f":"COUNTIF(OFFSET(H204,0,0,1,Author1Sections),\">0\")","v":5},{"$f":"COUNTIF(OFFSET(H204,0,Author1Sections,1,Author2Sections),\"=0\")","v":8},774,"powre",0.1,0.1,0.1,0,0,0,0,0,0,0,0,0,0,0.1,0,0,0.1,0,0,0,0,0,0,0,0,0,0,0,0,"treasures","battery"]
[{"$f":"B205+C205","v":1.2380952380952381},{"$f":"D205/Author1Sections","v":0.23809523809523808},{"$f":"E205/Author2Sections","v":1},{"$f":"COUNTIF(OFFSET(H205,0,0,1,Author1Sections),\">0\")","v":5},{"$f":"COUNTIF(OFFSET(H205,0,Author1Sections,1,Author2Sections),\"=0\")","v":8},776,"raine",0.1,0,0,0.1,0,0,0,0,0,0.1,0,0,0,0,0,0.1,0,0,0,0,7.0372980000000002E-2,0,0,0,0,0,0,0,0,"troubled","begun"]
[{"$f":"B206+C206","v":1.2380952380952381},{"$f":"D206/Author1Sections","v":0.23809523809523808},{"$f":"E206/Author2Sections","v":1},{"$f":"COUNTIF(OFFSET(H206,0,0,1,Author1Sections),\">0\")","v":5},{"$f":"COUNTIF(OFFSET(H206,0,Author1Sections,1,Author2Sections),\"=0\")","v":8},780,"riches",0.1,0,0,0,7.4183979999999997E-2,0,0,0,0,0,0,0,0.1,0,0.1,0,0,0.1,0,0,0,0,0,0,0,0,0,0,0,"beauties","behind"]
[{"$f":"B207+C207","v":1.2380952380952381},{"$f":"D207/Author1Sections","v":0.23809523809523808},{"$f":"E207/Author2Sections","v":1},{"$f":"COUNTIF(OFFSET(H207,0,0,1,Author1Sections),\">0\")","v":5},{"$f":"COUNTIF(OFFSET(H207,0,Author1Sections,1,Author2Sections),\"=0\")","v":8},787,"saying",0,0,0,0,0,0.1,0.1,0.1,0,0,0.1,0,0.1,0,0,0,0,0,0,0,0,0,0,0,0,0,0,0,0,"two","bells"]
[{"$f":"B208+C208","v":1.2380952380952381},{"$f":"D208/Author1Sections","v":0.23809523809523808},{"$f":"E208/Author2Sections","v":1},{"$f":"COUNTIF(OFFSET(H208,0,0,1,Author1Sections),\">0\")","v":5},{"$f":"COUNTIF(OFFSET(H208,0,Author1Sections,1,Author2Sections),\"=0\")","v":8},794,"seruants",0,0,0,0,0,0,0.1,0,0,0,0,0.1,0,0.1,0,0,0,0,0.1,0,7.0372980000000002E-2,0,0,0,0,0,0,0,0,"hope","bier"]
[{"$f":"B209+C209","v":1.2380952380952381},{"$f":"D209/Author1Sections","v":0.23809523809523808},{"$f":"E209/Author2Sections","v":1},{"$f":"COUNTIF(OFFSET(H209,0,0,1,Author1Sections),\">0\")","v":5},{"$f":"COUNTIF(OFFSET(H209,0,Author1Sections,1,Author2Sections),\"=0\")","v":8},804,"sort",0,0.1,0,0,0,0.1,0,0.1,0.1,0,0,0,0,0,0,0,0.1,0,0,0,0,0,0,0,0,0,0,0,0,"part","blue"]
[{"$f":"B210+C210","v":1.2380952380952381},{"$f":"D210/Author1Sections","v":0.23809523809523808},{"$f":"E210/Author2Sections","v":1},{"$f":"COUNTIF(OFFSET(H210,0,0,1,Author1Sections),\">0\")","v":5},{"$f":"COUNTIF(OFFSET(H210,0,Author1Sections,1,Author2Sections),\"=0\")","v":8},808,"streames",0.1,0.1,0,0,7.4183979999999997E-2,0,0,0,0,0,0,0,0,0,0.1,0,0,0,0,0,7.0372980000000002E-2,0,0,0,0,0,0,0,0,"breast","bold"]
[{"$f":"B211+C211","v":1.2380952380952381},{"$f":"D211/Author1Sections","v":0.23809523809523808},{"$f":"E211/Author2Sections","v":1},{"$f":"COUNTIF(OFFSET(H211,0,0,1,Author1Sections),\">0\")","v":5},{"$f":"COUNTIF(OFFSET(H211,0,Author1Sections,1,Author2Sections),\"=0\")","v":8},809,"sugred",0,0,0,0,0,0,0,0,0,0,0.1,0.1,0,0,0,0.1,0,0.1,0,0,7.0372980000000002E-2,0,0,0,0,0,0,0,0,"face","bosom"]
[{"$f":"B212+C212","v":1.2380952380952381},{"$f":"D212/Author1Sections","v":0.23809523809523808},{"$f":"E212/Author2Sections","v":1},{"$f":"COUNTIF(OFFSET(H212,0,0,1,Author1Sections),\">0\")","v":5},{"$f":"COUNTIF(OFFSET(H212,0,Author1Sections,1,Author2Sections),\"=0\")","v":8},815,"three",0.1,0,0,0,0,0.1,0,0.1,0,0,0.1,0,0.1,0,0,0,0,0,0,0,0,0,0,0,0,0,0,0,0,"grace","brief"]
[{"$f":"B213+C213","v":1.2380952380952381},{"$f":"D213/Author1Sections","v":0.23809523809523808},{"$f":"E213/Author2Sections","v":1},{"$f":"COUNTIF(OFFSET(H213,0,0,1,Author1Sections),\">0\")","v":5},{"$f":"COUNTIF(OFFSET(H213,0,Author1Sections,1,Author2Sections),\"=0\")","v":8},817,"treasures",0,0,0,0,7.4183979999999997E-2,0,0,0,0,0,0,0.1,0.1,0,0,0.1,0.1,0,0,0,0,0,0,0,0,0,0,0,0,"fit","brine"]
[{"$f":"B214+C214","v":1.2380952380952381},{"$f":"D214/Author1Sections","v":0.23809523809523808},{"$f":"E214/Author2Sections","v":1},{"$f":"COUNTIF(OFFSET(H214,0,0,1,Author1Sections),\">0\")","v":5},{"$f":"COUNTIF(OFFSET(H214,0,Author1Sections,1,Author2Sections),\"=0\")","v":8},818,"troubled",0,0,0,0.1,7.4183979999999997E-2,0.1,0,0,0,0,0,0,0.1,0,0.1,0,0,0,0,0,0,0,0,0,0,0,0,0,0,"shew","brow"]
[{"$f":"B215+C215","v":1.2261904761904763},{"$f":"D215/Author1Sections","v":0.47619047619047616},{"$f":"E215/Author2Sections","v":0.75},{"$f":"COUNTIF(OFFSET(H215,0,0,1,Author1Sections),\">0\")","v":10},{"$f":"COUNTIF(OFFSET(H215,0,Author1Sections,1,Author2Sections),\"=0\")","v":6},150,"beauties",0,0,0,0,0,0,0.1,0,0,0.3,0.1,0.2,0.4,0,0.1,0,0,0.2,0.4,0.1,0.28149190000000002,6.5876156000000005E-2,0,0,0,0,0.1,0,0,"bare","calm"]
[{"$f":"B216+C216","v":1.2261904761904763},{"$f":"D216/Author1Sections","v":0.47619047619047616},{"$f":"E216/Author2Sections","v":0.75},{"$f":"COUNTIF(OFFSET(H216,0,0,1,Author1Sections),\">0\")","v":10},{"$f":"COUNTIF(OFFSET(H216,0,Author1Sections,1,Author2Sections),\"=0\")","v":6},153,"two",0,0.1,0,0.2,0.22255193000000001,0.4,0.3,0.2,0.2,0,0.1,0.1,0,0,0,0,0.1,0,0,0,0,0,0.2,0,0.13531799999999999,0,0,0,0,"gold","careless"]
[{"$f":"B217+C217","v":1.2261904761904763},{"$f":"D217/Author1Sections","v":0.47619047619047616},{"$f":"E217/Author2Sections","v":0.75},{"$f":"COUNTIF(OFFSET(H217,0,0,1,Author1Sections),\">0\")","v":10},{"$f":"COUNTIF(OFFSET(H217,0,Author1Sections,1,Author2Sections),\"=0\")","v":6},179,"hope",0,0.2,0.1,0,7.4183979999999997E-2,0,0,0,0,0,0,0,0.2,0.1,0.1,0.1,0.5,0,0,0.2,7.0372980000000002E-2,0.13175231000000001,0,0,6.7658999999999997E-2,0,0,0,0,"forth","cell"]
[{"$f":"B218+C218","v":1.2261904761904763},{"$f":"D218/Author1Sections","v":0.47619047619047616},{"$f":"E218/Author2Sections","v":0.75},{"$f":"COUNTIF(OFFSET(H218,0,0,1,Author1Sections),\">0\")","v":10},{"$f":"COUNTIF(OFFSET(H218,0,Author1Sections,1,Author2Sections),\"=0\")","v":6},232,"part",0,0.1,0,0.1,0,0.1,0,0.1,0,0.3,0,0,0.1,0,0,0,0,0.2,0.2,0.1,7.0372980000000002E-2,6.5876156000000005E-2,0,0,0,0,0,0.1,0,"th","characters"]
[{"$f":"B219+C219","v":1.2261904761904763},{"$f":"D219/Author1Sections","v":0.47619047619047616},{"$f":"E219/Author2Sections","v":0.75},{"$f":"COUNTIF(OFFSET(H219,0,0,1,Author1Sections),\">0\")","v":10},{"$f":"COUNTIF(OFFSET(H219,0,Author1Sections,1,Author2Sections),\"=0\")","v":6},258,"breast",0,0,0.1,0,0,0,0,0,0,0.1,0.2,0.1,0.1,0.1,0.1,0.1,0,0,0,0.1,7.0372980000000002E-2,0,0.1,0,0,0,0,0,0.17730497000000001,"happie","civil"]
[{"$f":"B220+C220","v":1.2142857142857144},{"$f":"D220/Author1Sections","v":0.7142857142857143},{"$f":"E220/Author2Sections","v":0.5},{"$f":"COUNTIF(OFFSET(H220,0,0,1,Author1Sections),\">0\")","v":15},{"$f":"COUNTIF(OFFSET(H220,0,Author1Sections,1,Author2Sections),\"=0\")","v":4},108,"face",0.1,0,0,0,7.4183979999999997E-2,0.2,0.2,0,0.2,0.2,0.1,0.4,0.1,0.5,0,0.3,0.1,0.2,0.1,0,0.35186487,0.13175231000000001,0,0,0,0.2,0,0.1,8.8652484000000004E-2,"ioyes","comely"]
[{"$f":"B221+C221","v":1.2142857142857144},{"$f":"D221/Author1Sections","v":0.7142857142857143},{"$f":"E221/Author2Sections","v":0.5},{"$f":"COUNTIF(OFFSET(H221,0,0,1,Author1Sections),\">0\")","v":15},{"$f":"COUNTIF(OFFSET(H221,0,Author1Sections,1,Author2Sections),\"=0\")","v":4},109,"grace",0,0.1,0.2,0,0,0,0.1,0,0.1,0.1,0.1,0.3,0.1,0.4,0.3,0.3,0,0.3,0.2,0.1,0.21111894,0.13175231000000001,0.1,0,0,0,0,0.3,0.26595743999999999,"rombus","craft"]
[{"$f":"B222+C222","v":1.2083333333333333},{"$f":"D222/Author1Sections","v":0.33333333333333331},{"$f":"E222/Author2Sections","v":0.875},{"$f":"COUNTIF(OFFSET(H222,0,0,1,Author1Sections),\">0\")","v":7},{"$f":"COUNTIF(OFFSET(H222,0,Author1Sections,1,Author2Sections),\"=0\")","v":7},334,"fit",0,0,0,0,7.4183979999999997E-2,0,0,0.1,0.1,0.2,0,0,0,0,0,0.2,0.2,0,0.1,0,0,0,0,0.1,0,0,0,0,0,"schoole","crystal"]
[{"$f":"B223+C223","v":1.2083333333333333},{"$f":"D223/Author1Sections","v":0.33333333333333331},{"$f":"E223/Author2Sections","v":0.875},{"$f":"COUNTIF(OFFSET(H223,0,0,1,Author1Sections),\">0\")","v":7},{"$f":"COUNTIF(OFFSET(H223,0,Author1Sections,1,Author2Sections),\"=0\")","v":7},347,"shew",0.1,0,0,0.1,0,0,0.1,0,0,0,0,0,0.1,0,0,0.2,0.2,0,0,0,0.14074595000000001,0,0,0.1,0,0,0,0,0,"bad","cups"]
[{"$f":"B224+C224","v":1.2083333333333333},{"$f":"D224/Author1Sections","v":0.33333333333333331},{"$f":"E224/Author2Sections","v":0.875},{"$f":"COUNTIF(OFFSET(H224,0,0,1,Author1Sections),\">0\")","v":7},{"$f":"COUNTIF(OFFSET(H224,0,Author1Sections,1,Author2Sections),\"=0\")","v":7},394,"bare",0,0,0,0,0,0,0.1,0.1,0,0,0.1,0.1,0,0,0.1,0,0,0,0.2,0,7.0372980000000002E-2,0,0,0,0,0,0,0.1,0,"blessed","curls"]
[{"$f":"B225+C225","v":1.2083333333333333},{"$f":"D225/Author1Sections","v":0.33333333333333331},{"$f":"E225/Author2Sections","v":0.875},{"$f":"COUNTIF(OFFSET(H225,0,0,1,Author1Sections),\">0\")","v":7},{"$f":"COUNTIF(OFFSET(H225,0,Author1Sections,1,Author2Sections),\"=0\")","v":7},453,"gold",0,0,0,0.1,7.4183979999999997E-2,0,0,0,0.1,0.1,0,0,0.1,0,0,0,0,0.1,0,0,7.0372980000000002E-2,0,0,0,0,0,0.1,0,0,"blis","days"]
[{"$f":"B226+C226","v":1.1964285714285714},{"$f":"D226/Author1Sections","v":0.5714285714285714},{"$f":"E226/Author2Sections","v":0.625},{"$f":"COUNTIF(OFFSET(H226,0,0,1,Author1Sections),\">0\")","v":12},{"$f":"COUNTIF(OFFSET(H226,0,Author1Sections,1,Author2Sections),\"=0\")","v":5},168,"forth",0.2,0.1,0.2,0,0,0.2,0,0,0.1,0.2,0.1,0.1,0.1,0.2,0.2,0,0,0,0,0.1,0,6.5876156000000005E-2,0.1,0,0,0,0,0,8.8652484000000004E-2,"darke","death's"]
[{"$f":"B227+C227","v":1.1904761904761905},{"$f":"D227/Author1Sections","v":0.19047619047619047},{"$f":"E227/Author2Sections","v":1},{"$f":"COUNTIF(OFFSET(H227,0,0,1,Author1Sections),\">0\")","v":4},{"$f":"COUNTIF(OFFSET(H227,0,Author1Sections,1,Author2Sections),\"=0\")","v":8},237,"th",0.3,0,0.1,0.6,0.44510385000000002,0,0,0,0,0,0,0,0,0,0,0,0,0,0,0,0,0,0,0,0,0,0,0,0,"earthlie","descended"]
[{"$f":"B228+C228","v":1.1904761904761905},{"$f":"D228/Author1Sections","v":0.19047619047619047},{"$f":"E228/Author2Sections","v":1},{"$f":"COUNTIF(OFFSET(H228,0,0,1,Author1Sections),\">0\")","v":4},{"$f":"COUNTIF(OFFSET(H228,0,Author1Sections,1,Author2Sections),\"=0\")","v":8},262,"happie",0,0.3,0.7,0.2,0,0,0,0,0,0,0,0,0,0,0,0,0,0,0,0,0.14074595000000001,0,0,0,0,0,0,0,0,"greatest","destroys"]
[{"$f":"B229+C229","v":1.1904761904761905},{"$f":"D229/Author1Sections","v":0.19047619047619047},{"$f":"E229/Author2Sections","v":1},{"$f":"COUNTIF(OFFSET(H229,0,0,1,Author1Sections),\">0\")","v":4},{"$f":"COUNTIF(OFFSET(H229,0,Author1Sections,1,Author2Sections),\"=0\")","v":8},460,"ioyes",0,0,0,0,0,0,0,0,0,0,0,0,0,0.3,0,0.1,0,0.1,0,0,0.21111894,0,0,0,0,0,0,0,0,"mortall","dew"]
[{"$f":"B230+C230","v":1.1904761904761905},{"$f":"D230/Author1Sections","v":0.19047619047619047},{"$f":"E230/Author2Sections","v":1},{"$f":"COUNTIF(OFFSET(H230,0,0,1,Author1Sections),\">0\")","v":4},{"$f":"COUNTIF(OFFSET(H230,0,Author1Sections,1,Author2Sections),\"=0\")","v":8},476,"rombus",0,0,0,0,0,0.2,0.2,0.3,0.1,0,0,0,0,0,0,0,0,0,0,0,0,0,0,0,0,0,0,0,0,"voyce","dim"]
[{"$f":"B231+C231","v":1.1904761904761905},{"$f":"D231/Author1Sections","v":0.19047619047619047},{"$f":"E231/Author2Sections","v":1},{"$f":"COUNTIF(OFFSET(H231,0,0,1,Author1Sections),\">0\")","v":4},{"$f":"COUNTIF(OFFSET(H231,0,Author1Sections,1,Author2Sections),\"=0\")","v":8},478,"schoole",0,0,0,0,0,0.3,0.1,0.3,0,0,0,0,0,0,0,0.1,0,0,0,0,0,0,0,0,0,0,0,0,0,"curst","distance"]
[{"$f":"B232+C232","v":1.1904761904761905},{"$f":"D232/Author1Sections","v":0.19047619047619047},{"$f":"E232/Author2Sections","v":1},{"$f":"COUNTIF(OFFSET(H232,0,0,1,Author1Sections),\">0\")","v":4},{"$f":"COUNTIF(OFFSET(H232,0,Author1Sections,1,Author2Sections),\"=0\")","v":8},494,"bad",0,0,0,0,0.14836795999999999,0,0,0,0,0,0,0.2,0,0,0,0,0,0,0,0.1,0.14074595000000001,0,0,0,0,0,0,0,0,"eloquence","downward"]
[{"$f":"B233+C233","v":1.1904761904761905},{"$f":"D233/Author1Sections","v":0.19047619047619047},{"$f":"E233/Author2Sections","v":1},{"$f":"COUNTIF(OFFSET(H233,0,0,1,Author1Sections),\">0\")","v":4},{"$f":"COUNTIF(OFFSET(H233,0,Author1Sections,1,Author2Sections),\"=0\")","v":8},495,"blessed",0,0,0.3,0,7.4183979999999997E-2,0,0,0,0.1,0,0,0,0,0,0,0,0,0,0.2,0,0,0,0,0,0,0,0,0,0,"got","drops"]
[{"$f":"B234+C234","v":1.1904761904761905},{"$f":"D234/Author1Sections","v":0.19047619047619047},{"$f":"E234/Author2Sections","v":1},{"$f":"COUNTIF(OFFSET(H234,0,0,1,Author1Sections),\">0\")","v":4},{"$f":"COUNTIF(OFFSET(H234,0,Author1Sections,1,Author2Sections),\"=0\")","v":8},496,"blis",0,0.1,0.3,0.1,0.14836795999999999,0,0,0,0,0,0,0,0,0,0,0,0,0,0,0,0,0,0,0,0,0,0,0,0,"liue","dry"]
[{"$f":"B235+C235","v":1.1904761904761905},{"$f":"D235/Author1Sections","v":0.19047619047619047},{"$f":"E235/Author2Sections","v":1},{"$f":"COUNTIF(OFFSET(H235,0,0,1,Author1Sections),\">0\")","v":4},{"$f":"COUNTIF(OFFSET(H235,0,Author1Sections,1,Author2Sections),\"=0\")","v":8},498,"darke",0,0,0,0,0,0,0,0,0,0,0,0.1,0,0,0,0,0,0.1,0,0.3,0.14074595000000001,0,0,0,0,0,0,0,0,"louers","early"]
[{"$f":"B236+C236","v":1.1904761904761905},{"$f":"D236/Author1Sections","v":0.19047619047619047},{"$f":"E236/Author2Sections","v":1},{"$f":"COUNTIF(OFFSET(H236,0,0,1,Author1Sections),\">0\")","v":4},{"$f":"COUNTIF(OFFSET(H236,0,Author1Sections,1,Author2Sections),\"=0\")","v":8},501,"earthlie",0.1,0,0.2,0.1,0.22255193000000001,0,0,0,0,0,0,0,0,0,0,0,0,0,0,0,0,0,0,0,0,0,0,0,0,"paines","eat"]
[{"$f":"B237+C237","v":1.1904761904761905},{"$f":"D237/Author1Sections","v":0.19047619047619047},{"$f":"E237/Author2Sections","v":1},{"$f":"COUNTIF(OFFSET(H237,0,0,1,Author1Sections),\">0\")","v":4},{"$f":"COUNTIF(OFFSET(H237,0,Author1Sections,1,Author2Sections),\"=0\")","v":8},514,"greatest",0,0.3,0,0,7.4183979999999997E-2,0,0.2,0,0,0,0,0.1,0,0,0,0,0,0,0,0,0,0,0,0,0,0,0,0,0,"soules","eating"]
[{"$f":"B238+C238","v":1.1904761904761905},{"$f":"D238/Author1Sections","v":0.19047619047619047},{"$f":"E238/Author2Sections","v":1},{"$f":"COUNTIF(OFFSET(H238,0,0,1,Author1Sections),\">0\")","v":4},{"$f":"COUNTIF(OFFSET(H238,0,Author1Sections,1,Author2Sections),\"=0\")","v":8},535,"mortall",0,0,0.2,0.2,0,0,0,0,0,0,0,0.1,0,0,0,0,0,0,0,0,0.14074595000000001,0,0,0,0,0,0,0,0,"vnkind","esteem"]
[{"$f":"B239+C239","v":1.1904761904761905},{"$f":"D239/Author1Sections","v":0.19047619047619047},{"$f":"E239/Author2Sections","v":1},{"$f":"COUNTIF(OFFSET(H239,0,0,1,Author1Sections),\">0\")","v":4},{"$f":"COUNTIF(OFFSET(H239,0,Author1Sections,1,Author2Sections),\"=0\")","v":8},566,"voyce",0,0,0,0,0.14836795999999999,0,0,0,0,0.1,0,0,0,0,0,0.3,0,0.1,0,0,0,0,0,0,0,0,0,0,0,"yong","eternal"]
[{"$f":"B240+C240","v":1.1904761904761905},{"$f":"D240/Author1Sections","v":0.19047619047619047},{"$f":"E240/Author2Sections","v":1},{"$f":"COUNTIF(OFFSET(H240,0,0,1,Author1Sections),\">0\")","v":4},{"$f":"COUNTIF(OFFSET(H240,0,Author1Sections,1,Author2Sections),\"=0\")","v":8},590,"curst",0,0,0,0,0,0,0,0,0,0,0.1,0,0,0.1,0,0,0,0,0,0.1,0.21111894,0,0,0,0,0,0,0,0,"backe","example"]
[{"$f":"B241+C241","v":1.1904761904761905},{"$f":"D241/Author1Sections","v":0.19047619047619047},{"$f":"E241/Author2Sections","v":1},{"$f":"COUNTIF(OFFSET(H241,0,0,1,Author1Sections),\">0\")","v":4},{"$f":"COUNTIF(OFFSET(H241,0,Author1Sections,1,Author2Sections),\"=0\")","v":8},594,"eloquence",0,0,0,0,0,0,0,0,0,0,0,0.1,0,0.1,0,0.2,0,0,0,0,0.14074595000000001,0,0,0,0,0,0,0,0,"beast","experience"]
[{"$f":"B242+C242","v":1.1904761904761905},{"$f":"D242/Author1Sections","v":0.19047619047619047},{"$f":"E242/Author2Sections","v":1},{"$f":"COUNTIF(OFFSET(H242,0,0,1,Author1Sections),\">0\")","v":4},{"$f":"COUNTIF(OFFSET(H242,0,Author1Sections,1,Author2Sections),\"=0\")","v":8},609,"got",0,0,0,0.1,0,0,0,0,0.2,0,0.2,0,0,0,0.1,0,0,0,0,0,0,0,0,0,0,0,0,0,0,"braue","extend"]
[{"$f":"B243+C243","v":1.1904761904761905},{"$f":"D243/Author1Sections","v":0.19047619047619047},{"$f":"E243/Author2Sections","v":1},{"$f":"COUNTIF(OFFSET(H243,0,0,1,Author1Sections),\">0\")","v":4},{"$f":"COUNTIF(OFFSET(H243,0,Author1Sections,1,Author2Sections),\"=0\")","v":8},618,"liue",0,0,0,0,0,0,0.1,0,0,0,0,0,0,0,0,0,0,0.1,0,0.3,7.0372980000000002E-2,0,0,0,0,0,0,0,0,"certaine","feat"]
[{"$f":"B244+C244","v":1.1904761904761905},{"$f":"D244/Author1Sections","v":0.19047619047619047},{"$f":"E244/Author2Sections","v":1},{"$f":"COUNTIF(OFFSET(H244,0,0,1,Author1Sections),\">0\")","v":4},{"$f":"COUNTIF(OFFSET(H244,0,Author1Sections,1,Author2Sections),\"=0\")","v":8},621,"louers",0,0,0,0,0,0,0,0,0,0.1,0,0,0.2,0.2,0.1,0,0,0,0,0,0,0,0,0,0,0,0,0,0,"dolefull","fickle"]
[{"$f":"B245+C245","v":1.1904761904761905},{"$f":"D245/Author1Sections","v":0.19047619047619047},{"$f":"E245/Author2Sections","v":1},{"$f":"COUNTIF(OFFSET(H245,0,0,1,Author1Sections),\">0\")","v":4},{"$f":"COUNTIF(OFFSET(H245,0,Author1Sections,1,Author2Sections),\"=0\")","v":8},632,"paines",0,0,0,0,0,0,0,0,0,0,0,0.1,0,0,0,0.2,0,0,0.1,0.2,0,0,0,0,0,0,0,0,0,"dust","fiend"]
[{"$f":"B246+C246","v":1.1904761904761905},{"$f":"D246/Author1Sections","v":0.19047619047619047},{"$f":"E246/Author2Sections","v":1},{"$f":"COUNTIF(OFFSET(H246,0,0,1,Author1Sections),\">0\")","v":4},{"$f":"COUNTIF(OFFSET(H246,0,Author1Sections,1,Author2Sections),\"=0\")","v":8},665,"soules",0,0,0.1,0,0,0,0,0.2,0,0,0,0,0,0,0.1,0,0,0,0.2,0,0,0,0,0,0,0,0,0,0,"finde","figures"]
[{"$f":"B247+C247","v":1.1904761904761905},{"$f":"D247/Author1Sections","v":0.19047619047619047},{"$f":"E247/Author2Sections","v":1},{"$f":"COUNTIF(OFFSET(H247,0,0,1,Author1Sections),\">0\")","v":4},{"$f":"COUNTIF(OFFSET(H247,0,Author1Sections,1,Author2Sections),\"=0\")","v":8},679,"vnkind",0,0,0,0,0,0,0,0,0,0,0,0,0,0.2,0.1,0.2,0.1,0,0,0,0,0,0,0,0,0,0,0,0,"food","flocks"]
[{"$f":"B248+C248","v":1.1904761904761905},{"$f":"D248/Author1Sections","v":0.19047619047619047},{"$f":"E248/Author2Sections","v":1},{"$f":"COUNTIF(OFFSET(H248,0,0,1,Author1Sections),\">0\")","v":4},{"$f":"COUNTIF(OFFSET(H248,0,Author1Sections,1,Author2Sections),\"=0\")","v":8},689,"yong",0,0,0,0.1,0,0.3,0.1,0,0,0,0,0,0,0,0,0,0,0,0,0,7.0372980000000002E-2,0,0,0,0,0,0,0,0,"gaine","flowing"]
[{"$f":"B249+C249","v":1.1904761904761905},{"$f":"D249/Author1Sections","v":0.19047619047619047},{"$f":"E249/Author2Sections","v":1},{"$f":"COUNTIF(OFFSET(H249,0,0,1,Author1Sections),\">0\")","v":4},{"$f":"COUNTIF(OFFSET(H249,0,Author1Sections,1,Author2Sections),\"=0\")","v":8},695,"backe",0.2,0,0.1,0,0,0,0.1,0,0,0,0,0,0,0,0,0,0.1,0,0,0,0,0,0,0,0,0,0,0,0,"glasse","foil"]
[{"$f":"B250+C250","v":1.1904761904761905},{"$f":"D250/Author1Sections","v":0.19047619047619047},{"$f":"E250/Author2Sections","v":1},{"$f":"COUNTIF(OFFSET(H250,0,0,1,Author1Sections),\">0\")","v":4},{"$f":"COUNTIF(OFFSET(H250,0,Author1Sections,1,Author2Sections),\"=0\")","v":8},696,"beast",0.1,0,0.1,0,0,0,0.2,0,0,0,0,0,0,0,0.1,0,0,0,0,0,0,0,0,0,0,0,0,0,0,"goe","forced"]
[{"$f":"B251+C251","v":1.1904761904761905},{"$f":"D251/Author1Sections","v":0.19047619047619047},{"$f":"E251/Author2Sections","v":1},{"$f":"COUNTIF(OFFSET(H251,0,0,1,Author1Sections),\">0\")","v":4},{"$f":"COUNTIF(OFFSET(H251,0,Author1Sections,1,Author2Sections),\"=0\")","v":8},704,"braue",0,0,0,0,0,0,0.2,0,0,0.1,0,0,0.1,0,0,0,0,0,0.1,0,0,0,0,0,0,0,0,0,0,"happinesse","forty"]
[{"$f":"B252+C252","v":1.1904761904761905},{"$f":"D252/Author1Sections","v":0.19047619047619047},{"$f":"E252/Author2Sections","v":1},{"$f":"COUNTIF(OFFSET(H252,0,0,1,Author1Sections),\">0\")","v":4},{"$f":"COUNTIF(OFFSET(H252,0,Author1Sections,1,Author2Sections),\"=0\")","v":8},707,"certaine",0,0,0,0,0,0.2,0.1,0.1,0,0,0,0,0,0.1,0,0,0,0,0,0,0,0,0,0,0,0,0,0,0,"losse","fount"]
[{"$f":"B253+C253","v":1.1904761904761905},{"$f":"D253/Author1Sections","v":0.19047619047619047},{"$f":"E253/Author2Sections","v":1},{"$f":"COUNTIF(OFFSET(H253,0,0,1,Author1Sections),\">0\")","v":4},{"$f":"COUNTIF(OFFSET(H253,0,Author1Sections,1,Author2Sections),\"=0\")","v":8},720,"dolefull",0,0.2,0,0.1,7.4183979999999997E-2,0,0.1,0,0,0,0,0,0,0,0,0,0,0,0,0,0,0,0,0,0,0,0,0,0,"memorie","fright"]
[{"$f":"B254+C254","v":1.1904761904761905},{"$f":"D254/Author1Sections","v":0.19047619047619047},{"$f":"E254/Author2Sections","v":1},{"$f":"COUNTIF(OFFSET(H254,0,0,1,Author1Sections),\">0\")","v":4},{"$f":"COUNTIF(OFFSET(H254,0,Author1Sections,1,Author2Sections),\"=0\")","v":8},723,"dust",0.1,0,0.2,0,7.4183979999999997E-2,0,0,0,0,0,0,0,0,0,0,0,0,0,0,0,7.0372980000000002E-2,0,0,0,0,0,0,0,0,"mightie","gaudy"]
[{"$f":"B255+C255","v":1.1904761904761905},{"$f":"D255/Author1Sections","v":0.19047619047619047},{"$f":"E255/Author2Sections","v":1},{"$f":"COUNTIF(OFFSET(H255,0,0,1,Author1Sections),\">0\")","v":4},{"$f":"COUNTIF(OFFSET(H255,0,Author1Sections,1,Author2Sections),\"=0\")","v":8},730,"finde",0,0,0,0,0,0,0,0,0,0,0,0,0,0.1,0,0.2,0.1,0,0,0,7.0372980000000002E-2,0,0,0,0,0,0,0,0,"mone","grief"]
[{"$f":"B256+C256","v":1.1904761904761905},{"$f":"D256/Author1Sections","v":0.19047619047619047},{"$f":"E256/Author2Sections","v":1},{"$f":"COUNTIF(OFFSET(H256,0,0,1,Author1Sections),\">0\")","v":4},{"$f":"COUNTIF(OFFSET(H256,0,Author1Sections,1,Author2Sections),\"=0\")","v":8},733,"food",0,0,0,0,0,0,0,0,0,0,0,0,0.1,0.1,0,0,0,0.1,0.2,0,0,0,0,0,0,0,0,0,0,"ones","groves"]
[{"$f":"B257+C257","v":1.1904761904761905},{"$f":"D257/Author1Sections","v":0.19047619047619047},{"$f":"E257/Author2Sections","v":1},{"$f":"COUNTIF(OFFSET(H257,0,0,1,Author1Sections),\">0\")","v":4},{"$f":"COUNTIF(OFFSET(H257,0,Author1Sections,1,Author2Sections),\"=0\")","v":8},736,"gaine",0,0.2,0,0.1,0,0,0,0,0,0,0,0,0,0,0,0.1,0,0.1,0,0,0,0,0,0,0,0,0,0,0,"possesse","gust"]
[{"$f":"B258+C258","v":1.1904761904761905},{"$f":"D258/Author1Sections","v":0.19047619047619047},{"$f":"E258/Author2Sections","v":1},{"$f":"COUNTIF(OFFSET(H258,0,0,1,Author1Sections),\">0\")","v":4},{"$f":"COUNTIF(OFFSET(H258,0,Author1Sections,1,Author2Sections),\"=0\")","v":8},737,"glasse",0,0.1,0,0,0,0,0,0,0,0,0,0.1,0,0,0,0,0,0,0.1,0,0.14074595000000001,0,0,0,0,0,0,0,0,"reade","hallow'd"]
[{"$f":"B259+C259","v":1.1904761904761905},{"$f":"D259/Author1Sections","v":0.19047619047619047},{"$f":"E259/Author2Sections","v":1},{"$f":"COUNTIF(OFFSET(H259,0,0,1,Author1Sections),\">0\")","v":4},{"$f":"COUNTIF(OFFSET(H259,0,Author1Sections,1,Author2Sections),\"=0\")","v":8},738,"goe",0,0,0,0,0,0,0,0,0,0,0.1,0,0,0,0.2,0,0,0.1,0,0.1,0,0,0,0,0,0,0,0,0,"seeing","handed"]
[{"$f":"B260+C260","v":1.1904761904761905},{"$f":"D260/Author1Sections","v":0.19047619047619047},{"$f":"E260/Author2Sections","v":1},{"$f":"COUNTIF(OFFSET(H260,0,0,1,Author1Sections),\">0\")","v":4},{"$f":"COUNTIF(OFFSET(H260,0,Author1Sections,1,Author2Sections),\"=0\")","v":8},742,"happinesse",0,0,0.2,0,7.4183979999999997E-2,0.1,0,0,0.1,0,0,0,0,0,0,0,0,0,0,0,0,0,0,0,0,0,0,0,0,"seene","happy"]
[{"$f":"B261+C261","v":1.1904761904761905},{"$f":"D261/Author1Sections","v":0.19047619047619047},{"$f":"E261/Author2Sections","v":1},{"$f":"COUNTIF(OFFSET(H261,0,0,1,Author1Sections),\">0\")","v":4},{"$f":"COUNTIF(OFFSET(H261,0,Author1Sections,1,Author2Sections),\"=0\")","v":8},751,"losse",0.1,0,0,0,0.14836795999999999,0.1,0,0,0,0,0,0,0.1,0,0,0,0,0,0,0,0,0,0,0,0,0,0,0,0,"silver","harm"]
[{"$f":"B262+C262","v":1.1904761904761905},{"$f":"D262/Author1Sections","v":0.19047619047619047},{"$f":"E262/Author2Sections","v":1},{"$f":"COUNTIF(OFFSET(H262,0,0,1,Author1Sections),\">0\")","v":4},{"$f":"COUNTIF(OFFSET(H262,0,Author1Sections,1,Author2Sections),\"=0\")","v":8},757,"memorie",0.2,0,0.1,0,7.4183979999999997E-2,0,0,0,0,0,0,0,0,0,0.1,0,0,0,0,0,0,0,0,0,0,0,0,0,0,"sith","harsh"]
[{"$f":"B263+C263","v":1.1904761904761905},{"$f":"D263/Author1Sections","v":0.19047619047619047},{"$f":"E263/Author2Sections","v":1},{"$f":"COUNTIF(OFFSET(H263,0,0,1,Author1Sections),\">0\")","v":4},{"$f":"COUNTIF(OFFSET(H263,0,Author1Sections,1,Author2Sections),\"=0\")","v":8},758,"mightie",0.1,0.1,0.1,0,0.14836795999999999,0,0,0,0,0,0,0,0,0,0,0,0,0,0,0,0,0,0,0,0,0,0,0,0,"sunne","haunted"]
[{"$f":"B264+C264","v":1.1904761904761905},{"$f":"D264/Author1Sections","v":0.19047619047619047},{"$f":"E264/Author2Sections","v":1},{"$f":"COUNTIF(OFFSET(H264,0,0,1,Author1Sections),\">0\")","v":4},{"$f":"COUNTIF(OFFSET(H264,0,Author1Sections,1,Author2Sections),\"=0\")","v":8},760,"mone",0,0.2,0,0,0,0,0,0,0,0,0,0,0,0.1,0.1,0.1,0,0,0,0,0,0,0,0,0,0,0,0,0,"woman","hears"]
[{"$f":"B265+C265","v":1.1904761904761905},{"$f":"D265/Author1Sections","v":0.19047619047619047},{"$f":"E265/Author2Sections","v":1},{"$f":"COUNTIF(OFFSET(H265,0,0,1,Author1Sections),\">0\")","v":4},{"$f":"COUNTIF(OFFSET(H265,0,Author1Sections,1,Author2Sections),\"=0\")","v":8},766,"ones",0,0.2,0.1,0,0,0,0,0.1,0,0,0,0,0,0,0,0,0,0,0.1,0,0,0,0,0,0,0,0,0,0,"worne","heave"]
[{"$f":"B266+C266","v":1.1904761904761905},{"$f":"D266/Author1Sections","v":0.19047619047619047},{"$f":"E266/Author2Sections","v":1},{"$f":"COUNTIF(OFFSET(H266,0,0,1,Author1Sections),\">0\")","v":4},{"$f":"COUNTIF(OFFSET(H266,0,Author1Sections,1,Author2Sections),\"=0\")","v":8},773,"possesse",0,0,0,0,0,0,0.1,0,0.1,0,0,0.1,0.2,0,0,0,0,0,0,0,0,0,0,0,0,0,0,0,0,"wrought","heavy"]
[{"$f":"B267+C267","v":1.1904761904761905},{"$f":"D267/Author1Sections","v":0.19047619047619047},{"$f":"E267/Author2Sections","v":1},{"$f":"COUNTIF(OFFSET(H267,0,0,1,Author1Sections),\">0\")","v":4},{"$f":"COUNTIF(OFFSET(H267,0,Author1Sections,1,Author2Sections),\"=0\")","v":8},779,"reade",0,0,0,0,0,0,0,0,0.1,0,0,0,0.1,0,0,0.2,0.1,0,0,0,0,0,0,0,0,0,0,0,0,"aboue","herald"]
[{"$f":"B268+C268","v":1.1904761904761905},{"$f":"D268/Author1Sections","v":0.19047619047619047},{"$f":"E268/Author2Sections","v":1},{"$f":"COUNTIF(OFFSET(H268,0,0,1,Author1Sections),\">0\")","v":4},{"$f":"COUNTIF(OFFSET(H268,0,Author1Sections,1,Author2Sections),\"=0\")","v":8},788,"seeing",0.1,0,0,0,0,0,0,0,0,0,0,0.1,0,0.1,0,0,0,0,0,0.2,0,0,0,0,0,0,0,0,0,"also","herbs"]
[{"$f":"B269+C269","v":1.1904761904761905},{"$f":"D269/Author1Sections","v":0.19047619047619047},{"$f":"E269/Author2Sections","v":1},{"$f":"COUNTIF(OFFSET(H269,0,0,1,Author1Sections),\">0\")","v":4},{"$f":"COUNTIF(OFFSET(H269,0,Author1Sections,1,Author2Sections),\"=0\")","v":8},792,"seene",0,0.2,0,0,7.4183979999999997E-2,0.1,0,0,0,0,0,0,0,0,0,0,0,0,0.1,0,0,0,0,0,0,0,0,0,0,"arise","horn"]
[{"$f":"B270+C270","v":1.1904761904761905},{"$f":"D270/Author1Sections","v":0.19047619047619047},{"$f":"E270/Author2Sections","v":1},{"$f":"COUNTIF(OFFSET(H270,0,0,1,Author1Sections),\">0\")","v":4},{"$f":"COUNTIF(OFFSET(H270,0,Author1Sections,1,Author2Sections),\"=0\")","v":8},796,"silver",0.1,0.1,0.1,0,0.14836795999999999,0,0,0,0,0,0,0,0,0,0,0,0,0,0,0,0,0,0,0,0,0,0,0,0,"base","hour"]
[{"$f":"B271+C271","v":1.1904761904761905},{"$f":"D271/Author1Sections","v":0.19047619047619047},{"$f":"E271/Author2Sections","v":1},{"$f":"COUNTIF(OFFSET(H271,0,0,1,Author1Sections),\">0\")","v":4},{"$f":"COUNTIF(OFFSET(H271,0,Author1Sections,1,Author2Sections),\"=0\")","v":8},799,"sith",0.2,0.1,0.1,0,7.4183979999999997E-2,0,0,0,0,0,0,0,0,0,0,0,0,0,0,0,0,0,0,0,0,0,0,0,0,"bent","hours"]
[{"$f":"B272+C272","v":1.1904761904761905},{"$f":"D272/Author1Sections","v":0.19047619047619047},{"$f":"E272/Author2Sections","v":1},{"$f":"COUNTIF(OFFSET(H272,0,0,1,Author1Sections),\">0\")","v":4},{"$f":"COUNTIF(OFFSET(H272,0,Author1Sections,1,Author2Sections),\"=0\")","v":8},811,"sunne",0,0,0,0,0,0,0,0,0,0,0,0.1,0,0,0,0,0.1,0.1,0,0.2,0,0,0,0,0,0,0,0,0,"bit","human"]
[{"$f":"B273+C273","v":1.1904761904761905},{"$f":"D273/Author1Sections","v":0.19047619047619047},{"$f":"E273/Author2Sections","v":1},{"$f":"COUNTIF(OFFSET(H273,0,0,1,Author1Sections),\">0\")","v":4},{"$f":"COUNTIF(OFFSET(H273,0,Author1Sections,1,Author2Sections),\"=0\")","v":8},828,"woman",0.1,0,0,0,0,0.2,0.1,0.1,0,0,0,0,0,0,0,0,0,0,0,0,0,0,0,0,0,0,0,0,0,"blowes","husbandry"]
[{"$f":"B274+C274","v":1.1904761904761905},{"$f":"D274/Author1Sections","v":0.19047619047619047},{"$f":"E274/Author2Sections","v":1},{"$f":"COUNTIF(OFFSET(H274,0,0,1,Author1Sections),\">0\")","v":4},{"$f":"COUNTIF(OFFSET(H274,0,Author1Sections,1,Author2Sections),\"=0\")","v":8},829,"worne",0.1,0.1,0,0.2,0,0,0,0,0,0,0,0,0,0,0.1,0,0,0,0,0,0,0,0,0,0,0,0,0,0,"brest","immortal"]
[{"$f":"B275+C275","v":1.1904761904761905},{"$f":"D275/Author1Sections","v":0.19047619047619047},{"$f":"E275/Author2Sections","v":1},{"$f":"COUNTIF(OFFSET(H275,0,0,1,Author1Sections),\">0\")","v":4},{"$f":"COUNTIF(OFFSET(H275,0,Author1Sections,1,Author2Sections),\"=0\")","v":8},831,"wrought",0.1,0,0,0,7.4183979999999997E-2,0,0,0,0,0,0,0,0,0.2,0,0,0,0,0,0,7.0372980000000002E-2,0,0,0,0,0,0,0,0,"confesse","invite"]
[{"$f":"B276+C276","v":1.1904761904761905},{"$f":"D276/Author1Sections","v":0.19047619047619047},{"$f":"E276/Author2Sections","v":1},{"$f":"COUNTIF(OFFSET(H276,0,0,1,Author1Sections),\">0\")","v":4},{"$f":"COUNTIF(OFFSET(H276,0,Author1Sections,1,Author2Sections),\"=0\")","v":8},834,"aboue",0,0,0,0,0,0,0,0,0,0,0.1,0,0.1,0,0.1,0,0.1,0,0,0,0,0,0,0,0,0,0,0,0,"de","issue"]
[{"$f":"B277+C277","v":1.1904761904761905},{"$f":"D277/Author1Sections","v":0.19047619047619047},{"$f":"E277/Author2Sections","v":1},{"$f":"COUNTIF(OFFSET(H277,0,0,1,Author1Sections),\">0\")","v":4},{"$f":"COUNTIF(OFFSET(H277,0,Author1Sections,1,Author2Sections),\"=0\")","v":8},841,"also",0,0.1,0.1,0,0,0,0,0.1,0.1,0,0,0,0,0,0,0,0,0,0,0,0,0,0,0,0,0,0,0,0,"deepe","ivy"]
[{"$f":"B278+C278","v":1.1904761904761905},{"$f":"D278/Author1Sections","v":0.19047619047619047},{"$f":"E278/Author2Sections","v":1},{"$f":"COUNTIF(OFFSET(H278,0,0,1,Author1Sections),\">0\")","v":4},{"$f":"COUNTIF(OFFSET(H278,0,Author1Sections,1,Author2Sections),\"=0\")","v":8},845,"arise",0,0,0,0,0,0,0,0,0,0,0,0.1,0.1,0,0,0,0,0.1,0,0.1,0,0,0,0,0,0,0,0,0,"feede","jet"]
[{"$f":"B279+C279","v":1.1904761904761905},{"$f":"D279/Author1Sections","v":0.19047619047619047},{"$f":"E279/Author2Sections","v":1},{"$f":"COUNTIF(OFFSET(H279,0,0,1,Author1Sections),\">0\")","v":4},{"$f":"COUNTIF(OFFSET(H279,0,Author1Sections,1,Author2Sections),\"=0\")","v":8},848,"base",0,0,0,0.1,0,0,0,0,0.1,0,0,0.1,0,0,0,0,0,0,0,0.1,0,0,0,0,0,0,0,0,0,"few","jove's"]
[{"$f":"B280+C280","v":1.1904761904761905},{"$f":"D280/Author1Sections","v":0.19047619047619047},{"$f":"E280/Author2Sections","v":1},{"$f":"COUNTIF(OFFSET(H280,0,0,1,Author1Sections),\">0\")","v":4},{"$f":"COUNTIF(OFFSET(H280,0,Author1Sections,1,Author2Sections),\"=0\")","v":8},851,"bent",0,0,0,0,0,0,0.1,0.1,0,0,0.1,0,0,0,0,0,0,0,0,0,7.0372980000000002E-2,0,0,0,0,0,0,0,0,"fled","joys"]
[{"$f":"B281+C281","v":1.1904761904761905},{"$f":"D281/Author1Sections","v":0.19047619047619047},{"$f":"E281/Author2Sections","v":1},{"$f":"COUNTIF(OFFSET(H281,0,0,1,Author1Sections),\">0\")","v":4},{"$f":"COUNTIF(OFFSET(H281,0,Author1Sections,1,Author2Sections),\"=0\")","v":8},853,"bit",0,0,0,0,0,0,0,0,0,0.1,0,0,0.1,0,0.1,0,0,0,0.1,0,0,0,0,0,0,0,0,0,0,"flesh","labouring"]
[{"$f":"B282+C282","v":1.1904761904761905},{"$f":"D282/Author1Sections","v":0.19047619047619047},{"$f":"E282/Author2Sections","v":1},{"$f":"COUNTIF(OFFSET(H282,0,0,1,Author1Sections),\">0\")","v":4},{"$f":"COUNTIF(OFFSET(H282,0,Author1Sections,1,Author2Sections),\"=0\")","v":8},857,"blowes",0,0,0,0,0,0.1,0,0,0.1,0.1,0,0,0,0,0,0,0,0.1,0,0,0,0,0,0,0,0,0,0,0,"foorth","lawns"]
[{"$f":"B283+C283","v":1.1904761904761905},{"$f":"D283/Author1Sections","v":0.19047619047619047},{"$f":"E283/Author2Sections","v":1},{"$f":"COUNTIF(OFFSET(H283,0,0,1,Author1Sections),\">0\")","v":4},{"$f":"COUNTIF(OFFSET(H283,0,Author1Sections,1,Author2Sections),\"=0\")","v":8},858,"brest",0.1,0,0,0.1,0,0,0,0,0,0.1,0,0,0,0,0,0,0,0,0,0,7.0372980000000002E-2,0,0,0,0,0,0,0,0,"former","level"]
[{"$f":"B284+C284","v":1.1904761904761905},{"$f":"D284/Author1Sections","v":0.19047619047619047},{"$f":"E284/Author2Sections","v":1},{"$f":"COUNTIF(OFFSET(H284,0,0,1,Author1Sections),\">0\")","v":4},{"$f":"COUNTIF(OFFSET(H284,0,Author1Sections,1,Author2Sections),\"=0\")","v":8},867,"confesse",0,0,0,0,0,0,0,0,0,0.1,0,0.1,0,0,0.1,0,0,0,0,0.1,0,0,0,0,0,0,0,0,0,"forsooth","levell'd"]
[{"$f":"B285+C285","v":1.1904761904761905},{"$f":"D285/Author1Sections","v":0.19047619047619047},{"$f":"E285/Author2Sections","v":1},{"$f":"COUNTIF(OFFSET(H285,0,0,1,Author1Sections),\">0\")","v":4},{"$f":"COUNTIF(OFFSET(H285,0,Author1Sections,1,Author2Sections),\"=0\")","v":8},873,"de",0,0,0,0,7.4183979999999997E-2,0,0,0.1,0.1,0,0,0,0,0,0,0,0,0.1,0,0,0,0,0,0,0,0,0,0,0,"foule","lively"]
[{"$f":"B286+C286","v":1.1904761904761905},{"$f":"D286/Author1Sections","v":0.19047619047619047},{"$f":"E286/Author2Sections","v":1},{"$f":"COUNTIF(OFFSET(H286,0,0,1,Author1Sections),\">0\")","v":4},{"$f":"COUNTIF(OFFSET(H286,0,Author1Sections,1,Author2Sections),\"=0\")","v":8},876,"deepe",0,0,0,0.1,7.4183979999999997E-2,0,0,0,0,0,0,0.1,0,0,0,0,0.1,0,0,0,0,0,0,0,0,0,0,0,0,"greatnesse","liveries"]
[{"$f":"B287+C287","v":1.1904761904761905},{"$f":"D287/Author1Sections","v":0.19047619047619047},{"$f":"E287/Author2Sections","v":1},{"$f":"COUNTIF(OFFSET(H287,0,0,1,Author1Sections),\">0\")","v":4},{"$f":"COUNTIF(OFFSET(H287,0,Author1Sections,1,Author2Sections),\"=0\")","v":8},890,"feede",0,0,0,0.1,0,0.1,0.1,0,0,0,0,0,0,0,0,0,0.1,0,0,0,0,0,0,0,0,0,0,0,0,"growne","lodged"]
[{"$f":"B288+C288","v":1.1904761904761905},{"$f":"D288/Author1Sections","v":0.19047619047619047},{"$f":"E288/Author2Sections","v":1},{"$f":"COUNTIF(OFFSET(H288,0,0,1,Author1Sections),\">0\")","v":4},{"$f":"COUNTIF(OFFSET(H288,0,Author1Sections,1,Author2Sections),\"=0\")","v":8},891,"few",0.1,0,0,0,7.4183979999999997E-2,0.1,0,0,0.1,0,0,0,0,0,0,0,0,0,0,0,0,0,0,0,0,0,0,0,0,"guides","lofty"]
[{"$f":"B289+C289","v":1.1904761904761905},{"$f":"D289/Author1Sections","v":0.19047619047619047},{"$f":"E289/Author2Sections","v":1},{"$f":"COUNTIF(OFFSET(H289,0,0,1,Author1Sections),\">0\")","v":4},{"$f":"COUNTIF(OFFSET(H289,0,Author1Sections,1,Author2Sections),\"=0\")","v":8},892,"fled",0,0.1,0.1,0,0,0,0,0,0,0.1,0,0,0,0,0,0,0.1,0,0,0,0,0,0,0,0,0,0,0,0,"haire","lovest"]
[{"$f":"B290+C290","v":1.1904761904761905},{"$f":"D290/Author1Sections","v":0.19047619047619047},{"$f":"E290/Author2Sections","v":1},{"$f":"COUNTIF(OFFSET(H290,0,0,1,Author1Sections),\">0\")","v":4},{"$f":"COUNTIF(OFFSET(H290,0,Author1Sections,1,Author2Sections),\"=0\")","v":8},893,"flesh",0.1,0,0,0,7.4183979999999997E-2,0,0,0,0,0.1,0,0,0.1,0,0,0,0,0,0,0,0,0,0,0,0,0,0,0,0,"harts","married"]
[{"$f":"B291+C291","v":1.1904761904761905},{"$f":"D291/Author1Sections","v":0.19047619047619047},{"$f":"E291/Author2Sections","v":1},{"$f":"COUNTIF(OFFSET(H291,0,0,1,Author1Sections),\">0\")","v":4},{"$f":"COUNTIF(OFFSET(H291,0,Author1Sections,1,Author2Sections),\"=0\")","v":8},895,"foorth",0,0.1,0.1,0.1,7.4183979999999997E-2,0,0,0,0,0,0,0,0,0,0,0,0,0,0,0,0,0,0,0,0,0,0,0,0,"height","massy"]
[{"$f":"B292+C292","v":1.1904761904761905},{"$f":"D292/Author1Sections","v":0.19047619047619047},{"$f":"E292/Author2Sections","v":1},{"$f":"COUNTIF(OFFSET(H292,0,0,1,Author1Sections),\">0\")","v":4},{"$f":"COUNTIF(OFFSET(H292,0,Author1Sections,1,Author2Sections),\"=0\")","v":8},897,"former",0.1,0,0.1,0.1,0,0,0,0,0.1,0,0,0,0,0,0,0,0,0,0,0,0,0,0,0,0,0,0,0,0,"hie","merely"]
[{"$f":"B293+C293","v":1.1904761904761905},{"$f":"D293/Author1Sections","v":0.19047619047619047},{"$f":"E293/Author2Sections","v":1},{"$f":"COUNTIF(OFFSET(H293,0,0,1,Author1Sections),\">0\")","v":4},{"$f":"COUNTIF(OFFSET(H293,0,Author1Sections,1,Author2Sections),\"=0\")","v":8},898,"forsooth",0,0,0,0,0,0.1,0.1,0,0,0,0,0,0.1,0,0,0,0,0,0,0.1,0,0,0,0,0,0,0,0,0,"himselfe","midnight"]
[{"$f":"B294+C294","v":1.1904761904761905},{"$f":"D294/Author1Sections","v":0.19047619047619047},{"$f":"E294/Author2Sections","v":1},{"$f":"COUNTIF(OFFSET(H294,0,0,1,Author1Sections),\">0\")","v":4},{"$f":"COUNTIF(OFFSET(H294,0,Author1Sections,1,Author2Sections),\"=0\")","v":8},901,"foule",0,0,0.1,0,0,0,0,0,0.1,0,0,0.1,0,0,0,0,0,0,0,0.1,0,0,0,0,0,0,0,0,0,"impart","moe"]
[{"$f":"B295+C295","v":1.1904761904761905},{"$f":"D295/Author1Sections","v":0.19047619047619047},{"$f":"E295/Author2Sections","v":1},{"$f":"COUNTIF(OFFSET(H295,0,0,1,Author1Sections),\">0\")","v":4},{"$f":"COUNTIF(OFFSET(H295,0,Author1Sections,1,Author2Sections),\"=0\")","v":8},913,"greatnesse",0,0,0,0,0,0.1,0,0.1,0.1,0,0,0.1,0,0,0,0,0,0,0,0,0,0,0,0,0,0,0,0,0,"inke","mood"]
[{"$f":"B296+C296","v":1.1904761904761905},{"$f":"D296/Author1Sections","v":0.19047619047619047},{"$f":"E296/Author2Sections","v":1},{"$f":"COUNTIF(OFFSET(H296,0,0,1,Author1Sections),\">0\")","v":4},{"$f":"COUNTIF(OFFSET(H296,0,Author1Sections,1,Author2Sections),\"=0\")","v":8},914,"growne",0,0,0,0,0,0,0,0,0,0,0.1,0,0,0,0.1,0.1,0.1,0,0,0,0,0,0,0,0,0,0,0,0,"iust","morrow"]
[{"$f":"B297+C297","v":1.1904761904761905},{"$f":"D297/Author1Sections","v":0.19047619047619047},{"$f":"E297/Author2Sections","v":1},{"$f":"COUNTIF(OFFSET(H297,0,0,1,Author1Sections),\">0\")","v":4},{"$f":"COUNTIF(OFFSET(H297,0,Author1Sections,1,Author2Sections),\"=0\")","v":8},915,"guides",0,0,0,0,0,0.1,0,0,0,0,0,0,0,0,0.1,0.1,0,0.1,0,0,0,0,0,0,0,0,0,0,0,"liuely","mountain"]
[{"$f":"B298+C298","v":1.1904761904761905},{"$f":"D298/Author1Sections","v":0.19047619047619047},{"$f":"E298/Author2Sections","v":1},{"$f":"COUNTIF(OFFSET(H298,0,0,1,Author1Sections),\">0\")","v":4},{"$f":"COUNTIF(OFFSET(H298,0,Author1Sections,1,Author2Sections),\"=0\")","v":8},917,"haire",0,0,0,0,7.4183979999999997E-2,0,0,0,0,0,0.1,0,0,0,0.1,0,0,0,0,0,7.0372980000000002E-2,0,0,0,0,0,0,0,0,"liuing","murderous"]
[{"$f":"B299+C299","v":1.1904761904761905},{"$f":"D299/Author1Sections","v":0.19047619047619047},{"$f":"E299/Author2Sections","v":1},{"$f":"COUNTIF(OFFSET(H299,0,0,1,Author1Sections),\">0\")","v":4},{"$f":"COUNTIF(OFFSET(H299,0,Author1Sections,1,Author2Sections),\"=0\")","v":8},921,"harts",0,0,0.1,0,0,0.1,0,0.1,0,0,0,0,0,0,0,0,0,0,0,0.1,0,0,0,0,0,0,0,0,0,"looking","mute"]
[{"$f":"B300+C300","v":1.1904761904761905},{"$f":"D300/Author1Sections","v":0.19047619047619047},{"$f":"E300/Author2Sections","v":1},{"$f":"COUNTIF(OFFSET(H300,0,0,1,Author1Sections),\">0\")","v":4},{"$f":"COUNTIF(OFFSET(H300,0,Author1Sections,1,Author2Sections),\"=0\")","v":8},926,"height",0,0,0,0.1,0,0,0,0,0,0,0,0,0,0.1,0,0,0.1,0,0,0,7.0372980000000002E-2,0,0,0,0,0,0,0,0,"louely","nature's"]
[{"$f":"B301+C301","v":1.1904761904761905},{"$f":"D301/Author1Sections","v":0.19047619047619047},{"$f":"E301/Author2Sections","v":1},{"$f":"COUNTIF(OFFSET(H301,0,0,1,Author1Sections),\">0\")","v":4},{"$f":"COUNTIF(OFFSET(H301,0,Author1Sections,1,Author2Sections),\"=0\")","v":8},928,"hie",0,0,0,0,7.4183979999999997E-2,0,0,0,0,0,0,0.1,0,0.1,0,0.1,0,0,0,0,0,0,0,0,0,0,0,0,0,"louing","ne'er"]
[{"$f":"B302+C302","v":1.1904761904761905},{"$f":"D302/Author1Sections","v":0.19047619047619047},{"$f":"E302/Author2Sections","v":1},{"$f":"COUNTIF(OFFSET(H302,0,0,1,Author1Sections),\">0\")","v":4},{"$f":"COUNTIF(OFFSET(H302,0,Author1Sections,1,Author2Sections),\"=0\")","v":8},930,"himselfe",0,0,0,0.1,0,0,0,0,0,0,0,0,0,0.1,0,0,0,0.1,0,0.1,0,0,0,0,0,0,0,0,0,"mans","neat"]
[{"$f":"B303+C303","v":1.1904761904761905},{"$f":"D303/Author1Sections","v":0.19047619047619047},{"$f":"E303/Author2Sections","v":1},{"$f":"COUNTIF(OFFSET(H303,0,0,1,Author1Sections),\">0\")","v":4},{"$f":"COUNTIF(OFFSET(H303,0,Author1Sections,1,Author2Sections),\"=0\")","v":8},935,"impart",0,0,0,0,0,0,0,0,0,0,0,0.1,0,0.1,0,0,0,0.1,0.1,0,0,0,0,0,0,0,0,0,0,"neare","noon"]
[{"$f":"B304+C304","v":1.1904761904761905},{"$f":"D304/Author1Sections","v":0.19047619047619047},{"$f":"E304/Author2Sections","v":1},{"$f":"COUNTIF(OFFSET(H304,0,0,1,Author1Sections),\">0\")","v":4},{"$f":"COUNTIF(OFFSET(H304,0,Author1Sections,1,Author2Sections),\"=0\")","v":8},936,"inke",0,0,0,0,0,0,0,0,0,0.1,0.1,0,0,0,0,0,0,0,0,0.1,7.0372980000000002E-2,0,0,0,0,0,0,0,0,"nobler","objects"]
[{"$f":"B305+C305","v":1.1904761904761905},{"$f":"D305/Author1Sections","v":0.19047619047619047},{"$f":"E305/Author2Sections","v":1},{"$f":"COUNTIF(OFFSET(H305,0,0,1,Author1Sections),\">0\")","v":4},{"$f":"COUNTIF(OFFSET(H305,0,Author1Sections,1,Author2Sections),\"=0\")","v":8},938,"iust",0,0,0,0,0,0,0,0,0,0,0.1,0,0,0.1,0,0,0.1,0,0,0.1,0,0,0,0,0,0,0,0,0,"proceed","occasion"]
[{"$f":"B306+C306","v":1.1904761904761905},{"$f":"D306/Author1Sections","v":0.19047619047619047},{"$f":"E306/Author2Sections","v":1},{"$f":"COUNTIF(OFFSET(H306,0,0,1,Author1Sections),\">0\")","v":4},{"$f":"COUNTIF(OFFSET(H306,0,Author1Sections,1,Author2Sections),\"=0\")","v":8},950,"liuely",0,0,0,0,0,0,0,0,0,0.1,0,0,0.1,0,0,0.1,0,0,0,0,7.0372980000000002E-2,0,0,0,0,0,0,0,0,"raisde","ocean"]
[{"$f":"B307+C307","v":1.1904761904761905},{"$f":"D307/Author1Sections","v":0.19047619047619047},{"$f":"E307/Author2Sections","v":1},{"$f":"COUNTIF(OFFSET(H307,0,0,1,Author1Sections),\">0\")","v":4},{"$f":"COUNTIF(OFFSET(H307,0,Author1Sections,1,Author2Sections),\"=0\")","v":8},951,"liuing",0,0,0,0,0,0,0,0,0,0.1,0,0,0.1,0,0,0,0,0.1,0,0.1,0,0,0,0,0,0,0,0,0,"remaine","palate"]
[{"$f":"B308+C308","v":1.1904761904761905},{"$f":"D308/Author1Sections","v":0.19047619047619047},{"$f":"E308/Author2Sections","v":1},{"$f":"COUNTIF(OFFSET(H308,0,0,1,Author1Sections),\">0\")","v":4},{"$f":"COUNTIF(OFFSET(H308,0,Author1Sections,1,Author2Sections),\"=0\")","v":8},954,"looking",0,0.1,0,0.1,7.4183979999999997E-2,0,0,0,0,0,0,0,0,0,0,0,0.1,0,0,0,0,0,0,0,0,0,0,0,0,"ruine","parcels"]
[{"$f":"B309+C309","v":1.1904761904761905},{"$f":"D309/Author1Sections","v":0.19047619047619047},{"$f":"E309/Author2Sections","v":1},{"$f":"COUNTIF(OFFSET(H309,0,0,1,Author1Sections),\">0\")","v":4},{"$f":"COUNTIF(OFFSET(H309,0,Author1Sections,1,Author2Sections),\"=0\")","v":8},958,"louely",0,0,0,0,0,0,0.1,0,0,0,0,0,0.1,0,0,0.1,0,0.1,0,0,0,0,0,0,0,0,0,0,0,"rules","plat"]
[{"$f":"B310+C310","v":1.1904761904761905},{"$f":"D310/Author1Sections","v":0.19047619047619047},{"$f":"E310/Author2Sections","v":1},{"$f":"COUNTIF(OFFSET(H310,0,0,1,Author1Sections),\">0\")","v":4},{"$f":"COUNTIF(OFFSET(H310,0,Author1Sections,1,Author2Sections),\"=0\")","v":8},959,"louing",0,0,0,0,0,0.1,0,0,0.1,0,0.1,0.1,0,0,0,0,0,0,0,0,0,0,0,0,0,0,0,0,0,"steps","pluck"]
[{"$f":"B311+C311","v":1.1904761904761905},{"$f":"D311/Author1Sections","v":0.19047619047619047},{"$f":"E311/Author2Sections","v":1},{"$f":"COUNTIF(OFFSET(H311,0,0,1,Author1Sections),\">0\")","v":4},{"$f":"COUNTIF(OFFSET(H311,0,Author1Sections,1,Author2Sections),\"=0\")","v":8},962,"mans",0,0,0,0,0,0.1,0,0,0,0,0,0,0.1,0.1,0.1,0,0,0,0,0,0,0,0,0,0,0,0,0,0,"tast","prove"]
[{"$f":"B312+C312","v":1.1904761904761905},{"$f":"D312/Author1Sections","v":0.19047619047619047},{"$f":"E312/Author2Sections","v":1},{"$f":"COUNTIF(OFFSET(H312,0,0,1,Author1Sections),\">0\")","v":4},{"$f":"COUNTIF(OFFSET(H312,0,Author1Sections,1,Author2Sections),\"=0\")","v":8},965,"neare",0,0.1,0,0,0,0,0,0,0.1,0,0,0,0,0,0,0,0,0.1,0.1,0,0,0,0,0,0,0,0,0,0,"tries","quality"]
[{"$f":"B313+C313","v":1.1904761904761905},{"$f":"D313/Author1Sections","v":0.19047619047619047},{"$f":"E313/Author2Sections","v":1},{"$f":"COUNTIF(OFFSET(H313,0,0,1,Author1Sections),\">0\")","v":4},{"$f":"COUNTIF(OFFSET(H313,0,Author1Sections,1,Author2Sections),\"=0\")","v":8},966,"nobler",0,0,0,0,0,0,0,0,0,0,0,0.1,0,0,0,0.1,0.1,0,0.1,0,0,0,0,0,0,0,0,0,0,"vouchsafe","ragged"]
[{"$f":"B314+C314","v":1.1904761904761905},{"$f":"D314/Author1Sections","v":0.19047619047619047},{"$f":"E314/Author2Sections","v":1},{"$f":"COUNTIF(OFFSET(H314,0,0,1,Author1Sections),\">0\")","v":4},{"$f":"COUNTIF(OFFSET(H314,0,Author1Sections,1,Author2Sections),\"=0\")","v":8},978,"proceed",0,0,0,0,0,0,0,0,0.1,0.1,0,0,0,0.1,0.1,0,0,0,0,0,0,0,0,0,0,0,0,0,0,"wherein","rank"]
[{"$f":"B315+C315","v":1.1904761904761905},{"$f":"D315/Author1Sections","v":0.19047619047619047},{"$f":"E315/Author2Sections","v":1},{"$f":"COUNTIF(OFFSET(H315,0,0,1,Author1Sections),\">0\")","v":4},{"$f":"COUNTIF(OFFSET(H315,0,Author1Sections,1,Author2Sections),\"=0\")","v":8},983,"raisde",0,0,0.1,0.1,0,0,0,0,0,0,0,0,0.1,0,0,0,0.1,0,0,0,0,0,0,0,0,0,0,0,0,"wisedome","reign"]
[{"$f":"B316+C316","v":1.1904761904761905},{"$f":"D316/Author1Sections","v":0.19047619047619047},{"$f":"E316/Author2Sections","v":1},{"$f":"COUNTIF(OFFSET(H316,0,0,1,Author1Sections),\">0\")","v":4},{"$f":"COUNTIF(OFFSET(H316,0,Author1Sections,1,Author2Sections),\"=0\")","v":8},985,"remaine",0.1,0,0,0.1,0,0,0,0.1,0.1,0,0,0,0,0,0,0,0,0,0,0,0,0,0,0,0,0,0,0,0,"witnesse","religious"]
[{"$f":"B317+C317","v":1.1904761904761905},{"$f":"D317/Author1Sections","v":0.19047619047619047},{"$f":"E317/Author2Sections","v":1},{"$f":"COUNTIF(OFFSET(H317,0,0,1,Author1Sections),\">0\")","v":4},{"$f":"COUNTIF(OFFSET(H317,0,Author1Sections,1,Author2Sections),\"=0\")","v":8},990,"ruine",0.1,0,0,0.1,7.4183979999999997E-2,0,0,0,0,0,0,0,0,0.1,0,0,0,0,0,0,0,0,0,0,0,0,0,0,0,"worke","remains"]
[{"$f":"B318+C318","v":1.1904761904761905},{"$f":"D318/Author1Sections","v":0.19047619047619047},{"$f":"E318/Author2Sections","v":1},{"$f":"COUNTIF(OFFSET(H318,0,0,1,Author1Sections),\">0\")","v":4},{"$f":"COUNTIF(OFFSET(H318,0,Author1Sections,1,Author2Sections),\"=0\")","v":8},991,"rules",0,0,0,0,0,0,0,0,0,0.1,0,0.1,0,0.1,0,0.1,0,0,0,0,0,0,0,0,0,0,0,0,0,"wracke","repair"]
[{"$f":"B319+C319","v":1.1904761904761905},{"$f":"D319/Author1Sections","v":0.19047619047619047},{"$f":"E319/Author2Sections","v":1},{"$f":"COUNTIF(OFFSET(H319,0,0,1,Author1Sections),\">0\")","v":4},{"$f":"COUNTIF(OFFSET(H319,0,Author1Sections,1,Author2Sections),\"=0\")","v":8},1017,"steps",0,0,0.1,0,0,0,0,0,0,0,0,0,0.1,0,0,0.1,0.1,0,0,0,0,0,0,0,0,0,0,0,0,"wrong","resting"]
[{"$f":"B320+C320","v":1.1904761904761905},{"$f":"D320/Author1Sections","v":0.19047619047619047},{"$f":"E320/Author2Sections","v":1},{"$f":"COUNTIF(OFFSET(H320,0,0,1,Author1Sections),\">0\")","v":4},{"$f":"COUNTIF(OFFSET(H320,0,Author1Sections,1,Author2Sections),\"=0\")","v":8},1023,"tast",0.1,0,0,0,0,0,0,0.1,0,0,0,0,0,0,0,0,0,0,0.1,0,7.0372980000000002E-2,0,0,0,0,0,0,0,0,"only","restore"]
[{"$f":"B321+C321","v":1.1904761904761905},{"$f":"D321/Author1Sections","v":0.19047619047619047},{"$f":"E321/Author2Sections","v":1},{"$f":"COUNTIF(OFFSET(H321,0,0,1,Author1Sections),\">0\")","v":4},{"$f":"COUNTIF(OFFSET(H321,0,Author1Sections,1,Author2Sections),\"=0\")","v":8},1031,"tries",0,0,0,0,0,0,0,0,0,0,0,0.1,0.1,0,0,0,0,0,0,0.1,7.0372980000000002E-2,0,0,0,0,0,0,0,0,"fame","reverend"]
[{"$f":"B322+C322","v":1.1904761904761905},{"$f":"D322/Author1Sections","v":0.19047619047619047},{"$f":"E322/Author2Sections","v":1},{"$f":"COUNTIF(OFFSET(H322,0,0,1,Author1Sections),\">0\")","v":4},{"$f":"COUNTIF(OFFSET(H322,0,Author1Sections,1,Author2Sections),\"=0\")","v":8},1033,"vouchsafe",0,0,0,0,7.4183979999999997E-2,0,0,0,0.1,0,0,0,0.1,0.1,0,0,0,0,0,0,0,0,0,0,0,0,0,0,0,"lie","rings"]
[{"$f":"B323+C323","v":1.1904761904761905},{"$f":"D323/Author1Sections","v":0.19047619047619047},{"$f":"E323/Author2Sections","v":1},{"$f":"COUNTIF(OFFSET(H323,0,0,1,Author1Sections),\">0\")","v":4},{"$f":"COUNTIF(OFFSET(H323,0,Author1Sections,1,Author2Sections),\"=0\")","v":8},1035,"wherein",0,0,0,0,0,0.1,0.1,0,0,0,0,0.1,0,0,0,0.1,0,0,0,0,0,0,0,0,0,0,0,0,0,"want","roar"]
[{"$f":"B324+C324","v":1.1904761904761905},{"$f":"D324/Author1Sections","v":0.19047619047619047},{"$f":"E324/Author2Sections","v":1},{"$f":"COUNTIF(OFFSET(H324,0,0,1,Author1Sections),\">0\")","v":4},{"$f":"COUNTIF(OFFSET(H324,0,Author1Sections,1,Author2Sections),\"=0\")","v":8},1041,"wisedome",0.1,0,0.1,0.1,0,0.1,0,0,0,0,0,0,0,0,0,0,0,0,0,0,0,0,0,0,0,0,0,0,0,"grow","robe"]
[{"$f":"B325+C325","v":1.1904761904761905},{"$f":"D325/Author1Sections","v":0.19047619047619047},{"$f":"E325/Author2Sections","v":1},{"$f":"COUNTIF(OFFSET(H325,0,0,1,Author1Sections),\">0\")","v":4},{"$f":"COUNTIF(OFFSET(H325,0,Author1Sections,1,Author2Sections),\"=0\")","v":8},1042,"witnesse",0,0,0,0,0,0,0,0,0.1,0,0,0,0.1,0,0,0,0,0,0,0.1,7.0372980000000002E-2,0,0,0,0,0,0,0,0,"stay","rocky"]
[{"$f":"B326+C326","v":1.1904761904761905},{"$f":"D326/Author1Sections","v":0.19047619047619047},{"$f":"E326/Author2Sections","v":1},{"$f":"COUNTIF(OFFSET(H326,0,0,1,Author1Sections),\">0\")","v":4},{"$f":"COUNTIF(OFFSET(H326,0,Author1Sections,1,Author2Sections),\"=0\")","v":8},1044,"worke",0,0,0,0.1,0,0,0,0,0,0.1,0,0,0.1,0,0.1,0,0,0,0,0,0,0,0,0,0,0,0,0,0,"other","roof"]
[{"$f":"B327+C327","v":1.1904761904761905},{"$f":"D327/Author1Sections","v":0.19047619047619047},{"$f":"E327/Author2Sections","v":1},{"$f":"COUNTIF(OFFSET(H327,0,0,1,Author1Sections),\">0\")","v":4},{"$f":"COUNTIF(OFFSET(H327,0,Author1Sections,1,Author2Sections),\"=0\")","v":8},1049,"wracke",0,0,0,0,0,0,0,0,0,0,0.1,0,0,0.1,0,0,0,0,0.1,0.1,0,0,0,0,0,0,0,0,0,"unto","rugged"]
[{"$f":"B328+C328","v":1.1904761904761905},{"$f":"D328/Author1Sections","v":0.19047619047619047},{"$f":"E328/Author2Sections","v":1},{"$f":"COUNTIF(OFFSET(H328,0,0,1,Author1Sections),\">0\")","v":4},{"$f":"COUNTIF(OFFSET(H328,0,Author1Sections,1,Author2Sections),\"=0\")","v":8},1050,"wrong",0,0,0,0,0,0,0.1,0,0.1,0,0.1,0,0,0,0,0,0,0,0.1,0,0,0,0,0,0,0,0,0,0,"after","scythe"]
[{"$f":"B329+C329","v":1.1785714285714286},{"$f":"D329/Author1Sections","v":0.42857142857142855},{"$f":"E329/Author2Sections","v":0.75},{"$f":"COUNTIF(OFFSET(H329,0,0,1,Author1Sections),\">0\")","v":9},{"$f":"COUNTIF(OFFSET(H329,0,Author1Sections,1,Author2Sections),\"=0\")","v":6},174,"only",0,0,0,0,0,0,0.1,0.1,0,0,0,0.5,0,0,0,0.1,0.1,0.4,0.2,0.2,0.14074595000000001,6.5876156000000005E-2,0,0,0,0.1,0,0,0,"bee","season"]
[{"$f":"B330+C330","v":1.1785714285714286},{"$f":"D330/Author1Sections","v":0.42857142857142855},{"$f":"E330/Author2Sections","v":0.75},{"$f":"COUNTIF(OFFSET(H330,0,0,1,Author1Sections),\">0\")","v":9},{"$f":"COUNTIF(OFFSET(H330,0,Author1Sections,1,Author2Sections),\"=0\")","v":6},218,"fame",0,0.1,0,0.1,0,0,0,0,0,0,0.2,0.1,0.2,0,0,0,0.2,0.1,0.1,0.1,0,0,0,0,0.20297699999999999,0,0,0,0.17730497000000001,"worlds","sheaves"]
[{"$f":"B331+C331","v":1.1785714285714286},{"$f":"D331/Author1Sections","v":0.42857142857142855},{"$f":"E331/Author2Sections","v":0.75},{"$f":"COUNTIF(OFFSET(H331,0,0,1,Author1Sections),\">0\")","v":9},{"$f":"COUNTIF(OFFSET(H331,0,Author1Sections,1,Author2Sections),\"=0\")","v":6},247,"lie",0,0,0.2,0,0,0,0,0,0.1,0,0,0.1,0.1,0.1,0.1,0,0,0.1,0,0.1,0.14074595000000001,0.19762845000000001,0,0,6.7658999999999997E-2,0,0,0,0,"needs","shook"]
[{"$f":"B332+C332","v":1.1785714285714286},{"$f":"D332/Author1Sections","v":0.42857142857142855},{"$f":"E332/Author2Sections","v":0.75},{"$f":"COUNTIF(OFFSET(H332,0,0,1,Author1Sections),\">0\")","v":9},{"$f":"COUNTIF(OFFSET(H332,0,Author1Sections,1,Author2Sections),\"=0\")","v":6},323,"want",0,0,0.1,0,0,0,0,0,0,0,0.1,0.1,0.1,0.1,0.1,0.1,0,0,0.1,0,7.0372980000000002E-2,0.13175231000000001,0,0,0,0,0.1,0,0,"wealth","silken"]
[{"$f":"B333+C333","v":1.1785714285714286},{"$f":"D333/Author1Sections","v":0.42857142857142855},{"$f":"E333/Author2Sections","v":0.75},{"$f":"COUNTIF(OFFSET(H333,0,0,1,Author1Sections),\">0\")","v":9},{"$f":"COUNTIF(OFFSET(H333,0,Author1Sections,1,Author2Sections),\"=0\")","v":6},337,"grow",0,0,0.1,0,0,0,0,0.1,0.1,0.1,0,0.1,0.1,0,0,0,0.1,0,0,0.1,7.0372980000000002E-2,6.5876156000000005E-2,0,0,0,0,0.1,0,0,"brought","sleek"]
[{"$f":"B334+C334","v":1.1785714285714286},{"$f":"D334/Author1Sections","v":0.42857142857142855},{"$f":"E334/Author2Sections","v":0.75},{"$f":"COUNTIF(OFFSET(H334,0,0,1,Author1Sections),\">0\")","v":9},{"$f":"COUNTIF(OFFSET(H334,0,Author1Sections,1,Author2Sections),\"=0\")","v":6},349,"stay",0,0,0,0,0,0.1,0,0,0.1,0,0.1,0,0.1,0.1,0.1,0,0.1,0,0.1,0,7.0372980000000002E-2,6.5876156000000005E-2,0,0,0,0,0,0.1,0,"course","sleep"]
[{"$f":"B335+C335","v":1.1666666666666665},{"$f":"D335/Author1Sections","v":0.66666666666666663},{"$f":"E335/Author2Sections","v":0.5},{"$f":"COUNTIF(OFFSET(H335,0,0,1,Author1Sections),\">0\")","v":14},{"$f":"COUNTIF(OFFSET(H335,0,Author1Sections,1,Author2Sections),\"=0\")","v":4},116,"other",0.1,0,0,0.2,0.44510385000000002,0.3,0.3,0.2,0.2,0,0,0,0.1,0.1,0,0.1,0.1,0.2,0,0.1,7.0372980000000002E-2,0.19762845000000001,0.1,0,0.20297699999999999,0,0.1,0,0,"cupid","solemn"]
[{"$f":"B336+C336","v":1.1607142857142856},{"$f":"D336/Author1Sections","v":0.2857142857142857},{"$f":"E336/Author2Sections","v":0.875},{"$f":"COUNTIF(OFFSET(H336,0,0,1,Author1Sections),\">0\")","v":6},{"$f":"COUNTIF(OFFSET(H336,0,Author1Sections,1,Author2Sections),\"=0\")","v":7},239,"unto",0.2,0.3,0.4,0.4,7.4183979999999997E-2,0.1,0,0,0,0,0,0,0,0,0,0,0,0,0,0,0,0,0,0,0,0,0,0.1,0,"ought","sonnets"]
[{"$f":"B337+C337","v":1.1607142857142856},{"$f":"D337/Author1Sections","v":0.2857142857142857},{"$f":"E337/Author2Sections","v":0.875},{"$f":"COUNTIF(OFFSET(H337,0,0,1,Author1Sections),\">0\")","v":6},{"$f":"COUNTIF(OFFSET(H337,0,Author1Sections,1,Author2Sections),\"=0\")","v":7},297,"after",0.2,0.2,0.1,0,0.2967359,0,0.1,0,0,0,0,0.1,0,0,0,0,0,0,0,0,0,0,0,0,0,0,0.1,0,0,"at","spirits"]
[{"$f":"B338+C338","v":1.1607142857142856},{"$f":"D338/Author1Sections","v":0.2857142857142857},{"$f":"E338/Author2Sections","v":0.875},{"$f":"COUNTIF(OFFSET(H338,0,0,1,Author1Sections),\">0\")","v":6},{"$f":"COUNTIF(OFFSET(H338,0,Author1Sections,1,Author2Sections),\"=0\")","v":7},300,"bee",0.3,0.1,0.1,0.4,7.4183979999999997E-2,0.1,0,0,0,0,0,0,0,0,0,0,0,0,0,0,0,0,0,0.1,0,0,0,0,0,"nor","steep"]
[{"$f":"B339+C339","v":1.1607142857142856},{"$f":"D339/Author1Sections","v":0.2857142857142857},{"$f":"E339/Author2Sections","v":0.875},{"$f":"COUNTIF(OFFSET(H339,0,0,1,Author1Sections),\">0\")","v":6},{"$f":"COUNTIF(OFFSET(H339,0,Author1Sections,1,Author2Sections),\"=0\")","v":7},324,"worlds",0.2,0,0.2,0.3,0.14836795999999999,0,0,0,0,0,0,0,0,0,0,0,0,0,0,0.1,7.0372980000000002E-2,0,0,0.1,0,0,0,0,0,"here","stole"]
[{"$f":"B340+C340","v":1.1607142857142856},{"$f":"D340/Author1Sections","v":0.2857142857142857},{"$f":"E340/Author2Sections","v":0.875},{"$f":"COUNTIF(OFFSET(H340,0,0,1,Author1Sections),\">0\")","v":6},{"$f":"COUNTIF(OFFSET(H340,0,Author1Sections,1,Author2Sections),\"=0\")","v":7},344,"needs",0,0,0,0,7.4183979999999997E-2,0,0.1,0,0,0.2,0,0,0,0,0.2,0,0,0.2,0.2,0,0,0,0,0,0,0,0,0.1,0,"makes","stormy"]
[{"$f":"B341+C341","v":1.1607142857142856},{"$f":"D341/Author1Sections","v":0.2857142857142857},{"$f":"E341/Author2Sections","v":0.875},{"$f":"COUNTIF(OFFSET(H341,0,0,1,Author1Sections),\">0\")","v":6},{"$f":"COUNTIF(OFFSET(H341,0,Author1Sections,1,Author2Sections),\"=0\")","v":7},388,"wealth",0,0,0,0,0,0,0.2,0,0,0,0.1,0.2,0,0.1,0,0,0.2,0.1,0,0,0,0,0,0,0,0,0,0,8.8652484000000004E-2,"espilus","stretch'd"]
[{"$f":"B342+C342","v":1.1607142857142856},{"$f":"D342/Author1Sections","v":0.2857142857142857},{"$f":"E342/Author2Sections","v":0.875},{"$f":"COUNTIF(OFFSET(H342,0,0,1,Author1Sections),\">0\")","v":6},{"$f":"COUNTIF(OFFSET(H342,0,Author1Sections,1,Author2Sections),\"=0\")","v":7},399,"brought",0.1,0.1,0.1,0,7.4183979999999997E-2,0.2,0,0,0,0,0,0,0,0.2,0,0,0,0,0,0,0,0,0,0,0,0,0,0,8.8652484000000004E-2,"therion","subtle"]
[{"$f":"B343+C343","v":1.1607142857142856},{"$f":"D343/Author1Sections","v":0.2857142857142857},{"$f":"E343/Author2Sections","v":0.875},{"$f":"COUNTIF(OFFSET(H343,0,0,1,Author1Sections),\">0\")","v":6},{"$f":"COUNTIF(OFFSET(H343,0,Author1Sections,1,Author2Sections),\"=0\")","v":7},400,"course",0,0.1,0,0,0,0,0,0,0,0.1,0.1,0,0,0.1,0,0.2,0.2,0,0,0,0,0,0,0,0,0,0,0.1,0,"anie","suit"]
[{"$f":"B344+C344","v":1.1607142857142856},{"$f":"D344/Author1Sections","v":0.2857142857142857},{"$f":"E344/Author2Sections","v":0.875},{"$f":"COUNTIF(OFFSET(H344,0,0,1,Author1Sections),\">0\")","v":6},{"$f":"COUNTIF(OFFSET(H344,0,Author1Sections,1,Author2Sections),\"=0\")","v":7},401,"cupid",0,0,0,0,0,0.1,0,0,0,0.1,0.3,0,0.1,0,0.1,0.1,0,0,0,0,0,6.5876156000000005E-2,0,0,0,0,0,0,0,"d","summer's"]
[{"$f":"B345+C345","v":1.1607142857142856},{"$f":"D345/Author1Sections","v":0.2857142857142857},{"$f":"E345/Author2Sections","v":0.875},{"$f":"COUNTIF(OFFSET(H345,0,0,1,Author1Sections),\">0\")","v":6},{"$f":"COUNTIF(OFFSET(H345,0,Author1Sections,1,Author2Sections),\"=0\")","v":7},538,"ought",0.1,0.1,0,0,7.4183979999999997E-2,0,0,0,0,0.1,0,0,0,0,0,0,0.1,0,0,0,7.0372980000000002E-2,6.5876156000000005E-2,0,0,0,0,0,0,0,"maister","sums"]
[{"$f":"B346+C346","v":1.1547619047619047},{"$f":"D346/Author1Sections","v":0.90476190476190477},{"$f":"E346/Author2Sections","v":0.25},{"$f":"COUNTIF(OFFSET(H346,0,0,1,Author1Sections),\">0\")","v":19},{"$f":"COUNTIF(OFFSET(H346,0,Author1Sections,1,Author2Sections),\"=0\")","v":2},59,"at",0.5,0.1,0,0.3,0.59347179999999999,0.2,0.3,0,0.6,0.2,0.2,0.1,0.1,0.3,0.1,0.1,0.2,0.1,0.2,0.2,0.14074595000000001,0.26350462000000002,0.5,0.4,0.27063599999999999,0,0.2,0,0.26595743999999999,"fooles","tend"]
[{"$f":"B347+C347","v":1.1547619047619047},{"$f":"D347/Author1Sections","v":0.90476190476190477},{"$f":"E347/Author2Sections","v":0.25},{"$f":"COUNTIF(OFFSET(H347,0,0,1,Author1Sections),\">0\")","v":19},{"$f":"COUNTIF(OFFSET(H347,0,Author1Sections,1,Author2Sections),\"=0\")","v":2},61,"nor",0.2,0.3,0.2,0.5,7.4183979999999997E-2,0.1,0.2,0.2,0.2,0,0.1,0.4,0.2,0,0.5,0.1,0.4,0.7,0.4,0.2,0.14074595000000001,0.13175231000000001,0,0,0.27063599999999999,0.2,0.4,0.2,0.35460994000000001,"sleepe","that's"]
[{"$f":"B348+C348","v":1.1488095238095237},{"$f":"D348/Author1Sections","v":0.52380952380952384},{"$f":"E348/Author2Sections","v":0.625},{"$f":"COUNTIF(OFFSET(H348,0,0,1,Author1Sections),\">0\")","v":11},{"$f":"COUNTIF(OFFSET(H348,0,Author1Sections,1,Author2Sections),\"=0\")","v":5},152,"here",0,0,0.3,0.1,0.14836795999999999,0.4,0.1,0,0,0.1,0,0,0.1,0,0.2,0,0.2,0.1,0,0,7.0372980000000002E-2,6.5876156000000005E-2,0,0,0,0,0.2,0,0.17730497000000001,"estate","thin"]
[{"$f":"B349+C349","v":1.1488095238095237},{"$f":"D349/Author1Sections","v":0.52380952380952384},{"$f":"E349/Author2Sections","v":0.625},{"$f":"COUNTIF(OFFSET(H349,0,0,1,Author1Sections),\">0\")","v":11},{"$f":"COUNTIF(OFFSET(H349,0,Author1Sections,1,Author2Sections),\"=0\")","v":5},157,"makes",0,0,0,0,0,0.1,0.2,0,0,0.1,0.3,0.2,0,0.1,0.1,0.1,0,0.3,0,0.1,0.28149190000000002,6.5876156000000005E-2,0,0,0,0,0,0.1,8.8652484000000004E-2,"faine","threw"]
[{"$f":"B350+C350","v":1.1428571428571428},{"$f":"D350/Author1Sections","v":0.14285714285714285},{"$f":"E350/Author2Sections","v":1},{"$f":"COUNTIF(OFFSET(H350,0,0,1,Author1Sections),\">0\")","v":3},{"$f":"COUNTIF(OFFSET(H350,0,Author1Sections,1,Author2Sections),\"=0\")","v":8},188,"espilus",0,0,0,0,0,0,1.1000000000000001,0.4,0.4,0,0,0,0,0,0,0,0,0,0,0,0,0,0,0,0,0,0,0,0,"faults","toe"]
[{"$f":"B351+C351","v":1.1428571428571428},{"$f":"D351/Author1Sections","v":0.14285714285714285},{"$f":"E351/Author2Sections","v":1},{"$f":"COUNTIF(OFFSET(H351,0,0,1,Author1Sections),\">0\")","v":3},{"$f":"COUNTIF(OFFSET(H351,0,Author1Sections,1,Author2Sections),\"=0\")","v":8},272,"therion",0,0,0,0,0,0,0.8,0.4,0.2,0,0,0,0,0,0,0,0,0,0,0,0,0,0,0,0,0,0,0,0,"shepheard","top"]
[{"$f":"B352+C352","v":1.1428571428571428},{"$f":"D352/Author1Sections","v":0.14285714285714285},{"$f":"E352/Author2Sections","v":1},{"$f":"COUNTIF(OFFSET(H352,0,0,1,Author1Sections),\">0\")","v":3},{"$f":"COUNTIF(OFFSET(H352,0,Author1Sections,1,Author2Sections),\"=0\")","v":8},274,"anie",0.2,0.6,0,0,0.37091987999999998,0,0,0,0,0,0,0,0,0,0,0,0,0,0,0,0,0,0,0,0,0,0,0,0,"ashes","trophies"]
[{"$f":"B353+C353","v":1.1428571428571428},{"$f":"D353/Author1Sections","v":0.14285714285714285},{"$f":"E353/Author2Sections","v":1},{"$f":"COUNTIF(OFFSET(H353,0,0,1,Author1Sections),\">0\")","v":3},{"$f":"COUNTIF(OFFSET(H353,0,Author1Sections,1,Author2Sections),\"=0\")","v":8},330,"d",0,0,0.1,0.4,0.44510385000000002,0,0,0,0,0,0,0,0,0,0,0,0,0,0,0,0,0,0,0,0,0,0,0,0,"beasts","tufted"]
[{"$f":"B354+C354","v":1.1428571428571428},{"$f":"D354/Author1Sections","v":0.14285714285714285},{"$f":"E354/Author2Sections","v":1},{"$f":"COUNTIF(OFFSET(H354,0,0,1,Author1Sections),\">0\")","v":3},{"$f":"COUNTIF(OFFSET(H354,0,Author1Sections,1,Author2Sections),\"=0\")","v":8},417,"maister",0,0,0,0,0,0.5,0.2,0.2,0,0,0,0,0,0,0,0,0,0,0,0,0,0,0,0,0,0,0,0,0,"countrey","tuned"]
[{"$f":"B355+C355","v":1.1428571428571428},{"$f":"D355/Author1Sections","v":0.14285714285714285},{"$f":"E355/Author2Sections","v":1},{"$f":"COUNTIF(OFFSET(H355,0,0,1,Author1Sections),\">0\")","v":3},{"$f":"COUNTIF(OFFSET(H355,0,Author1Sections,1,Author2Sections),\"=0\")","v":8},511,"fooles",0,0,0,0,0,0,0,0.1,0,0,0,0.4,0,0,0,0,0,0,0,0,0.14074595000000001,0,0,0,0,0,0,0,0,"deeds","turn"]
[{"$f":"B356+C356","v":1.1428571428571428},{"$f":"D356/Author1Sections","v":0.14285714285714285},{"$f":"E356/Author2Sections","v":1},{"$f":"COUNTIF(OFFSET(H356,0,0,1,Author1Sections),\">0\")","v":3},{"$f":"COUNTIF(OFFSET(H356,0,Author1Sections,1,Author2Sections),\"=0\")","v":8},552,"sleepe",0,0,0,0,0,0,0,0,0,0,0,0,0.1,0.5,0,0,0,0,0.1,0,0,0,0,0,0,0,0,0,0,"els","twain"]
[{"$f":"B357+C357","v":1.1428571428571428},{"$f":"D357/Author1Sections","v":0.14285714285714285},{"$f":"E357/Author2Sections","v":1},{"$f":"COUNTIF(OFFSET(H357,0,0,1,Author1Sections),\">0\")","v":3},{"$f":"COUNTIF(OFFSET(H357,0,Author1Sections,1,Author2Sections),\"=0\")","v":8},596,"estate",0,0,0,0,0,0.1,0.3,0.2,0,0,0,0,0,0,0,0,0,0,0,0,0,0,0,0,0,0,0,0,0,"graunt","twisted"]
[{"$f":"B358+C358","v":1.1428571428571428},{"$f":"D358/Author1Sections","v":0.14285714285714285},{"$f":"E358/Author2Sections","v":1},{"$f":"COUNTIF(OFFSET(H358,0,0,1,Author1Sections),\">0\")","v":3},{"$f":"COUNTIF(OFFSET(H358,0,Author1Sections,1,Author2Sections),\"=0\")","v":8},599,"faine",0,0,0,0,0,0,0,0,0,0,0,0,0,0,0,0,0,0.1,0.2,0,0.21111894,0,0,0,0,0,0,0,0,"heauy","uncouth"]
[{"$f":"B359+C359","v":1.1428571428571428},{"$f":"D359/Author1Sections","v":0.14285714285714285},{"$f":"E359/Author2Sections","v":1},{"$f":"COUNTIF(OFFSET(H359,0,0,1,Author1Sections),\">0\")","v":3},{"$f":"COUNTIF(OFFSET(H359,0,Author1Sections,1,Author2Sections),\"=0\")","v":8},602,"faults",0,0,0,0,0,0,0.2,0,0.3,0,0,0,0,0,0,0,0,0,0.1,0,0,0,0,0,0,0,0,0,0,"plaints","usury"]
[{"$f":"B360+C360","v":1.1428571428571428},{"$f":"D360/Author1Sections","v":0.14285714285714285},{"$f":"E360/Author2Sections","v":1},{"$f":"COUNTIF(OFFSET(H360,0,0,1,Author1Sections),\">0\")","v":3},{"$f":"COUNTIF(OFFSET(H360,0,Author1Sections,1,Author2Sections),\"=0\")","v":8},655,"shepheard",0,0.1,0,0,0,0,0.3,0.2,0,0,0,0,0,0,0,0,0,0,0,0,0,0,0,0,0,0,0,0,0,"shield","vine"]
[{"$f":"B361+C361","v":1.1428571428571428},{"$f":"D361/Author1Sections","v":0.14285714285714285},{"$f":"E361/Author2Sections","v":1},{"$f":"COUNTIF(OFFSET(H361,0,0,1,Author1Sections),\">0\")","v":3},{"$f":"COUNTIF(OFFSET(H361,0,Author1Sections,1,Author2Sections),\"=0\")","v":8},693,"ashes",0.1,0,0,0.1,0.22255193000000001,0,0,0,0,0,0,0,0,0,0,0,0,0,0,0,0,0,0,0,0,0,0,0,0,"whence","violet"]
[{"$f":"B362+C362","v":1.1428571428571428},{"$f":"D362/Author1Sections","v":0.14285714285714285},{"$f":"E362/Author2Sections","v":1},{"$f":"COUNTIF(OFFSET(H362,0,0,1,Author1Sections),\">0\")","v":3},{"$f":"COUNTIF(OFFSET(H362,0,Author1Sections,1,Author2Sections),\"=0\")","v":8},697,"beasts",0,0,0,0,0.14836795999999999,0,0.2,0,0.1,0,0,0,0,0,0,0,0,0,0,0,0,0,0,0,0,0,0,0,0,"whilest","war"]
[{"$f":"B363+C363","v":1.1428571428571428},{"$f":"D363/Author1Sections","v":0.14285714285714285},{"$f":"E363/Author2Sections","v":1},{"$f":"COUNTIF(OFFSET(H363,0,0,1,Author1Sections),\">0\")","v":3},{"$f":"COUNTIF(OFFSET(H363,0,Author1Sections,1,Author2Sections),\"=0\")","v":8},711,"countrey",0,0,0.1,0,0,0.3,0,0,0,0.1,0,0,0,0,0,0,0,0,0,0,0,0,0,0,0,0,0,0,0,"yeeld","watch"]
[{"$f":"B364+C364","v":1.1428571428571428},{"$f":"D364/Author1Sections","v":0.14285714285714285},{"$f":"E364/Author2Sections","v":1},{"$f":"COUNTIF(OFFSET(H364,0,0,1,Author1Sections),\">0\")","v":3},{"$f":"COUNTIF(OFFSET(H364,0,Author1Sections,1,Author2Sections),\"=0\")","v":8},718,"deeds",0,0.1,0.1,0.3,0,0,0,0,0,0,0,0,0,0,0,0,0,0,0,0,0,0,0,0,0,0,0,0,0,"al","wave"]
[{"$f":"B365+C365","v":1.1428571428571428},{"$f":"D365/Author1Sections","v":0.14285714285714285},{"$f":"E365/Author2Sections","v":1},{"$f":"COUNTIF(OFFSET(H365,0,0,1,Author1Sections),\">0\")","v":3},{"$f":"COUNTIF(OFFSET(H365,0,Author1Sections,1,Author2Sections),\"=0\")","v":8},725,"els",0,0.3,0.1,0.1,0,0,0,0,0,0,0,0,0,0,0,0,0,0,0,0,0,0,0,0,0,0,0,0,0,"alive","windows"]
[{"$f":"B366+C366","v":1.1428571428571428},{"$f":"D366/Author1Sections","v":0.14285714285714285},{"$f":"E366/Author2Sections","v":1},{"$f":"COUNTIF(OFFSET(H366,0,0,1,Author1Sections),\">0\")","v":3},{"$f":"COUNTIF(OFFSET(H366,0,Author1Sections,1,Author2Sections),\"=0\")","v":8},741,"graunt",0,0,0,0,0,0,0,0,0,0,0,0,0.1,0,0.1,0.3,0,0,0,0,0,0,0,0,0,0,0,0,0,"apt","winter's"]
[{"$f":"B367+C367","v":1.1428571428571428},{"$f":"D367/Author1Sections","v":0.14285714285714285},{"$f":"E367/Author2Sections","v":1},{"$f":"COUNTIF(OFFSET(H367,0,0,1,Author1Sections),\">0\")","v":3},{"$f":"COUNTIF(OFFSET(H367,0,Author1Sections,1,Author2Sections),\"=0\")","v":8},745,"heauy",0,0,0,0,0,0,0,0,0,0,0,0,0,0.2,0,0,0,0,0,0.1,0.14074595000000001,0,0,0,0,0,0,0,0,"beene","witness"]
[{"$f":"B368+C368","v":1.1428571428571428},{"$f":"D368/Author1Sections","v":0.14285714285714285},{"$f":"E368/Author2Sections","v":1},{"$f":"COUNTIF(OFFSET(H368,0,0,1,Author1Sections),\">0\")","v":3},{"$f":"COUNTIF(OFFSET(H368,0,Author1Sections,1,Author2Sections),\"=0\")","v":8},770,"plaints",0,0.2,0,0,0,0,0,0,0,0,0,0,0,0,0,0.1,0,0,0,0,0.14074595000000001,0,0,0,0,0,0,0,0,"childe","woeful"]
[{"$f":"B369+C369","v":1.1428571428571428},{"$f":"D369/Author1Sections","v":0.14285714285714285},{"$f":"E369/Author2Sections","v":1},{"$f":"COUNTIF(OFFSET(H369,0,0,1,Author1Sections),\">0\")","v":3},{"$f":"COUNTIF(OFFSET(H369,0,Author1Sections,1,Author2Sections),\"=0\")","v":8},795,"shield",0,0,0,0,0,0.1,0,0,0,0,0.2,0,0,0.2,0,0,0,0,0,0,0,0,0,0,0,0,0,0,0,"daies","woo"]
[{"$f":"B370+C370","v":1.1428571428571428},{"$f":"D370/Author1Sections","v":0.14285714285714285},{"$f":"E370/Author2Sections","v":1},{"$f":"COUNTIF(OFFSET(H370,0,0,1,Author1Sections),\">0\")","v":3},{"$f":"COUNTIF(OFFSET(H370,0,Author1Sections,1,Author2Sections),\"=0\")","v":8},824,"whence",0,0,0,0,0,0,0,0,0,0,0,0.1,0.2,0,0,0,0,0,0.2,0,0,0,0,0,0,0,0,0,0,"deaths","year"]
[{"$f":"B371+C371","v":1.1428571428571428},{"$f":"D371/Author1Sections","v":0.14285714285714285},{"$f":"E371/Author2Sections","v":1},{"$f":"COUNTIF(OFFSET(H371,0,0,1,Author1Sections),\">0\")","v":3},{"$f":"COUNTIF(OFFSET(H371,0,Author1Sections,1,Author2Sections),\"=0\")","v":8},825,"whilest",0,0.2,0.2,0,7.4183979999999997E-2,0,0,0,0,0,0,0,0,0,0,0,0,0,0,0,0,0,0,0,0,0,0,0,0,"despaire","we"]
[{"$f":"B372+C372","v":1.1428571428571428},{"$f":"D372/Author1Sections","v":0.14285714285714285},{"$f":"E372/Author2Sections","v":1},{"$f":"COUNTIF(OFFSET(H372,0,0,1,Author1Sections),\">0\")","v":3},{"$f":"COUNTIF(OFFSET(H372,0,Author1Sections,1,Author2Sections),\"=0\")","v":8},832,"yeeld",0,0,0,0,0,0,0.3,0,0,0,0,0.1,0,0,0,0,0,0,0,0.1,0,0,0,0,0,0,0,0,0,"everie","many"]
[{"$f":"B373+C373","v":1.1428571428571428},{"$f":"D373/Author1Sections","v":0.14285714285714285},{"$f":"E373/Author2Sections","v":1},{"$f":"COUNTIF(OFFSET(H373,0,0,1,Author1Sections),\">0\")","v":3},{"$f":"COUNTIF(OFFSET(H373,0,Author1Sections,1,Author2Sections),\"=0\")","v":8},838,"al",0,0,0,0,0,0,0.2,0,0.1,0,0,0,0,0,0,0,0,0,0,0,7.0372980000000002E-2,0,0,0,0,0,0,0,0,"foolish","sing"]
[{"$f":"B374+C374","v":1.1428571428571428},{"$f":"D374/Author1Sections","v":0.14285714285714285},{"$f":"E374/Author2Sections","v":1},{"$f":"COUNTIF(OFFSET(H374,0,0,1,Author1Sections),\">0\")","v":3},{"$f":"COUNTIF(OFFSET(H374,0,Author1Sections,1,Author2Sections),\"=0\")","v":8},839,"alive",0,0.1,0.1,0.2,0,0,0,0,0,0,0,0,0,0,0,0,0,0,0,0,0,0,0,0,0,0,0,0,0,"forst","free"]
[{"$f":"B375+C375","v":1.1428571428571428},{"$f":"D375/Author1Sections","v":0.14285714285714285},{"$f":"E375/Author2Sections","v":1},{"$f":"COUNTIF(OFFSET(H375,0,0,1,Author1Sections),\">0\")","v":3},{"$f":"COUNTIF(OFFSET(H375,0,Author1Sections,1,Author2Sections),\"=0\")","v":8},844,"apt",0,0,0,0,0,0,0,0,0,0,0.1,0,0,0,0,0,0,0,0.2,0.1,0,0,0,0,0,0,0,0,0,"goodnesse","old"]
[{"$f":"B376+C376","v":1.1428571428571428},{"$f":"D376/Author1Sections","v":0.14285714285714285},{"$f":"E376/Author2Sections","v":1},{"$f":"COUNTIF(OFFSET(H376,0,0,1,Author1Sections),\">0\")","v":3},{"$f":"COUNTIF(OFFSET(H376,0,Author1Sections,1,Author2Sections),\"=0\")","v":8},850,"beene",0,0,0,0,0,0,0.2,0,0,0,0,0,0,0,0,0.1,0,0,0.1,0,0,0,0,0,0,0,0,0,0,"greater","young"]
[{"$f":"B377+C377","v":1.1428571428571428},{"$f":"D377/Author1Sections","v":0.14285714285714285},{"$f":"E377/Author2Sections","v":1},{"$f":"COUNTIF(OFFSET(H377,0,0,1,Author1Sections),\">0\")","v":3},{"$f":"COUNTIF(OFFSET(H377,0,Author1Sections,1,Author2Sections),\"=0\")","v":8},864,"childe",0,0,0,0,0,0,0.1,0,0.2,0.1,0,0,0,0,0,0,0,0,0,0,0,0,0,0,0,0,0,0,0,"happines","said"]
[{"$f":"B378+C378","v":1.1428571428571428},{"$f":"D378/Author1Sections","v":0.14285714285714285},{"$f":"E378/Author2Sections","v":1},{"$f":"COUNTIF(OFFSET(H378,0,0,1,Author1Sections),\">0\")","v":3},{"$f":"COUNTIF(OFFSET(H378,0,Author1Sections,1,Author2Sections),\"=0\")","v":8},870,"daies",0.1,0,0.2,0,7.4183979999999997E-2,0,0,0,0,0,0,0,0,0,0,0,0,0,0,0,0,0,0,0,0,0,0,0,0,"heau'ns","was"]
[{"$f":"B379+C379","v":1.1428571428571428},{"$f":"D379/Author1Sections","v":0.14285714285714285},{"$f":"E379/Author2Sections","v":1},{"$f":"COUNTIF(OFFSET(H379,0,0,1,Author1Sections),\">0\")","v":3},{"$f":"COUNTIF(OFFSET(H379,0,Author1Sections,1,Author2Sections),\"=0\")","v":8},874,"deaths",0,0,0,0,0,0,0,0,0,0.2,0.1,0,0,0,0,0,0,0.1,0,0,0,0,0,0,0,0,0,0,0,"holds","may"]
[{"$f":"B380+C380","v":1.1428571428571428},{"$f":"D380/Author1Sections","v":0.14285714285714285},{"$f":"E380/Author2Sections","v":1},{"$f":"COUNTIF(OFFSET(H380,0,0,1,Author1Sections),\">0\")","v":3},{"$f":"COUNTIF(OFFSET(H380,0,Author1Sections,1,Author2Sections),\"=0\")","v":8},878,"despaire",0,0,0,0,0,0,0,0,0,0.1,0,0,0,0.1,0,0,0,0,0,0,0.14074595000000001,0,0,0,0,0,0,0,0,"immortall","whose"]
[{"$f":"B381+C381","v":1.1428571428571428},{"$f":"D381/Author1Sections","v":0.14285714285714285},{"$f":"E381/Author2Sections","v":1},{"$f":"COUNTIF(OFFSET(H381,0,0,1,Author1Sections),\">0\")","v":3},{"$f":"COUNTIF(OFFSET(H381,0,Author1Sections,1,Author2Sections),\"=0\")","v":8},888,"everie",0,0.1,0.1,0.2,0,0,0,0,0,0,0,0,0,0,0,0,0,0,0,0,0,0,0,0,0,0,0,0,0,"ioue","above"]
[{"$f":"B382+C382","v":1.1428571428571428},{"$f":"D382/Author1Sections","v":0.14285714285714285},{"$f":"E382/Author2Sections","v":1},{"$f":"COUNTIF(OFFSET(H382,0,0,1,Author1Sections),\">0\")","v":3},{"$f":"COUNTIF(OFFSET(H382,0,Author1Sections,1,Author2Sections),\"=0\")","v":8},894,"foolish",0,0,0,0,0,0,0.1,0,0,0,0,0,0.2,0.1,0,0,0,0,0,0,0,0,0,0,0,0,0,0,0,"learnd","often"]
[{"$f":"B383+C383","v":1.1428571428571428},{"$f":"D383/Author1Sections","v":0.14285714285714285},{"$f":"E383/Author2Sections","v":1},{"$f":"COUNTIF(OFFSET(H383,0,0,1,Author1Sections),\">0\")","v":3},{"$f":"COUNTIF(OFFSET(H383,0,Author1Sections,1,Author2Sections),\"=0\")","v":8},899,"forst",0,0,0,0,0,0,0,0,0,0,0,0,0,0,0,0.1,0,0,0.1,0,0.14074595000000001,0,0,0,0,0,0,0,0,"lord","against"]
[{"$f":"B384+C384","v":1.1428571428571428},{"$f":"D384/Author1Sections","v":0.14285714285714285},{"$f":"E384/Author2Sections","v":1},{"$f":"COUNTIF(OFFSET(H384,0,0,1,Author1Sections),\">0\")","v":3},{"$f":"COUNTIF(OFFSET(H384,0,Author1Sections,1,Author2Sections),\"=0\")","v":8},906,"goodnesse",0,0,0,0,0,0,0,0.2,0.1,0,0,0,0,0,0,0,0.1,0,0,0,0,0,0,0,0,0,0,0,0,"lot","among"]
[{"$f":"B385+C385","v":1.1428571428571428},{"$f":"D385/Author1Sections","v":0.14285714285714285},{"$f":"E385/Author2Sections","v":1},{"$f":"COUNTIF(OFFSET(H385,0,0,1,Author1Sections),\">0\")","v":3},{"$f":"COUNTIF(OFFSET(H385,0,Author1Sections,1,Author2Sections),\"=0\")","v":8},912,"greater",0,0,0,0,0,0,0.1,0,0.2,0,0.1,0,0,0,0,0,0,0,0,0,0,0,0,0,0,0,0,0,0,"phrases","black"]
[{"$f":"B386+C386","v":1.1428571428571428},{"$f":"D386/Author1Sections","v":0.14285714285714285},{"$f":"E386/Author2Sections","v":1},{"$f":"COUNTIF(OFFSET(H386,0,0,1,Author1Sections),\">0\")","v":3},{"$f":"COUNTIF(OFFSET(H386,0,Author1Sections,1,Author2Sections),\"=0\")","v":8},919,"happines",0.2,0,0.1,0,7.4183979999999997E-2,0,0,0,0,0,0,0,0,0,0,0,0,0,0,0,0,0,0,0,0,0,0,0,0,"placed","leave"]
[{"$f":"B387+C387","v":1.1428571428571428},{"$f":"D387/Author1Sections","v":0.14285714285714285},{"$f":"E387/Author2Sections","v":1},{"$f":"COUNTIF(OFFSET(H387,0,0,1,Author1Sections),\">0\")","v":3},{"$f":"COUNTIF(OFFSET(H387,0,Author1Sections,1,Author2Sections),\"=0\")","v":8},923,"heau'ns",0,0,0,0,0,0,0,0,0,0.2,0,0,0,0,0,0,0.1,0,0.1,0,0,0,0,0,0,0,0,0,0,"remoue","looks"]
[{"$f":"B388+C388","v":1.1428571428571428},{"$f":"D388/Author1Sections","v":0.14285714285714285},{"$f":"E388/Author2Sections","v":1},{"$f":"COUNTIF(OFFSET(H388,0,0,1,Author1Sections),\">0\")","v":3},{"$f":"COUNTIF(OFFSET(H388,0,Author1Sections,1,Author2Sections),\"=0\")","v":8},931,"holds",0,0,0,0,0,0,0,0,0,0,0,0.1,0,0,0,0,0,0.2,0,0.1,0,0,0,0,0,0,0,0,0,"run","sent"]
[{"$f":"B389+C389","v":1.1428571428571428},{"$f":"D389/Author1Sections","v":0.14285714285714285},{"$f":"E389/Author2Sections","v":1},{"$f":"COUNTIF(OFFSET(H389,0,0,1,Author1Sections),\">0\")","v":3},{"$f":"COUNTIF(OFFSET(H389,0,Author1Sections,1,Author2Sections),\"=0\")","v":8},934,"immortall",0,0,0.2,0.1,7.4183979999999997E-2,0,0,0,0,0,0,0,0,0,0,0,0,0,0,0,0,0,0,0,0,0,0,0,0,"saith","flowers"]
[{"$f":"B390+C390","v":1.1428571428571428},{"$f":"D390/Author1Sections","v":0.14285714285714285},{"$f":"E390/Author2Sections","v":1},{"$f":"COUNTIF(OFFSET(H390,0,0,1,Author1Sections),\">0\")","v":3},{"$f":"COUNTIF(OFFSET(H390,0,Author1Sections,1,Author2Sections),\"=0\")","v":8},937,"ioue",0,0,0,0,0,0.1,0,0,0,0.1,0.2,0,0,0,0,0,0,0,0,0,0,0,0,0,0,0,0,0,0,"sayd","keep"]
[{"$f":"B391+C391","v":1.1428571428571428},{"$f":"D391/Author1Sections","v":0.14285714285714285},{"$f":"E391/Author2Sections","v":1},{"$f":"COUNTIF(OFFSET(H391,0,0,1,Author1Sections),\">0\")","v":3},{"$f":"COUNTIF(OFFSET(H391,0,Author1Sections,1,Author2Sections),\"=0\")","v":8},945,"learnd",0,0,0,0,0,0,0,0,0,0,0.2,0,0,0.1,0,0,0.1,0,0,0,0,0,0,0,0,0,0,0,0,"sayes","locks"]
[{"$f":"B392+C392","v":1.1428571428571428},{"$f":"D392/Author1Sections","v":0.14285714285714285},{"$f":"E392/Author2Sections","v":1},{"$f":"COUNTIF(OFFSET(H392,0,0,1,Author1Sections),\">0\")","v":3},{"$f":"COUNTIF(OFFSET(H392,0,Author1Sections,1,Author2Sections),\"=0\")","v":8},955,"lord",0,0.2,0,0,0,0,0,0,0,0,0,0,0,0,0.1,0,0,0,0,0,7.0372980000000002E-2,0,0,0,0,0,0,0,0,"seruices","slow"]
[{"$f":"B393+C393","v":1.1428571428571428},{"$f":"D393/Author1Sections","v":0.14285714285714285},{"$f":"E393/Author2Sections","v":1},{"$f":"COUNTIF(OFFSET(H393,0,0,1,Author1Sections),\">0\")","v":3},{"$f":"COUNTIF(OFFSET(H393,0,Author1Sections,1,Author2Sections),\"=0\")","v":8},957,"lot",0,0,0,0,0,0,0,0,0.2,0,0,0.1,0,0,0,0,0,0,0.1,0,0,0,0,0,0,0,0,0,0,"spoyle","parts"]
[{"$f":"B394+C394","v":1.1428571428571428},{"$f":"D394/Author1Sections","v":0.14285714285714285},{"$f":"E394/Author2Sections","v":1},{"$f":"COUNTIF(OFFSET(H394,0,0,1,Author1Sections),\">0\")","v":3},{"$f":"COUNTIF(OFFSET(H394,0,Author1Sections,1,Author2Sections),\"=0\")","v":8},973,"phrases",0,0,0,0,0,0,0,0,0.2,0,0,0,0,0,0,0.1,0.1,0,0,0,0,0,0,0,0,0,0,0,0,"therein","ride"]
[{"$f":"B395+C395","v":1.1428571428571428},{"$f":"D395/Author1Sections","v":0.14285714285714285},{"$f":"E395/Author2Sections","v":1},{"$f":"COUNTIF(OFFSET(H395,0,0,1,Author1Sections),\">0\")","v":3},{"$f":"COUNTIF(OFFSET(H395,0,Author1Sections,1,Author2Sections),\"=0\")","v":8},975,"placed",0,0.1,0,0.2,0,0.1,0,0,0,0,0,0,0,0,0,0,0,0,0,0,0,0,0,0,0,0,0,0,0,"tooke","shades"]
[{"$f":"B396+C396","v":1.1428571428571428},{"$f":"D396/Author1Sections","v":0.14285714285714285},{"$f":"E396/Author2Sections","v":1},{"$f":"COUNTIF(OFFSET(H396,0,0,1,Author1Sections),\">0\")","v":3},{"$f":"COUNTIF(OFFSET(H396,0,Author1Sections,1,Author2Sections),\"=0\")","v":8},986,"remoue",0,0,0,0,0,0,0,0,0,0,0,0,0,0.2,0,0.1,0,0.1,0,0,0,0,0,0,0,0,0,0,0,"towre",true]
[{"$f":"B397+C397","v":1.1428571428571428},{"$f":"D397/Author1Sections","v":0.14285714285714285},{"$f":"E397/Author2Sections","v":1},{"$f":"COUNTIF(OFFSET(H397,0,0,1,Author1Sections),\">0\")","v":3},{"$f":"COUNTIF(OFFSET(H397,0,Author1Sections,1,Author2Sections),\"=0\")","v":8},992,"run",0,0,0,0,0,0,0,0,0,0,0.2,0,0,0,0,0,0.1,0,0.1,0,0,0,0,0,0,0,0,0,0,"whilome","ever"]
[{"$f":"B398+C398","v":1.1428571428571428},{"$f":"D398/Author1Sections","v":0.14285714285714285},{"$f":"E398/Author2Sections","v":1},{"$f":"COUNTIF(OFFSET(H398,0,0,1,Author1Sections),\">0\")","v":3},{"$f":"COUNTIF(OFFSET(H398,0,Author1Sections,1,Author2Sections),\"=0\")","v":8},993,"saith",0,0,0,0,0,0,0,0.2,0,0,0.1,0,0,0,0.1,0,0,0,0,0,0,0,0,0,0,0,0,0,0,"whome","beauty"]
[{"$f":"B399+C399","v":1.1428571428571428},{"$f":"D399/Author1Sections","v":0.14285714285714285},{"$f":"E399/Author2Sections","v":1},{"$f":"COUNTIF(OFFSET(H399,0,0,1,Author1Sections),\">0\")","v":3},{"$f":"COUNTIF(OFFSET(H399,0,Author1Sections,1,Author2Sections),\"=0\")","v":8},994,"sayd",0,0,0,0,0,0.1,0,0,0.2,0,0,0,0,0,0,0,0,0,0,0.1,0,0,0,0,0,0,0,0,0,"worse","cold"]
[{"$f":"B400+C400","v":1.1428571428571428},{"$f":"D400/Author1Sections","v":0.14285714285714285},{"$f":"E400/Author2Sections","v":1},{"$f":"COUNTIF(OFFSET(H400,0,0,1,Author1Sections),\">0\")","v":3},{"$f":"COUNTIF(OFFSET(H400,0,Author1Sections,1,Author2Sections),\"=0\")","v":8},995,"sayes",0,0,0,0,0,0,0,0,0,0,0,0.1,0,0,0,0,0.2,0,0.1,0,0,0,0,0,0,0,0,0,0,"worthie","spring"]
[{"$f":"B401+C401","v":1.1428571428571428},{"$f":"D401/Author1Sections","v":0.14285714285714285},{"$f":"E401/Author2Sections","v":1},{"$f":"COUNTIF(OFFSET(H401,0,0,1,Author1Sections),\">0\")","v":3},{"$f":"COUNTIF(OFFSET(H401,0,Author1Sections,1,Author2Sections),\"=0\")","v":8},1000,"seruices",0,0,0,0,0,0,0.1,0,0.2,0,0,0,0,0,0,0,0.1,0,0,0,0,0,0,0,0,0,0,0,0,"wot","thee"]
[{"$f":"B402+C402","v":1.1428571428571428},{"$f":"D402/Author1Sections","v":0.14285714285714285},{"$f":"E402/Author2Sections","v":1},{"$f":"COUNTIF(OFFSET(H402,0,0,1,Author1Sections),\">0\")","v":3},{"$f":"COUNTIF(OFFSET(H402,0,Author1Sections,1,Author2Sections),\"=0\")","v":8},1012,"spoyle",0.1,0,0,0,0.14836795999999999,0,0,0,0,0,0,0,0,0,0,0,0,0.1,0,0,0,0,0,0,0,0,0,0,0,"according","through"]
[{"$f":"B403+C403","v":1.1428571428571428},{"$f":"D403/Author1Sections","v":0.14285714285714285},{"$f":"E403/Author2Sections","v":1},{"$f":"COUNTIF(OFFSET(H403,0,0,1,Author1Sections),\">0\")","v":3},{"$f":"COUNTIF(OFFSET(H403,0,Author1Sections,1,Author2Sections),\"=0\")","v":8},1025,"therein",0,0,0,0,0.14836795999999999,0,0,0,0,0,0,0.1,0,0,0,0,0,0,0,0,7.0372980000000002E-2,0,0,0,0,0,0,0,0,"beaten","use"]
[{"$f":"B404+C404","v":1.1428571428571428},{"$f":"D404/Author1Sections","v":0.14285714285714285},{"$f":"E404/Author2Sections","v":1},{"$f":"COUNTIF(OFFSET(H404,0,0,1,Author1Sections),\">0\")","v":3},{"$f":"COUNTIF(OFFSET(H404,0,Author1Sections,1,Author2Sections),\"=0\")","v":8},1028,"tooke",0,0,0,0,0,0,0,0,0.2,0,0,0.1,0,0,0,0.1,0,0,0,0,0,0,0,0,0,0,0,0,0,"beheld","fairer"]
[{"$f":"B405+C405","v":1.1428571428571428},{"$f":"D405/Author1Sections","v":0.14285714285714285},{"$f":"E405/Author2Sections","v":1},{"$f":"COUNTIF(OFFSET(H405,0,0,1,Author1Sections),\">0\")","v":3},{"$f":"COUNTIF(OFFSET(H405,0,Author1Sections,1,Author2Sections),\"=0\")","v":8},1030,"towre",0,0.1,0,0.2,7.4183979999999997E-2,0,0,0,0,0,0,0,0,0,0,0,0,0,0,0,0,0,0,0,0,0,0,0,0,"blame","melancholy"]
[{"$f":"B406+C406","v":1.1428571428571428},{"$f":"D406/Author1Sections","v":0.14285714285714285},{"$f":"E406/Author2Sections","v":1},{"$f":"COUNTIF(OFFSET(H406,0,0,1,Author1Sections),\">0\")","v":3},{"$f":"COUNTIF(OFFSET(H406,0,Author1Sections,1,Author2Sections),\"=0\")","v":8},1037,"whilome",0,0,0.1,0.1,0.14836795999999999,0,0,0,0,0,0,0,0,0,0,0,0,0,0,0,0,0,0,0,0,0,0,0,0,"bloudy","waste"]
[{"$f":"B407+C407","v":1.1428571428571428},{"$f":"D407/Author1Sections","v":0.14285714285714285},{"$f":"E407/Author2Sections","v":1},{"$f":"COUNTIF(OFFSET(H407,0,0,1,Author1Sections),\">0\")","v":3},{"$f":"COUNTIF(OFFSET(H407,0,Author1Sections,1,Author2Sections),\"=0\")","v":8},1038,"whome",0.1,0,0.1,0,0,0,0,0,0,0,0,0,0,0,0,0,0,0,0,0,0.14074595000000001,0,0,0,0,0,0,0,0,"blushing","air"]
[{"$f":"B408+C408","v":1.1428571428571428},{"$f":"D408/Author1Sections","v":0.14285714285714285},{"$f":"E408/Author2Sections","v":1},{"$f":"COUNTIF(OFFSET(H408,0,0,1,Author1Sections),\">0\")","v":3},{"$f":"COUNTIF(OFFSET(H408,0,Author1Sections,1,Author2Sections),\"=0\")","v":8},1045,"worse",0,0,0,0,0,0,0,0.1,0,0,0.2,0.1,0,0,0,0,0,0,0,0,0,0,0,0,0,0,0,0,0,"booke","burning"]
[{"$f":"B409+C409","v":1.1428571428571428},{"$f":"D409/Author1Sections","v":0.14285714285714285},{"$f":"E409/Author2Sections","v":1},{"$f":"COUNTIF(OFFSET(H409,0,0,1,Author1Sections),\">0\")","v":3},{"$f":"COUNTIF(OFFSET(H409,0,Author1Sections,1,Author2Sections),\"=0\")","v":8},1046,"worthie",0,0,0.2,0,0,0,0,0,0.1,0,0,0,0,0,0,0,0,0.1,0,0,0,0,0,0,0,0,0,0,0,"bosome","daughter"]
[{"$f":"B410+C410","v":1.1428571428571428},{"$f":"D410/Author1Sections","v":0.14285714285714285},{"$f":"E410/Author2Sections","v":1},{"$f":"COUNTIF(OFFSET(H410,0,0,1,Author1Sections),\">0\")","v":3},{"$f":"COUNTIF(OFFSET(H410,0,Author1Sections,1,Author2Sections),\"=0\")","v":8},1047,"wot",0,0,0,0,0,0.1,0,0,0,0.1,0,0,0,0,0,0,0,0.2,0,0,0,0,0,0,0,0,0,0,0,"breake","foul"]
[{"$f":"B411+C411","v":1.1428571428571428},{"$f":"D411/Author1Sections","v":0.14285714285714285},{"$f":"E411/Author2Sections","v":1},{"$f":"COUNTIF(OFFSET(H411,0,0,1,Author1Sections),\">0\")","v":3},{"$f":"COUNTIF(OFFSET(H411,0,Author1Sections,1,Author2Sections),\"=0\")","v":8},1058,"according",0,0,0,0,0,0,0,0.1,0.1,0,0,0,0,0,0.1,0,0,0,0,0,0,0,0,0,0,0,0,0,0,"chamber","grave"]
[{"$f":"B412+C412","v":1.1428571428571428},{"$f":"D412/Author1Sections","v":0.14285714285714285},{"$f":"E412/Author2Sections","v":1},{"$f":"COUNTIF(OFFSET(H412,0,0,1,Author1Sections),\">0\")","v":3},{"$f":"COUNTIF(OFFSET(H412,0,Author1Sections,1,Author2Sections),\"=0\")","v":8},1073,"beaten",0,0,0,0,0,0,0,0,0.1,0,0,0,0,0,0,0.1,0,0,0,0,7.0372980000000002E-2,0,0,0,0,0,0,0,0,"chiefe","jove"]
[{"$f":"B413+C413","v":1.1428571428571428},{"$f":"D413/Author1Sections","v":0.14285714285714285},{"$f":"E413/Author2Sections","v":1},{"$f":"COUNTIF(OFFSET(H413,0,0,1,Author1Sections),\">0\")","v":3},{"$f":"COUNTIF(OFFSET(H413,0,Author1Sections,1,Author2Sections),\"=0\")","v":8},1077,"beheld",0,0.1,0,0,7.4183979999999997E-2,0,0,0,0,0,0.1,0,0,0,0,0,0,0,0,0,0,0,0,0,0,0,0,0,0,"children","kept"]
[{"$f":"B414+C414","v":1.1428571428571428},{"$f":"D414/Author1Sections","v":0.14285714285714285},{"$f":"E414/Author2Sections","v":1},{"$f":"COUNTIF(OFFSET(H414,0,0,1,Author1Sections),\">0\")","v":3},{"$f":"COUNTIF(OFFSET(H414,0,Author1Sections,1,Author2Sections),\"=0\")","v":8},1081,"blame",0,0.1,0,0,0,0,0,0,0,0,0,0.1,0,0,0,0,0,0,0,0,7.0372980000000002E-2,0,0,0,0,0,0,0,0,"chosen","led"]
[{"$f":"B415+C415","v":1.1428571428571428},{"$f":"D415/Author1Sections","v":0.14285714285714285},{"$f":"E415/Author2Sections","v":1},{"$f":"COUNTIF(OFFSET(H415,0,0,1,Author1Sections),\">0\")","v":3},{"$f":"COUNTIF(OFFSET(H415,0,Author1Sections,1,Author2Sections),\"=0\")","v":8},1082,"bloudy",0,0,0,0,0,0.1,0,0,0,0,0.1,0,0,0,0,0,0,0.1,0,0,0,0,0,0,0,0,0,0,0,"clips","letters"]
[{"$f":"B416+C416","v":1.1428571428571428},{"$f":"D416/Author1Sections","v":0.14285714285714285},{"$f":"E416/Author2Sections","v":1},{"$f":"COUNTIF(OFFSET(H416,0,0,1,Author1Sections),\">0\")","v":3},{"$f":"COUNTIF(OFFSET(H416,0,Author1Sections,1,Author2Sections),\"=0\")","v":8},1084,"blushing",0,0,0,0,0,0,0,0,0,0,0,0,0,0.1,0,0,0.1,0,0.1,0,0,0,0,0,0,0,0,0,0,"compared","loves"]
[{"$f":"B417+C417","v":1.1428571428571428},{"$f":"D417/Author1Sections","v":0.14285714285714285},{"$f":"E417/Author2Sections","v":1},{"$f":"COUNTIF(OFFSET(H417,0,0,1,Author1Sections),\">0\")","v":3},{"$f":"COUNTIF(OFFSET(H417,0,Author1Sections,1,Author2Sections),\"=0\")","v":8},1087,"booke",0,0,0,0,0,0,0,0,0,0.1,0,0,0,0,0,0.1,0.1,0,0,0,0,0,0,0,0,0,0,0,0,"creepe","note"]
[{"$f":"B418+C418","v":1.1428571428571428},{"$f":"D418/Author1Sections","v":0.14285714285714285},{"$f":"E418/Author2Sections","v":1},{"$f":"COUNTIF(OFFSET(H418,0,0,1,Author1Sections),\">0\")","v":3},{"$f":"COUNTIF(OFFSET(H418,0,Author1Sections,1,Author2Sections),\"=0\")","v":8},1088,"bosome",0,0.1,0.1,0,0,0,0,0,0,0,0,0,0,0,0,0.1,0,0,0,0,0,0,0,0,0,0,0,0,0,"crowne","nymphs"]
[{"$f":"B419+C419","v":1.1428571428571428},{"$f":"D419/Author1Sections","v":0.14285714285714285},{"$f":"E419/Author2Sections","v":1},{"$f":"COUNTIF(OFFSET(H419,0,0,1,Author1Sections),\">0\")","v":3},{"$f":"COUNTIF(OFFSET(H419,0,Author1Sections,1,Author2Sections),\"=0\")","v":8},1094,"breake",0,0,0.1,0,0,0,0,0,0,0,0,0,0,0,0.1,0,0.1,0,0,0,0,0,0,0,0,0,0,0,0,"curse","spirit"]
[{"$f":"B420+C420","v":1.1428571428571428},{"$f":"D420/Author1Sections","v":0.14285714285714285},{"$f":"E420/Author2Sections","v":1},{"$f":"COUNTIF(OFFSET(H420,0,0,1,Author1Sections),\">0\")","v":3},{"$f":"COUNTIF(OFFSET(H420,0,Author1Sections,1,Author2Sections),\"=0\")","v":8},1102,"chamber",0,0,0,0,0,0,0,0,0,0,0,0.1,0,0.1,0,0,0,0,0.1,0,0,0,0,0,0,0,0,0,0,"cut","stand"]
[{"$f":"B421+C421","v":1.1428571428571428},{"$f":"D421/Author1Sections","v":0.14285714285714285},{"$f":"E421/Author2Sections","v":1},{"$f":"COUNTIF(OFFSET(H421,0,0,1,Author1Sections),\">0\")","v":3},{"$f":"COUNTIF(OFFSET(H421,0,Author1Sections,1,Author2Sections),\"=0\")","v":8},1106,"chiefe",0,0,0,0,0,0,0,0,0,0,0,0.1,0,0,0,0,0.1,0,0.1,0,0,0,0,0,0,0,0,0,0,"dayes","toward"]
[{"$f":"B422+C422","v":1.1428571428571428},{"$f":"D422/Author1Sections","v":0.14285714285714285},{"$f":"E422/Author2Sections","v":1},{"$f":"COUNTIF(OFFSET(H422,0,0,1,Author1Sections),\">0\")","v":3},{"$f":"COUNTIF(OFFSET(H422,0,Author1Sections,1,Author2Sections),\"=0\")","v":8},1107,"children",0,0,0,0,0,0,0,0,0,0,0,0.1,0,0,0,0.1,0,0,0,0.1,0,0,0,0,0,0,0,0,0,"dazled","amber"]
[{"$f":"B423+C423","v":1.1428571428571428},{"$f":"D423/Author1Sections","v":0.14285714285714285},{"$f":"E423/Author2Sections","v":1},{"$f":"COUNTIF(OFFSET(H423,0,0,1,Author1Sections),\">0\")","v":3},{"$f":"COUNTIF(OFFSET(H423,0,Author1Sections,1,Author2Sections),\"=0\")","v":8},1108,"chosen",0,0,0.1,0,0,0,0.1,0,0.1,0,0,0,0,0,0,0,0,0,0,0,0,0,0,0,0,0,0,0,0,"deserue","answer"]
[{"$f":"B424+C424","v":1.1428571428571428},{"$f":"D424/Author1Sections","v":0.14285714285714285},{"$f":"E424/Author2Sections","v":1},{"$f":"COUNTIF(OFFSET(H424,0,0,1,Author1Sections),\">0\")","v":3},{"$f":"COUNTIF(OFFSET(H424,0,Author1Sections,1,Author2Sections),\"=0\")","v":8},1111,"clips",0,0,0,0,0,0,0,0,0,0.1,0,0,0,0,0,0.1,0,0,0,0,7.0372980000000002E-2,0,0,0,0,0,0,0,0,"display","apace"]
[{"$f":"B425+C425","v":1.1428571428571428},{"$f":"D425/Author1Sections","v":0.14285714285714285},{"$f":"E425/Author2Sections","v":1},{"$f":"COUNTIF(OFFSET(H425,0,0,1,Author1Sections),\">0\")","v":3},{"$f":"COUNTIF(OFFSET(H425,0,Author1Sections,1,Author2Sections),\"=0\")","v":8},1115,"compared",0.1,0,0,0,0,0,0.1,0.1,0,0,0,0,0,0,0,0,0,0,0,0,0,0,0,0,0,0,0,0,0,"doome","beams"]
[{"$f":"B426+C426","v":1.1428571428571428},{"$f":"D426/Author1Sections","v":0.14285714285714285},{"$f":"E426/Author2Sections","v":1},{"$f":"COUNTIF(OFFSET(H426,0,0,1,Author1Sections),\">0\")","v":3},{"$f":"COUNTIF(OFFSET(H426,0,Author1Sections,1,Author2Sections),\"=0\")","v":8},1118,"creepe",0,0,0,0,0,0,0,0,0,0,0,0,0.1,0,0,0,0.1,0,0.1,0,0,0,0,0,0,0,0,0,0,"doubts","begins"]
[{"$f":"B427+C427","v":1.1428571428571428},{"$f":"D427/Author1Sections","v":0.14285714285714285},{"$f":"E427/Author2Sections","v":1},{"$f":"COUNTIF(OFFSET(H427,0,0,1,Author1Sections),\">0\")","v":3},{"$f":"COUNTIF(OFFSET(H427,0,Author1Sections,1,Author2Sections),\"=0\")","v":8},1119,"crowne",0,0,0.1,0,0,0,0,0,0,0,0,0,0.1,0,0,0,0,0.1,0,0,0,0,0,0,0,0,0,0,0,"dumbe","bounteous"]
[{"$f":"B428+C428","v":1.1428571428571428},{"$f":"D428/Author1Sections","v":0.14285714285714285},{"$f":"E428/Author2Sections","v":1},{"$f":"COUNTIF(OFFSET(H428,0,0,1,Author1Sections),\">0\")","v":3},{"$f":"COUNTIF(OFFSET(H428,0,Author1Sections,1,Author2Sections),\"=0\")","v":8},1121,"curse",0,0,0,0,0,0,0,0,0,0,0,0,0,0,0,0.1,0,0,0,0.1,7.0372980000000002E-2,0,0,0,0,0,0,0,0,"earthly","break"]
[{"$f":"B429+C429","v":1.1428571428571428},{"$f":"D429/Author1Sections","v":0.14285714285714285},{"$f":"E429/Author2Sections","v":1},{"$f":"COUNTIF(OFFSET(H429,0,0,1,Author1Sections),\">0\")","v":3},{"$f":"COUNTIF(OFFSET(H429,0,Author1Sections,1,Author2Sections),\"=0\")","v":8},1122,"cut",0,0.1,0,0,0,0,0,0.1,0,0,0,0,0,0,0,0,0,0,0.1,0,0,0,0,0,0,0,0,0,0,"ended","brooks"]
[{"$f":"B430+C430","v":1.1428571428571428},{"$f":"D430/Author1Sections","v":0.14285714285714285},{"$f":"E430/Author2Sections","v":1},{"$f":"COUNTIF(OFFSET(H430,0,0,1,Author1Sections),\">0\")","v":3},{"$f":"COUNTIF(OFFSET(H430,0,Author1Sections,1,Author2Sections),\"=0\")","v":8},1126,"dayes",0.1,0,0.1,0,0,0,0,0.1,0,0,0,0,0,0,0,0,0,0,0,0,0,0,0,0,0,0,0,0,0,"enrich","creep"]
[{"$f":"B431+C431","v":1.1428571428571428},{"$f":"D431/Author1Sections","v":0.14285714285714285},{"$f":"E431/Author2Sections","v":1},{"$f":"COUNTIF(OFFSET(H431,0,0,1,Author1Sections),\">0\")","v":3},{"$f":"COUNTIF(OFFSET(H431,0,Author1Sections,1,Author2Sections),\"=0\")","v":8},1127,"dazled",0,0,0,0,0,0.1,0,0.1,0,0,0,0,0,0,0.1,0,0,0,0,0,0,0,0,0,0,0,0,0,0,"entertaine","door"]
[{"$f":"B432+C432","v":1.1428571428571428},{"$f":"D432/Author1Sections","v":0.14285714285714285},{"$f":"E432/Author2Sections","v":1},{"$f":"COUNTIF(OFFSET(H432,0,0,1,Author1Sections),\">0\")","v":3},{"$f":"COUNTIF(OFFSET(H432,0,Author1Sections,1,Author2Sections),\"=0\")","v":8},1131,"deserue",0,0,0,0,0,0.1,0.1,0,0.1,0,0,0,0,0,0,0,0,0,0,0,0,0,0,0,0,0,0,0,0,"enuy","doors"]
[{"$f":"B433+C433","v":1.1428571428571428},{"$f":"D433/Author1Sections","v":0.14285714285714285},{"$f":"E433/Author2Sections","v":1},{"$f":"COUNTIF(OFFSET(H433,0,0,1,Author1Sections),\">0\")","v":3},{"$f":"COUNTIF(OFFSET(H433,0,Author1Sections,1,Author2Sections),\"=0\")","v":8},1135,"display",0,0,0,0,0,0,0,0,0,0.1,0,0,0,0,0,0,0,0,0.1,0,7.0372980000000002E-2,0,0,0,0,0,0,0,0,"errour","even"]
[{"$f":"B434+C434","v":1.1428571428571428},{"$f":"D434/Author1Sections","v":0.14285714285714285},{"$f":"E434/Author2Sections","v":1},{"$f":"COUNTIF(OFFSET(H434,0,0,1,Author1Sections),\">0\")","v":3},{"$f":"COUNTIF(OFFSET(H434,0,Author1Sections,1,Author2Sections),\"=0\")","v":8},1137,"doome",0,0,0.1,0,0,0,0,0,0,0,0,0.1,0,0,0,0,0,0,0.1,0,0,0,0,0,0,0,0,0,0,"fates","excuse"]
[{"$f":"B435+C435","v":1.1428571428571428},{"$f":"D435/Author1Sections","v":0.14285714285714285},{"$f":"E435/Author2Sections","v":1},{"$f":"COUNTIF(OFFSET(H435,0,0,1,Author1Sections),\">0\")","v":3},{"$f":"COUNTIF(OFFSET(H435,0,Author1Sections,1,Author2Sections),\"=0\")","v":8},1140,"doubts",0,0,0,0,0,0,0,0,0.1,0,0,0,0,0.1,0,0,0,0,0,0.1,0,0,0,0,0,0,0,0,0,"fayre","fail"]
[{"$f":"B436+C436","v":1.1428571428571428},{"$f":"D436/Author1Sections","v":0.14285714285714285},{"$f":"E436/Author2Sections","v":1},{"$f":"COUNTIF(OFFSET(H436,0,0,1,Author1Sections),\">0\")","v":3},{"$f":"COUNTIF(OFFSET(H436,0,Author1Sections,1,Author2Sections),\"=0\")","v":8},1144,"dumbe",0,0,0,0,0,0,0,0,0,0,0,0,0,0,0.1,0.1,0,0,0.1,0,0,0,0,0,0,0,0,0,0,"feete","fancies"]
[{"$f":"B437+C437","v":1.1428571428571428},{"$f":"D437/Author1Sections","v":0.14285714285714285},{"$f":"E437/Author2Sections","v":1},{"$f":"COUNTIF(OFFSET(H437,0,0,1,Author1Sections),\">0\")","v":3},{"$f":"COUNTIF(OFFSET(H437,0,Author1Sections,1,Author2Sections),\"=0\")","v":8},1145,"earthly",0,0.1,0,0.1,0,0,0,0,0,0,0,0,0,0,0,0,0,0,0,0.1,0,0,0,0,0,0,0,0,0,"fight","fond"]
[{"$f":"B438+C438","v":1.1428571428571428},{"$f":"D438/Author1Sections","v":0.14285714285714285},{"$f":"E438/Author2Sections","v":1},{"$f":"COUNTIF(OFFSET(H438,0,0,1,Author1Sections),\">0\")","v":3},{"$f":"COUNTIF(OFFSET(H438,0,Author1Sections,1,Author2Sections),\"=0\")","v":8},1147,"ended",0,0,0,0.1,7.4183979999999997E-2,0,0,0,0.1,0,0,0,0,0,0,0,0,0,0,0,0,0,0,0,0,0,0,0,0,"flatterie","gate"]
[{"$f":"B439+C439","v":1.1428571428571428},{"$f":"D439/Author1Sections","v":0.14285714285714285},{"$f":"E439/Author2Sections","v":1},{"$f":"COUNTIF(OFFSET(H439,0,0,1,Author1Sections),\">0\")","v":3},{"$f":"COUNTIF(OFFSET(H439,0,Author1Sections,1,Author2Sections),\"=0\")","v":8},1150,"enrich",0,0,0.1,0,0,0.1,0,0,0.1,0,0,0,0,0,0,0,0,0,0,0,0,0,0,0,0,0,0,0,0,"flies","genius"]
[{"$f":"B440+C440","v":1.1428571428571428},{"$f":"D440/Author1Sections","v":0.14285714285714285},{"$f":"E440/Author2Sections","v":1},{"$f":"COUNTIF(OFFSET(H440,0,0,1,Author1Sections),\">0\")","v":3},{"$f":"COUNTIF(OFFSET(H440,0,Author1Sections,1,Author2Sections),\"=0\")","v":8},1151,"entertaine",0,0,0,0,7.4183979999999997E-2,0,0,0,0.1,0.1,0,0,0,0,0,0,0,0,0,0,0,0,0,0,0,0,0,0,0,"foes","gives"]
[{"$f":"B441+C441","v":1.1428571428571428},{"$f":"D441/Author1Sections","v":0.14285714285714285},{"$f":"E441/Author2Sections","v":1},{"$f":"COUNTIF(OFFSET(H441,0,0,1,Author1Sections),\">0\")","v":3},{"$f":"COUNTIF(OFFSET(H441,0,Author1Sections,1,Author2Sections),\"=0\")","v":8},1153,"enuy",0,0,0,0,0,0,0,0.1,0,0,0,0,0,0,0,0,0.1,0,0.1,0,0,0,0,0,0,0,0,0,0,"folkes","going"]
[{"$f":"B442+C442","v":1.1428571428571428},{"$f":"D442/Author1Sections","v":0.14285714285714285},{"$f":"E442/Author2Sections","v":1},{"$f":"COUNTIF(OFFSET(H442,0,0,1,Author1Sections),\">0\")","v":3},{"$f":"COUNTIF(OFFSET(H442,0,Author1Sections,1,Author2Sections),\"=0\")","v":8},1154,"errour",0,0,0,0,0,0,0,0,0,0,0,0,0,0.1,0.1,0,0.1,0,0,0,0,0,0,0,0,0,0,0,0,"forrests","heat"]
[{"$f":"B443+C443","v":1.1428571428571428},{"$f":"D443/Author1Sections","v":0.14285714285714285},{"$f":"E443/Author2Sections","v":1},{"$f":"COUNTIF(OFFSET(H443,0,0,1,Author1Sections),\">0\")","v":3},{"$f":"COUNTIF(OFFSET(H443,0,Author1Sections,1,Author2Sections),\"=0\")","v":8},1161,"fates",0.1,0.1,0.1,0,0,0,0,0,0,0,0,0,0,0,0,0,0,0,0,0,0,0,0,0,0,0,0,0,0,"friendly","henceforth"]
[{"$f":"B444+C444","v":1.1428571428571428},{"$f":"D444/Author1Sections","v":0.14285714285714285},{"$f":"E444/Author2Sections","v":1},{"$f":"COUNTIF(OFFSET(H444,0,0,1,Author1Sections),\">0\")","v":3},{"$f":"COUNTIF(OFFSET(H444,0,Author1Sections,1,Author2Sections),\"=0\")","v":8},1162,"fayre",0.1,0,0.1,0,7.4183979999999997E-2,0,0,0,0,0,0,0,0,0,0,0,0,0,0,0,0,0,0,0,0,0,0,0,0,"friends","honied"]
[{"$f":"B445+C445","v":1.1428571428571428},{"$f":"D445/Author1Sections","v":0.14285714285714285},{"$f":"E445/Author2Sections","v":1},{"$f":"COUNTIF(OFFSET(H445,0,0,1,Author1Sections),\">0\")","v":3},{"$f":"COUNTIF(OFFSET(H445,0,Author1Sections,1,Author2Sections),\"=0\")","v":8},1166,"feete",0.1,0,0,0,7.4183979999999997E-2,0,0,0,0,0,0,0,0,0,0,0,0,0,0.1,0,0,0,0,0,0,0,0,0,0,"fully","increase"]
[{"$f":"B446+C446","v":1.1428571428571428},{"$f":"D446/Author1Sections","v":0.14285714285714285},{"$f":"E446/Author2Sections","v":1},{"$f":"COUNTIF(OFFSET(H446,0,0,1,Author1Sections),\">0\")","v":3},{"$f":"COUNTIF(OFFSET(H446,0,Author1Sections,1,Author2Sections),\"=0\")","v":8},1168,"fight",0,0,0,0,0,0,0,0,0,0.1,0,0,0,0,0.1,0,0,0.1,0,0,0,0,0,0,0,0,0,0,0,"gaue","iron"]
[{"$f":"B447+C447","v":1.1428571428571428},{"$f":"D447/Author1Sections","v":0.14285714285714285},{"$f":"E447/Author2Sections","v":1},{"$f":"COUNTIF(OFFSET(H447,0,0,1,Author1Sections),\">0\")","v":3},{"$f":"COUNTIF(OFFSET(H447,0,Author1Sections,1,Author2Sections),\"=0\")","v":8},1171,"flatterie",0,0,0,0,0,0,0,0.1,0,0,0,0,0.1,0,0,0,0,0,0.1,0,0,0,0,0,0,0,0,0,0,"grieve","lend"]
[{"$f":"B448+C448","v":1.1428571428571428},{"$f":"D448/Author1Sections","v":0.14285714285714285},{"$f":"E448/Author2Sections","v":1},{"$f":"COUNTIF(OFFSET(H448,0,0,1,Author1Sections),\">0\")","v":3},{"$f":"COUNTIF(OFFSET(H448,0,Author1Sections,1,Author2Sections),\"=0\")","v":8},1172,"flies",0,0,0,0,0,0,0,0,0,0,0,0.1,0,0.1,0,0,0,0,0,0.1,0,0,0,0,0,0,0,0,0,"grone","livery"]
[{"$f":"B449+C449","v":1.1428571428571428},{"$f":"D449/Author1Sections","v":0.14285714285714285},{"$f":"E449/Author2Sections","v":1},{"$f":"COUNTIF(OFFSET(H449,0,0,1,Author1Sections),\">0\")","v":3},{"$f":"COUNTIF(OFFSET(H449,0,Author1Sections,1,Author2Sections),\"=0\")","v":8},1174,"foes",0.1,0.1,0,0,0,0,0,0,0,0,0,0.1,0,0,0,0,0,0,0,0,0,0,0,0,0,0,0,0,0,"growe","mean"]
[{"$f":"B450+C450","v":1.1428571428571428},{"$f":"D450/Author1Sections","v":0.14285714285714285},{"$f":"E450/Author2Sections","v":1},{"$f":"COUNTIF(OFFSET(H450,0,0,1,Author1Sections),\">0\")","v":3},{"$f":"COUNTIF(OFFSET(H450,0,Author1Sections,1,Author2Sections),\"=0\")","v":8},1175,"folkes",0,0,0,0,0,0,0,0,0,0,0,0,0,0.1,0,0,0,0,0.1,0,7.0372980000000002E-2,0,0,0,0,0,0,0,0,"growes","near"]
[{"$f":"B451+C451","v":1.1428571428571428},{"$f":"D451/Author1Sections","v":0.14285714285714285},{"$f":"E451/Author2Sections","v":1},{"$f":"COUNTIF(OFFSET(H451,0,0,1,Author1Sections),\">0\")","v":3},{"$f":"COUNTIF(OFFSET(H451,0,Author1Sections,1,Author2Sections),\"=0\")","v":8},1182,"forrests",0,0,0.1,0,7.4183979999999997E-2,0,0.1,0,0,0,0,0,0,0,0,0,0,0,0,0,0,0,0,0,0,0,0,0,0,"guiltie","next"]
[{"$f":"B452+C452","v":1.1428571428571428},{"$f":"D452/Author1Sections","v":0.14285714285714285},{"$f":"E452/Author2Sections","v":1},{"$f":"COUNTIF(OFFSET(H452,0,0,1,Author1Sections),\">0\")","v":3},{"$f":"COUNTIF(OFFSET(H452,0,Author1Sections,1,Author2Sections),\"=0\")","v":8},1185,"friendly",0,0,0,0,0,0,0,0,0,0,0,0.1,0,0,0.1,0,0,0.1,0,0,0,0,0,0,0,0,0,0,0,"hed","ornament"]
[{"$f":"B453+C453","v":1.1428571428571428},{"$f":"D453/Author1Sections","v":0.14285714285714285},{"$f":"E453/Author2Sections","v":1},{"$f":"COUNTIF(OFFSET(H453,0,0,1,Author1Sections),\">0\")","v":3},{"$f":"COUNTIF(OFFSET(H453,0,Author1Sections,1,Author2Sections),\"=0\")","v":8},1186,"friends",0,0,0,0,0,0,0,0,0,0,0.1,0.1,0,0,0,0,0,0,0,0.1,0,0,0,0,0,0,0,0,0,"hee","owe"]
[{"$f":"B454+C454","v":1.1428571428571428},{"$f":"D454/Author1Sections","v":0.14285714285714285},{"$f":"E454/Author2Sections","v":1},{"$f":"COUNTIF(OFFSET(H454,0,0,1,Author1Sections),\">0\")","v":3},{"$f":"COUNTIF(OFFSET(H454,0,Author1Sections,1,Author2Sections),\"=0\")","v":8},1188,"fully",0,0,0,0,0,0.1,0,0,0.1,0,0,0,0,0,0,0,0,0.1,0,0,0,0,0,0,0,0,0,0,0,"hornes","passion"]
[{"$f":"B455+C455","v":1.1428571428571428},{"$f":"D455/Author1Sections","v":0.14285714285714285},{"$f":"E455/Author2Sections","v":1},{"$f":"COUNTIF(OFFSET(H455,0,0,1,Author1Sections),\">0\")","v":3},{"$f":"COUNTIF(OFFSET(H455,0,Author1Sections,1,Author2Sections),\"=0\")","v":8},1192,"gaue",0,0,0,0,0,0,0,0,0.1,0.1,0,0,0,0,0,0,0.1,0,0,0,0,0,0,0,0,0,0,0,0,"humble","pensive"]
[{"$f":"B456+C456","v":1.1428571428571428},{"$f":"D456/Author1Sections","v":0.14285714285714285},{"$f":"E456/Author2Sections","v":1},{"$f":"COUNTIF(OFFSET(H456,0,0,1,Author1Sections),\">0\")","v":3},{"$f":"COUNTIF(OFFSET(H456,0,Author1Sections,1,Author2Sections),\"=0\")","v":8},1202,"grieve",0,0.1,0,0.1,7.4183979999999997E-2,0,0,0,0,0,0,0,0,0,0,0,0,0,0,0,0,0,0,0,0,0,0,0,0,"ioues","pity"]
[{"$f":"B457+C457","v":1.1428571428571428},{"$f":"D457/Author1Sections","v":0.14285714285714285},{"$f":"E457/Author2Sections","v":1},{"$f":"COUNTIF(OFFSET(H457,0,0,1,Author1Sections),\">0\")","v":3},{"$f":"COUNTIF(OFFSET(H457,0,Author1Sections,1,Author2Sections),\"=0\")","v":8},1203,"grone",0,0,0,0,0,0,0,0,0,0,0,0,0,0.1,0.1,0.1,0,0,0,0,0,0,0,0,0,0,0,0,0,"iudgement","queen"]
[{"$f":"B458+C458","v":1.1428571428571428},{"$f":"D458/Author1Sections","v":0.14285714285714285},{"$f":"E458/Author2Sections","v":1},{"$f":"COUNTIF(OFFSET(H458,0,0,1,Author1Sections),\">0\")","v":3},{"$f":"COUNTIF(OFFSET(H458,0,Author1Sections,1,Author2Sections),\"=0\")","v":8},1204,"growe",0,0,0,0,0,0,0,0,0,0,0,0.1,0,0,0,0,0,0,0,0.1,7.0372980000000002E-2,0,0,0,0,0,0,0,0,"kinde","running"]
[{"$f":"B459+C459","v":1.1428571428571428},{"$f":"D459/Author1Sections","v":0.14285714285714285},{"$f":"E459/Author2Sections","v":1},{"$f":"COUNTIF(OFFSET(H459,0,0,1,Author1Sections),\">0\")","v":3},{"$f":"COUNTIF(OFFSET(H459,0,Author1Sections,1,Author2Sections),\"=0\")","v":8},1205,"growes",0,0,0,0,0,0,0.1,0,0,0,0.1,0,0,0,0.1,0,0,0,0,0,0,0,0,0,0,0,0,0,0,"kings","sadly"]
[{"$f":"B460+C460","v":1.1428571428571428},{"$f":"D460/Author1Sections","v":0.14285714285714285},{"$f":"E460/Author2Sections","v":1},{"$f":"COUNTIF(OFFSET(H460,0,0,1,Author1Sections),\">0\")","v":3},{"$f":"COUNTIF(OFFSET(H460,0,Author1Sections,1,Author2Sections),\"=0\")","v":8},1206,"guiltie",0,0.1,0.1,0,0,0,0,0,0,0,0,0,0,0,0,0,0.1,0,0,0,0,0,0,0,0,0,0,0,0,"knowes","scorn"]
[{"$f":"B461+C461","v":1.1428571428571428},{"$f":"D461/Author1Sections","v":0.14285714285714285},{"$f":"E461/Author2Sections","v":1},{"$f":"COUNTIF(OFFSET(H461,0,0,1,Author1Sections),\">0\")","v":3},{"$f":"COUNTIF(OFFSET(H461,0,Author1Sections,1,Author2Sections),\"=0\")","v":8},1212,"hed",0,0,0,0,0,0,0,0,0,0,0,0,0,0.1,0,0,0,0.1,0,0.1,0,0,0,0,0,0,0,0,0,"knowne","shepherd"]
[{"$f":"B462+C462","v":1.1428571428571428},{"$f":"D462/Author1Sections","v":0.14285714285714285},{"$f":"E462/Author2Sections","v":1},{"$f":"COUNTIF(OFFSET(H462,0,0,1,Author1Sections),\">0\")","v":3},{"$f":"COUNTIF(OFFSET(H462,0,Author1Sections,1,Author2Sections),\"=0\")","v":8},1213,"hee",0,0,0,0,7.4183979999999997E-2,0,0.1,0.1,0,0,0,0,0,0,0,0,0,0,0,0,0,0,0,0,0,0,0,0,0,"labours","sire"]
[{"$f":"B463+C463","v":1.1428571428571428},{"$f":"D463/Author1Sections","v":0.14285714285714285},{"$f":"E463/Author2Sections","v":1},{"$f":"COUNTIF(OFFSET(H463,0,0,1,Author1Sections),\">0\")","v":3},{"$f":"COUNTIF(OFFSET(H463,0,Author1Sections,1,Author2Sections),\"=0\")","v":8},1218,"hornes",0,0,0,0,0,0,0.1,0,0,0,0,0,0.1,0,0,0,0,0.1,0,0,0,0,0,0,0,0,0,0,0,"learne","sky"]
[{"$f":"B464+C464","v":1.1428571428571428},{"$f":"D464/Author1Sections","v":0.14285714285714285},{"$f":"E464/Author2Sections","v":1},{"$f":"COUNTIF(OFFSET(H464,0,0,1,Author1Sections),\">0\")","v":3},{"$f":"COUNTIF(OFFSET(H464,0,Author1Sections,1,Author2Sections),\"=0\")","v":8},1221,"humble",0,0,0.1,0,0,0,0,0,0,0,0,0,0,0.1,0,0,0,0.1,0,0,0,0,0,0,0,0,0,0,0,"learnes","smiles"]
[{"$f":"B465+C465","v":1.1428571428571428},{"$f":"D465/Author1Sections","v":0.14285714285714285},{"$f":"E465/Author2Sections","v":1},{"$f":"COUNTIF(OFFSET(H465,0,0,1,Author1Sections),\">0\")","v":3},{"$f":"COUNTIF(OFFSET(H465,0,Author1Sections,1,Author2Sections),\"=0\")","v":8},1224,"ioues",0,0,0,0,0,0,0,0,0,0.1,0.1,0,0,0,0,0,0.1,0,0,0,0,0,0,0,0,0,0,0,0,"leauing","sober"]
[{"$f":"B466+C466","v":1.1428571428571428},{"$f":"D466/Author1Sections","v":0.14285714285714285},{"$f":"E466/Author2Sections","v":1},{"$f":"COUNTIF(OFFSET(H466,0,0,1,Author1Sections),\">0\")","v":3},{"$f":"COUNTIF(OFFSET(H466,0,Author1Sections,1,Author2Sections),\"=0\")","v":8},1226,"iudgement",0,0,0,0,0,0,0.1,0,0.1,0,0,0,0,0.1,0,0,0,0,0,0,0,0,0,0,0,0,0,0,0,"lee","straw"]
[{"$f":"B467+C467","v":1.1428571428571428},{"$f":"D467/Author1Sections","v":0.14285714285714285},{"$f":"E467/Author2Sections","v":1},{"$f":"COUNTIF(OFFSET(H467,0,0,1,Author1Sections),\">0\")","v":3},{"$f":"COUNTIF(OFFSET(H467,0,Author1Sections,1,Author2Sections),\"=0\")","v":8},1228,"kinde",0,0.1,0,0,7.4183979999999997E-2,0,0,0,0,0,0,0,0,0,0.1,0,0,0,0,0,0,0,0,0,0,0,0,0,0,"lesson","train"]
[{"$f":"B468+C468","v":1.1428571428571428},{"$f":"D468/Author1Sections","v":0.14285714285714285},{"$f":"E468/Author2Sections","v":1},{"$f":"COUNTIF(OFFSET(H468,0,0,1,Author1Sections),\">0\")","v":3},{"$f":"COUNTIF(OFFSET(H468,0,Author1Sections,1,Author2Sections),\"=0\")","v":8},1229,"kings",0,0,0,0,0,0,0,0,0,0,0,0.1,0,0,0,0,0.1,0.1,0,0,0,0,0,0,0,0,0,0,0,"lights","trees"]
[{"$f":"B469+C469","v":1.1428571428571428},{"$f":"D469/Author1Sections","v":0.14285714285714285},{"$f":"E469/Author2Sections","v":1},{"$f":"COUNTIF(OFFSET(H469,0,0,1,Author1Sections),\">0\")","v":3},{"$f":"COUNTIF(OFFSET(H469,0,Author1Sections,1,Author2Sections),\"=0\")","v":8},1230,"knowes",0,0,0,0,0,0,0,0.1,0,0,0,0.1,0,0.1,0,0,0,0,0,0,0,0,0,0,0,0,0,0,0,"loathing","vain"]
[{"$f":"B470+C470","v":1.1428571428571428},{"$f":"D470/Author1Sections","v":0.14285714285714285},{"$f":"E470/Author2Sections","v":1},{"$f":"COUNTIF(OFFSET(H470,0,0,1,Author1Sections),\">0\")","v":3},{"$f":"COUNTIF(OFFSET(H470,0,Author1Sections,1,Author2Sections),\"=0\")","v":8},1232,"knowne",0,0,0,0,7.4183979999999997E-2,0,0,0,0.1,0,0,0,0,0.1,0,0,0,0,0,0,0,0,0,0,0,0,0,0,0,"lookt","view"]
[{"$f":"B471+C471","v":1.1428571428571428},{"$f":"D471/Author1Sections","v":0.14285714285714285},{"$f":"E471/Author2Sections","v":1},{"$f":"COUNTIF(OFFSET(H471,0,0,1,Author1Sections),\">0\")","v":3},{"$f":"COUNTIF(OFFSET(H471,0,Author1Sections,1,Author2Sections),\"=0\")","v":8},1233,"labours",0,0.1,0,0.1,0,0,0,0.1,0,0,0,0,0,0,0,0,0,0,0,0,0,0,0,0,0,0,0,0,0,"lords","wake"]
[{"$f":"B472+C472","v":1.1428571428571428},{"$f":"D472/Author1Sections","v":0.14285714285714285},{"$f":"E472/Author2Sections","v":1},{"$f":"COUNTIF(OFFSET(H472,0,0,1,Author1Sections),\">0\")","v":3},{"$f":"COUNTIF(OFFSET(H472,0,Author1Sections,1,Author2Sections),\"=0\")","v":8},1237,"learne",0,0,0,0,0,0,0,0,0,0,0,0,0,0,0.1,0.1,0.1,0,0,0,0,0,0,0,0,0,0,0,0,"ly","weary"]
[{"$f":"B473+C473","v":1.1428571428571428},{"$f":"D473/Author1Sections","v":0.14285714285714285},{"$f":"E473/Author2Sections","v":1},{"$f":"COUNTIF(OFFSET(H473,0,0,1,Author1Sections),\">0\")","v":3},{"$f":"COUNTIF(OFFSET(H473,0,Author1Sections,1,Author2Sections),\"=0\")","v":8},1238,"learnes",0,0,0,0,0,0,0,0,0,0,0,0,0.1,0,0,0.1,0,0,0,0,7.0372980000000002E-2,0,0,0,0,0,0,0,0,"mad","weeping"]
[{"$f":"B474+C474","v":1.1428571428571428},{"$f":"D474/Author1Sections","v":0.14285714285714285},{"$f":"E474/Author2Sections","v":1},{"$f":"COUNTIF(OFFSET(H474,0,0,1,Author1Sections),\">0\")","v":3},{"$f":"COUNTIF(OFFSET(H474,0,Author1Sections,1,Author2Sections),\"=0\")","v":8},1239,"leauing",0,0,0,0,0,0.1,0,0,0,0,0,0,0,0.1,0,0,0,0,0,0.1,0,0,0,0,0,0,0,0,0,"maine","womb"]
[{"$f":"B475+C475","v":1.1428571428571428},{"$f":"D475/Author1Sections","v":0.14285714285714285},{"$f":"E475/Author2Sections","v":1},{"$f":"COUNTIF(OFFSET(H475,0,0,1,Author1Sections),\">0\")","v":3},{"$f":"COUNTIF(OFFSET(H475,0,Author1Sections,1,Author2Sections),\"=0\")","v":8},1240,"lee",0,0.1,0,0,7.4183979999999997E-2,0,0,0,0,0,0,0,0,0,0,0,0,0,0,0,7.0372980000000002E-2,0,0,0,0,0,0,0,0,"meaning","our"]
[{"$f":"B476+C476","v":1.1428571428571428},{"$f":"D476/Author1Sections","v":0.14285714285714285},{"$f":"E476/Author2Sections","v":1},{"$f":"COUNTIF(OFFSET(H476,0,0,1,Author1Sections),\">0\")","v":3},{"$f":"COUNTIF(OFFSET(H476,0,Author1Sections,1,Author2Sections),\"=0\")","v":8},1242,"lesson",0,0,0,0,0,0,0,0,0,0,0.1,0,0,0,0,0.1,0,0.1,0,0,0,0,0,0,0,0,0,0,0,"milke","thine"]
[{"$f":"B477+C477","v":1.1428571428571428},{"$f":"D477/Author1Sections","v":0.14285714285714285},{"$f":"E477/Author2Sections","v":1},{"$f":"COUNTIF(OFFSET(H477,0,0,1,Author1Sections),\">0\")","v":3},{"$f":"COUNTIF(OFFSET(H477,0,Author1Sections,1,Author2Sections),\"=0\")","v":8},1245,"lights",0,0,0,0,0,0,0,0,0,0.1,0,0,0,0.1,0,0,0,0.1,0,0,0,0,0,0,0,0,0,0,0,"miserie","eye"]
[{"$f":"B478+C478","v":1.1428571428571428},{"$f":"D478/Author1Sections","v":0.14285714285714285},{"$f":"E478/Author2Sections","v":1},{"$f":"COUNTIF(OFFSET(H478,0,0,1,Author1Sections),\">0\")","v":3},{"$f":"COUNTIF(OFFSET(H478,0,Author1Sections,1,Author2Sections),\"=0\")","v":8},1247,"loathing",0,0,0.1,0,0,0,0,0,0,0,0.1,0,0,0,0,0,0,0,0.1,0,0,0,0,0,0,0,0,0,0,"musicke","tell"]
[{"$f":"B479+C479","v":1.1428571428571428},{"$f":"D479/Author1Sections","v":0.14285714285714285},{"$f":"E479/Author2Sections","v":1},{"$f":"COUNTIF(OFFSET(H479,0,0,1,Author1Sections),\">0\")","v":3},{"$f":"COUNTIF(OFFSET(H479,0,Author1Sections,1,Author2Sections),\"=0\")","v":8},1248,"lookt",0,0,0,0,0,0,0,0,0,0,0,0,0,0.1,0,0,0.1,0,0.1,0,0,0,0,0,0,0,0,0,0,"necke","are"]
[{"$f":"B480+C480","v":1.1428571428571428},{"$f":"D480/Author1Sections","v":0.14285714285714285},{"$f":"E480/Author2Sections","v":1},{"$f":"COUNTIF(OFFSET(H480,0,0,1,Author1Sections),\">0\")","v":3},{"$f":"COUNTIF(OFFSET(H480,0,Author1Sections,1,Author2Sections),\"=0\")","v":8},1250,"lords",0,0,0,0,0,0.1,0,0,0,0,0,0.1,0,0,0,0,0,0,0.1,0,0,0,0,0,0,0,0,0,0,"nest","hath"]
[{"$f":"B481+C481","v":1.1428571428571428},{"$f":"D481/Author1Sections","v":0.14285714285714285},{"$f":"E481/Author2Sections","v":1},{"$f":"COUNTIF(OFFSET(H481,0,0,1,Author1Sections),\">0\")","v":3},{"$f":"COUNTIF(OFFSET(H481,0,Author1Sections,1,Author2Sections),\"=0\")","v":8},1253,"ly",0,0,0,0,0,0,0,0.1,0,0,0.1,0,0,0,0,0,0,0,0.1,0,0,0,0,0,0,0,0,0,0,"nymphes","ye"]
[{"$f":"B482+C482","v":1.1428571428571428},{"$f":"D482/Author1Sections","v":0.14285714285714285},{"$f":"E482/Author2Sections","v":1},{"$f":"COUNTIF(OFFSET(H482,0,0,1,Author1Sections),\">0\")","v":3},{"$f":"COUNTIF(OFFSET(H482,0,Author1Sections,1,Author2Sections),\"=0\")","v":8},1254,"mad",0,0,0,0,0,0,0,0,0,0,0,0.1,0,0,0,0,0,0.1,0.1,0,0,0,0,0,0,0,0,0,0,"obiect","been"]
[{"$f":"B483+C483","v":1.1428571428571428},{"$f":"D483/Author1Sections","v":0.14285714285714285},{"$f":"E483/Author2Sections","v":1},{"$f":"COUNTIF(OFFSET(H483,0,0,1,Author1Sections),\">0\")","v":3},{"$f":"COUNTIF(OFFSET(H483,0,Author1Sections,1,Author2Sections),\"=0\")","v":8},1255,"maine",0.1,0,0,0,0,0,0,0,0,0,0,0,0,0.1,0,0,0,0,0,0.1,0,0,0,0,0,0,0,0,0,"opprest","flames"]
[{"$f":"B484+C484","v":1.1428571428571428},{"$f":"D484/Author1Sections","v":0.14285714285714285},{"$f":"E484/Author2Sections","v":1},{"$f":"COUNTIF(OFFSET(H484,0,0,1,Author1Sections),\">0\")","v":3},{"$f":"COUNTIF(OFFSET(H484,0,Author1Sections,1,Author2Sections),\"=0\")","v":8},1258,"meaning",0,0,0,0.1,0,0,0,0,0,0,0,0,0.1,0,0,0,0,0,0,0,7.0372980000000002E-2,0,0,0,0,0,0,0,0,"ouer","rage"]
[{"$f":"B485+C485","v":1.1428571428571428},{"$f":"D485/Author1Sections","v":0.14285714285714285},{"$f":"E485/Author2Sections","v":1},{"$f":"COUNTIF(OFFSET(H485,0,0,1,Author1Sections),\">0\")","v":3},{"$f":"COUNTIF(OFFSET(H485,0,Author1Sections,1,Author2Sections),\"=0\")","v":8},1260,"milke",0,0,0,0,7.4183979999999997E-2,0,0.1,0,0,0,0,0,0,0,0,0,0,0,0,0.1,0,0,0,0,0,0,0,0,0,"pleasant","worth"]
[{"$f":"B486+C486","v":1.1428571428571428},{"$f":"D486/Author1Sections","v":0.14285714285714285},{"$f":"E486/Author2Sections","v":1},{"$f":"COUNTIF(OFFSET(H486,0,0,1,Author1Sections),\">0\")","v":3},{"$f":"COUNTIF(OFFSET(H486,0,Author1Sections,1,Author2Sections),\"=0\")","v":8},1261,"miserie",0,0,0,0,0,0.1,0,0,0,0,0,0,0,0,0,0,0.1,0.1,0,0,0,0,0,0,0,0,0,0,0,"pow'rs","dwell"]
[{"$f":"B487+C487","v":1.1428571428571428},{"$f":"D487/Author1Sections","v":0.14285714285714285},{"$f":"E487/Author2Sections","v":1},{"$f":"COUNTIF(OFFSET(H487,0,0,1,Author1Sections),\">0\")","v":3},{"$f":"COUNTIF(OFFSET(H487,0,Author1Sections,1,Author2Sections),\"=0\")","v":8},1266,"musicke",0,0,0,0,0,0,0,0,0.1,0,0,0,0,0,0,0,0.1,0,0.1,0,0,0,0,0,0,0,0,0,0,"praises","get"]
[{"$f":"B488+C488","v":1.1428571428571428},{"$f":"D488/Author1Sections","v":0.14285714285714285},{"$f":"E488/Author2Sections","v":1},{"$f":"COUNTIF(OFFSET(H488,0,0,1,Author1Sections),\">0\")","v":3},{"$f":"COUNTIF(OFFSET(H488,0,Author1Sections,1,Author2Sections),\"=0\")","v":8},1271,"necke",0.1,0,0,0,0,0,0,0,0,0,0,0,0,0,0.1,0,0,0,0.1,0,0,0,0,0,0,0,0,0,0,"precious","ground"]
[{"$f":"B489+C489","v":1.1428571428571428},{"$f":"D489/Author1Sections","v":0.14285714285714285},{"$f":"E489/Author2Sections","v":1},{"$f":"COUNTIF(OFFSET(H489,0,0,1,Author1Sections),\">0\")","v":3},{"$f":"COUNTIF(OFFSET(H489,0,Author1Sections,1,Author2Sections),\"=0\")","v":8},1273,"nest",0,0,0,0,0,0,0,0,0,0,0,0,0,0,0,0,0,0.1,0,0.1,7.0372980000000002E-2,0,0,0,0,0,0,0,0,"present","held"]
[{"$f":"B490+C490","v":1.1428571428571428},{"$f":"D490/Author1Sections","v":0.14285714285714285},{"$f":"E490/Author2Sections","v":1},{"$f":"COUNTIF(OFFSET(H490,0,0,1,Author1Sections),\">0\")","v":3},{"$f":"COUNTIF(OFFSET(H490,0,Author1Sections,1,Author2Sections),\"=0\")","v":8},1279,"nymphes",0.1,0.1,0,0,0,0,0,0,0,0,0,0,0,0,0.1,0,0,0,0,0,0,0,0,0,0,0,0,0,0,"princesse","list"]
[{"$f":"B491+C491","v":1.1428571428571428},{"$f":"D491/Author1Sections","v":0.14285714285714285},{"$f":"E491/Author2Sections","v":1},{"$f":"COUNTIF(OFFSET(H491,0,0,1,Author1Sections),\">0\")","v":3},{"$f":"COUNTIF(OFFSET(H491,0,Author1Sections,1,Author2Sections),\"=0\")","v":8},1280,"obiect",0,0,0,0,0,0,0,0,0,0.1,0,0,0,0,0,0,0,0,0.1,0,7.0372980000000002E-2,0,0,0,0,0,0,0,0,"proofe","raise"]
[{"$f":"B492+C492","v":1.1428571428571428},{"$f":"D492/Author1Sections","v":0.14285714285714285},{"$f":"E492/Author2Sections","v":1},{"$f":"COUNTIF(OFFSET(H492,0,0,1,Author1Sections),\">0\")","v":3},{"$f":"COUNTIF(OFFSET(H492,0,Author1Sections,1,Author2Sections),\"=0\")","v":8},1281,"opprest",0,0,0,0,0,0.1,0,0,0,0.1,0,0,0,0,0,0,0,0,0,0,7.0372980000000002E-2,0,0,0,0,0,0,0,0,"purest","shalt"]
[{"$f":"B493+C493","v":1.1428571428571428},{"$f":"D493/Author1Sections","v":0.14285714285714285},{"$f":"E493/Author2Sections","v":1},{"$f":"COUNTIF(OFFSET(H493,0,0,1,Author1Sections),\">0\")","v":3},{"$f":"COUNTIF(OFFSET(H493,0,Author1Sections,1,Author2Sections),\"=0\")","v":8},1283,"ouer",0,0,0,0,0,0,0,0,0,0.1,0,0.1,0,0,0,0,0,0,0,0.1,0,0,0,0,0,0,0,0,0,"queene","whilst"]
[{"$f":"B494+C494","v":1.1428571428571428},{"$f":"D494/Author1Sections","v":0.14285714285714285},{"$f":"E494/Author2Sections","v":1},{"$f":"COUNTIF(OFFSET(H494,0,0,1,Author1Sections),\">0\")","v":3},{"$f":"COUNTIF(OFFSET(H494,0,Author1Sections,1,Author2Sections),\"=0\")","v":8},1297,"pleasant",0,0,0,0,7.4183979999999997E-2,0,0,0,0,0,0,0,0.1,0,0,0,0,0.1,0,0,0,0,0,0,0,0,0,0,0,"rayes","wilt"]
[{"$f":"B495+C495","v":1.1428571428571428},{"$f":"D495/Author1Sections","v":0.14285714285714285},{"$f":"E495/Author2Sections","v":1},{"$f":"COUNTIF(OFFSET(H495,0,0,1,Author1Sections),\">0\")","v":3},{"$f":"COUNTIF(OFFSET(H495,0,Author1Sections,1,Author2Sections),\"=0\")","v":8},1298,"pow'rs",0,0,0,0,0,0,0,0,0,0,0.1,0,0.1,0,0,0,0,0,0,0.1,0,0,0,0,0,0,0,0,0,"reed","had"]
[{"$f":"B496+C496","v":1.1428571428571428},{"$f":"D496/Author1Sections","v":0.14285714285714285},{"$f":"E496/Author2Sections","v":1},{"$f":"COUNTIF(OFFSET(H496,0,0,1,Author1Sections),\">0\")","v":3},{"$f":"COUNTIF(OFFSET(H496,0,Author1Sections,1,Author2Sections),\"=0\")","v":8},1299,"praises",0,0.1,0.1,0.1,0,0,0,0,0,0,0,0,0,0,0,0,0,0,0,0,0,0,0,0,0,0,0,0,0,"reuerence","find"]
[{"$f":"B497+C497","v":1.1428571428571428},{"$f":"D497/Author1Sections","v":0.14285714285714285},{"$f":"E497/Author2Sections","v":1},{"$f":"COUNTIF(OFFSET(H497,0,0,1,Author1Sections),\">0\")","v":3},{"$f":"COUNTIF(OFFSET(H497,0,Author1Sections,1,Author2Sections),\"=0\")","v":8},1301,"precious",0.1,0,0,0,7.4183979999999997E-2,0,0,0.1,0,0,0,0,0,0,0,0,0,0,0,0,0,0,0,0,0,0,0,0,0,"reward","came"]
[{"$f":"B498+C498","v":1.1428571428571428},{"$f":"D498/Author1Sections","v":0.14285714285714285},{"$f":"E498/Author2Sections","v":1},{"$f":"COUNTIF(OFFSET(H498,0,0,1,Author1Sections),\">0\")","v":3},{"$f":"COUNTIF(OFFSET(H498,0,Author1Sections,1,Author2Sections),\"=0\")","v":8},1303,"present",0,0,0.1,0,0,0.1,0,0,0,0,0,0,0,0,0,0,0,0,0.1,0,0,0,0,0,0,0,0,0,0,"rimes","heard"]
[{"$f":"B499+C499","v":1.1428571428571428},{"$f":"D499/Author1Sections","v":0.14285714285714285},{"$f":"E499/Author2Sections","v":1},{"$f":"COUNTIF(OFFSET(H499,0,0,1,Author1Sections),\">0\")","v":3},{"$f":"COUNTIF(OFFSET(H499,0,Author1Sections,1,Author2Sections),\"=0\")","v":8},1305,"princesse",0.1,0,0,0,0,0,0,0,0,0,0,0.1,0,0,0,0,0,0,0,0,7.0372980000000002E-2,0,0,0,0,0,0,0,0,"ruines","hold"]
[{"$f":"B500+C500","v":1.1428571428571428},{"$f":"D500/Author1Sections","v":0.14285714285714285},{"$f":"E500/Author2Sections","v":1},{"$f":"COUNTIF(OFFSET(H500,0,0,1,Author1Sections),\">0\")","v":3},{"$f":"COUNTIF(OFFSET(H500,0,Author1Sections,1,Author2Sections),\"=0\")","v":8},1307,"proofe",0,0,0,0,0,0,0,0,0,0,0,0,0,0.1,0,0,0.1,0,0,0,7.0372980000000002E-2,0,0,0,0,0,0,0,0,"rurall","woe"]
[{"$f":"B501+C501","v":1.1428571428571428},{"$f":"D501/Author1Sections","v":0.14285714285714285},{"$f":"E501/Author2Sections","v":1},{"$f":"COUNTIF(OFFSET(H501,0,0,1,Author1Sections),\">0\")","v":3},{"$f":"COUNTIF(OFFSET(H501,0,Author1Sections,1,Author2Sections),\"=0\")","v":8},1308,"purest",0.1,0,0,0,7.4183979999999997E-2,0,0,0,0,0,0,0.1,0,0,0,0,0,0,0,0,0,0,0,0,0,0,0,0,0,"sate","fire"]
[{"$f":"B502+C502","v":1.1428571428571428},{"$f":"D502/Author1Sections","v":0.14285714285714285},{"$f":"E502/Author2Sections","v":1},{"$f":"COUNTIF(OFFSET(H502,0,0,1,Author1Sections),\">0\")","v":3},{"$f":"COUNTIF(OFFSET(H502,0,Author1Sections,1,Author2Sections),\"=0\")","v":8},1310,"queene",0,0,0,0,0,0.1,0.1,0,0,0,0,0,0,0,0,0,0,0,0,0,7.0372980000000002E-2,0,0,0,0,0,0,0,0,"scholler","soft"]
[{"$f":"B503+C503","v":1.1428571428571428},{"$f":"D503/Author1Sections","v":0.14285714285714285},{"$f":"E503/Author2Sections","v":1},{"$f":"COUNTIF(OFFSET(H503,0,0,1,Author1Sections),\">0\")","v":3},{"$f":"COUNTIF(OFFSET(H503,0,Author1Sections,1,Author2Sections),\"=0\")","v":8},1313,"rayes",0,0,0,0,0,0,0,0,0,0.1,0,0,0,0.1,0,0,0,0.1,0,0,0,0,0,0,0,0,0,0,0,"selues","there"]
[{"$f":"B504+C504","v":1.1428571428571428},{"$f":"D504/Author1Sections","v":0.14285714285714285},{"$f":"E504/Author2Sections","v":1},{"$f":"COUNTIF(OFFSET(H504,0,0,1,Author1Sections),\">0\")","v":3},{"$f":"COUNTIF(OFFSET(H504,0,Author1Sections,1,Author2Sections),\"=0\")","v":8},1315,"reed",0,0,0,0,0,0,0,0,0.1,0,0,0,0,0.1,0,0.1,0,0,0,0,0,0,0,0,0,0,0,0,0,"seruice","might"]
[{"$f":"B505+C505","v":1.1428571428571428},{"$f":"D505/Author1Sections","v":0.14285714285714285},{"$f":"E505/Author2Sections","v":1},{"$f":"COUNTIF(OFFSET(H505,0,0,1,Author1Sections),\">0\")","v":3},{"$f":"COUNTIF(OFFSET(H505,0,Author1Sections,1,Author2Sections),\"=0\")","v":8},1318,"reuerence",0,0,0,0,0,0.1,0.1,0,0,0,0,0,0,0,0.1,0,0,0,0,0,0,0,0,0,0,0,0,0,0,"sheepe","horse"]
[{"$f":"B506+C506","v":1.1428571428571428},{"$f":"D506/Author1Sections","v":0.14285714285714285},{"$f":"E506/Author2Sections","v":1},{"$f":"COUNTIF(OFFSET(H506,0,0,1,Author1Sections),\">0\")","v":3},{"$f":"COUNTIF(OFFSET(H506,0,Author1Sections,1,Author2Sections),\"=0\")","v":8},1319,"reward",0,0,0.1,0,0,0,0,0,0,0,0.1,0,0,0,0,0,0,0,0.1,0,0,0,0,0,0,0,0,0,0,"shewes","another"]
[{"$f":"B507+C507","v":1.1428571428571428},{"$f":"D507/Author1Sections","v":0.14285714285714285},{"$f":"E507/Author2Sections","v":1},{"$f":"COUNTIF(OFFSET(H507,0,0,1,Author1Sections),\">0\")","v":3},{"$f":"COUNTIF(OFFSET(H507,0,Author1Sections,1,Author2Sections),\"=0\")","v":8},1321,"rimes",0,0,0.1,0,0,0,0,0,0,0,0.1,0,0,0,0,0,0.1,0,0,0,0,0,0,0,0,0,0,0,0,"silent","line"]
[{"$f":"B508+C508","v":1.1428571428571428},{"$f":"D508/Author1Sections","v":0.14285714285714285},{"$f":"E508/Author2Sections","v":1},{"$f":"COUNTIF(OFFSET(H508,0,0,1,Author1Sections),\">0\")","v":3},{"$f":"COUNTIF(OFFSET(H508,0,Author1Sections,1,Author2Sections),\"=0\")","v":8},1323,"ruines",0.1,0.1,0,0,0,0,0,0,0,0,0,0,0,0,0,0,0.1,0,0,0,0,0,0,0,0,0,0,0,0,"silly","myself"]
[{"$f":"B509+C509","v":1.1428571428571428},{"$f":"D509/Author1Sections","v":0.14285714285714285},{"$f":"E509/Author2Sections","v":1},{"$f":"COUNTIF(OFFSET(H509,0,0,1,Author1Sections),\">0\")","v":3},{"$f":"COUNTIF(OFFSET(H509,0,Author1Sections,1,Author2Sections),\"=0\")","v":8},1325,"rurall",0,0,0,0,0,0.1,0.1,0,0,0.1,0,0,0,0,0,0,0,0,0,0,0,0,0,0,0,0,0,0,0,"slide","rose"]
[{"$f":"B510+C510","v":1.1428571428571428},{"$f":"D510/Author1Sections","v":0.14285714285714285},{"$f":"E510/Author2Sections","v":1},{"$f":"COUNTIF(OFFSET(H510,0,0,1,Author1Sections),\">0\")","v":3},{"$f":"COUNTIF(OFFSET(H510,0,Author1Sections,1,Author2Sections),\"=0\")","v":8},1330,"sate",0,0.1,0,0.1,0,0,0,0,0,0,0.1,0,0,0,0,0,0,0,0,0,0,0,0,0,0,0,0,0,0,"sonne","sometimes"]
[{"$f":"B511+C511","v":1.1428571428571428},{"$f":"D511/Author1Sections","v":0.14285714285714285},{"$f":"E511/Author2Sections","v":1},{"$f":"COUNTIF(OFFSET(H511,0,0,1,Author1Sections),\">0\")","v":3},{"$f":"COUNTIF(OFFSET(H511,0,Author1Sections,1,Author2Sections),\"=0\")","v":8},1332,"scholler",0,0,0,0,0,0,0,0,0,0,0.1,0.1,0,0,0.1,0,0,0,0,0,0,0,0,0,0,0,0,0,0,"speach","woods"]
[{"$f":"B512+C512","v":1.1428571428571428},{"$f":"D512/Author1Sections","v":0.14285714285714285},{"$f":"E512/Author2Sections","v":1},{"$f":"COUNTIF(OFFSET(H512,0,0,1,Author1Sections),\">0\")","v":3},{"$f":"COUNTIF(OFFSET(H512,0,Author1Sections,1,Author2Sections),\"=0\")","v":8},1338,"selues",0,0,0,0,0,0,0.1,0,0,0,0.1,0.1,0,0,0,0,0,0,0,0,0,0,0,0,0,0,0,0,0,"speciall","flower"]
[{"$f":"B513+C513","v":1.1428571428571428},{"$f":"D513/Author1Sections","v":0.14285714285714285},{"$f":"E513/Author2Sections","v":1},{"$f":"COUNTIF(OFFSET(H513,0,0,1,Author1Sections),\">0\")","v":3},{"$f":"COUNTIF(OFFSET(H513,0,Author1Sections,1,Author2Sections),\"=0\")","v":8},1339,"seruice",0,0,0,0,0,0,0.1,0,0,0,0,0.1,0,0,0,0,0,0.1,0,0,0,0,0,0,0,0,0,0,0,"spright","mirth"]
[{"$f":"B514+C514","v":1.1428571428571428},{"$f":"D514/Author1Sections","v":0.14285714285714285},{"$f":"E514/Author2Sections","v":1},{"$f":"COUNTIF(OFFSET(H514,0,0,1,Author1Sections),\">0\")","v":3},{"$f":"COUNTIF(OFFSET(H514,0,Author1Sections,1,Author2Sections),\"=0\")","v":8},1341,"sheepe",0,0,0,0,0,0,0.1,0.1,0.1,0,0,0,0,0,0,0,0,0,0,0,0,0,0,0,0,0,0,0,0,"sprite","notes"]
[{"$f":"B515+C515","v":1.1428571428571428},{"$f":"D515/Author1Sections","v":0.14285714285714285},{"$f":"E515/Author2Sections","v":1},{"$f":"COUNTIF(OFFSET(H515,0,0,1,Author1Sections),\">0\")","v":3},{"$f":"COUNTIF(OFFSET(H515,0,Author1Sections,1,Author2Sections),\"=0\")","v":8},1344,"shewes",0,0,0,0,0,0,0,0,0,0,0,0,0,0,0,0.1,0,0,0.1,0,7.0372980000000002E-2,0,0,0,0,0,0,0,0,"starres","nymph"]
[{"$f":"B516+C516","v":1.1428571428571428},{"$f":"D516/Author1Sections","v":0.14285714285714285},{"$f":"E516/Author2Sections","v":1},{"$f":"COUNTIF(OFFSET(H516,0,0,1,Author1Sections),\">0\")","v":3},{"$f":"COUNTIF(OFFSET(H516,0,Author1Sections,1,Author2Sections),\"=0\")","v":8},1351,"silent",0,0,0,0,0,0,0,0,0,0,0,0,0,0,0,0,0,0,0.1,0.1,7.0372980000000002E-2,0,0,0,0,0,0,0,0,"stately","over"]
[{"$f":"B517+C517","v":1.1428571428571428},{"$f":"D517/Author1Sections","v":0.14285714285714285},{"$f":"E517/Author2Sections","v":1},{"$f":"COUNTIF(OFFSET(H517,0,0,1,Author1Sections),\">0\")","v":3},{"$f":"COUNTIF(OFFSET(H517,0,Author1Sections,1,Author2Sections),\"=0\")","v":8},1352,"silly",0,0,0,0,0,0,0.1,0,0,0,0,0,0,0,0.1,0,0,0,0.1,0,0,0,0,0,0,0,0,0,0,"striue","put"]
[{"$f":"B518+C518","v":1.1428571428571428},{"$f":"D518/Author1Sections","v":0.14285714285714285},{"$f":"E518/Author2Sections","v":1},{"$f":"COUNTIF(OFFSET(H518,0,0,1,Author1Sections),\">0\")","v":3},{"$f":"COUNTIF(OFFSET(H518,0,Author1Sections,1,Author2Sections),\"=0\")","v":8},1358,"slide",0,0.1,0,0,7.4183979999999997E-2,0,0,0,0,0,0,0,0,0,0,0,0,0,0.1,0,0,0,0,0,0,0,0,0,0,"subiect","scarce"]
[{"$f":"B519+C519","v":1.1428571428571428},{"$f":"D519/Author1Sections","v":0.14285714285714285},{"$f":"E519/Author2Sections","v":1},{"$f":"COUNTIF(OFFSET(H519,0,0,1,Author1Sections),\">0\")","v":3},{"$f":"COUNTIF(OFFSET(H519,0,Author1Sections,1,Author2Sections),\"=0\")","v":8},1363,"sonne",0,0,0.1,0.1,0,0,0,0,0,0,0,0,0.1,0,0,0,0,0,0,0,0,0,0,0,0,0,0,0,0,"swell","shouldst"]
[{"$f":"B520+C520","v":1.1428571428571428},{"$f":"D520/Author1Sections","v":0.14285714285714285},{"$f":"E520/Author2Sections","v":1},{"$f":"COUNTIF(OFFSET(H520,0,0,1,Author1Sections),\">0\")","v":3},{"$f":"COUNTIF(OFFSET(H520,0,Author1Sections,1,Author2Sections),\"=0\")","v":8},1366,"speach",0,0,0,0.1,7.4183979999999997E-2,0,0,0,0,0,0,0,0,0,0,0,0,0,0.1,0,0,0,0,0,0,0,0,0,0,"swelling","times"]
[{"$f":"B521+C521","v":1.1428571428571428},{"$f":"D521/Author1Sections","v":0.14285714285714285},{"$f":"E521/Author2Sections","v":1},{"$f":"COUNTIF(OFFSET(H521,0,0,1,Author1Sections),\">0\")","v":3},{"$f":"COUNTIF(OFFSET(H521,0,Author1Sections,1,Author2Sections),\"=0\")","v":8},1368,"speciall",0,0,0,0,0,0.1,0,0,0,0,0,0,0,0,0.1,0,0,0.1,0,0,0,0,0,0,0,0,0,0,0,"taught","begin"]
[{"$f":"B522+C522","v":1.1428571428571428},{"$f":"D522/Author1Sections","v":0.14285714285714285},{"$f":"E522/Author2Sections","v":1},{"$f":"COUNTIF(OFFSET(H522,0,0,1,Author1Sections),\">0\")","v":3},{"$f":"COUNTIF(OFFSET(H522,0,Author1Sections,1,Author2Sections),\"=0\")","v":8},1371,"spright",0,0,0.1,0.1,7.4183979999999997E-2,0,0,0,0,0,0,0,0,0,0,0,0,0,0,0,0,0,0,0,0,0,0,0,0,"teaching","brain"]
[{"$f":"B523+C523","v":1.1428571428571428},{"$f":"D523/Author1Sections","v":0.14285714285714285},{"$f":"E523/Author2Sections","v":1},{"$f":"COUNTIF(OFFSET(H523,0,0,1,Author1Sections),\">0\")","v":3},{"$f":"COUNTIF(OFFSET(H523,0,Author1Sections,1,Author2Sections),\"=0\")","v":8},1372,"sprite",0,0,0,0,0,0,0,0,0,0,0,0,0,0,0.1,0,0.1,0.1,0,0,0,0,0,0,0,0,0,0,0,"tempests","content"]
[{"$f":"B524+C524","v":1.1428571428571428},{"$f":"D524/Author1Sections","v":0.14285714285714285},{"$f":"E524/Author2Sections","v":1},{"$f":"COUNTIF(OFFSET(H524,0,0,1,Author1Sections),\">0\")","v":3},{"$f":"COUNTIF(OFFSET(H524,0,Author1Sections,1,Author2Sections),\"=0\")","v":8},1373,"starres",0,0,0,0,0,0,0,0,0,0,0,0.1,0,0,0.1,0,0,0,0.1,0,0,0,0,0,0,0,0,0,0,"themselues","flight"]
[{"$f":"B525+C525","v":1.1428571428571428},{"$f":"D525/Author1Sections","v":0.14285714285714285},{"$f":"E525/Author2Sections","v":1},{"$f":"COUNTIF(OFFSET(H525,0,0,1,Author1Sections),\">0\")","v":3},{"$f":"COUNTIF(OFFSET(H525,0,Author1Sections,1,Author2Sections),\"=0\")","v":8},1374,"stately",0.1,0,0,0,7.4183979999999997E-2,0,0,0,0,0.1,0,0,0,0,0,0,0,0,0,0,0,0,0,0,0,0,0,0,0,"towne","lap"]
[{"$f":"B526+C526","v":1.1428571428571428},{"$f":"D526/Author1Sections","v":0.14285714285714285},{"$f":"E526/Author2Sections","v":1},{"$f":"COUNTIF(OFFSET(H526,0,0,1,Author1Sections),\">0\")","v":3},{"$f":"COUNTIF(OFFSET(H526,0,Author1Sections,1,Author2Sections),\"=0\")","v":8},1384,"striue",0,0,0,0,0,0,0,0,0,0.1,0.1,0,0,0,0,0,0.1,0,0,0,0,0,0,0,0,0,0,0,0,"tribute","meet"]
[{"$f":"B527+C527","v":1.1428571428571428},{"$f":"D527/Author1Sections","v":0.14285714285714285},{"$f":"E527/Author2Sections","v":1},{"$f":"COUNTIF(OFFSET(H527,0,0,1,Author1Sections),\">0\")","v":3},{"$f":"COUNTIF(OFFSET(H527,0,Author1Sections,1,Author2Sections),\"=0\")","v":8},1386,"subiect",0,0,0,0,0,0,0,0.1,0,0,0,0.1,0,0.1,0,0,0,0,0,0,0,0,0,0,0,0,0,0,0,"trie","mother"]
[{"$f":"B528+C528","v":1.1428571428571428},{"$f":"D528/Author1Sections","v":0.14285714285714285},{"$f":"E528/Author2Sections","v":1},{"$f":"COUNTIF(OFFSET(H528,0,0,1,Author1Sections),\">0\")","v":3},{"$f":"COUNTIF(OFFSET(H528,0,Author1Sections,1,Author2Sections),\"=0\")","v":8},1393,"swell",0,0,0,0,0,0,0,0,0,0,0,0,0.1,0,0.1,0,0,0,0.1,0,0,0,0,0,0,0,0,0,0,"untill","read"]
[{"$f":"B529+C529","v":1.1428571428571428},{"$f":"D529/Author1Sections","v":0.14285714285714285},{"$f":"E529/Author2Sections","v":1},{"$f":"COUNTIF(OFFSET(H529,0,0,1,Author1Sections),\">0\")","v":3},{"$f":"COUNTIF(OFFSET(H529,0,Author1Sections,1,Author2Sections),\"=0\")","v":8},1394,"swelling",0,0,0,0,7.4183979999999997E-2,0,0,0,0,0,0,0.1,0,0,0,0,0,0,0.1,0,0,0,0,0,0,0,0,0,0,"waies","roses"]
[{"$f":"B530+C530","v":1.1428571428571428},{"$f":"D530/Author1Sections","v":0.14285714285714285},{"$f":"E530/Author2Sections","v":1},{"$f":"COUNTIF(OFFSET(H530,0,0,1,Author1Sections),\">0\")","v":3},{"$f":"COUNTIF(OFFSET(H530,0,Author1Sections,1,Author2Sections),\"=0\")","v":8},1397,"taught",0,0,0,0.1,0,0,0,0,0,0,0,0,0,0,0.1,0,0,0.1,0,0,0,0,0,0,0,0,0,0,0,"wast","save"]
[{"$f":"B531+C531","v":1.1428571428571428},{"$f":"D531/Author1Sections","v":0.14285714285714285},{"$f":"E531/Author2Sections","v":1},{"$f":"COUNTIF(OFFSET(H531,0,0,1,Author1Sections),\">0\")","v":3},{"$f":"COUNTIF(OFFSET(H531,0,Author1Sections,1,Author2Sections),\"=0\")","v":8},1398,"teaching",0,0,0,0,0,0,0,0,0,0,0,0,0.1,0,0,0,0,0.1,0.1,0,0,0,0,0,0,0,0,0,0,"weale","seem"]
[{"$f":"B532+C532","v":1.1428571428571428},{"$f":"D532/Author1Sections","v":0.14285714285714285},{"$f":"E532/Author2Sections","v":1},{"$f":"COUNTIF(OFFSET(H532,0,0,1,Author1Sections),\">0\")","v":3},{"$f":"COUNTIF(OFFSET(H532,0,Author1Sections,1,Author2Sections),\"=0\")","v":8},1401,"tempests",0,0,0,0.1,0,0,0,0,0,0,0,0,0,0,0,0.1,0,0,0.1,0,0,0,0,0,0,0,0,0,0,"wee","stop"]
[{"$f":"B533+C533","v":1.1428571428571428},{"$f":"D533/Author1Sections","v":0.14285714285714285},{"$f":"E533/Author2Sections","v":1},{"$f":"COUNTIF(OFFSET(H533,0,0,1,Author1Sections),\">0\")","v":3},{"$f":"COUNTIF(OFFSET(H533,0,Author1Sections,1,Author2Sections),\"=0\")","v":8},1402,"themselues",0,0,0,0,0,0,0,0,0,0,0,0.1,0,0,0,0,0,0,0.1,0,7.0372980000000002E-2,0,0,0,0,0,0,0,0,"weepe","adore"]
[{"$f":"B534+C534","v":1.1428571428571428},{"$f":"D534/Author1Sections","v":0.14285714285714285},{"$f":"E534/Author2Sections","v":1},{"$f":"COUNTIF(OFFSET(H534,0,0,1,Author1Sections),\">0\")","v":3},{"$f":"COUNTIF(OFFSET(H534,0,Author1Sections,1,Author2Sections),\"=0\")","v":8},1410,"towne",0,0,0.1,0,0,0,0,0.1,0,0,0,0,0,0.1,0,0,0,0,0,0,0,0,0,0,0,0,0,0,0,"wherewith","affection"]
[{"$f":"B535+C535","v":1.1428571428571428},{"$f":"D535/Author1Sections","v":0.14285714285714285},{"$f":"E535/Author2Sections","v":1},{"$f":"COUNTIF(OFFSET(H535,0,0,1,Author1Sections),\">0\")","v":3},{"$f":"COUNTIF(OFFSET(H535,0,Author1Sections,1,Author2Sections),\"=0\")","v":8},1413,"tribute",0,0,0,0,0,0,0,0,0,0,0,0,0,0.1,0,0,0,0.1,0.1,0,0,0,0,0,0,0,0,0,0,"winne","along"]
[{"$f":"B536+C536","v":1.1428571428571428},{"$f":"D536/Author1Sections","v":0.14285714285714285},{"$f":"E536/Author2Sections","v":1},{"$f":"COUNTIF(OFFSET(H536,0,0,1,Author1Sections),\">0\")","v":3},{"$f":"COUNTIF(OFFSET(H536,0,Author1Sections,1,Author2Sections),\"=0\")","v":8},1414,"trie",0,0.1,0,0,0,0,0,0,0,0,0,0,0,0,0.1,0,0.1,0,0,0,0,0,0,0,0,0,0,0,0,"wisest","antique"]
[{"$f":"B537+C537","v":1.1428571428571428},{"$f":"D537/Author1Sections","v":0.14285714285714285},{"$f":"E537/Author2Sections","v":1},{"$f":"COUNTIF(OFFSET(H537,0,0,1,Author1Sections),\">0\")","v":3},{"$f":"COUNTIF(OFFSET(H537,0,Author1Sections,1,Author2Sections),\"=0\")","v":8},1418,"untill",0.1,0.1,0.1,0,0,0,0,0,0,0,0,0,0,0,0,0,0,0,0,0,0,0,0,0,0,0,0,0,0,"how","bleeding"]
[{"$f":"B538+C538","v":1.1428571428571428},{"$f":"D538/Author1Sections","v":0.14285714285714285},{"$f":"E538/Author2Sections","v":1},{"$f":"COUNTIF(OFFSET(H538,0,0,1,Author1Sections),\">0\")","v":3},{"$f":"COUNTIF(OFFSET(H538,0,Author1Sections,1,Author2Sections),\"=0\")","v":8},1423,"waies",0,0,0,0,0,0,0,0,0,0,0,0.1,0,0,0.1,0,0,0,0,0,7.0372980000000002E-2,0,0,0,0,0,0,0,0,"shall","dark"]
[{"$f":"B539+C539","v":1.1428571428571428},{"$f":"D539/Author1Sections","v":0.14285714285714285},{"$f":"E539/Author2Sections","v":1},{"$f":"COUNTIF(OFFSET(H539,0,0,1,Author1Sections),\">0\")","v":3},{"$f":"COUNTIF(OFFSET(H539,0,Author1Sections,1,Author2Sections),\"=0\")","v":8},1426,"wast",0.1,0,0,0.1,7.4183979999999997E-2,0,0,0,0,0,0,0,0,0,0,0,0,0,0,0,0,0,0,0,0,0,0,0,0,"place","decease"]
[{"$f":"B540+C540","v":1.1428571428571428},{"$f":"D540/Author1Sections","v":0.14285714285714285},{"$f":"E540/Author2Sections","v":1},{"$f":"COUNTIF(OFFSET(H540,0,0,1,Author1Sections),\">0\")","v":3},{"$f":"COUNTIF(OFFSET(H540,0,Author1Sections,1,Author2Sections),\"=0\")","v":8},1432,"weale",0,0,0,0,0,0,0,0,0.1,0,0,0,0,0,0,0,0,0.1,0.1,0,0,0,0,0,0,0,0,0,0,"saw","desert"]
[{"$f":"B541+C541","v":1.1428571428571428},{"$f":"D541/Author1Sections","v":0.14285714285714285},{"$f":"E541/Author2Sections","v":1},{"$f":"COUNTIF(OFFSET(H541,0,0,1,Author1Sections),\">0\")","v":3},{"$f":"COUNTIF(OFFSET(H541,0,Author1Sections,1,Author2Sections),\"=0\")","v":8},1435,"wee",0,0,0.1,0,0,0.1,0,0,0.1,0,0,0,0,0,0,0,0,0,0,0,0,0,0,0,0,0,0,0,0,"shame","dies"]
[{"$f":"B542+C542","v":1.1428571428571428},{"$f":"D542/Author1Sections","v":0.14285714285714285},{"$f":"E542/Author2Sections","v":1},{"$f":"COUNTIF(OFFSET(H542,0,0,1,Author1Sections),\">0\")","v":3},{"$f":"COUNTIF(OFFSET(H542,0,Author1Sections,1,Author2Sections),\"=0\")","v":8},1437,"weepe",0,0,0,0,0,0,0,0,0,0,0,0,0.1,0,0,0,0.1,0,0,0,7.0372980000000002E-2,0,0,0,0,0,0,0,0,"better","dight"]
[{"$f":"B543+C543","v":1.1428571428571428},{"$f":"D543/Author1Sections","v":0.14285714285714285},{"$f":"E543/Author2Sections","v":1},{"$f":"COUNTIF(OFFSET(H543,0,0,1,Author1Sections),\">0\")","v":3},{"$f":"COUNTIF(OFFSET(H543,0,Author1Sections,1,Author2Sections),\"=0\")","v":8},1441,"wherewith",0,0,0,0,0,0,0,0,0,0,0,0,0.1,0,0.1,0.1,0,0,0,0,0,0,0,0,0,0,0,0,0,"fall","dull"]
[{"$f":"B544+C544","v":1.1428571428571428},{"$f":"D544/Author1Sections","v":0.14285714285714285},{"$f":"E544/Author2Sections","v":1},{"$f":"COUNTIF(OFFSET(H544,0,0,1,Author1Sections),\">0\")","v":3},{"$f":"COUNTIF(OFFSET(H544,0,Author1Sections,1,Author2Sections),\"=0\")","v":8},1444,"winne",0,0,0,0,0,0,0,0,0.1,0,0,0,0.1,0,0,0.1,0,0,0,0,0,0,0,0,0,0,0,0,0,"gone","ears"]
[{"$f":"B545+C545","v":1.1428571428571428},{"$f":"D545/Author1Sections","v":0.14285714285714285},{"$f":"E545/Author2Sections","v":1},{"$f":"COUNTIF(OFFSET(H545,0,0,1,Author1Sections),\">0\")","v":3},{"$f":"COUNTIF(OFFSET(H545,0,Author1Sections,1,Author2Sections),\"=0\")","v":8},1445,"wisest",0,0,0,0.1,0,0.1,0,0,0,0,0,0.1,0,0,0,0,0,0,0,0,0,0,0,0,0,0,0,0,0,"care","effect"]
[{"$f":"B546+C546","v":1.1369047619047619},{"$f":"D546/Author1Sections","v":0.76190476190476186},{"$f":"E546/Author2Sections","v":0.375},{"$f":"COUNTIF(OFFSET(H546,0,0,1,Author1Sections),\">0\")","v":16},{"$f":"COUNTIF(OFFSET(H546,0,Author1Sections,1,Author2Sections),\"=0\")","v":3},72,"how",0,0,0.1,0.2,0,0.2,0.1,0.4,0.1,0,0.3,0.1,1.1000000000000001,0.3,0,0.2,0.2,0.4,0.2,0.3,0.21111894,0,0.4,0,0.20297699999999999,0.3,0,0.1,0.26595743999999999,"side","gay"]
[{"$f":"B547+C547","v":1.1369047619047619},{"$f":"D547/Author1Sections","v":0.76190476190476186},{"$f":"E547/Author2Sections","v":0.375},{"$f":"COUNTIF(OFFSET(H547,0,0,1,Author1Sections),\">0\")","v":16},{"$f":"COUNTIF(OFFSET(H547,0,Author1Sections,1,Author2Sections),\"=0\")","v":3},95,"shall",0,0.9,0.4,0.1,0,0.2,0.1,0.2,0.1,0.1,0.1,0,0.1,0,0.1,0.1,0.2,0.1,0.1,0.2,0,0.39525690000000002,0,0,6.7658999999999997E-2,0.3,0.3,0,8.8652484000000004E-2,"boy","graces"]
[{"$f":"B548+C548","v":1.1369047619047619},{"$f":"D548/Author1Sections","v":0.76190476190476186},{"$f":"E548/Author2Sections","v":0.375},{"$f":"COUNTIF(OFFSET(H548,0,0,1,Author1Sections),\">0\")","v":16},{"$f":"COUNTIF(OFFSET(H548,0,Author1Sections,1,Author2Sections),\"=0\")","v":3},110,"place",0,0.1,0.1,0,7.4183979999999997E-2,0.2,0.1,0,0,0.2,0.2,0.4,0.1,0.4,0.1,0.1,0,0.1,0.3,0.1,0.28149190000000002,0,0,0.1,0,0.2,0.1,0.2,0.26595743999999999,"sweetest","grant"]
[{"$f":"B549+C549","v":1.1309523809523809},{"$f":"D549/Author1Sections","v":0.38095238095238093},{"$f":"E549/Author2Sections","v":0.75},{"$f":"COUNTIF(OFFSET(H549,0,0,1,Author1Sections),\">0\")","v":8},{"$f":"COUNTIF(OFFSET(H549,0,Author1Sections,1,Author2Sections),\"=0\")","v":6},192,"saw",0,0.4,0,0.1,0.44510385000000002,0,0,0,0.1,0,0,0.1,0,0,0,0,0.1,0,0.1,0,7.0372980000000002E-2,0,0,0,0,0,0.1,0.2,0,"i","higher"]
[{"$f":"B550+C550","v":1.1309523809523809},{"$f":"D550/Author1Sections","v":0.38095238095238093},{"$f":"E550/Author2Sections","v":0.75},{"$f":"COUNTIF(OFFSET(H550,0,0,1,Author1Sections),\">0\")","v":8},{"$f":"COUNTIF(OFFSET(H550,0,Author1Sections,1,Author2Sections),\"=0\")","v":6},193,"shame",0,0.1,0,0,0,0,0,0,0.2,0,0.2,0.2,0,0,0.1,0,0,0,0.1,0.1,0.14074595000000001,0,0,0,0,0.3,0,0,0.35460994000000001,"me","lines"]
[{"$f":"B551+C551","v":1.1309523809523809},{"$f":"D551/Author1Sections","v":0.38095238095238093},{"$f":"E551/Author2Sections","v":0.75},{"$f":"COUNTIF(OFFSET(H551,0,0,1,Author1Sections),\">0\")","v":8},{"$f":"COUNTIF(OFFSET(H551,0,Author1Sections,1,Author2Sections),\"=0\")","v":6},211,"better",0,0,0.3,0,0,0.2,0.1,0.1,0.1,0,0.1,0,0,0.1,0,0,0.2,0,0,0,0,0.26350462000000002,0,0,6.7658999999999997E-2,0,0,0,0,"so","longer"]
[{"$f":"B552+C552","v":1.1309523809523809},{"$f":"D552/Author1Sections","v":0.38095238095238093},{"$f":"E552/Author2Sections","v":0.75},{"$f":"COUNTIF(OFFSET(H552,0,0,1,Author1Sections),\">0\")","v":8},{"$f":"COUNTIF(OFFSET(H552,0,Author1Sections,1,Author2Sections),\"=0\")","v":6},224,"fall",0.2,0.1,0,0.4,7.4183979999999997E-2,0,0,0,0,0,0.1,0,0.1,0.1,0,0.1,0,0,0,0,0,0.13175231000000001,0,0,0,0,0.2,0,0,"which","mortal"]
[{"$f":"B553+C553","v":1.1309523809523809},{"$f":"D553/Author1Sections","v":0.38095238095238093},{"$f":"E553/Author2Sections","v":0.75},{"$f":"COUNTIF(OFFSET(H553,0,0,1,Author1Sections),\">0\")","v":8},{"$f":"COUNTIF(OFFSET(H553,0,Author1Sections,1,Author2Sections),\"=0\")","v":6},225,"gone",0.1,0.4,0,0,7.4183979999999997E-2,0.1,0,0,0.1,0,0,0,0,0,0.1,0,0.1,0,0,0,0.14074595000000001,0,0,0,0.13531799999999999,0.2,0,0,0,"it","pine"]
[{"$f":"B554+C554","v":1.1309523809523809},{"$f":"D554/Author1Sections","v":0.38095238095238093},{"$f":"E554/Author2Sections","v":0.75},{"$f":"COUNTIF(OFFSET(H554,0,0,1,Author1Sections),\">0\")","v":8},{"$f":"COUNTIF(OFFSET(H554,0,Author1Sections,1,Author2Sections),\"=0\")","v":6},242,"care",0,0.1,0,0,0,0.1,0,0,0,0,0,0.1,0.1,0,0,0,0.2,0.1,0,0.3,0.14074595000000001,0,0.1,0,0.13531799999999999,0,0,0,0,"this","proof"]
[{"$f":"B555+C555","v":1.1309523809523809},{"$f":"D555/Author1Sections","v":0.38095238095238093},{"$f":"E555/Author2Sections","v":0.75},{"$f":"COUNTIF(OFFSET(H555,0,0,1,Author1Sections),\">0\")","v":8},{"$f":"COUNTIF(OFFSET(H555,0,Author1Sections,1,Author2Sections),\"=0\")","v":6},268,"side",0.1,0.1,0,0,0.22255193000000001,0.2,0.1,0,0.1,0,0,0,0,0,0.1,0,0,0,0,0.1,0,0,0.1,0,0,0,0,0.2,0,"no","proud"]
[{"$f":"B556+C556","v":1.1309523809523809},{"$f":"D556/Author1Sections","v":0.38095238095238093},{"$f":"E556/Author2Sections","v":0.75},{"$f":"COUNTIF(OFFSET(H556,0,0,1,Author1Sections),\">0\")","v":8},{"$f":"COUNTIF(OFFSET(H556,0,Author1Sections,1,Author2Sections),\"=0\")","v":6},278,"boy",0,0.1,0,0,0,0,0,0.1,0,0.1,0.3,0,0,0.1,0,0,0.2,0.1,0.1,0,0,6.5876156000000005E-2,0,0.1,0,0,0,0,0,"come","river"]
[{"$f":"B557+C557","v":1.1309523809523809},{"$f":"D557/Author1Sections","v":0.38095238095238093},{"$f":"E557/Author2Sections","v":0.75},{"$f":"COUNTIF(OFFSET(H557,0,0,1,Author1Sections),\">0\")","v":8},{"$f":"COUNTIF(OFFSET(H557,0,Author1Sections,1,Author2Sections),\"=0\")","v":6},350,"sweetest",0,0,0,0,0,0,0,0,0.1,0.2,0,0,0.1,0.1,0,0,0.1,0.1,0.1,0,7.0372980000000002E-2,0,0.1,0.1,0,0,0,0,0,"life","sea"]
[{"$f":"B558+C558","v":1.125},{"$f":"D558/Author1Sections","v":1},{"$f":"E558/Author2Sections","v":0.125},{"$f":"COUNTIF(OFFSET(H558,0,0,1,Author1Sections),\">0\")","v":21},{"$f":"COUNTIF(OFFSET(H558,0,Author1Sections,1,Author2Sections),\"=0\")","v":1},7,"i",1.7,0.8,0.7,0.8,1.6320475000000001,1.7,2.2000000000000002,1.6,2.1,0.9,2.2999999999999998,2.1,1.7,1.7,2.8,3.2,1.9,1.7,2.7,2.2999999999999998,1.0555947000000001,1.3833991999999999,0.2,0.7,0.27063599999999999,0,1.3,0.9,0.8865248,"time","seem'd"]
[{"$f":"B559+C559","v":1.125},{"$f":"D559/Author1Sections","v":1},{"$f":"E559/Author2Sections","v":0.125},{"$f":"COUNTIF(OFFSET(H559,0,0,1,Author1Sections),\">0\")","v":21},{"$f":"COUNTIF(OFFSET(H559,0,Author1Sections,1,Author2Sections),\"=0\")","v":1},16,"me",0.9,0.3,0.5,0.1,0.2967359,0.3,1.2,0.1,0.6,0.3,0.6,0.7,0.9,1.4,1.7,1.9,1.7,0.5,0.9,1.1000000000000001,1.0555947000000001,0.46113305999999998,0.2,0.4,0.20297699999999999,0,0.1,0.5,1.4184397,"full","seeming"]
[{"$f":"B560+C560","v":1.125},{"$f":"D560/Author1Sections","v":1},{"$f":"E560/Author2Sections","v":0.125},{"$f":"COUNTIF(OFFSET(H560,0,0,1,Author1Sections),\">0\")","v":21},{"$f":"COUNTIF(OFFSET(H560,0,Author1Sections,1,Author2Sections),\"=0\")","v":1},18,"so",0.6,0.6,0.6,1,0.2967359,0.7,1,0.5,0.3,0.5,0.6,0.6,1,0.7,1,0.9,0.8,1.2,0.4,0.8,1.2667136000000001,0.79051380000000004,0.1,0,0.40595399999999998,0.8,0.7,0.5,0.62056739999999999,"dead","showers"]
[{"$f":"B561+C561","v":1.125},{"$f":"D561/Author1Sections","v":1},{"$f":"E561/Author2Sections","v":0.125},{"$f":"COUNTIF(OFFSET(H561,0,0,1,Author1Sections),\">0\")","v":21},{"$f":"COUNTIF(OFFSET(H561,0,Author1Sections,1,Author2Sections),\"=0\")","v":1},21,"which",1.1000000000000001,0.8,1.1000000000000001,0.8,0.96439169999999996,0.6,0.4,0.5,0.4,1,1.3,0.6,0.5,0.5,0.5,0.4,0.5,1.2,0.6,0.3,0.91484869999999996,0.6587615,0.1,0.1,0,0.4,1.1000000000000001,0.4,0.62056739999999999,"thereof","silence"]
[{"$f":"B562+C562","v":1.125},{"$f":"D562/Author1Sections","v":1},{"$f":"E562/Author2Sections","v":0.125},{"$f":"COUNTIF(OFFSET(H562,0,0,1,Author1Sections),\">0\")","v":21},{"$f":"COUNTIF(OFFSET(H562,0,Author1Sections,1,Author2Sections),\"=0\")","v":1},26,"it",0.5,0.6,0.4,0.5,1.0385755999999999,0.8,0.2,0.8,1.1000000000000001,0.3,0.4,0.6,0.6,0.4,0.3,0.4,0.2,1,0.1,0.1,0.56298380000000003,0.72463770000000005,0.3,0,0.27063599999999999,0.8,0.4,0.7,0.26595743999999999,"about","sport"]
[{"$f":"B563+C563","v":1.125},{"$f":"D563/Author1Sections","v":1},{"$f":"E563/Author2Sections","v":0.125},{"$f":"COUNTIF(OFFSET(H563,0,0,1,Author1Sections),\">0\")","v":21},{"$f":"COUNTIF(OFFSET(H563,0,Author1Sections,1,Author2Sections),\"=0\")","v":1},31,"this",0.4,0.2,0.6,0.5,1.1127596,0.7,1,0.4,0.8,0.3,0.2,0.5,0.2,0.4,0.5,0.7,0.6,0.6,0.3,0.5,0.35186487,0.39525690000000002,0,0.1,6.7658999999999997E-2,0.4,0.5,0.3,0.17730497000000001,"absence","thereby"]
[{"$f":"B564+C564","v":1.125},{"$f":"D564/Author1Sections","v":1},{"$f":"E564/Author2Sections","v":0.125},{"$f":"COUNTIF(OFFSET(H564,0,0,1,Author1Sections),\">0\")","v":21},{"$f":"COUNTIF(OFFSET(H564,0,Author1Sections,1,Author2Sections),\"=0\")","v":1},39,"no",0.4,0.5,0.4,0.2,7.4183979999999997E-2,0.2,0.4,0.3,0.6,0.1,0.5,0.4,0.5,0.5,0.5,0.4,1,0.7,0.4,0.5,0.28149190000000002,0.46113305999999998,0,0.2,0.40595399999999998,0.3,0.2,0.1,8.8652484000000004E-2,"presence","thunder"]
[{"$f":"B565+C565","v":1.1190476190476191},{"$f":"D565/Author1Sections","v":0.61904761904761907},{"$f":"E565/Author2Sections","v":0.5},{"$f":"COUNTIF(OFFSET(H565,0,0,1,Author1Sections),\">0\")","v":13},{"$f":"COUNTIF(OFFSET(H565,0,Author1Sections,1,Author2Sections),\"=0\")","v":4},129,"come",0,0.1,0.1,0,7.4183979999999997E-2,0.3,0.2,0,0,0,0.1,0,0.1,0.3,0,0.1,0.3,0.1,0.1,0,7.0372980000000002E-2,0.13175231000000001,0.4,0.3,6.7658999999999997E-2,0,0,0,0,"field","wife"]
[{"$f":"B566+C566","v":1.1190476190476191},{"$f":"D566/Author1Sections","v":0.61904761904761907},{"$f":"E566/Author2Sections","v":0.5},{"$f":"COUNTIF(OFFSET(H566,0,0,1,Author1Sections),\">0\")","v":13},{"$f":"COUNTIF(OFFSET(H566,0,Author1Sections,1,Author2Sections),\"=0\")","v":4},137,"life",0,0,0.1,0.2,7.4183979999999997E-2,0,0.1,0.5,0.1,0,0,0.1,0.3,0.1,0,0,0.3,0,0.2,0.2,7.0372980000000002E-2,6.5876156000000005E-2,0,0,6.7658999999999997E-2,0.1,0,0.1,0,"image","some"]
[{"$f":"B567+C567","v":1.1190476190476191},{"$f":"D567/Author1Sections","v":0.61904761904761907},{"$f":"E567/Author2Sections","v":0.5},{"$f":"COUNTIF(OFFSET(H567,0,0,1,Author1Sections),\">0\")","v":13},{"$f":"COUNTIF(OFFSET(H567,0,Author1Sections,1,Author2Sections),\"=0\")","v":4},142,"time",0.1,0.1,0,0.4,7.4183979999999997E-2,0.1,0.1,0.1,0.2,0,0,0.1,0,0,0,0,0.1,0.1,0.1,0,7.0372980000000002E-2,0.13175231000000001,0,0,6.7658999999999997E-2,0.4,0.3,0,0,"skill","last"]
[{"$f":"B568+C568","v":1.1190476190476191},{"$f":"D568/Author1Sections","v":0.61904761904761907},{"$f":"E568/Author2Sections","v":0.5},{"$f":"COUNTIF(OFFSET(H568,0,0,1,Author1Sections),\">0\")","v":13},{"$f":"COUNTIF(OFFSET(H568,0,Author1Sections,1,Author2Sections),\"=0\")","v":4},155,"full",0.2,0,0.1,0,0.14836795999999999,0.1,0,0,0.2,0.1,0.2,0,0.1,0,0.1,0,0.1,0,0.2,0.1,0.14074595000000001,6.5876156000000005E-2,0.1,0.1,0,0,0.1,0,0,"hands","ah"]
[{"$f":"B569+C569","v":1.1130952380952381},{"$f":"D569/Author1Sections","v":0.23809523809523808},{"$f":"E569/Author2Sections","v":0.875},{"$f":"COUNTIF(OFFSET(H569,0,0,1,Author1Sections),\">0\")","v":5},{"$f":"COUNTIF(OFFSET(H569,0,Author1Sections,1,Author2Sections),\"=0\")","v":7},214,"dead",0,0.9,0.1,0.2,7.4183979999999997E-2,0,0,0,0,0,0,0,0,0,0,0,0,0,0,0,7.0372980000000002E-2,0,0,0,0.20297699999999999,0,0,0,0,"king","sorrow"]
[{"$f":"B570+C570","v":1.1130952380952381},{"$f":"D570/Author1Sections","v":0.23809523809523808},{"$f":"E570/Author2Sections","v":0.875},{"$f":"COUNTIF(OFFSET(H570,0,0,1,Author1Sections),\">0\")","v":5},{"$f":"COUNTIF(OFFSET(H570,0,Author1Sections,1,Author2Sections),\"=0\")","v":7},384,"thereof",0,0,0,0.1,0.22255193000000001,0,0,0,0,0,0,0,0,0.2,0,0,0,0,0,0.1,0.14074595000000001,0,0,0,0,0,0,0.1,0,"please","little"]
[{"$f":"B571+C571","v":1.1130952380952381},{"$f":"D571/Author1Sections","v":0.23809523809523808},{"$f":"E571/Author2Sections","v":0.875},{"$f":"COUNTIF(OFFSET(H571,0,0,1,Author1Sections),\">0\")","v":5},{"$f":"COUNTIF(OFFSET(H571,0,Author1Sections,1,Author2Sections),\"=0\")","v":7},391,"about",0.2,0.1,0,0,0,0,0.1,0.1,0.2,0,0,0,0,0,0,0,0,0,0,0,0,0,0,0.2,0,0,0,0,0,"red","found"]
[{"$f":"B572+C572","v":1.1130952380952381},{"$f":"D572/Author1Sections","v":0.23809523809523808},{"$f":"E572/Author2Sections","v":0.875},{"$f":"COUNTIF(OFFSET(H572,0,0,1,Author1Sections),\">0\")","v":5},{"$f":"COUNTIF(OFFSET(H572,0,Author1Sections,1,Author2Sections),\"=0\")","v":7},392,"absence",0,0,0,0,0,0,0,0,0,0,0,0,0,0,0,0.2,0,0.1,0.1,0.3,7.0372980000000002E-2,0,0,0,0,0,0,0,8.8652484000000004E-2,"tree","strong"]
[{"$f":"B573+C573","v":1.1130952380952381},{"$f":"D573/Author1Sections","v":0.23809523809523808},{"$f":"E573/Author2Sections","v":0.875},{"$f":"COUNTIF(OFFSET(H573,0,0,1,Author1Sections),\">0\")","v":5},{"$f":"COUNTIF(OFFSET(H573,0,Author1Sections,1,Author2Sections),\"=0\")","v":7},422,"presence",0,0,0,0,0,0.2,0,0.1,0,0,0,0,0,0,0,0.2,0,0.1,0,0,0.14074595000000001,0,0,0,0,0,0.1,0,0,"embrace","tender"]
[{"$f":"B574+C574","v":1.1130952380952381},{"$f":"D574/Author1Sections","v":0.23809523809523808},{"$f":"E574/Author2Sections","v":0.875},{"$f":"COUNTIF(OFFSET(H574,0,0,1,Author1Sections),\">0\")","v":5},{"$f":"COUNTIF(OFFSET(H574,0,Author1Sections,1,Author2Sections),\"=0\")","v":7},449,"field",0.1,0,0,0,0,0,0.1,0.1,0,0,0.2,0,0,0,0,0,0,0,0,0,0.14074595000000001,0,0,0,0,0.1,0,0,0,"fairest","were"]
[{"$f":"B575+C575","v":1.1130952380952381},{"$f":"D575/Author1Sections","v":0.23809523809523808},{"$f":"E575/Author2Sections","v":0.875},{"$f":"COUNTIF(OFFSET(H575,0,0,1,Author1Sections),\">0\")","v":5},{"$f":"COUNTIF(OFFSET(H575,0,Author1Sections,1,Author2Sections),\"=0\")","v":7},459,"image",0,0,0,0.2,0,0,0,0,0,0.1,0,0,0.1,0.2,0,0,0.1,0,0,0,0,0,0,0,0,0.1,0,0,0,"fate","could"]
[{"$f":"B576+C576","v":1.1130952380952381},{"$f":"D576/Author1Sections","v":0.23809523809523808},{"$f":"E576/Author2Sections","v":0.875},{"$f":"COUNTIF(OFFSET(H576,0,0,1,Author1Sections),\">0\")","v":5},{"$f":"COUNTIF(OFFSET(H576,0,Author1Sections,1,Author2Sections),\"=0\")","v":7},483,"skill",0,0,0,0.1,0,0,0.1,0,0.1,0,0.2,0,0,0.2,0,0,0,0,0,0,0,0,0,0,0,0,0,0.1,0,"finding","mind"]
[{"$f":"B577+C577","v":1.1130952380952381},{"$f":"D577/Author1Sections","v":0.23809523809523808},{"$f":"E577/Author2Sections","v":0.875},{"$f":"COUNTIF(OFFSET(H577,0,0,1,Author1Sections),\">0\")","v":5},{"$f":"COUNTIF(OFFSET(H577,0,Author1Sections,1,Author2Sections),\"=0\")","v":7},516,"hands",0,0,0.1,0,0,0.1,0.1,0,0,0,0,0.2,0,0,0,0,0,0,0,0.1,0,0,0,0,0,0,0.1,0,0,"poets","lycidas"]
[{"$f":"B578+C578","v":1.1130952380952381},{"$f":"D578/Author1Sections","v":0.23809523809523808},{"$f":"E578/Author2Sections","v":0.875},{"$f":"COUNTIF(OFFSET(H578,0,0,1,Author1Sections),\">0\")","v":5},{"$f":"COUNTIF(OFFSET(H578,0,Author1Sections,1,Author2Sections),\"=0\")","v":7},523,"king",0,0,0,0.2,0,0,0,0.1,0,0.1,0,0,0.1,0,0,0,0,0.1,0,0,0,0,0,0.1,0,0,0,0,0,"rather","drop"]
[{"$f":"B579+C579","v":1.1130952380952381},{"$f":"D579/Author1Sections","v":0.23809523809523808},{"$f":"E579/Author2Sections","v":0.875},{"$f":"COUNTIF(OFFSET(H579,0,0,1,Author1Sections),\">0\")","v":5},{"$f":"COUNTIF(OFFSET(H579,0,Author1Sections,1,Author2Sections),\"=0\")","v":7},540,"please",0,0,0,0,0,0.1,0,0,0,0,0,0.1,0.1,0,0,0,0,0.1,0,0.2,0,0,0.1,0,0,0,0,0,0,"short","ll"]
[{"$f":"B580+C580","v":1.1130952380952381},{"$f":"D580/Author1Sections","v":0.23809523809523808},{"$f":"E580/Author2Sections","v":0.875},{"$f":"COUNTIF(OFFSET(H580,0,0,1,Author1Sections),\">0\")","v":5},{"$f":"COUNTIF(OFFSET(H580,0,Author1Sections,1,Author2Sections),\"=0\")","v":7},545,"red",0,0,0,0,7.4183979999999997E-2,0,0,0,0,0.2,0,0,0,0.1,0,0,0,0,0,0.1,7.0372980000000002E-2,0,0,0,0,0,0,0,8.8652484000000004E-2,"if","return"]
[{"$f":"B581+C581","v":1.1130952380952381},{"$f":"D581/Author1Sections","v":0.23809523809523808},{"$f":"E581/Author2Sections","v":0.875},{"$f":"COUNTIF(OFFSET(H581,0,0,1,Author1Sections),\">0\")","v":5},{"$f":"COUNTIF(OFFSET(H581,0,Author1Sections,1,Author2Sections),\"=0\")","v":7},564,"tree",0,0,0,0.1,0,0,0,0,0,0.1,0,0,0.2,0,0,0,0,0,0.1,0.1,0,6.5876156000000005E-2,0,0,0,0,0,0,0,"will","single"]
[{"$f":"B582+C582","v":1.1130952380952381},{"$f":"D582/Author1Sections","v":0.23809523809523808},{"$f":"E582/Author2Sections","v":0.875},{"$f":"COUNTIF(OFFSET(H582,0,0,1,Author1Sections),\">0\")","v":5},{"$f":"COUNTIF(OFFSET(H582,0,Author1Sections,1,Author2Sections),\"=0\")","v":7},595,"embrace",0,0,0.1,0,0,0,0,0,0,0.1,0.1,0,0,0,0,0,0,0.1,0.1,0,0,6.5876156000000005E-2,0,0,0,0,0,0,0,"them","swain"]
[{"$f":"B583+C583","v":1.1130952380952381},{"$f":"D583/Author1Sections","v":0.23809523809523808},{"$f":"E583/Author2Sections","v":0.875},{"$f":"COUNTIF(OFFSET(H583,0,0,1,Author1Sections),\">0\")","v":5},{"$f":"COUNTIF(OFFSET(H583,0,Author1Sections,1,Author2Sections),\"=0\")","v":7},600,"fairest",0,0,0,0,0,0.1,0,0,0.1,0,0.1,0,0,0,0,0,0.1,0,0,0,7.0372980000000002E-2,0,0,0,0,0.1,0,0,0,"still","yourself"]
[{"$f":"B584+C584","v":1.1130952380952381},{"$f":"D584/Author1Sections","v":0.23809523809523808},{"$f":"E584/Author2Sections","v":0.875},{"$f":"COUNTIF(OFFSET(H584,0,0,1,Author1Sections),\">0\")","v":5},{"$f":"COUNTIF(OFFSET(H584,0,Author1Sections,1,Author2Sections),\"=0\")","v":7},601,"fate",0,0.1,0,0.1,7.4183979999999997E-2,0,0,0,0,0,0,0,0,0,0,0.1,0,0,0,0.1,0,6.5876156000000005E-2,0,0,0,0,0,0,0,"an","'his"]
[{"$f":"B585+C585","v":1.1130952380952381},{"$f":"D585/Author1Sections","v":0.23809523809523808},{"$f":"E585/Author2Sections","v":0.875},{"$f":"COUNTIF(OFFSET(H585,0,0,1,Author1Sections),\">0\")","v":5},{"$f":"COUNTIF(OFFSET(H585,0,Author1Sections,1,Author2Sections),\"=0\")","v":7},603,"finding",0,0,0,0,0,0,0,0.1,0,0.1,0.1,0,0.1,0,0,0,0,0,0,0.1,0,0,0,0,0,0,0,0.1,0,"being","'lo"]
[{"$f":"B586+C586","v":1.1130952380952381},{"$f":"D586/Author1Sections","v":0.23809523809523808},{"$f":"E586/Author2Sections","v":0.875},{"$f":"COUNTIF(OFFSET(H586,0,0,1,Author1Sections),\">0\")","v":5},{"$f":"COUNTIF(OFFSET(H586,0,Author1Sections,1,Author2Sections),\"=0\")","v":7},643,"poets",0,0.1,0.1,0.1,0,0,0,0,0,0,0,0,0,0,0,0,0,0.1,0,0.1,0,0,0.1,0,0,0,0,0,0,"whether","'so"]
[{"$f":"B587+C587","v":1.1130952380952381},{"$f":"D587/Author1Sections","v":0.23809523809523808},{"$f":"E587/Author2Sections","v":0.875},{"$f":"COUNTIF(OFFSET(H587,0,0,1,Author1Sections),\">0\")","v":5},{"$f":"COUNTIF(OFFSET(H587,0,Author1Sections,1,Author2Sections),\"=0\")","v":7},648,"rather",0,0,0,0,0,0,0,0.1,0.1,0.1,0,0,0,0,0,0,0.1,0.1,0,0,0,6.5876156000000005E-2,0,0,0,0,0,0,0,"dorcas","apollo's"]
[{"$f":"B588+C588","v":1.1130952380952381},{"$f":"D588/Author1Sections","v":0.23809523809523808},{"$f":"E588/Author2Sections","v":0.875},{"$f":"COUNTIF(OFFSET(H588,0,0,1,Author1Sections),\">0\")","v":5},{"$f":"COUNTIF(OFFSET(H588,0,Author1Sections,1,Author2Sections),\"=0\")","v":7},657,"short",0,0,0,0,7.4183979999999997E-2,0,0,0,0.1,0,0,0,0,0,0,0.1,0,0.1,0.1,0,0,6.5876156000000005E-2,0,0,0,0,0,0,0,"rixus","arts"]
[{"$f":"B589+C589","v":1.1071428571428572},{"$f":"D589/Author1Sections","v":0.8571428571428571},{"$f":"E589/Author2Sections","v":0.25},{"$f":"COUNTIF(OFFSET(H589,0,0,1,Author1Sections),\">0\")","v":18},{"$f":"COUNTIF(OFFSET(H589,0,Author1Sections,1,Author2Sections),\"=0\")","v":2},51,"if",0.2,0,0,0.1,7.4183979999999997E-2,0.1,0.4,0.5,0.2,0.3,0.4,0.4,0.3,0.7,0,0.6,0.2,0.1,0.4,0.7,0.21111894,0.32938075,0.4,0.3,0,0.7,0.4,0.4,0,"spirite","beneath"]
[{"$f":"B590+C590","v":1.1071428571428572},{"$f":"D590/Author1Sections","v":0.8571428571428571},{"$f":"E590/Author2Sections","v":0.25},{"$f":"COUNTIF(OFFSET(H590,0,0,1,Author1Sections),\">0\")","v":18},{"$f":"COUNTIF(OFFSET(H590,0,Author1Sections,1,Author2Sections),\"=0\")","v":2},63,"will",0,0.3,0.3,0.2,7.4183979999999997E-2,0,0.1,0.5,0.5,0.2,0,0.2,0.1,0.4,0.2,0.1,0.3,0.1,0.4,0.1,0.14074595000000001,0.59288540000000001,0.1,0.4,0,0.5,0,0.4,8.8652484000000004E-2,"mars","blithe"]
[{"$f":"B591+C591","v":1.1071428571428572},{"$f":"D591/Author1Sections","v":0.8571428571428571},{"$f":"E591/Author2Sections","v":0.25},{"$f":"COUNTIF(OFFSET(H591,0,0,1,Author1Sections),\">0\")","v":18},{"$f":"COUNTIF(OFFSET(H591,0,Author1Sections,1,Author2Sections),\"=0\")","v":2},69,"them",0.2,0.1,0.1,0.3,7.4183979999999997E-2,0.4,0.4,0.3,0.7,0,0.2,0.1,0.1,0.4,0.3,0.3,0,0,0.1,0.3,7.0372980000000002E-2,6.5876156000000005E-2,0,0.2,0.13531799999999999,0,0.2,0.4,0.53191489999999997,"golde","blows"]
[{"$f":"B592+C592","v":1.1071428571428572},{"$f":"D592/Author1Sections","v":0.8571428571428571},{"$f":"E592/Author2Sections","v":0.25},{"$f":"COUNTIF(OFFSET(H592,0,0,1,Author1Sections),\">0\")","v":18},{"$f":"COUNTIF(OFFSET(H592,0,Author1Sections,1,Author2Sections),\"=0\")","v":2},76,"still",0.1,0,0,0.1,7.4183979999999997E-2,0.1,0.1,0,0.1,0.2,0.1,0.3,0.1,0.4,0.3,0.1,0.3,0.3,0.4,0.1,0.35186487,0.52700924999999998,0,0.3,6.7658999999999997E-2,0.4,0.2,0.1,0,"master","blushes"]
[{"$f":"B593+C593","v":1.1011904761904763},{"$f":"D593/Author1Sections","v":0.47619047619047616},{"$f":"E593/Author2Sections","v":0.625},{"$f":"COUNTIF(OFFSET(H593,0,0,1,Author1Sections),\">0\")","v":10},{"$f":"COUNTIF(OFFSET(H593,0,Author1Sections,1,Author2Sections),\"=0\")","v":5},165,"an",0,0.1,0.1,0.3,0.22255193000000001,0.1,0.1,0.2,0,0.1,0,0,0.1,0,0,0,0,0.1,0,0,0,0.13175231000000001,0,0,0,0.3,0,0,8.8652484000000004E-2,"seemed","bounty"]
[{"$f":"B594+C594","v":1.1011904761904763},{"$f":"D594/Author1Sections","v":0.47619047619047616},{"$f":"E594/Author2Sections","v":0.625},{"$f":"COUNTIF(OFFSET(H594,0,0,1,Author1Sections),\">0\")","v":10},{"$f":"COUNTIF(OFFSET(H594,0,Author1Sections,1,Author2Sections),\"=0\")","v":5},166,"being",0.1,0.1,0.2,0.2,0,0.2,0,0,0.3,0,0.1,0,0,0.1,0,0,0.1,0,0,0.1,0,0,0,0,0,0.3,0,0.2,8.8652484000000004E-2,"brother","breaking"]
[{"$f":"B595+C595","v":1.1011904761904763},{"$f":"D595/Author1Sections","v":0.47619047619047616},{"$f":"E595/Author2Sections","v":0.625},{"$f":"COUNTIF(OFFSET(H595,0,0,1,Author1Sections),\">0\")","v":10},{"$f":"COUNTIF(OFFSET(H595,0,Author1Sections,1,Author2Sections),\"=0\")","v":5},209,"whether",0.1,0.1,0,0,7.4183979999999997E-2,0.1,0.3,0.1,0.3,0,0,0,0.1,0,0,0.1,0,0,0,0.1,0,0,0.1,0,0.13531799999999999,0,0,0.1,0,"grammer","calls"]
[{"$f":"B596+C596","v":1.0952380952380953},{"$f":"D596/Author1Sections","v":9.5238095238095233E-2},{"$f":"E596/Author2Sections","v":1},{"$f":"COUNTIF(OFFSET(H596,0,0,1,Author1Sections),\">0\")","v":2},{"$f":"COUNTIF(OFFSET(H596,0,Author1Sections,1,Author2Sections),\"=0\")","v":8},406,"dorcas",0,0,0,0,0,0,0.2,0.7,0,0,0,0,0,0,0,0,0,0,0,0,0,0,0,0,0,0,0,0,0,"heavenlie","city"]
[{"$f":"B597+C597","v":1.0952380952380953},{"$f":"D597/Author1Sections","v":9.5238095238095233E-2},{"$f":"E597/Author2Sections","v":1},{"$f":"COUNTIF(OFFSET(H597,0,0,1,Author1Sections),\">0\")","v":2},{"$f":"COUNTIF(OFFSET(H597,0,Author1Sections,1,Author2Sections),\"=0\")","v":8},475,"rixus",0,0,0,0,0,0,0.1,0.7,0,0,0,0,0,0,0,0,0,0,0,0,0,0,0,0,0,0,0,0,0,"maiestie","cloud"]
[{"$f":"B598+C598","v":1.0952380952380953},{"$f":"D598/Author1Sections","v":9.5238095238095233E-2},{"$f":"E598/Author2Sections","v":1},{"$f":"COUNTIF(OFFSET(H598,0,0,1,Author1Sections),\">0\")","v":2},{"$f":"COUNTIF(OFFSET(H598,0,Author1Sections,1,Author2Sections),\"=0\")","v":8},558,"spirite",0,0,0.5,0,0.14836795999999999,0,0,0,0,0,0,0,0,0,0,0,0,0,0,0,0,0,0,0,0,0,0,0,0,"obtaine","cock"]
[{"$f":"B599+C599","v":1.0952380952380953},{"$f":"D599/Author1Sections","v":9.5238095238095233E-2},{"$f":"E599/Author2Sections","v":1},{"$f":"COUNTIF(OFFSET(H599,0,0,1,Author1Sections),\">0\")","v":2},{"$f":"COUNTIF(OFFSET(H599,0,Author1Sections,1,Author2Sections),\"=0\")","v":8},624,"mars",0,0,0,0,0,0,0,0,0,0,0.4,0,0,0,0,0,0,0.2,0,0,0,0,0,0,0,0,0,0,0,"appeares","confounds"]
[{"$f":"B600+C600","v":1.0952380952380953},{"$f":"D600/Author1Sections","v":9.5238095238095233E-2},{"$f":"E600/Author2Sections","v":1},{"$f":"COUNTIF(OFFSET(H600,0,0,1,Author1Sections),\">0\")","v":2},{"$f":"COUNTIF(OFFSET(H600,0,Author1Sections,1,Author2Sections),\"=0\")","v":8},739,"golde",0.2,0,0,0,0.22255193000000001,0,0,0,0,0,0,0,0,0,0,0,0,0,0,0,0,0,0,0,0,0,0,0,0,"awake","crown"]
[{"$f":"B601+C601","v":1.0952380952380953},{"$f":"D601/Author1Sections","v":9.5238095238095233E-2},{"$f":"E601/Author2Sections","v":1},{"$f":"COUNTIF(OFFSET(H601,0,0,1,Author1Sections),\">0\")","v":2},{"$f":"COUNTIF(OFFSET(H601,0,Author1Sections,1,Author2Sections),\"=0\")","v":8},753,"master",0,0,0,0,0,0.2,0,0.3,0,0,0,0,0,0,0,0,0,0,0,0,0,0,0,0,0,0,0,0,0,"badge","darkness"]
[{"$f":"B602+C602","v":1.0952380952380953},{"$f":"D602/Author1Sections","v":9.5238095238095233E-2},{"$f":"E602/Author2Sections","v":1},{"$f":"COUNTIF(OFFSET(H602,0,0,1,Author1Sections),\">0\")","v":2},{"$f":"COUNTIF(OFFSET(H602,0,Author1Sections,1,Author2Sections),\"=0\")","v":8},790,"seemed",0,0,0,0,0.2967359,0.1,0,0,0,0,0,0,0,0,0,0,0,0,0,0,0,0,0,0,0,0,0,0,0,"bend","distill'd"]
[{"$f":"B603+C603","v":1.0952380952380953},{"$f":"D603/Author1Sections","v":9.5238095238095233E-2},{"$f":"E603/Author2Sections","v":1},{"$f":"COUNTIF(OFFSET(H603,0,0,1,Author1Sections),\">0\")","v":2},{"$f":"COUNTIF(OFFSET(H603,0,Author1Sections,1,Author2Sections),\"=0\")","v":8},861,"brother",0,0.3,0,0,0,0,0,0,0,0,0,0,0,0,0,0,0,0,0.1,0,0,0,0,0,0,0,0,0,0,"bodie","droop"]
[{"$f":"B604+C604","v":1.0952380952380953},{"$f":"D604/Author1Sections","v":9.5238095238095233E-2},{"$f":"E604/Author2Sections","v":1},{"$f":"COUNTIF(OFFSET(H604,0,0,1,Author1Sections),\">0\")","v":2},{"$f":"COUNTIF(OFFSET(H604,0,Author1Sections,1,Author2Sections),\"=0\")","v":8},908,"grammer",0,0,0,0,0,0,0,0,0,0,0,0,0,0,0,0.1,0.3,0,0,0,0,0,0,0,0,0,0,0,0,"bountie","falling"]
[{"$f":"B605+C605","v":1.0952380952380953},{"$f":"D605/Author1Sections","v":9.5238095238095233E-2},{"$f":"E605/Author2Sections","v":1},{"$f":"COUNTIF(OFFSET(H605,0,0,1,Author1Sections),\">0\")","v":2},{"$f":"COUNTIF(OFFSET(H605,0,Author1Sections,1,Author2Sections),\"=0\")","v":8},925,"heavenlie",0,0,0.3,0,7.4183979999999997E-2,0,0,0,0,0,0,0,0,0,0,0,0,0,0,0,0,0,0,0,0,0,0,0,0,"called","greek"]
[{"$f":"B606+C606","v":1.0952380952380953},{"$f":"D606/Author1Sections","v":9.5238095238095233E-2},{"$f":"E606/Author2Sections","v":1},{"$f":"COUNTIF(OFFSET(H606,0,0,1,Author1Sections),\">0\")","v":2},{"$f":"COUNTIF(OFFSET(H606,0,Author1Sections,1,Author2Sections),\"=0\")","v":8},961,"maiestie",0,0,0,0,0,0.3,0.1,0,0,0,0,0,0,0,0,0,0,0,0,0,0,0,0,0,0,0,0,0,0,"chuse","happier"]
[{"$f":"B607+C607","v":1.0952380952380953},{"$f":"D607/Author1Sections","v":9.5238095238095233E-2},{"$f":"E607/Author2Sections","v":1},{"$f":"COUNTIF(OFFSET(H607,0,0,1,Author1Sections),\">0\")","v":2},{"$f":"COUNTIF(OFFSET(H607,0,Author1Sections,1,Author2Sections),\"=0\")","v":8},969,"obtaine",0,0,0,0,0,0,0,0,0.3,0,0,0,0,0,0,0,0,0.1,0,0,0,0,0,0,0,0,0,0,0,"coast","haste"]
[{"$f":"B608+C608","v":1.0952380952380953},{"$f":"D608/Author1Sections","v":9.5238095238095233E-2},{"$f":"E608/Author2Sections","v":1},{"$f":"COUNTIF(OFFSET(H608,0,0,1,Author1Sections),\">0\")","v":2},{"$f":"COUNTIF(OFFSET(H608,0,Author1Sections,1,Author2Sections),\"=0\")","v":8},1064,"appeares",0.2,0,0,0,0,0,0,0,0,0,0,0,0,0,0,0,0.1,0,0,0,0,0,0,0,0,0,0,0,0,"comming","heir"]
[{"$f":"B609+C609","v":1.0952380952380953},{"$f":"D609/Author1Sections","v":9.5238095238095233E-2},{"$f":"E609/Author2Sections","v":1},{"$f":"COUNTIF(OFFSET(H609,0,0,1,Author1Sections),\">0\")","v":2},{"$f":"COUNTIF(OFFSET(H609,0,Author1Sections,1,Author2Sections),\"=0\")","v":8},1068,"awake",0,0.2,0,0,0,0,0,0,0,0,0,0,0,0,0.1,0,0,0,0,0,0,0,0,0,0,0,0,0,0,"daunce","hither"]
[{"$f":"B610+C610","v":1.0952380952380953},{"$f":"D610/Author1Sections","v":9.5238095238095233E-2},{"$f":"E610/Author2Sections","v":1},{"$f":"COUNTIF(OFFSET(H610,0,0,1,Author1Sections),\">0\")","v":2},{"$f":"COUNTIF(OFFSET(H610,0,Author1Sections,1,Author2Sections),\"=0\")","v":8},1069,"badge",0,0,0,0,0,0,0,0,0,0,0,0,0,0,0.2,0,0,0,0,0,7.0372980000000002E-2,0,0,0,0,0,0,0,0,"deale","language"]
[{"$f":"B611+C611","v":1.0952380952380953},{"$f":"D611/Author1Sections","v":9.5238095238095233E-2},{"$f":"E611/Author2Sections","v":1},{"$f":"COUNTIF(OFFSET(H611,0,0,1,Author1Sections),\">0\")","v":2},{"$f":"COUNTIF(OFFSET(H611,0,Author1Sections,1,Author2Sections),\"=0\")","v":8},1078,"bend",0,0,0,0,0,0,0,0,0,0,0.2,0,0,0,0.1,0,0,0,0,0,0,0,0,0,0,0,0,0,0,"disdaine","lover"]
[{"$f":"B612+C612","v":1.0952380952380953},{"$f":"D612/Author1Sections","v":9.5238095238095233E-2},{"$f":"E612/Author2Sections","v":1},{"$f":"COUNTIF(OFFSET(H612,0,0,1,Author1Sections),\">0\")","v":2},{"$f":"COUNTIF(OFFSET(H612,0,Author1Sections,1,Author2Sections),\"=0\")","v":8},1086,"bodie",0,0,0.2,0,0,0,0,0.1,0,0,0,0,0,0,0,0,0,0,0,0,0,0,0,0,0,0,0,0,0,"doest","lungs"]
[{"$f":"B613+C613","v":1.0952380952380953},{"$f":"D613/Author1Sections","v":9.5238095238095233E-2},{"$f":"E613/Author2Sections","v":1},{"$f":"COUNTIF(OFFSET(H613,0,0,1,Author1Sections),\">0\")","v":2},{"$f":"COUNTIF(OFFSET(H613,0,Author1Sections,1,Author2Sections),\"=0\")","v":8},1091,"bountie",0,0,0.2,0,0,0,0,0,0.1,0,0,0,0,0,0,0,0,0,0,0,0,0,0,0,0,0,0,0,0,"eke","lusty"]
[{"$f":"B614+C614","v":1.0952380952380953},{"$f":"D614/Author1Sections","v":9.5238095238095233E-2},{"$f":"E614/Author2Sections","v":1},{"$f":"COUNTIF(OFFSET(H614,0,0,1,Author1Sections),\">0\")","v":2},{"$f":"COUNTIF(OFFSET(H614,0,Author1Sections,1,Author2Sections),\"=0\")","v":8},1098,"called",0,0,0,0,0.14836795999999999,0.1,0,0,0,0,0,0,0,0,0,0,0,0,0,0,0,0,0,0,0,0,0,0,0,"enemies","mantle"]
[{"$f":"B615+C615","v":1.0952380952380953},{"$f":"D615/Author1Sections","v":9.5238095238095233E-2},{"$f":"E615/Author2Sections","v":1},{"$f":"COUNTIF(OFFSET(H615,0,0,1,Author1Sections),\">0\")","v":2},{"$f":"COUNTIF(OFFSET(H615,0,Author1Sections,1,Author2Sections),\"=0\")","v":8},1109,"chuse",0,0,0,0,0,0.1,0,0,0,0,0,0,0,0,0.2,0,0,0,0,0,0,0,0,0,0,0,0,0,0,"enioy","measure"]
[{"$f":"B616+C616","v":1.0952380952380953},{"$f":"D616/Author1Sections","v":9.5238095238095233E-2},{"$f":"E616/Author2Sections","v":1},{"$f":"COUNTIF(OFFSET(H616,0,0,1,Author1Sections),\">0\")","v":2},{"$f":"COUNTIF(OFFSET(H616,0,Author1Sections,1,Author2Sections),\"=0\")","v":8},1113,"coast",0,0,0,0,7.4183979999999997E-2,0,0,0,0,0,0,0,0.2,0,0,0,0,0,0,0,0,0,0,0,0,0,0,0,0,"enuie","meed"]
[{"$f":"B617+C617","v":1.0952380952380953},{"$f":"D617/Author1Sections","v":9.5238095238095233E-2},{"$f":"E617/Author2Sections","v":1},{"$f":"COUNTIF(OFFSET(H617,0,0,1,Author1Sections),\">0\")","v":2},{"$f":"COUNTIF(OFFSET(H617,0,Author1Sections,1,Author2Sections),\"=0\")","v":8},1114,"comming",0,0,0,0,0,0.2,0,0,0,0,0,0,0,0,0,0,0,0,0.1,0,0,0,0,0,0,0,0,0,0,"euery","modesty"]
[{"$f":"B618+C618","v":1.0952380952380953},{"$f":"D618/Author1Sections","v":9.5238095238095233E-2},{"$f":"E618/Author2Sections","v":1},{"$f":"COUNTIF(OFFSET(H618,0,0,1,Author1Sections),\">0\")","v":2},{"$f":"COUNTIF(OFFSET(H618,0,Author1Sections,1,Author2Sections),\"=0\")","v":8},1125,"daunce",0,0,0.1,0,0,0,0,0,0,0,0,0,0,0,0,0,0,0,0,0,0.14074595000000001,0,0,0,0,0,0,0,0,"fellowes","oak"]
[{"$f":"B619+C619","v":1.0952380952380953},{"$f":"D619/Author1Sections","v":9.5238095238095233E-2},{"$f":"E619/Author2Sections","v":1},{"$f":"COUNTIF(OFFSET(H619,0,0,1,Author1Sections),\">0\")","v":2},{"$f":"COUNTIF(OFFSET(H619,0,Author1Sections,1,Author2Sections),\"=0\")","v":8},1128,"deale",0,0,0,0,0,0,0,0,0.1,0.2,0,0,0,0,0,0,0,0,0,0,0,0,0,0,0,0,0,0,0,"fishers","others'"]
[{"$f":"B620+C620","v":1.0952380952380953},{"$f":"D620/Author1Sections","v":9.5238095238095233E-2},{"$f":"E620/Author2Sections","v":1},{"$f":"COUNTIF(OFFSET(H620,0,0,1,Author1Sections),\">0\")","v":2},{"$f":"COUNTIF(OFFSET(H620,0,Author1Sections,1,Author2Sections),\"=0\")","v":8},1134,"disdaine",0,0,0,0,0,0,0,0,0,0,0.1,0,0,0,0.2,0,0,0,0,0,0,0,0,0,0,0,0,0,0,"fray","piece"]
[{"$f":"B621+C621","v":1.0952380952380953},{"$f":"D621/Author1Sections","v":9.5238095238095233E-2},{"$f":"E621/Author2Sections","v":1},{"$f":"COUNTIF(OFFSET(H621,0,0,1,Author1Sections),\">0\")","v":2},{"$f":"COUNTIF(OFFSET(H621,0,Author1Sections,1,Author2Sections),\"=0\")","v":8},1136,"doest",0,0,0,0,0,0,0,0,0,0.1,0,0,0,0,0,0,0.2,0,0,0,0,0,0,0,0,0,0,0,0,"goodlie","poetry"]
[{"$f":"B622+C622","v":1.0952380952380953},{"$f":"D622/Author1Sections","v":9.5238095238095233E-2},{"$f":"E622/Author2Sections","v":1},{"$f":"COUNTIF(OFFSET(H622,0,0,1,Author1Sections),\">0\")","v":2},{"$f":"COUNTIF(OFFSET(H622,0,Author1Sections,1,Author2Sections),\"=0\")","v":8},1146,"eke",0,0,0.2,0,0,0,0,0,0,0,0,0,0.1,0,0,0,0,0,0,0,0,0,0,0,0,0,0,0,0,"goods","posterity"]
[{"$f":"B623+C623","v":1.0952380952380953},{"$f":"D623/Author1Sections","v":9.5238095238095233E-2},{"$f":"E623/Author2Sections","v":1},{"$f":"COUNTIF(OFFSET(H623,0,0,1,Author1Sections),\">0\")","v":2},{"$f":"COUNTIF(OFFSET(H623,0,Author1Sections,1,Author2Sections),\"=0\")","v":8},1148,"enemies",0,0,0.1,0,0.14836795999999999,0,0,0,0,0,0,0,0,0,0,0,0,0,0,0,0,0,0,0,0,0,0,0,0,"hoast","receivest"]
[{"$f":"B624+C624","v":1.0952380952380953},{"$f":"D624/Author1Sections","v":9.5238095238095233E-2},{"$f":"E624/Author2Sections","v":1},{"$f":"COUNTIF(OFFSET(H624,0,0,1,Author1Sections),\">0\")","v":2},{"$f":"COUNTIF(OFFSET(H624,0,Author1Sections,1,Author2Sections),\"=0\")","v":8},1149,"enioy",0,0,0,0,0,0,0,0,0,0,0,0,0,0,0,0,0.2,0,0,0,7.0372980000000002E-2,0,0,0,0,0,0,0,0,"horror","resembling"]
[{"$f":"B625+C625","v":1.0952380952380953},{"$f":"D625/Author1Sections","v":9.5238095238095233E-2},{"$f":"E625/Author2Sections","v":1},{"$f":"COUNTIF(OFFSET(H625,0,0,1,Author1Sections),\">0\")","v":2},{"$f":"COUNTIF(OFFSET(H625,0,Author1Sections,1,Author2Sections),\"=0\")","v":8},1152,"enuie",0,0,0,0,0,0,0,0,0,0,0,0,0,0,0,0,0.2,0,0.1,0,0,0,0,0,0,0,0,0,0,"marke","rhyme's"]
[{"$f":"B626+C626","v":1.0952380952380953},{"$f":"D626/Author1Sections","v":9.5238095238095233E-2},{"$f":"E626/Author2Sections","v":1},{"$f":"COUNTIF(OFFSET(H626,0,0,1,Author1Sections),\">0\")","v":2},{"$f":"COUNTIF(OFFSET(H626,0,Author1Sections,1,Author2Sections),\"=0\")","v":8},1155,"euery",0,0,0,0,0,0,0,0,0,0,0.2,0,0,0,0.1,0,0,0,0,0,0,0,0,0,0,0,0,0,0,"moniment","several"]
[{"$f":"B627+C627","v":1.0952380952380953},{"$f":"D627/Author1Sections","v":9.5238095238095233E-2},{"$f":"E627/Author2Sections","v":1},{"$f":"COUNTIF(OFFSET(H627,0,0,1,Author1Sections),\">0\")","v":2},{"$f":"COUNTIF(OFFSET(H627,0,Author1Sections,1,Author2Sections),\"=0\")","v":8},1167,"fellowes",0,0,0,0,0,0,0.1,0.2,0,0,0,0,0,0,0,0,0,0,0,0,0,0,0,0,0,0,0,0,0,"moniments","shapes"]
[{"$f":"B628+C628","v":1.0952380952380953},{"$f":"D628/Author1Sections","v":9.5238095238095233E-2},{"$f":"E628/Author2Sections","v":1},{"$f":"COUNTIF(OFFSET(H628,0,0,1,Author1Sections),\">0\")","v":2},{"$f":"COUNTIF(OFFSET(H628,0,Author1Sections,1,Author2Sections),\"=0\")","v":8},1169,"fishers",0,0.2,0,0,0,0,0,0,0,0,0,0,0,0,0.1,0,0,0,0,0,0,0,0,0,0,0,0,0,0,"names","shepherd's"]
[{"$f":"B629+C629","v":1.0952380952380953},{"$f":"D629/Author1Sections","v":9.5238095238095233E-2},{"$f":"E629/Author2Sections","v":1},{"$f":"COUNTIF(OFFSET(H629,0,0,1,Author1Sections),\">0\")","v":2},{"$f":"COUNTIF(OFFSET(H629,0,Author1Sections,1,Author2Sections),\"=0\")","v":8},1184,"fray",0,0,0,0,0,0.2,0,0,0,0,0,0,0,0,0,0,0,0.1,0,0,0,0,0,0,0,0,0,0,0,"nations","smite"]
[{"$f":"B630+C630","v":1.0952380952380953},{"$f":"D630/Author1Sections","v":9.5238095238095233E-2},{"$f":"E630/Author2Sections","v":1},{"$f":"COUNTIF(OFFSET(H630,0,0,1,Author1Sections),\">0\")","v":2},{"$f":"COUNTIF(OFFSET(H630,0,Author1Sections,1,Author2Sections),\"=0\")","v":8},1199,"goodlie",0,0,0.1,0,0.14836795999999999,0,0,0,0,0,0,0,0,0,0,0,0,0,0,0,0,0,0,0,0,0,0,0,0,"nowe","springs"]
[{"$f":"B631+C631","v":1.0952380952380953},{"$f":"D631/Author1Sections","v":9.5238095238095233E-2},{"$f":"E631/Author2Sections","v":1},{"$f":"COUNTIF(OFFSET(H631,0,0,1,Author1Sections),\">0\")","v":2},{"$f":"COUNTIF(OFFSET(H631,0,Author1Sections,1,Author2Sections),\"=0\")","v":8},1200,"goods",0,0,0,0,0,0,0,0,0,0,0.2,0.1,0,0,0,0,0,0,0,0,0,0,0,0,0,0,0,0,0,"pan","streams"]
[{"$f":"B632+C632","v":1.0952380952380953},{"$f":"D632/Author1Sections","v":9.5238095238095233E-2},{"$f":"E632/Author2Sections","v":1},{"$f":"COUNTIF(OFFSET(H632,0,0,1,Author1Sections),\">0\")","v":2},{"$f":"COUNTIF(OFFSET(H632,0,Author1Sections,1,Author2Sections),\"=0\")","v":8},1216,"hoast",0.1,0,0,0,0.14836795999999999,0,0,0,0,0,0,0,0,0,0,0,0,0,0,0,0,0,0,0,0,0,0,0,0,"perill","strike"]
[{"$f":"B633+C633","v":1.0952380952380953},{"$f":"D633/Author1Sections","v":9.5238095238095233E-2},{"$f":"E633/Author2Sections","v":1},{"$f":"COUNTIF(OFFSET(H633,0,0,1,Author1Sections),\">0\")","v":2},{"$f":"COUNTIF(OFFSET(H633,0,Author1Sections,1,Author2Sections),\"=0\")","v":8},1219,"horror",0,0,0,0.2,7.4183979999999997E-2,0,0,0,0,0,0,0,0,0,0,0,0,0,0,0,0,0,0,0,0,0,0,0,0,"pittie","sum"]
[{"$f":"B634+C634","v":1.0952380952380953},{"$f":"D634/Author1Sections","v":9.5238095238095233E-2},{"$f":"E634/Author2Sections","v":1},{"$f":"COUNTIF(OFFSET(H634,0,0,1,Author1Sections),\">0\")","v":2},{"$f":"COUNTIF(OFFSET(H634,0,Author1Sections,1,Author2Sections),\"=0\")","v":8},1256,"marke",0,0,0,0,0,0,0,0,0,0,0,0,0,0,0,0,0.1,0,0,0,0.14074595000000001,0,0,0,0,0,0,0,0,"preferred","syllabes"]
[{"$f":"B635+C635","v":1.0952380952380953},{"$f":"D635/Author1Sections","v":9.5238095238095233E-2},{"$f":"E635/Author2Sections","v":1},{"$f":"COUNTIF(OFFSET(H635,0,0,1,Author1Sections),\">0\")","v":2},{"$f":"COUNTIF(OFFSET(H635,0,Author1Sections,1,Author2Sections),\"=0\")","v":8},1263,"moniment",0.2,0,0,0,7.4183979999999997E-2,0,0,0,0,0,0,0,0,0,0,0,0,0,0,0,0,0,0,0,0,0,0,0,0,"promise","tonight"]
[{"$f":"B636+C636","v":1.0952380952380953},{"$f":"D636/Author1Sections","v":9.5238095238095233E-2},{"$f":"E636/Author2Sections","v":1},{"$f":"COUNTIF(OFFSET(H636,0,0,1,Author1Sections),\">0\")","v":2},{"$f":"COUNTIF(OFFSET(H636,0,Author1Sections,1,Author2Sections),\"=0\")","v":8},1264,"moniments",0,0.2,0,0.1,0,0,0,0,0,0,0,0,0,0,0,0,0,0,0,0,0,0,0,0,0,0,0,0,0,"sawe","unused"]
[{"$f":"B637+C637","v":1.0952380952380953},{"$f":"D637/Author1Sections","v":9.5238095238095233E-2},{"$f":"E637/Author2Sections","v":1},{"$f":"COUNTIF(OFFSET(H637,0,0,1,Author1Sections),\">0\")","v":2},{"$f":"COUNTIF(OFFSET(H637,0,Author1Sections,1,Author2Sections),\"=0\")","v":8},1267,"names",0,0,0.2,0,0,0,0,0,0.1,0,0,0,0,0,0,0,0,0,0,0,0,0,0,0,0,0,0,0,0,"scorned","walk"]
[{"$f":"B638+C638","v":1.0952380952380953},{"$f":"D638/Author1Sections","v":9.5238095238095233E-2},{"$f":"E638/Author2Sections","v":1},{"$f":"COUNTIF(OFFSET(H638,0,0,1,Author1Sections),\">0\")","v":2},{"$f":"COUNTIF(OFFSET(H638,0,Author1Sections,1,Author2Sections),\"=0\")","v":8},1268,"nations",0.2,0,0,0,0,0,0,0,0,0,0,0.1,0,0,0,0,0,0,0,0,0,0,0,0,0,0,0,0,0,"shining","wat'ry"]
[{"$f":"B639+C639","v":1.0952380952380953},{"$f":"D639/Author1Sections","v":9.5238095238095233E-2},{"$f":"E639/Author2Sections","v":1},{"$f":"COUNTIF(OFFSET(H639,0,0,1,Author1Sections),\">0\")","v":2},{"$f":"COUNTIF(OFFSET(H639,0,Author1Sections,1,Author2Sections),\"=0\")","v":8},1277,"nowe",0.2,0,0,0,0,0,0,0,0.1,0,0,0,0,0,0,0,0,0,0,0,0,0,0,0,0,0,0,0,0,"signe","wert"]
[{"$f":"B640+C640","v":1.0952380952380953},{"$f":"D640/Author1Sections","v":9.5238095238095233E-2},{"$f":"E640/Author2Sections","v":1},{"$f":"COUNTIF(OFFSET(H640,0,0,1,Author1Sections),\">0\")","v":2},{"$f":"COUNTIF(OFFSET(H640,0,Author1Sections,1,Author2Sections),\"=0\")","v":8},1286,"pan",0,0,0,0,0,0.1,0,0,0.2,0,0,0,0,0,0,0,0,0,0,0,0,0,0,0,0,0,0,0,0,"sore","widow"]
[{"$f":"B641+C641","v":1.0952380952380953},{"$f":"D641/Author1Sections","v":9.5238095238095233E-2},{"$f":"E641/Author2Sections","v":1},{"$f":"COUNTIF(OFFSET(H641,0,0,1,Author1Sections),\">0\")","v":2},{"$f":"COUNTIF(OFFSET(H641,0,Author1Sections,1,Author2Sections),\"=0\")","v":8},1292,"perill",0.1,0,0,0,0.14836795999999999,0,0,0,0,0,0,0,0,0,0,0,0,0,0,0,0,0,0,0,0,0,0,0,0,"stolne","wills"]
[{"$f":"B642+C642","v":1.0952380952380953},{"$f":"D642/Author1Sections","v":9.5238095238095233E-2},{"$f":"E642/Author2Sections","v":1},{"$f":"COUNTIF(OFFSET(H642,0,0,1,Author1Sections),\">0\")","v":2},{"$f":"COUNTIF(OFFSET(H642,0,Author1Sections,1,Author2Sections),\"=0\")","v":8},1294,"pittie",0,0,0,0.2,0,0,0,0,0.1,0,0,0,0,0,0,0,0,0,0,0,0,0,0,0,0,0,0,0,0,"streight","'all"]
[{"$f":"B643+C643","v":1.0952380952380953},{"$f":"D643/Author1Sections","v":9.5238095238095233E-2},{"$f":"E643/Author2Sections","v":1},{"$f":"COUNTIF(OFFSET(H643,0,0,1,Author1Sections),\">0\")","v":2},{"$f":"COUNTIF(OFFSET(H643,0,Author1Sections,1,Author2Sections),\"=0\")","v":8},1302,"preferred",0,0,0,0,0,0,0.1,0,0.2,0,0,0,0,0,0,0,0,0,0,0,0,0,0,0,0,0,0,0,0,"sturre","'among"]
[{"$f":"B644+C644","v":1.0952380952380953},{"$f":"D644/Author1Sections","v":9.5238095238095233E-2},{"$f":"E644/Author2Sections","v":1},{"$f":"COUNTIF(OFFSET(H644,0,0,1,Author1Sections),\">0\")","v":2},{"$f":"COUNTIF(OFFSET(H644,0,Author1Sections,1,Author2Sections),\"=0\")","v":8},1306,"promise",0,0,0,0,0,0,0.1,0,0,0,0,0.2,0,0,0,0,0,0,0,0,0,0,0,0,0,0,0,0,0,"t","'father"]
[{"$f":"B645+C645","v":1.0952380952380953},{"$f":"D645/Author1Sections","v":9.5238095238095233E-2},{"$f":"E645/Author2Sections","v":1},{"$f":"COUNTIF(OFFSET(H645,0,0,1,Author1Sections),\">0\")","v":2},{"$f":"COUNTIF(OFFSET(H645,0,Author1Sections,1,Author2Sections),\"=0\")","v":8},1331,"sawe",0,0,0,0,0.14836795999999999,0,0,0,0,0,0,0,0,0,0,0,0,0,0.1,0,0,0,0,0,0,0,0,0,0,"ties","'fore"]
[{"$f":"B646+C646","v":1.0952380952380953},{"$f":"D646/Author1Sections","v":9.5238095238095233E-2},{"$f":"E646/Author2Sections","v":1},{"$f":"COUNTIF(OFFSET(H646,0,0,1,Author1Sections),\">0\")","v":2},{"$f":"COUNTIF(OFFSET(H646,0,Author1Sections,1,Author2Sections),\"=0\")","v":8},1334,"scorned",0,0,0,0.2,0,0,0,0,0,0,0,0,0,0,0,0,0.1,0,0,0,0,0,0,0,0,0,0,0,0,"vitall","'gan"]
[{"$f":"B647+C647","v":1.0952380952380953},{"$f":"D647/Author1Sections","v":9.5238095238095233E-2},{"$f":"E647/Author2Sections","v":1},{"$f":"COUNTIF(OFFSET(H647,0,0,1,Author1Sections),\">0\")","v":2},{"$f":"COUNTIF(OFFSET(H647,0,Author1Sections,1,Author2Sections),\"=0\")","v":8},1345,"shining",0,0,0,0,0,0,0,0,0,0.1,0,0,0,0,0,0,0,0.2,0,0,0,0,0,0,0,0,0,0,0,"warmth","'gentle"]
[{"$f":"B648+C648","v":1.0952380952380953},{"$f":"D648/Author1Sections","v":9.5238095238095233E-2},{"$f":"E648/Author2Sections","v":1},{"$f":"COUNTIF(OFFSET(H648,0,0,1,Author1Sections),\">0\")","v":2},{"$f":"COUNTIF(OFFSET(H648,0,Author1Sections,1,Author2Sections),\"=0\")","v":8},1350,"signe",0,0,0.1,0,0.14836795999999999,0,0,0,0,0,0,0,0,0,0,0,0,0,0,0,0,0,0,0,0,0,0,0,0,"wasted","'how"]
[{"$f":"B649+C649","v":1.0952380952380953},{"$f":"D649/Author1Sections","v":9.5238095238095233E-2},{"$f":"E649/Author2Sections","v":1},{"$f":"COUNTIF(OFFSET(H649,0,0,1,Author1Sections),\">0\")","v":2},{"$f":"COUNTIF(OFFSET(H649,0,Author1Sections,1,Author2Sections),\"=0\")","v":8},1364,"sore",0.2,0,0,0,7.4183979999999997E-2,0,0,0,0,0,0,0,0,0,0,0,0,0,0,0,0,0,0,0,0,0,0,0,0,"wayes","'in"]
[{"$f":"B650+C650","v":1.0952380952380953},{"$f":"D650/Author1Sections","v":9.5238095238095233E-2},{"$f":"E650/Author2Sections","v":1},{"$f":"COUNTIF(OFFSET(H650,0,0,1,Author1Sections),\">0\")","v":2},{"$f":"COUNTIF(OFFSET(H650,0,Author1Sections,1,Author2Sections),\"=0\")","v":8},1376,"stolne",0,0,0,0,0,0,0,0,0,0,0,0,0,0,0,0,0.2,0,0,0,7.0372980000000002E-2,0,0,0,0,0,0,0,0,"weake","'it"]
[{"$f":"B651+C651","v":1.0952380952380953},{"$f":"D651/Author1Sections","v":9.5238095238095233E-2},{"$f":"E651/Author2Sections","v":1},{"$f":"COUNTIF(OFFSET(H651,0,0,1,Author1Sections),\">0\")","v":2},{"$f":"COUNTIF(OFFSET(H651,0,Author1Sections,1,Author2Sections),\"=0\")","v":8},1380,"streight",0,0,0,0,0,0,0,0,0,0,0,0,0,0,0,0,0,0.1,0,0,0.14074595000000001,0,0,0,0,0,0,0,0,"weare","'less"]
[{"$f":"B652+C652","v":1.0952380952380953},{"$f":"D652/Author1Sections","v":9.5238095238095233E-2},{"$f":"E652/Author2Sections","v":1},{"$f":"COUNTIF(OFFSET(H652,0,0,1,Author1Sections),\">0\")","v":2},{"$f":"COUNTIF(OFFSET(H652,0,Author1Sections,1,Author2Sections),\"=0\")","v":8},1385,"sturre",0,0,0,0,0,0,0,0,0,0,0,0,0,0,0.1,0,0,0,0,0,0.14074595000000001,0,0,0,0,0,0,0,0,"wordes","'look"]
[{"$f":"B653+C653","v":1.0952380952380953},{"$f":"D653/Author1Sections","v":9.5238095238095233E-2},{"$f":"E653/Author2Sections","v":1},{"$f":"COUNTIF(OFFSET(H653,0,0,1,Author1Sections),\">0\")","v":2},{"$f":"COUNTIF(OFFSET(H653,0,Author1Sections,1,Author2Sections),\"=0\")","v":8},1395,"t",0,0,0.1,0,0.14836795999999999,0,0,0,0,0,0,0,0,0,0,0,0,0,0,0,0,0,0,0,0,0,0,0,0,"worldes","'many"]
[{"$f":"B654+C654","v":1.0952380952380953},{"$f":"D654/Author1Sections","v":9.5238095238095233E-2},{"$f":"E654/Author2Sections","v":1},{"$f":"COUNTIF(OFFSET(H654,0,0,1,Author1Sections),\">0\")","v":2},{"$f":"COUNTIF(OFFSET(H654,0,Author1Sections,1,Author2Sections),\"=0\")","v":8},1408,"ties",0,0,0,0,0,0,0,0,0,0,0,0,0,0,0,0,0,0,0.2,0,7.0372980000000002E-2,0,0,0,0,0,0,0,0,"abase","'mongst"]
[{"$f":"B655+C655","v":1.0952380952380953},{"$f":"D655/Author1Sections","v":9.5238095238095233E-2},{"$f":"E655/Author2Sections","v":1},{"$f":"COUNTIF(OFFSET(H655,0,0,1,Author1Sections),\">0\")","v":2},{"$f":"COUNTIF(OFFSET(H655,0,Author1Sections,1,Author2Sections),\"=0\")","v":8},1422,"vitall",0,0.1,0.2,0,0,0,0,0,0,0,0,0,0,0,0,0,0,0,0,0,0,0,0,0,0,0,0,0,0,"acquainted","'my"]
[{"$f":"B656+C656","v":1.0952380952380953},{"$f":"D656/Author1Sections","v":9.5238095238095233E-2},{"$f":"E656/Author2Sections","v":1},{"$f":"COUNTIF(OFFSET(H656,0,0,1,Author1Sections),\">0\")","v":2},{"$f":"COUNTIF(OFFSET(H656,0,Author1Sections,1,Author2Sections),\"=0\")","v":8},1425,"warmth",0,0,0,0,0,0,0,0,0,0.1,0,0,0,0,0,0,0,0.2,0,0,0,0,0,0,0,0,0,0,0,"addresse","'nor"]
[{"$f":"B657+C657","v":1.0952380952380953},{"$f":"D657/Author1Sections","v":9.5238095238095233E-2},{"$f":"E657/Author2Sections","v":1},{"$f":"COUNTIF(OFFSET(H657,0,0,1,Author1Sections),\">0\")","v":2},{"$f":"COUNTIF(OFFSET(H657,0,Author1Sections,1,Author2Sections),\"=0\")","v":8},1427,"wasted",0.2,0,0,0,7.4183979999999997E-2,0,0,0,0,0,0,0,0,0,0,0,0,0,0,0,0,0,0,0,0,0,0,0,0,"adorned","'now"]
[{"$f":"B658+C658","v":1.0952380952380953},{"$f":"D658/Author1Sections","v":9.5238095238095233E-2},{"$f":"E658/Author2Sections","v":1},{"$f":"COUNTIF(OFFSET(H658,0,0,1,Author1Sections),\">0\")","v":2},{"$f":"COUNTIF(OFFSET(H658,0,Author1Sections,1,Author2Sections),\"=0\")","v":8},1429,"wayes",0,0,0,0,0,0,0,0,0,0,0.1,0.2,0,0,0,0,0,0,0,0,0,0,0,0,0,0,0,0,0,"afore","'scap'd"]
[{"$f":"B659+C659","v":1.0952380952380953},{"$f":"D659/Author1Sections","v":9.5238095238095233E-2},{"$f":"E659/Author2Sections","v":1},{"$f":"COUNTIF(OFFSET(H659,0,0,1,Author1Sections),\">0\")","v":2},{"$f":"COUNTIF(OFFSET(H659,0,Author1Sections,1,Author2Sections),\"=0\")","v":8},1431,"weake",0,0,0.1,0,0,0,0,0,0,0,0,0,0,0,0,0,0,0,0.2,0,0,0,0,0,0,0,0,0,0,"aire","'scape"]
[{"$f":"B660+C660","v":1.0952380952380953},{"$f":"D660/Author1Sections","v":9.5238095238095233E-2},{"$f":"E660/Author2Sections","v":1},{"$f":"COUNTIF(OFFSET(H660,0,0,1,Author1Sections),\">0\")","v":2},{"$f":"COUNTIF(OFFSET(H660,0,Author1Sections,1,Author2Sections),\"=0\")","v":8},1433,"weare",0,0,0,0,0,0,0,0,0,0,0,0,0,0,0.2,0,0,0,0,0,7.0372980000000002E-2,0,0,0,0,0,0,0,0,"alreadie","'scapeth"]
[{"$f":"B661+C661","v":1.0952380952380953},{"$f":"D661/Author1Sections","v":9.5238095238095233E-2},{"$f":"E661/Author2Sections","v":1},{"$f":"COUNTIF(OFFSET(H661,0,0,1,Author1Sections),\">0\")","v":2},{"$f":"COUNTIF(OFFSET(H661,0,Author1Sections,1,Author2Sections),\"=0\")","v":8},1447,"wordes",0,0,0,0.2,0,0,0,0,0.1,0,0,0,0,0,0,0,0,0,0,0,0,0,0,0,0,0,0,0,0,"ambitious","'small"]
[{"$f":"B662+C662","v":1.0952380952380953},{"$f":"D662/Author1Sections","v":9.5238095238095233E-2},{"$f":"E662/Author2Sections","v":1},{"$f":"COUNTIF(OFFSET(H662,0,0,1,Author1Sections),\">0\")","v":2},{"$f":"COUNTIF(OFFSET(H662,0,Author1Sections,1,Author2Sections),\"=0\")","v":8},1450,"worldes",0,0,0.1,0,0.14836795999999999,0,0,0,0,0,0,0,0,0,0,0,0,0,0,0,0,0,0,0,0,0,0,0,0,"angels","'the"]
[{"$f":"B663+C663","v":1.0952380952380953},{"$f":"D663/Author1Sections","v":9.5238095238095233E-2},{"$f":"E663/Author2Sections","v":1},{"$f":"COUNTIF(OFFSET(H663,0,0,1,Author1Sections),\">0\")","v":2},{"$f":"COUNTIF(OFFSET(H663,0,Author1Sections,1,Author2Sections),\"=0\")","v":8},1461,"abase",0,0,0,0,0,0,0.1,0,0,0,0,0,0.1,0,0,0,0,0,0,0,0,0,0,0,0,0,0,0,0,"anguish","'thou"]
[{"$f":"B664+C664","v":1.0952380952380953},{"$f":"D664/Author1Sections","v":9.5238095238095233E-2},{"$f":"E664/Author2Sections","v":1},{"$f":"COUNTIF(OFFSET(H664,0,0,1,Author1Sections),\">0\")","v":2},{"$f":"COUNTIF(OFFSET(H664,0,Author1Sections,1,Author2Sections),\"=0\")","v":8},1464,"acquainted",0,0,0,0,0,0,0,0,0,0,0,0,0.1,0,0.1,0,0,0,0,0,0,0,0,0,0,0,0,0,0,"annoyes","'though"]
[{"$f":"B665+C665","v":1.0952380952380953},{"$f":"D665/Author1Sections","v":9.5238095238095233E-2},{"$f":"E665/Author2Sections","v":1},{"$f":"COUNTIF(OFFSET(H665,0,0,1,Author1Sections),\">0\")","v":2},{"$f":"COUNTIF(OFFSET(H665,0,Author1Sections,1,Author2Sections),\"=0\")","v":8},1466,"addresse",0,0,0,0,0,0,0,0,0,0,0,0.1,0,0,0.1,0,0,0,0,0,0,0,0,0,0,0,0,0,0,"answers","'thus"]
[{"$f":"B666+C666","v":1.0952380952380953},{"$f":"D666/Author1Sections","v":9.5238095238095233E-2},{"$f":"E666/Author2Sections","v":1},{"$f":"COUNTIF(OFFSET(H666,0,0,1,Author1Sections),\">0\")","v":2},{"$f":"COUNTIF(OFFSET(H666,0,Author1Sections,1,Author2Sections),\"=0\")","v":8},1467,"adorned",0,0,0,0.1,7.4183979999999997E-2,0,0,0,0,0,0,0,0,0,0,0,0,0,0,0,0,0,0,0,0,0,0,0,0,"appeared","'twas"]
[{"$f":"B667+C667","v":1.0952380952380953},{"$f":"D667/Author1Sections","v":9.5238095238095233E-2},{"$f":"E667/Author2Sections","v":1},{"$f":"COUNTIF(OFFSET(H667,0,0,1,Author1Sections),\">0\")","v":2},{"$f":"COUNTIF(OFFSET(H667,0,Author1Sections,1,Author2Sections),\"=0\")","v":8},1469,"afore",0,0,0.1,0,7.4183979999999997E-2,0,0,0,0,0,0,0,0,0,0,0,0,0,0,0,0,0,0,0,0,0,0,0,0,"applies","'twixt"]
[{"$f":"B668+C668","v":1.0952380952380953},{"$f":"D668/Author1Sections","v":9.5238095238095233E-2},{"$f":"E668/Author2Sections","v":1},{"$f":"COUNTIF(OFFSET(H668,0,0,1,Author1Sections),\">0\")","v":2},{"$f":"COUNTIF(OFFSET(H668,0,Author1Sections,1,Author2Sections),\"=0\")","v":8},1473,"aire",0,0,0,0,0,0,0,0,0,0,0,0,0,0,0,0,0,0,0.1,0,7.0372980000000002E-2,0,0,0,0,0,0,0,0,"armour","'well"]
[{"$f":"B669+C669","v":1.0952380952380953},{"$f":"D669/Author1Sections","v":9.5238095238095233E-2},{"$f":"E669/Author2Sections","v":1},{"$f":"COUNTIF(OFFSET(H669,0,0,1,Author1Sections),\">0\")","v":2},{"$f":"COUNTIF(OFFSET(H669,0,Author1Sections,1,Author2Sections),\"=0\")","v":8},1478,"alreadie",0,0.1,0,0,0,0,0,0,0.1,0,0,0,0,0,0,0,0,0,0,0,0,0,0,0,0,0,0,0,0,"asham'd","'when"]
[{"$f":"B670+C670","v":1.0952380952380953},{"$f":"D670/Author1Sections","v":9.5238095238095233E-2},{"$f":"E670/Author2Sections","v":1},{"$f":"COUNTIF(OFFSET(H670,0,0,1,Author1Sections),\">0\")","v":2},{"$f":"COUNTIF(OFFSET(H670,0,Author1Sections,1,Author2Sections),\"=0\")","v":8},1481,"ambitious",0,0,0,0,0,0,0,0,0,0,0,0,0,0,0,0,0,0,0.1,0.1,0,0,0,0,0,0,0,0,0,"aside","'yet"]
[{"$f":"B671+C671","v":1.0952380952380953},{"$f":"D671/Author1Sections","v":9.5238095238095233E-2},{"$f":"E671/Author2Sections","v":1},{"$f":"COUNTIF(OFFSET(H671,0,0,1,Author1Sections),\">0\")","v":2},{"$f":"COUNTIF(OFFSET(H671,0,Author1Sections,1,Author2Sections),\"=0\")","v":8},1482,"angels",0,0,0,0,7.4183979999999997E-2,0,0,0,0,0,0,0,0,0,0,0.1,0,0,0,0,0,0,0,0,0,0,0,0,0,"askt","abundance"]
[{"$f":"B672+C672","v":1.0952380952380953},{"$f":"D672/Author1Sections","v":9.5238095238095233E-2},{"$f":"E672/Author2Sections","v":1},{"$f":"COUNTIF(OFFSET(H672,0,0,1,Author1Sections),\">0\")","v":2},{"$f":"COUNTIF(OFFSET(H672,0,Author1Sections,1,Author2Sections),\"=0\")","v":8},1483,"anguish",0,0.1,0,0.1,0,0,0,0,0,0,0,0,0,0,0,0,0,0,0,0,0,0,0,0,0,0,0,0,0,"assyrian","abused"]
[{"$f":"B673+C673","v":1.0952380952380953},{"$f":"D673/Author1Sections","v":9.5238095238095233E-2},{"$f":"E673/Author2Sections","v":1},{"$f":"COUNTIF(OFFSET(H673,0,0,1,Author1Sections),\">0\")","v":2},{"$f":"COUNTIF(OFFSET(H673,0,Author1Sections,1,Author2Sections),\"=0\")","v":8},1484,"annoyes",0,0,0,0,0,0,0,0,0,0,0.1,0,0,0.1,0,0,0,0,0,0,0,0,0,0,0,0,0,0,0,"atlas","acceptable"]
[{"$f":"B674+C674","v":1.0952380952380953},{"$f":"D674/Author1Sections","v":9.5238095238095233E-2},{"$f":"E674/Author2Sections","v":1},{"$f":"COUNTIF(OFFSET(H674,0,0,1,Author1Sections),\">0\")","v":2},{"$f":"COUNTIF(OFFSET(H674,0,Author1Sections,1,Author2Sections),\"=0\")","v":8},1486,"answers",0,0,0,0,0,0,0,0,0,0,0,0.1,0.1,0,0,0,0,0,0,0,0,0,0,0,0,0,0,0,0,"awrie","accident"]
[{"$f":"B675+C675","v":1.0952380952380953},{"$f":"D675/Author1Sections","v":9.5238095238095233E-2},{"$f":"E675/Author2Sections","v":1},{"$f":"COUNTIF(OFFSET(H675,0,0,1,Author1Sections),\">0\")","v":2},{"$f":"COUNTIF(OFFSET(H675,0,Author1Sections,1,Author2Sections),\"=0\")","v":8},1488,"appeared",0,0,0.1,0.1,0,0,0,0,0,0,0,0,0,0,0,0,0,0,0,0,0,0,0,0,0,0,0,0,0,"babes","accomplish'd"]
[{"$f":"B676+C676","v":1.0952380952380953},{"$f":"D676/Author1Sections","v":9.5238095238095233E-2},{"$f":"E676/Author2Sections","v":1},{"$f":"COUNTIF(OFFSET(H676,0,0,1,Author1Sections),\">0\")","v":2},{"$f":"COUNTIF(OFFSET(H676,0,Author1Sections,1,Author2Sections),\"=0\")","v":8},1490,"applies",0,0,0,0,0,0,0,0,0,0,0,0,0,0.1,0,0,0,0.1,0,0,0,0,0,0,0,0,0,0,0,"balance","accorded"]
[{"$f":"B677+C677","v":1.0952380952380953},{"$f":"D677/Author1Sections","v":9.5238095238095233E-2},{"$f":"E677/Author2Sections","v":1},{"$f":"COUNTIF(OFFSET(H677,0,0,1,Author1Sections),\">0\")","v":2},{"$f":"COUNTIF(OFFSET(H677,0,Author1Sections,1,Author2Sections),\"=0\")","v":8},1498,"armour",0,0,0,0,0,0,0,0,0,0,0,0,0.1,0,0,0,0,0,0,0,7.0372980000000002E-2,0,0,0,0,0,0,0,0,"banish","accustom'd"]
[{"$f":"B678+C678","v":1.0952380952380953},{"$f":"D678/Author1Sections","v":9.5238095238095233E-2},{"$f":"E678/Author2Sections","v":1},{"$f":"COUNTIF(OFFSET(H678,0,0,1,Author1Sections),\">0\")","v":2},{"$f":"COUNTIF(OFFSET(H678,0,Author1Sections,1,Author2Sections),\"=0\")","v":8},1502,"asham'd",0,0,0,0,0,0,0,0,0,0,0,0,0.1,0,0,0,0,0,0,0,7.0372980000000002E-2,0,0,0,0,0,0,0,0,"bard","acture"]
[{"$f":"B679+C679","v":1.0952380952380953},{"$f":"D679/Author1Sections","v":9.5238095238095233E-2},{"$f":"E679/Author2Sections","v":1},{"$f":"COUNTIF(OFFSET(H679,0,0,1,Author1Sections),\">0\")","v":2},{"$f":"COUNTIF(OFFSET(H679,0,Author1Sections,1,Author2Sections),\"=0\")","v":8},1503,"aside",0,0,0,0,7.4183979999999997E-2,0.1,0,0,0,0,0,0,0,0,0,0,0,0,0,0,0,0,0,0,0,0,0,0,0,"basest","additions"]
[{"$f":"B680+C680","v":1.0952380952380953},{"$f":"D680/Author1Sections","v":9.5238095238095233E-2},{"$f":"E680/Author2Sections","v":1},{"$f":"COUNTIF(OFFSET(H680,0,0,1,Author1Sections),\">0\")","v":2},{"$f":"COUNTIF(OFFSET(H680,0,Author1Sections,1,Author2Sections),\"=0\")","v":8},1504,"askt",0.1,0,0,0,0,0,0,0,0.1,0,0,0,0,0,0,0,0,0,0,0,0,0,0,0,0,0,0,0,0,"beate","admit"]
[{"$f":"B681+C681","v":1.0952380952380953},{"$f":"D681/Author1Sections","v":9.5238095238095233E-2},{"$f":"E681/Author2Sections","v":1},{"$f":"COUNTIF(OFFSET(H681,0,0,1,Author1Sections),\">0\")","v":2},{"$f":"COUNTIF(OFFSET(H681,0,Author1Sections,1,Author2Sections),\"=0\")","v":8},1506,"assyrian",0.1,0,0,0.1,0,0,0,0,0,0,0,0,0,0,0,0,0,0,0,0,0,0,0,0,0,0,0,0,0,"becomes","adulterate"]
[{"$f":"B682+C682","v":1.0952380952380953},{"$f":"D682/Author1Sections","v":9.5238095238095233E-2},{"$f":"E682/Author2Sections","v":1},{"$f":"COUNTIF(OFFSET(H682,0,0,1,Author1Sections),\">0\")","v":2},{"$f":"COUNTIF(OFFSET(H682,0,Author1Sections,1,Author2Sections),\"=0\")","v":8},1507,"atlas",0,0,0,0,0,0,0,0,0,0,0,0,0,0,0.1,0,0,0.1,0,0,0,0,0,0,0,0,0,0,0,"behinde","advance"]
[{"$f":"B683+C683","v":1.0952380952380953},{"$f":"D683/Author1Sections","v":9.5238095238095233E-2},{"$f":"E683/Author2Sections","v":1},{"$f":"COUNTIF(OFFSET(H683,0,0,1,Author1Sections),\">0\")","v":2},{"$f":"COUNTIF(OFFSET(H683,0,Author1Sections,1,Author2Sections),\"=0\")","v":8},1511,"awrie",0,0,0,0,0,0,0,0,0,0,0,0.1,0,0.1,0,0,0,0,0,0,0,0,0,0,0,0,0,0,0,"beholde","advantage"]
[{"$f":"B684+C684","v":1.0952380952380953},{"$f":"D684/Author1Sections","v":9.5238095238095233E-2},{"$f":"E684/Author2Sections","v":1},{"$f":"COUNTIF(OFFSET(H684,0,0,1,Author1Sections),\">0\")","v":2},{"$f":"COUNTIF(OFFSET(H684,0,Author1Sections,1,Author2Sections),\"=0\")","v":8},1513,"babes",0,0,0,0,0,0,0,0,0,0,0.1,0,0,0,0.1,0,0,0,0,0,0,0,0,0,0,0,0,0,0,"bends","advice"]
[{"$f":"B685+C685","v":1.0952380952380953},{"$f":"D685/Author1Sections","v":9.5238095238095233E-2},{"$f":"E685/Author2Sections","v":1},{"$f":"COUNTIF(OFFSET(H685,0,0,1,Author1Sections),\">0\")","v":2},{"$f":"COUNTIF(OFFSET(H685,0,Author1Sections,1,Author2Sections),\"=0\")","v":8},1515,"balance",0,0,0,0,0,0,0,0,0,0,0,0.1,0,0,0,0,0,0.1,0,0,0,0,0,0,0,0,0,0,0,"bewray","affectedly"]
[{"$f":"B686+C686","v":1.0952380952380953},{"$f":"D686/Author1Sections","v":9.5238095238095233E-2},{"$f":"E686/Author2Sections","v":1},{"$f":"COUNTIF(OFFSET(H686,0,0,1,Author1Sections),\">0\")","v":2},{"$f":"COUNTIF(OFFSET(H686,0,Author1Sections,1,Author2Sections),\"=0\")","v":8},1516,"banish",0,0,0,0,0,0,0,0,0,0,0,0,0,0.1,0,0,0,0,0.1,0,0,0,0,0,0,0,0,0,0,"birds","afflicted"]
[{"$f":"B687+C687","v":1.0952380952380953},{"$f":"D687/Author1Sections","v":9.5238095238095233E-2},{"$f":"E687/Author2Sections","v":1},{"$f":"COUNTIF(OFFSET(H687,0,0,1,Author1Sections),\">0\")","v":2},{"$f":"COUNTIF(OFFSET(H687,0,Author1Sections,1,Author2Sections),\"=0\")","v":8},1517,"bard",0,0,0,0.1,0,0,0,0,0,0,0,0,0,0,0,0,0,0,0,0.1,0,0,0,0,0,0,0,0,0,"birthright","afield"]
[{"$f":"B688+C688","v":1.0952380952380953},{"$f":"D688/Author1Sections","v":9.5238095238095233E-2},{"$f":"E688/Author2Sections","v":1},{"$f":"COUNTIF(OFFSET(H688,0,0,1,Author1Sections),\">0\")","v":2},{"$f":"COUNTIF(OFFSET(H688,0,Author1Sections,1,Author2Sections),\"=0\")","v":8},1519,"basest",0,0,0,0,0,0,0.1,0,0,0,0,0,0,0.1,0,0,0,0,0,0,0,0,0,0,0,0,0,0,0,"bleed","afraid"]
[{"$f":"B689+C689","v":1.0952380952380953},{"$f":"D689/Author1Sections","v":9.5238095238095233E-2},{"$f":"E689/Author2Sections","v":1},{"$f":"COUNTIF(OFFSET(H689,0,0,1,Author1Sections),\">0\")","v":2},{"$f":"COUNTIF(OFFSET(H689,0,Author1Sections,1,Author2Sections),\"=0\")","v":8},1523,"beate",0,0,0,0.1,0,0,0,0,0,0,0,0,0,0,0.1,0,0,0,0,0,0,0,0,0,0,0,0,0,0,"bleede","aided"]
[{"$f":"B690+C690","v":1.0952380952380953},{"$f":"D690/Author1Sections","v":9.5238095238095233E-2},{"$f":"E690/Author2Sections","v":1},{"$f":"COUNTIF(OFFSET(H690,0,0,1,Author1Sections),\">0\")","v":2},{"$f":"COUNTIF(OFFSET(H690,0,Author1Sections,1,Author2Sections),\"=0\")","v":8},1525,"becomes",0,0,0,0,0,0,0,0,0,0,0,0,0,0,0.1,0.1,0,0,0,0,0,0,0,0,0,0,0,0,0,"bliss","aids"]
[{"$f":"B691+C691","v":1.0952380952380953},{"$f":"D691/Author1Sections","v":9.5238095238095233E-2},{"$f":"E691/Author2Sections","v":1},{"$f":"COUNTIF(OFFSET(H691,0,0,1,Author1Sections),\">0\")","v":2},{"$f":"COUNTIF(OFFSET(H691,0,Author1Sections,1,Author2Sections),\"=0\")","v":8},1528,"behinde",0,0,0,0,7.4183979999999997E-2,0,0,0,0,0.1,0,0,0,0,0,0,0,0,0,0,0,0,0,0,0,0,0,0,0,"bloud","airs"]
[{"$f":"B692+C692","v":1.0952380952380953},{"$f":"D692/Author1Sections","v":9.5238095238095233E-2},{"$f":"E692/Author2Sections","v":1},{"$f":"COUNTIF(OFFSET(H692,0,0,1,Author1Sections),\">0\")","v":2},{"$f":"COUNTIF(OFFSET(H692,0,Author1Sections,1,Author2Sections),\"=0\")","v":8},1529,"beholde",0,0,0,0.1,7.4183979999999997E-2,0,0,0,0,0,0,0,0,0,0,0,0,0,0,0,0,0,0,0,0,0,0,0,0,"bodies","ale"]
[{"$f":"B693+C693","v":1.0952380952380953},{"$f":"D693/Author1Sections","v":9.5238095238095233E-2},{"$f":"E693/Author2Sections","v":1},{"$f":"COUNTIF(OFFSET(H693,0,0,1,Author1Sections),\">0\")","v":2},{"$f":"COUNTIF(OFFSET(H693,0,Author1Sections,1,Author2Sections),\"=0\")","v":8},1531,"bends",0,0,0,0,0,0,0,0,0,0,0,0.1,0,0,0,0,0,0.1,0,0,0,0,0,0,0,0,0,0,0,"body","algarsife"]
[{"$f":"B694+C694","v":1.0952380952380953},{"$f":"D694/Author1Sections","v":9.5238095238095233E-2},{"$f":"E694/Author2Sections","v":1},{"$f":"COUNTIF(OFFSET(H694,0,0,1,Author1Sections),\">0\")","v":2},{"$f":"COUNTIF(OFFSET(H694,0,Author1Sections,1,Author2Sections),\"=0\")","v":8},1537,"bewray",0,0,0,0,0,0,0,0,0,0,0.1,0.1,0,0,0,0,0,0,0,0,0,0,0,0,0,0,0,0,0,"bootes","aloes"]
[{"$f":"B695+C695","v":1.0952380952380953},{"$f":"D695/Author1Sections","v":9.5238095238095233E-2},{"$f":"E695/Author2Sections","v":1},{"$f":"COUNTIF(OFFSET(H695,0,0,1,Author1Sections),\">0\")","v":2},{"$f":"COUNTIF(OFFSET(H695,0,Author1Sections,1,Author2Sections),\"=0\")","v":8},1543,"birds",0,0,0,0,0,0,0,0,0,0,0,0,0,0,0,0,0.1,0,0,0,7.0372980000000002E-2,0,0,0,0,0,0,0,0,"bought","alpheus"]
[{"$f":"B696+C696","v":1.0952380952380953},{"$f":"D696/Author1Sections","v":9.5238095238095233E-2},{"$f":"E696/Author2Sections","v":1},{"$f":"COUNTIF(OFFSET(H696,0,0,1,Author1Sections),\">0\")","v":2},{"$f":"COUNTIF(OFFSET(H696,0,Author1Sections,1,Author2Sections),\"=0\")","v":8},1544,"birthright",0,0,0,0,0,0,0,0,0,0,0.1,0.1,0,0,0,0,0,0,0,0,0,0,0,0,0,0,0,0,0,"bowels","amain"]
[{"$f":"B697+C697","v":1.0952380952380953},{"$f":"D697/Author1Sections","v":9.5238095238095233E-2},{"$f":"E697/Author2Sections","v":1},{"$f":"COUNTIF(OFFSET(H697,0,0,1,Author1Sections),\">0\")","v":2},{"$f":"COUNTIF(OFFSET(H697,0,Author1Sections,1,Author2Sections),\"=0\")","v":8},1547,"bleed",0,0,0,0,0,0,0,0,0,0.1,0,0,0,0,0.1,0,0,0,0,0,0,0,0,0,0,0,0,0,0,"bowre","amaranthus"]
[{"$f":"B698+C698","v":1.0952380952380953},{"$f":"D698/Author1Sections","v":9.5238095238095233E-2},{"$f":"E698/Author2Sections","v":1},{"$f":"COUNTIF(OFFSET(H698,0,0,1,Author1Sections),\">0\")","v":2},{"$f":"COUNTIF(OFFSET(H698,0,Author1Sections,1,Author2Sections),\"=0\")","v":8},1548,"bleede",0,0,0,0,0,0,0,0,0.1,0,0,0,0,0,0,0,0,0,0,0.1,0,0,0,0,0,0,0,0,0,"brazen","amaryllis"]
[{"$f":"B699+C699","v":1.0952380952380953},{"$f":"D699/Author1Sections","v":9.5238095238095233E-2},{"$f":"E699/Author2Sections","v":1},{"$f":"COUNTIF(OFFSET(H699,0,0,1,Author1Sections),\">0\")","v":2},{"$f":"COUNTIF(OFFSET(H699,0,Author1Sections,1,Author2Sections),\"=0\")","v":8},1549,"bliss",0,0,0,0,0,0,0,0,0,0,0,0,0,0,0,0,0,0.1,0.1,0,0,0,0,0,0,0,0,0,0,"breasts","amend"]
[{"$f":"B700+C700","v":1.0952380952380953},{"$f":"D700/Author1Sections","v":9.5238095238095233E-2},{"$f":"E700/Author2Sections","v":1},{"$f":"COUNTIF(OFFSET(H700,0,0,1,Author1Sections),\">0\")","v":2},{"$f":"COUNTIF(OFFSET(H700,0,Author1Sections,1,Author2Sections),\"=0\")","v":8},1551,"bloud",0,0,0,0,0,0,0,0,0,0.1,0,0,0,0,0,0,0,0,0.1,0,0,0,0,0,0,0,0,0,0,"breathing","amidst"]
[{"$f":"B701+C701","v":1.0952380952380953},{"$f":"D701/Author1Sections","v":9.5238095238095233E-2},{"$f":"E701/Author2Sections","v":1},{"$f":"COUNTIF(OFFSET(H701,0,0,1,Author1Sections),\">0\")","v":2},{"$f":"COUNTIF(OFFSET(H701,0,Author1Sections,1,Author2Sections),\"=0\")","v":8},1555,"bodies",0,0,0,0,0,0,0,0.1,0,0,0,0.1,0,0,0,0,0,0,0,0,0,0,0,0,0,0,0,0,0,"brightnes","amorous"]
[{"$f":"B702+C702","v":1.0952380952380953},{"$f":"D702/Author1Sections","v":9.5238095238095233E-2},{"$f":"E702/Author2Sections","v":1},{"$f":"COUNTIF(OFFSET(H702,0,0,1,Author1Sections),\">0\")","v":2},{"$f":"COUNTIF(OFFSET(H702,0,Author1Sections,1,Author2Sections),\"=0\")","v":8},1556,"body",0,0,0,0,0,0,0,0,0,0,0,0,0,0,0.1,0.1,0,0,0,0,0,0,0,0,0,0,0,0,0,"bringing","amorously"]
[{"$f":"B703+C703","v":1.0952380952380953},{"$f":"D703/Author1Sections","v":9.5238095238095233E-2},{"$f":"E703/Author2Sections","v":1},{"$f":"COUNTIF(OFFSET(H703,0,0,1,Author1Sections),\">0\")","v":2},{"$f":"COUNTIF(OFFSET(H703,0,Author1Sections,1,Author2Sections),\"=0\")","v":8},1560,"bootes",0.1,0,0,0,7.4183979999999997E-2,0,0,0,0,0,0,0,0,0,0,0,0,0,0,0,0,0,0,0,0,0,0,0,0,"brooke","amplify"]
[{"$f":"B704+C704","v":1.0952380952380953},{"$f":"D704/Author1Sections","v":9.5238095238095233E-2},{"$f":"E704/Author2Sections","v":1},{"$f":"COUNTIF(OFFSET(H704,0,0,1,Author1Sections),\">0\")","v":2},{"$f":"COUNTIF(OFFSET(H704,0,Author1Sections,1,Author2Sections),\"=0\")","v":8},1562,"bought",0.1,0,0,0,7.4183979999999997E-2,0,0,0,0,0,0,0,0,0,0,0,0,0,0,0,0,0,0,0,0,0,0,0,0,"burnes","anacreon"]
[{"$f":"B705+C705","v":1.0952380952380953},{"$f":"D705/Author1Sections","v":9.5238095238095233E-2},{"$f":"E705/Author2Sections","v":1},{"$f":"COUNTIF(OFFSET(H705,0,0,1,Author1Sections),\">0\")","v":2},{"$f":"COUNTIF(OFFSET(H705,0,Author1Sections,1,Author2Sections),\"=0\")","v":8},1567,"bowels",0.1,0,0,0,0,0,0,0.1,0,0,0,0,0,0,0,0,0,0,0,0,0,0,0,0,0,0,0,0,0,"burnt","angel"]
[{"$f":"B706+C706","v":1.0952380952380953},{"$f":"D706/Author1Sections","v":9.5238095238095233E-2},{"$f":"E706/Author2Sections","v":1},{"$f":"COUNTIF(OFFSET(H706,0,0,1,Author1Sections),\">0\")","v":2},{"$f":"COUNTIF(OFFSET(H706,0,Author1Sections,1,Author2Sections),\"=0\")","v":8},1568,"bowre",0,0.1,0.1,0,0,0,0,0,0,0,0,0,0,0,0,0,0,0,0,0,0,0,0,0,0,0,0,0,0,"bush","annexions"]
[{"$f":"B707+C707","v":1.0952380952380953},{"$f":"D707/Author1Sections","v":9.5238095238095233E-2},{"$f":"E707/Author2Sections","v":1},{"$f":"COUNTIF(OFFSET(H707,0,0,1,Author1Sections),\">0\")","v":2},{"$f":"COUNTIF(OFFSET(H707,0,Author1Sections,1,Author2Sections),\"=0\")","v":8},1570,"brazen",0,0,0,0,7.4183979999999997E-2,0,0,0,0,0,0,0.1,0,0,0,0,0,0,0,0,0,0,0,0,0,0,0,0,0,"busie","anthems"]
[{"$f":"B708+C708","v":1.0952380952380953},{"$f":"D708/Author1Sections","v":9.5238095238095233E-2},{"$f":"E708/Author2Sections","v":1},{"$f":"COUNTIF(OFFSET(H708,0,0,1,Author1Sections),\">0\")","v":2},{"$f":"COUNTIF(OFFSET(H708,0,Author1Sections,1,Author2Sections),\"=0\")","v":8},1572,"breasts",0,0,0,0,0,0,0,0,0,0,0.1,0,0.1,0,0,0,0,0,0,0,0,0,0,0,0,0,0,0,0,"cald","aonian"]
[{"$f":"B709+C709","v":1.0952380952380953},{"$f":"D709/Author1Sections","v":9.5238095238095233E-2},{"$f":"E709/Author2Sections","v":1},{"$f":"COUNTIF(OFFSET(H709,0,0,1,Author1Sections),\">0\")","v":2},{"$f":"COUNTIF(OFFSET(H709,0,Author1Sections,1,Author2Sections),\"=0\")","v":8},1575,"breathing",0,0,0,0.1,0,0,0,0,0,0,0,0,0,0,0,0,0,0,0.1,0,0,0,0,0,0,0,0,0,0,"carelesse","appear'd"]
[{"$f":"B710+C710","v":1.0952380952380953},{"$f":"D710/Author1Sections","v":9.5238095238095233E-2},{"$f":"E710/Author2Sections","v":1},{"$f":"COUNTIF(OFFSET(H710,0,0,1,Author1Sections),\">0\")","v":2},{"$f":"COUNTIF(OFFSET(H710,0,Author1Sections,1,Author2Sections),\"=0\")","v":8},1579,"brightnes",0.1,0,0,0.1,0,0,0,0,0,0,0,0,0,0,0,0,0,0,0,0,0,0,0,0,0,0,0,0,0,"carried","appearing"]
[{"$f":"B711+C711","v":1.0952380952380953},{"$f":"D711/Author1Sections","v":9.5238095238095233E-2},{"$f":"E711/Author2Sections","v":1},{"$f":"COUNTIF(OFFSET(H711,0,0,1,Author1Sections),\">0\")","v":2},{"$f":"COUNTIF(OFFSET(H711,0,Author1Sections,1,Author2Sections),\"=0\")","v":8},1581,"bringing",0,0,0,0,0,0.1,0,0,0,0,0,0,0,0,0,0,0,0,0,0,7.0372980000000002E-2,0,0,0,0,0,0,0,0,"chace","appertainings"]
[{"$f":"B712+C712","v":1.0952380952380953},{"$f":"D712/Author1Sections","v":9.5238095238095233E-2},{"$f":"E712/Author2Sections","v":1},{"$f":"COUNTIF(OFFSET(H712,0,0,1,Author1Sections),\">0\")","v":2},{"$f":"COUNTIF(OFFSET(H712,0,Author1Sections,1,Author2Sections),\"=0\")","v":8},1583,"brooke",0,0,0,0,0,0,0,0,0,0,0,0,0,0,0,0.1,0,0.1,0,0,0,0,0,0,0,0,0,0,0,"chafe","appetite"]
[{"$f":"B713+C713","v":1.0952380952380953},{"$f":"D713/Author1Sections","v":9.5238095238095233E-2},{"$f":"E713/Author2Sections","v":1},{"$f":"COUNTIF(OFFSET(H713,0,0,1,Author1Sections),\">0\")","v":2},{"$f":"COUNTIF(OFFSET(H713,0,Author1Sections,1,Author2Sections),\"=0\")","v":8},1591,"burnes",0,0,0,0,0,0,0,0,0,0,0,0,0,0,0,0,0,0.1,0.1,0,0,0,0,0,0,0,0,0,0,"chance","applause"]
[{"$f":"B714+C714","v":1.0952380952380953},{"$f":"D714/Author1Sections","v":9.5238095238095233E-2},{"$f":"E714/Author2Sections","v":1},{"$f":"COUNTIF(OFFSET(H714,0,0,1,Author1Sections),\">0\")","v":2},{"$f":"COUNTIF(OFFSET(H714,0,Author1Sections,1,Author2Sections),\"=0\")","v":8},1592,"burnt",0,0,0,0,0,0.1,0,0,0,0.1,0,0,0,0,0,0,0,0,0,0,0,0,0,0,0,0,0,0,0,"charge","applying"]
[{"$f":"B715+C715","v":1.0952380952380953},{"$f":"D715/Author1Sections","v":9.5238095238095233E-2},{"$f":"E715/Author2Sections","v":1},{"$f":"COUNTIF(OFFSET(H715,0,0,1,Author1Sections),\">0\")","v":2},{"$f":"COUNTIF(OFFSET(H715,0,Author1Sections,1,Author2Sections),\"=0\")","v":8},1593,"bush",0,0,0,0,0,0,0.1,0,0,0,0.1,0,0,0,0,0,0,0,0,0,0,0,0,0,0,0,0,0,0,"chastitie","aptness"]
[{"$f":"B716+C716","v":1.0952380952380953},{"$f":"D716/Author1Sections","v":9.5238095238095233E-2},{"$f":"E716/Author2Sections","v":1},{"$f":"COUNTIF(OFFSET(H716,0,0,1,Author1Sections),\">0\")","v":2},{"$f":"COUNTIF(OFFSET(H716,0,Author1Sections,1,Author2Sections),\"=0\")","v":8},1594,"busie",0,0,0,0,0,0,0,0,0,0,0,0,0.1,0,0,0,0,0,0,0.1,0,0,0,0,0,0,0,0,0,"cheeks","arethuse"]
[{"$f":"B717+C717","v":1.0952380952380953},{"$f":"D717/Author1Sections","v":9.5238095238095233E-2},{"$f":"E717/Author2Sections","v":1},{"$f":"COUNTIF(OFFSET(H717,0,0,1,Author1Sections),\">0\")","v":2},{"$f":"COUNTIF(OFFSET(H717,0,Author1Sections,1,Author2Sections),\"=0\")","v":8},1596,"cald",0,0,0,0,0,0,0,0,0,0,0,0,0,0.1,0,0.1,0,0,0,0,0,0,0,0,0,0,0,0,0,"cheerefull","art's"]
[{"$f":"B718+C718","v":1.0952380952380953},{"$f":"D718/Author1Sections","v":9.5238095238095233E-2},{"$f":"E718/Author2Sections","v":1},{"$f":"COUNTIF(OFFSET(H718,0,0,1,Author1Sections),\">0\")","v":2},{"$f":"COUNTIF(OFFSET(H718,0,Author1Sections,1,Author2Sections),\"=0\")","v":8},1603,"carelesse",0,0.1,0,0,0,0,0,0,0,0,0,0.1,0,0,0,0,0,0,0,0,0,0,0,0,0,0,0,0,0,"choice","asleep"]
[{"$f":"B719+C719","v":1.0952380952380953},{"$f":"D719/Author1Sections","v":9.5238095238095233E-2},{"$f":"E719/Author2Sections","v":1},{"$f":"COUNTIF(OFFSET(H719,0,0,1,Author1Sections),\">0\")","v":2},{"$f":"COUNTIF(OFFSET(H719,0,Author1Sections,1,Author2Sections),\"=0\")","v":8},1604,"carried",0,0,0,0,7.4183979999999997E-2,0,0,0,0,0,0.1,0,0,0,0,0,0,0,0,0,0,0,0,0,0,0,0,0,0,"choise","ass's"]
[{"$f":"B720+C720","v":1.0952380952380953},{"$f":"D720/Author1Sections","v":9.5238095238095233E-2},{"$f":"E720/Author2Sections","v":1},{"$f":"COUNTIF(OFFSET(H720,0,0,1,Author1Sections),\">0\")","v":2},{"$f":"COUNTIF(OFFSET(H720,0,Author1Sections,1,Author2Sections),\"=0\")","v":8},1608,"chace",0,0,0,0,0,0,0,0,0.1,0,0,0,0,0,0,0,0,0,0,0,7.0372980000000002E-2,0,0,0,0,0,0,0,0,"choisest","assail"]
[{"$f":"B721+C721","v":1.0952380952380953},{"$f":"D721/Author1Sections","v":9.5238095238095233E-2},{"$f":"E721/Author2Sections","v":1},{"$f":"COUNTIF(OFFSET(H721,0,0,1,Author1Sections),\">0\")","v":2},{"$f":"COUNTIF(OFFSET(H721,0,Author1Sections,1,Author2Sections),\"=0\")","v":8},1609,"chafe",0,0,0,0,0,0,0.1,0,0,0,0.1,0,0,0,0,0,0,0,0,0,0,0,0,0,0,0,0,0,0,"claime","assign'd"]
[{"$f":"B722+C722","v":1.0952380952380953},{"$f":"D722/Author1Sections","v":9.5238095238095233E-2},{"$f":"E722/Author2Sections","v":1},{"$f":"COUNTIF(OFFSET(H722,0,0,1,Author1Sections),\">0\")","v":2},{"$f":"COUNTIF(OFFSET(H722,0,Author1Sections,1,Author2Sections),\"=0\")","v":8},1610,"chance",0,0,0,0,0,0,0,0,0,0,0,0,0,0.1,0,0,0,0,0,0.1,0,0,0,0,0,0,0,0,0,"cloth'd","assuage"]
[{"$f":"B723+C723","v":1.0952380952380953},{"$f":"D723/Author1Sections","v":9.5238095238095233E-2},{"$f":"E723/Author2Sections","v":1},{"$f":"COUNTIF(OFFSET(H723,0,0,1,Author1Sections),\">0\")","v":2},{"$f":"COUNTIF(OFFSET(H723,0,Author1Sections,1,Author2Sections),\"=0\")","v":8},1612,"charge",0,0,0,0,0,0,0,0.1,0,0,0,0,0,0,0,0,0,0.1,0,0,0,0,0,0,0,0,0,0,0,"cloudes","astray"]
[{"$f":"B724+C724","v":1.0952380952380953},{"$f":"D724/Author1Sections","v":9.5238095238095233E-2},{"$f":"E724/Author2Sections","v":1},{"$f":"COUNTIF(OFFSET(H724,0,0,1,Author1Sections),\">0\")","v":2},{"$f":"COUNTIF(OFFSET(H724,0,Author1Sections,1,Author2Sections),\"=0\")","v":8},1615,"chastitie",0,0.1,0,0,0,0,0,0,0,0,0,0,0,0.1,0,0,0,0,0,0,0,0,0,0,0,0,0,0,0,"colour","astronomy"]
[{"$f":"B725+C725","v":1.0952380952380953},{"$f":"D725/Author1Sections","v":9.5238095238095233E-2},{"$f":"E725/Author2Sections","v":1},{"$f":"COUNTIF(OFFSET(H725,0,0,1,Author1Sections),\">0\")","v":2},{"$f":"COUNTIF(OFFSET(H725,0,Author1Sections,1,Author2Sections),\"=0\")","v":8},1616,"cheeks",0,0,0,0,0,0,0,0,0,0,0,0,0,0,0,0,0,0,0,0.1,7.0372980000000002E-2,0,0,0,0,0,0,0,0,"colour'd","attain"]
[{"$f":"B726+C726","v":1.0952380952380953},{"$f":"D726/Author1Sections","v":9.5238095238095233E-2},{"$f":"E726/Author2Sections","v":1},{"$f":"COUNTIF(OFFSET(H726,0,0,1,Author1Sections),\">0\")","v":2},{"$f":"COUNTIF(OFFSET(H726,0,Author1Sections,1,Author2Sections),\"=0\")","v":8},1618,"cheerefull",0,0,0,0,7.4183979999999997E-2,0,0,0,0,0,0,0,0,0,0,0,0,0,0,0,7.0372980000000002E-2,0,0,0,0,0,0,0,0,"complaint","attended"]
[{"$f":"B727+C727","v":1.0952380952380953},{"$f":"D727/Author1Sections","v":9.5238095238095233E-2},{"$f":"E727/Author2Sections","v":1},{"$f":"COUNTIF(OFFSET(H727,0,0,1,Author1Sections),\">0\")","v":2},{"$f":"COUNTIF(OFFSET(H727,0,Author1Sections,1,Author2Sections),\"=0\")","v":8},1622,"choice",0,0,0.1,0,0,0,0,0.1,0,0,0,0,0,0,0,0,0,0,0,0,0,0,0,0,0,0,0,0,0,"complaints","attending"]
[{"$f":"B728+C728","v":1.0952380952380953},{"$f":"D728/Author1Sections","v":9.5238095238095233E-2},{"$f":"E728/Author2Sections","v":1},{"$f":"COUNTIF(OFFSET(H728,0,0,1,Author1Sections),\">0\")","v":2},{"$f":"COUNTIF(OFFSET(H728,0,Author1Sections,1,Author2Sections),\"=0\")","v":8},1623,"choise",0,0,0,0,0,0,0,0,0,0,0,0,0,0.1,0,0,0,0,0,0,7.0372980000000002E-2,0,0,0,0,0,0,0,0,"conclusion","attic"]
[{"$f":"B729+C729","v":1.0952380952380953},{"$f":"D729/Author1Sections","v":9.5238095238095233E-2},{"$f":"E729/Author2Sections","v":1},{"$f":"COUNTIF(OFFSET(H729,0,0,1,Author1Sections),\">0\")","v":2},{"$f":"COUNTIF(OFFSET(H729,0,Author1Sections,1,Author2Sections),\"=0\")","v":8},1624,"choisest",0,0,0,0,0,0,0,0,0,0,0,0,0,0,0,0.1,0.1,0,0,0,0,0,0,0,0,0,0,0,0,"confused","attir'd"]
[{"$f":"B730+C730","v":1.0952380952380953},{"$f":"D730/Author1Sections","v":9.5238095238095233E-2},{"$f":"E730/Author2Sections","v":1},{"$f":"COUNTIF(OFFSET(H730,0,0,1,Author1Sections),\">0\")","v":2},{"$f":"COUNTIF(OFFSET(H730,0,Author1Sections,1,Author2Sections),\"=0\")","v":8},1630,"claime",0,0,0,0,0,0,0,0,0,0.1,0,0,0,0,0.1,0,0,0,0,0,0,0,0,0,0,0,0,0,0,"conscience","authorized"]
[{"$f":"B731+C731","v":1.0952380952380953},{"$f":"D731/Author1Sections","v":9.5238095238095233E-2},{"$f":"E731/Author2Sections","v":1},{"$f":"COUNTIF(OFFSET(H731,0,0,1,Author1Sections),\">0\")","v":2},{"$f":"COUNTIF(OFFSET(H731,0,Author1Sections,1,Author2Sections),\"=0\")","v":8},1631,"cloth'd",0,0,0,0,0,0,0,0,0,0,0,0,0,0,0,0.1,0,0,0,0.1,0,0,0,0,0,0,0,0,0,"containe","awhile"]
[{"$f":"B732+C732","v":1.0952380952380953},{"$f":"D732/Author1Sections","v":9.5238095238095233E-2},{"$f":"E732/Author2Sections","v":1},{"$f":"COUNTIF(OFFSET(H732,0,0,1,Author1Sections),\">0\")","v":2},{"$f":"COUNTIF(OFFSET(H732,0,Author1Sections,1,Author2Sections),\"=0\")","v":8},1633,"cloudes",0,0,0,0,7.4183979999999997E-2,0,0,0,0,0,0,0,0,0,0,0,0,0,0,0,7.0372980000000002E-2,0,0,0,0,0,0,0,0,"contained","axe"]
[{"$f":"B733+C733","v":1.0952380952380953},{"$f":"D733/Author1Sections","v":9.5238095238095233E-2},{"$f":"E733/Author2Sections","v":1},{"$f":"COUNTIF(OFFSET(H733,0,0,1,Author1Sections),\">0\")","v":2},{"$f":"COUNTIF(OFFSET(H733,0,Author1Sections,1,Author2Sections),\"=0\")","v":8},1637,"colour",0,0,0,0,0,0,0,0,0,0.1,0,0,0,0,0,0,0,0,0,0,7.0372980000000002E-2,0,0,0,0,0,0,0,0,"conuersation","bacchus"]
[{"$f":"B734+C734","v":1.0952380952380953},{"$f":"D734/Author1Sections","v":9.5238095238095233E-2},{"$f":"E734/Author2Sections","v":1},{"$f":"COUNTIF(OFFSET(H734,0,0,1,Author1Sections),\">0\")","v":2},{"$f":"COUNTIF(OFFSET(H734,0,Author1Sections,1,Author2Sections),\"=0\")","v":8},1638,"colour'd",0,0,0,0,0,0,0,0,0,0.1,0,0,0,0,0,0,0,0,0,0.1,0,0,0,0,0,0,0,0,0,"cornets","baites"]
[{"$f":"B735+C735","v":1.0952380952380953},{"$f":"D735/Author1Sections","v":9.5238095238095233E-2},{"$f":"E735/Author2Sections","v":1},{"$f":"COUNTIF(OFFSET(H735,0,0,1,Author1Sections),\">0\")","v":2},{"$f":"COUNTIF(OFFSET(H735,0,Author1Sections,1,Author2Sections),\"=0\")","v":8},1640,"complaint",0,0,0,0.1,0,0.1,0,0,0,0,0,0,0,0,0,0,0,0,0,0,0,0,0,0,0,0,0,0,0,"costlie","balladry"]
[{"$f":"B736+C736","v":1.0952380952380953},{"$f":"D736/Author1Sections","v":9.5238095238095233E-2},{"$f":"E736/Author2Sections","v":1},{"$f":"COUNTIF(OFFSET(H736,0,0,1,Author1Sections),\">0\")","v":2},{"$f":"COUNTIF(OFFSET(H736,0,Author1Sections,1,Author2Sections),\"=0\")","v":8},1641,"complaints",0,0,0,0,0,0,0,0.1,0,0,0,0,0,0.1,0,0,0,0,0,0,0,0,0,0,0,0,0,0,0,"counsell","balls"]
[{"$f":"B737+C737","v":1.0952380952380953},{"$f":"D737/Author1Sections","v":9.5238095238095233E-2},{"$f":"E737/Author2Sections","v":1},{"$f":"COUNTIF(OFFSET(H737,0,0,1,Author1Sections),\">0\")","v":2},{"$f":"COUNTIF(OFFSET(H737,0,Author1Sections,1,Author2Sections),\"=0\")","v":8},1643,"conclusion",0,0,0,0,0,0,0,0.1,0,0,0,0,0,0,0,0,0,0,0,0,7.0372980000000002E-2,0,0,0,0,0,0,0,0,"counsels","banish'd"]
[{"$f":"B738+C738","v":1.0952380952380953},{"$f":"D738/Author1Sections","v":9.5238095238095233E-2},{"$f":"E738/Author2Sections","v":1},{"$f":"COUNTIF(OFFSET(H738,0,0,1,Author1Sections),\">0\")","v":2},{"$f":"COUNTIF(OFFSET(H738,0,Author1Sections,1,Author2Sections),\"=0\")","v":8},1645,"confused",0,0,0,0,0,0.1,0,0,0,0,0,0,0,0,0,0,0,0,0.1,0,0,0,0,0,0,0,0,0,0,"coupled","bareness"]
[{"$f":"B739+C739","v":1.0952380952380953},{"$f":"D739/Author1Sections","v":9.5238095238095233E-2},{"$f":"E739/Author2Sections","v":1},{"$f":"COUNTIF(OFFSET(H739,0,0,1,Author1Sections),\">0\")","v":2},{"$f":"COUNTIF(OFFSET(H739,0,Author1Sections,1,Author2Sections),\"=0\")","v":8},1648,"conscience",0,0,0,0,0,0,0,0.1,0,0,0,0,0,0,0,0,0,0,0.1,0,0,0,0,0,0,0,0,0,0,"coward","bark"]
[{"$f":"B740+C740","v":1.0952380952380953},{"$f":"D740/Author1Sections","v":9.5238095238095233E-2},{"$f":"E740/Author2Sections","v":1},{"$f":"COUNTIF(OFFSET(H740,0,0,1,Author1Sections),\">0\")","v":2},{"$f":"COUNTIF(OFFSET(H740,0,Author1Sections,1,Author2Sections),\"=0\")","v":8},1652,"containe",0,0,0,0,0,0,0,0,0.1,0,0,0,0,0,0,0,0,0,0.1,0,0,0,0,0,0,0,0,0,0,"creature","barn"]
[{"$f":"B741+C741","v":1.0952380952380953},{"$f":"D741/Author1Sections","v":9.5238095238095233E-2},{"$f":"E741/Author2Sections","v":1},{"$f":"COUNTIF(OFFSET(H741,0,0,1,Author1Sections),\">0\")","v":2},{"$f":"COUNTIF(OFFSET(H741,0,Author1Sections,1,Author2Sections),\"=0\")","v":8},1653,"contained",0,0,0,0,0,0.1,0,0,0.1,0,0,0,0,0,0,0,0,0,0,0,0,0,0,0,0,0,0,0,0,"crying","barons"]
[{"$f":"B742+C742","v":1.0952380952380953},{"$f":"D742/Author1Sections","v":9.5238095238095233E-2},{"$f":"E742/Author2Sections","v":1},{"$f":"COUNTIF(OFFSET(H742,0,0,1,Author1Sections),\">0\")","v":2},{"$f":"COUNTIF(OFFSET(H742,0,Author1Sections,1,Author2Sections),\"=0\")","v":8},1655,"conuersation",0,0,0,0,0,0,0,0,0,0,0,0,0,0,0,0,0,0.1,0,0,7.0372980000000002E-2,0,0,0,0,0,0,0,0,"daintiest","barrenly"]
[{"$f":"B743+C743","v":1.0952380952380953},{"$f":"D743/Author1Sections","v":9.5238095238095233E-2},{"$f":"E743/Author2Sections","v":1},{"$f":"COUNTIF(OFFSET(H743,0,0,1,Author1Sections),\">0\")","v":2},{"$f":"COUNTIF(OFFSET(H743,0,Author1Sections,1,Author2Sections),\"=0\")","v":8},1656,"cornets",0,0,0,0,0,0,0.1,0,0.1,0,0,0,0,0,0,0,0,0,0,0,0,0,0,0,0,0,0,0,0,"darkned","basks"]
[{"$f":"B744+C744","v":1.0952380952380953},{"$f":"D744/Author1Sections","v":9.5238095238095233E-2},{"$f":"E744/Author2Sections","v":1},{"$f":"COUNTIF(OFFSET(H744,0,0,1,Author1Sections),\">0\")","v":2},{"$f":"COUNTIF(OFFSET(H744,0,Author1Sections,1,Author2Sections),\"=0\")","v":8},1658,"costlie",0,0,0,0.1,7.4183979999999997E-2,0,0,0,0,0,0,0,0,0,0,0,0,0,0,0,0,0,0,0,0,0,0,0,0,"darknes","bastards"]
[{"$f":"B745+C745","v":1.0952380952380953},{"$f":"D745/Author1Sections","v":9.5238095238095233E-2},{"$f":"E745/Author2Sections","v":1},{"$f":"COUNTIF(OFFSET(H745,0,0,1,Author1Sections),\">0\")","v":2},{"$f":"COUNTIF(OFFSET(H745,0,Author1Sections,1,Author2Sections),\"=0\")","v":8},1660,"counsell",0,0,0,0,0,0,0,0,0,0,0,0,0.1,0,0,0,0,0,0.1,0,0,0,0,0,0,0,0,0,0,"darknesse","bat"]
[{"$f":"B746+C746","v":1.0952380952380953},{"$f":"D746/Author1Sections","v":9.5238095238095233E-2},{"$f":"E746/Author2Sections","v":1},{"$f":"COUNTIF(OFFSET(H746,0,0,1,Author1Sections),\">0\")","v":2},{"$f":"COUNTIF(OFFSET(H746,0,Author1Sections,1,Author2Sections),\"=0\")","v":8},1661,"counsels",0,0,0,0,0,0,0,0,0,0,0,0,0,0,0,0.1,0.1,0,0,0,0,0,0,0,0,0,0,0,0,"decaie","bathed"]
[{"$f":"B747+C747","v":1.0952380952380953},{"$f":"D747/Author1Sections","v":9.5238095238095233E-2},{"$f":"E747/Author2Sections","v":1},{"$f":"COUNTIF(OFFSET(H747,0,0,1,Author1Sections),\">0\")","v":2},{"$f":"COUNTIF(OFFSET(H747,0,Author1Sections,1,Author2Sections),\"=0\")","v":8},1662,"coupled",0,0,0,0,0,0,0,0.1,0,0,0,0,0,0,0,0,0,0,0,0.1,0,0,0,0,0,0,0,0,0,"decline","batt'ning"]
[{"$f":"B748+C748","v":1.0952380952380953},{"$f":"D748/Author1Sections","v":9.5238095238095233E-2},{"$f":"E748/Author2Sections","v":1},{"$f":"COUNTIF(OFFSET(H748,0,0,1,Author1Sections),\">0\")","v":2},{"$f":"COUNTIF(OFFSET(H748,0,Author1Sections,1,Author2Sections),\"=0\")","v":8},1665,"coward",0,0,0,0,0,0.1,0,0,0,0,0,0,0,0,0,0,0,0,0,0.1,0,0,0,0,0,0,0,0,0,"deede","battle"]
[{"$f":"B749+C749","v":1.0952380952380953},{"$f":"D749/Author1Sections","v":9.5238095238095233E-2},{"$f":"E749/Author2Sections","v":1},{"$f":"COUNTIF(OFFSET(H749,0,0,1,Author1Sections),\">0\")","v":2},{"$f":"COUNTIF(OFFSET(H749,0,Author1Sections,1,Author2Sections),\"=0\")","v":8},1667,"creature",0.1,0,0,0,0,0.1,0,0,0,0,0,0,0,0,0,0,0,0,0,0,0,0,0,0,0,0,0,0,0,"denies","battlements"]
[{"$f":"B750+C750","v":1.0952380952380953},{"$f":"D750/Author1Sections","v":9.5238095238095233E-2},{"$f":"E750/Author2Sections","v":1},{"$f":"COUNTIF(OFFSET(H750,0,0,1,Author1Sections),\">0\")","v":2},{"$f":"COUNTIF(OFFSET(H750,0,Author1Sections,1,Author2Sections),\"=0\")","v":8},1672,"crying",0.1,0,0,0,0,0.1,0,0,0,0,0,0,0,0,0,0,0,0,0,0,0,0,0,0,0,0,0,0,0,"deplore","bay"]
[{"$f":"B751+C751","v":1.0952380952380953},{"$f":"D751/Author1Sections","v":9.5238095238095233E-2},{"$f":"E751/Author2Sections","v":1},{"$f":"COUNTIF(OFFSET(H751,0,0,1,Author1Sections),\">0\")","v":2},{"$f":"COUNTIF(OFFSET(H751,0,Author1Sections,1,Author2Sections),\"=0\")","v":8},1677,"daintiest",0,0,0,0,7.4183979999999997E-2,0,0,0,0,0.1,0,0,0,0,0,0,0,0,0,0,0,0,0,0,0,0,0,0,0,"dere","bayona's"]
[{"$f":"B752+C752","v":1.0952380952380953},{"$f":"D752/Author1Sections","v":9.5238095238095233E-2},{"$f":"E752/Author2Sections","v":1},{"$f":"COUNTIF(OFFSET(H752,0,0,1,Author1Sections),\">0\")","v":2},{"$f":"COUNTIF(OFFSET(H752,0,Author1Sections,1,Author2Sections),\"=0\")","v":8},1680,"darkned",0,0,0,0,0,0,0,0,0,0,0,0,0,0,0,0,0,0,0,0.1,7.0372980000000002E-2,0,0,0,0,0,0,0,0,"descrie","bays"]
[{"$f":"B753+C753","v":1.0952380952380953},{"$f":"D753/Author1Sections","v":9.5238095238095233E-2},{"$f":"E753/Author2Sections","v":1},{"$f":"COUNTIF(OFFSET(H753,0,0,1,Author1Sections),\">0\")","v":2},{"$f":"COUNTIF(OFFSET(H753,0,Author1Sections,1,Author2Sections),\"=0\")","v":8},1681,"darknes",0.1,0,0.1,0,0,0,0,0,0,0,0,0,0,0,0,0,0,0,0,0,0,0,0,0,0,0,0,0,0,"dians","beaded"]
[{"$f":"B754+C754","v":1.0952380952380953},{"$f":"D754/Author1Sections","v":9.5238095238095233E-2},{"$f":"E754/Author2Sections","v":1},{"$f":"COUNTIF(OFFSET(H754,0,0,1,Author1Sections),\">0\")","v":2},{"$f":"COUNTIF(OFFSET(H754,0,Author1Sections,1,Author2Sections),\"=0\")","v":8},1683,"darknesse",0,0,0,0,0,0,0,0,0,0,0,0,0,0,0,0.1,0,0,0,0,7.0372980000000002E-2,0,0,0,0,0,0,0,0,"dide","beaked"]
[{"$f":"B755+C755","v":1.0952380952380953},{"$f":"D755/Author1Sections","v":9.5238095238095233E-2},{"$f":"E755/Author2Sections","v":1},{"$f":"COUNTIF(OFFSET(H755,0,0,1,Author1Sections),\">0\")","v":2},{"$f":"COUNTIF(OFFSET(H755,0,Author1Sections,1,Author2Sections),\"=0\")","v":8},1687,"decaie",0.1,0.1,0,0,0,0,0,0,0,0,0,0,0,0,0,0,0,0,0,0,0,0,0,0,0,0,0,0,0,"didst","beard"]
[{"$f":"B756+C756","v":1.0952380952380953},{"$f":"D756/Author1Sections","v":9.5238095238095233E-2},{"$f":"E756/Author2Sections","v":1},{"$f":"COUNTIF(OFFSET(H756,0,0,1,Author1Sections),\">0\")","v":2},{"$f":"COUNTIF(OFFSET(H756,0,Author1Sections,1,Author2Sections),\"=0\")","v":8},1689,"decline",0,0,0,0,0,0,0,0,0,0,0,0.1,0,0,0,0.1,0,0,0,0,0,0,0,0,0,0,0,0,0,"dignitie","beautiful"]
[{"$f":"B757+C757","v":1.0952380952380953},{"$f":"D757/Author1Sections","v":9.5238095238095233E-2},{"$f":"E757/Author2Sections","v":1},{"$f":"COUNTIF(OFFSET(H757,0,0,1,Author1Sections),\">0\")","v":2},{"$f":"COUNTIF(OFFSET(H757,0,Author1Sections,1,Author2Sections),\"=0\")","v":8},1690,"deede",0,0,0,0,0,0,0,0,0,0,0.1,0,0,0,0.1,0,0,0,0,0,0,0,0,0,0,0,0,0,0,"displaies","becks"]
[{"$f":"B758+C758","v":1.0952380952380953},{"$f":"D758/Author1Sections","v":9.5238095238095233E-2},{"$f":"E758/Author2Sections","v":1},{"$f":"COUNTIF(OFFSET(H758,0,0,1,Author1Sections),\">0\")","v":2},{"$f":"COUNTIF(OFFSET(H758,0,Author1Sections,1,Author2Sections),\"=0\")","v":8},1692,"denies",0,0,0,0,0,0,0,0,0,0,0,0,0,0,0,0,0.1,0,0,0.1,0,0,0,0,0,0,0,0,0,"dispraise","beds"]
[{"$f":"B759+C759","v":1.0952380952380953},{"$f":"D759/Author1Sections","v":9.5238095238095233E-2},{"$f":"E759/Author2Sections","v":1},{"$f":"COUNTIF(OFFSET(H759,0,0,1,Author1Sections),\">0\")","v":2},{"$f":"COUNTIF(OFFSET(H759,0,Author1Sections,1,Author2Sections),\"=0\")","v":8},1695,"deplore",0,0.1,0,0,7.4183979999999997E-2,0,0,0,0,0,0,0,0,0,0,0,0,0,0,0,0,0,0,0,0,0,0,0,0,"doost","beer"]
[{"$f":"B760+C760","v":1.0952380952380953},{"$f":"D760/Author1Sections","v":9.5238095238095233E-2},{"$f":"E760/Author2Sections","v":1},{"$f":"COUNTIF(OFFSET(H760,0,0,1,Author1Sections),\">0\")","v":2},{"$f":"COUNTIF(OFFSET(H760,0,Author1Sections,1,Author2Sections),\"=0\")","v":8},1696,"dere",0.1,0,0,0,0,0,0,0,0,0.1,0,0,0,0,0,0,0,0,0,0,0,0,0,0,0,0,0,0,0,"driu'n","begs"]
[{"$f":"B761+C761","v":1.0952380952380953},{"$f":"D761/Author1Sections","v":9.5238095238095233E-2},{"$f":"E761/Author2Sections","v":1},{"$f":"COUNTIF(OFFSET(H761,0,0,1,Author1Sections),\">0\")","v":2},{"$f":"COUNTIF(OFFSET(H761,0,Author1Sections,1,Author2Sections),\"=0\")","v":8},1699,"descrie",0,0,0,0,0,0,0,0,0,0,0,0,0.1,0,0.1,0,0,0,0,0,0,0,0,0,0,0,0,0,0,"durst","beguile"]
[{"$f":"B762+C762","v":1.0952380952380953},{"$f":"D762/Author1Sections","v":9.5238095238095233E-2},{"$f":"E762/Author2Sections","v":1},{"$f":"COUNTIF(OFFSET(H762,0,0,1,Author1Sections),\">0\")","v":2},{"$f":"COUNTIF(OFFSET(H762,0,Author1Sections,1,Author2Sections),\"=0\")","v":8},1704,"dians",0,0,0,0,0,0,0,0,0,0,0,0,0,0,0,0,0,0.1,0,0,7.0372980000000002E-2,0,0,0,0,0,0,0,0,"e","beguiling"]
[{"$f":"B763+C763","v":1.0952380952380953},{"$f":"D763/Author1Sections","v":9.5238095238095233E-2},{"$f":"E763/Author2Sections","v":1},{"$f":"COUNTIF(OFFSET(H763,0,0,1,Author1Sections),\">0\")","v":2},{"$f":"COUNTIF(OFFSET(H763,0,Author1Sections,1,Author2Sections),\"=0\")","v":8},1705,"dide",0,0.1,0,0,0,0,0,0,0,0,0,0,0,0,0,0,0,0,0.1,0,0,0,0,0,0,0,0,0,0,"empty","behoof"]
[{"$f":"B764+C764","v":1.0952380952380953},{"$f":"D764/Author1Sections","v":9.5238095238095233E-2},{"$f":"E764/Author2Sections","v":1},{"$f":"COUNTIF(OFFSET(H764,0,0,1,Author1Sections),\">0\")","v":2},{"$f":"COUNTIF(OFFSET(H764,0,Author1Sections,1,Author2Sections),\"=0\")","v":8},1706,"didst",0,0,0,0,0,0,0,0,0,0.1,0,0,0,0,0,0,0,0,0,0,7.0372980000000002E-2,0,0,0,0,0,0,0,0,"ende","believed"]
[{"$f":"B765+C765","v":1.0952380952380953},{"$f":"D765/Author1Sections","v":9.5238095238095233E-2},{"$f":"E765/Author2Sections","v":1},{"$f":"COUNTIF(OFFSET(H765,0,0,1,Author1Sections),\">0\")","v":2},{"$f":"COUNTIF(OFFSET(H765,0,Author1Sections,1,Author2Sections),\"=0\")","v":8},1708,"dignitie",0,0,0,0,0,0,0.1,0.1,0,0,0,0,0,0,0,0,0,0,0,0,0,0,0,0,0,0,0,0,0,"endite","bellerus"]
[{"$f":"B766+C766","v":1.0952380952380953},{"$f":"D766/Author1Sections","v":9.5238095238095233E-2},{"$f":"E766/Author2Sections","v":1},{"$f":"COUNTIF(OFFSET(H766,0,0,1,Author1Sections),\">0\")","v":2},{"$f":"COUNTIF(OFFSET(H766,0,Author1Sections,1,Author2Sections),\"=0\")","v":8},1711,"displaies",0,0,0,0,0,0,0,0,0,0,0,0.1,0,0,0,0,0,0,0,0.1,0,0,0,0,0,0,0,0,0,"ensample","bellies'"]
[{"$f":"B767+C767","v":1.0952380952380953},{"$f":"D767/Author1Sections","v":9.5238095238095233E-2},{"$f":"E767/Author2Sections","v":1},{"$f":"COUNTIF(OFFSET(H767,0,0,1,Author1Sections),\">0\")","v":2},{"$f":"COUNTIF(OFFSET(H767,0,Author1Sections,1,Author2Sections),\"=0\")","v":8},1712,"dispraise",0,0.1,0,0,0,0,0,0,0,0.1,0,0,0,0,0,0,0,0,0,0,0,0,0,0,0,0,0,0,0,"ensue","bellman's"]
[{"$f":"B768+C768","v":1.0952380952380953},{"$f":"D768/Author1Sections","v":9.5238095238095233E-2},{"$f":"E768/Author2Sections","v":1},{"$f":"COUNTIF(OFFSET(H768,0,0,1,Author1Sections),\">0\")","v":2},{"$f":"COUNTIF(OFFSET(H768,0,Author1Sections,1,Author2Sections),\"=0\")","v":8},1721,"doost",0,0,0.1,0,0,0,0,0,0,0,0,0,0,0,0,0,0,0,0,0,7.0372980000000002E-2,0,0,0,0,0,0,0,0,"equall","belly"]
[{"$f":"B769+C769","v":1.0952380952380953},{"$f":"D769/Author1Sections","v":9.5238095238095233E-2},{"$f":"E769/Author2Sections","v":1},{"$f":"COUNTIF(OFFSET(H769,0,0,1,Author1Sections),\">0\")","v":2},{"$f":"COUNTIF(OFFSET(H769,0,Author1Sections,1,Author2Sections),\"=0\")","v":8},1724,"driu'n",0,0,0,0,0,0,0,0,0,0,0,0,0,0,0.1,0.1,0,0,0,0,0,0,0,0,0,0,0,0,0,"euerie","belong"]
[{"$f":"B770+C770","v":1.0952380952380953},{"$f":"D770/Author1Sections","v":9.5238095238095233E-2},{"$f":"E770/Author2Sections","v":1},{"$f":"COUNTIF(OFFSET(H770,0,0,1,Author1Sections),\">0\")","v":2},{"$f":"COUNTIF(OFFSET(H770,0,Author1Sections,1,Author2Sections),\"=0\")","v":8},1730,"durst",0,0,0,0,7.4183979999999997E-2,0,0,0,0,0,0,0,0,0,0,0,0,0.1,0,0,0,0,0,0,0,0,0,0,0,"expresse","belongs"]
[{"$f":"B771+C771","v":1.0952380952380953},{"$f":"D771/Author1Sections","v":9.5238095238095233E-2},{"$f":"E771/Author2Sections","v":1},{"$f":"COUNTIF(OFFSET(H771,0,0,1,Author1Sections),\">0\")","v":2},{"$f":"COUNTIF(OFFSET(H771,0,Author1Sections,1,Author2Sections),\"=0\")","v":8},1733,"e",0,0,0,0,0,0.1,0.1,0,0,0,0,0,0,0,0,0,0,0,0,0,0,0,0,0,0,0,0,0,0,"faile","beloved"]
[{"$f":"B772+C772","v":1.0952380952380953},{"$f":"D772/Author1Sections","v":9.5238095238095233E-2},{"$f":"E772/Author2Sections","v":1},{"$f":"COUNTIF(OFFSET(H772,0,0,1,Author1Sections),\">0\")","v":2},{"$f":"COUNTIF(OFFSET(H772,0,Author1Sections,1,Author2Sections),\"=0\")","v":8},1738,"empty",0,0,0,0,0,0,0,0,0,0,0,0,0,0,0,0,0,0,0.1,0,7.0372980000000002E-2,0,0,0,0,0,0,0,0,"faint","below"]
[{"$f":"B773+C773","v":1.0952380952380953},{"$f":"D773/Author1Sections","v":9.5238095238095233E-2},{"$f":"E773/Author2Sections","v":1},{"$f":"COUNTIF(OFFSET(H773,0,0,1,Author1Sections),\">0\")","v":2},{"$f":"COUNTIF(OFFSET(H773,0,Author1Sections,1,Author2Sections),\"=0\")","v":8},1740,"ende",0,0,0.1,0,0,0,0,0.1,0,0,0,0,0,0,0,0,0,0,0,0,0,0,0,0,0,0,0,0,0,"fancie","ben"]
[{"$f":"B774+C774","v":1.0952380952380953},{"$f":"D774/Author1Sections","v":9.5238095238095233E-2},{"$f":"E774/Author2Sections","v":1},{"$f":"COUNTIF(OFFSET(H774,0,0,1,Author1Sections),\">0\")","v":2},{"$f":"COUNTIF(OFFSET(H774,0,Author1Sections,1,Author2Sections),\"=0\")","v":8},1741,"endite",0,0,0,0,0,0,0,0,0,0,0,0,0,0,0,0,0,0.1,0,0.1,0,0,0,0,0,0,0,0,0,"fawne","bequest"]
[{"$f":"B775+C775","v":1.0952380952380953},{"$f":"D775/Author1Sections","v":9.5238095238095233E-2},{"$f":"E775/Author2Sections","v":1},{"$f":"COUNTIF(OFFSET(H775,0,0,1,Author1Sections),\">0\")","v":2},{"$f":"COUNTIF(OFFSET(H775,0,Author1Sections,1,Author2Sections),\"=0\")","v":8},1744,"ensample",0,0,0,0.1,7.4183979999999997E-2,0,0,0,0,0,0,0,0,0,0,0,0,0,0,0,0,0,0,0,0,0,0,0,0,"feed","berries"]
[{"$f":"B776+C776","v":1.0952380952380953},{"$f":"D776/Author1Sections","v":9.5238095238095233E-2},{"$f":"E776/Author2Sections","v":1},{"$f":"COUNTIF(OFFSET(H776,0,0,1,Author1Sections),\">0\")","v":2},{"$f":"COUNTIF(OFFSET(H776,0,Author1Sections,1,Author2Sections),\"=0\")","v":8},1745,"ensue",0,0,0.1,0,0,0,0,0,0,0,0,0,0,0,0.1,0,0,0,0,0,0,0,0,0,0,0,0,0,0,"felicitie","beseech'd"]
[{"$f":"B777+C777","v":1.0952380952380953},{"$f":"D777/Author1Sections","v":9.5238095238095233E-2},{"$f":"E777/Author2Sections","v":1},{"$f":"COUNTIF(OFFSET(H777,0,0,1,Author1Sections),\">0\")","v":2},{"$f":"COUNTIF(OFFSET(H777,0,Author1Sections,1,Author2Sections),\"=0\")","v":8},1748,"equall",0.1,0,0,0,7.4183979999999997E-2,0,0,0,0,0,0,0,0,0,0,0,0,0,0,0,0,0,0,0,0,0,0,0,0,"fellowship","beseem"]
[{"$f":"B778+C778","v":1.0952380952380953},{"$f":"D778/Author1Sections","v":9.5238095238095233E-2},{"$f":"E778/Author2Sections","v":1},{"$f":"COUNTIF(OFFSET(H778,0,0,1,Author1Sections),\">0\")","v":2},{"$f":"COUNTIF(OFFSET(H778,0,Author1Sections,1,Author2Sections),\"=0\")","v":8},1755,"euerie",0,0,0,0,0,0,0,0,0,0,0,0,0,0,0,0,0.1,0,0.1,0,0,0,0,0,0,0,0,0,0,"fierce","beseige"]
[{"$f":"B779+C779","v":1.0952380952380953},{"$f":"D779/Author1Sections","v":9.5238095238095233E-2},{"$f":"E779/Author2Sections","v":1},{"$f":"COUNTIF(OFFSET(H779,0,0,1,Author1Sections),\">0\")","v":2},{"$f":"COUNTIF(OFFSET(H779,0,Author1Sections,1,Author2Sections),\"=0\")","v":8},1760,"expresse",0,0,0,0,0,0,0,0,0,0,0,0,0.1,0,0,0,0,0,0,0.1,0,0,0,0,0,0,0,0,0,"fights","besides"]
[{"$f":"B780+C780","v":1.0952380952380953},{"$f":"D780/Author1Sections","v":9.5238095238095233E-2},{"$f":"E780/Author2Sections","v":1},{"$f":"COUNTIF(OFFSET(H780,0,0,1,Author1Sections),\">0\")","v":2},{"$f":"COUNTIF(OFFSET(H780,0,Author1Sections,1,Author2Sections),\"=0\")","v":8},1763,"faile",0,0,0,0,7.4183979999999997E-2,0,0,0,0,0,0,0,0,0,0,0,0,0.1,0,0,0,0,0,0,0,0,0,0,0,"filthy","besiege"]
[{"$f":"B781+C781","v":1.0952380952380953},{"$f":"D781/Author1Sections","v":9.5238095238095233E-2},{"$f":"E781/Author2Sections","v":1},{"$f":"COUNTIF(OFFSET(H781,0,0,1,Author1Sections),\">0\")","v":2},{"$f":"COUNTIF(OFFSET(H781,0,Author1Sections,1,Author2Sections),\"=0\")","v":8},1764,"faint",0,0,0,0.1,0,0,0,0,0,0,0,0,0,0,0,0,0,0,0,0.1,0,0,0,0,0,0,0,0,0,"firmly","bespake"]
[{"$f":"B782+C782","v":1.0952380952380953},{"$f":"D782/Author1Sections","v":9.5238095238095233E-2},{"$f":"E782/Author2Sections","v":1},{"$f":"COUNTIF(OFFSET(H782,0,0,1,Author1Sections),\">0\")","v":2},{"$f":"COUNTIF(OFFSET(H782,0,Author1Sections,1,Author2Sections),\"=0\")","v":8},1766,"fancie",0,0,0,0,0,0,0,0,0,0,0,0,0,0.1,0.1,0,0,0,0,0,0,0,0,0,0,0,0,0,0,"fleshlie","bested"]
[{"$f":"B783+C783","v":1.0952380952380953},{"$f":"D783/Author1Sections","v":9.5238095238095233E-2},{"$f":"E783/Author2Sections","v":1},{"$f":"COUNTIF(OFFSET(H783,0,0,1,Author1Sections),\">0\")","v":2},{"$f":"COUNTIF(OFFSET(H783,0,Author1Sections,1,Author2Sections),\"=0\")","v":8},1769,"fawne",0,0.1,0,0,0,0,0,0,0,0,0,0.1,0,0,0,0,0,0,0,0,0,0,0,0,0,0,0,0,0,"flintie","bestow'd"]
[{"$f":"B784+C784","v":1.0952380952380953},{"$f":"D784/Author1Sections","v":9.5238095238095233E-2},{"$f":"E784/Author2Sections","v":1},{"$f":"COUNTIF(OFFSET(H784,0,0,1,Author1Sections),\">0\")","v":2},{"$f":"COUNTIF(OFFSET(H784,0,Author1Sections,1,Author2Sections),\"=0\")","v":8},1771,"feed",0,0,0,0,7.4183979999999997E-2,0,0,0,0,0,0,0,0,0,0.1,0,0,0,0,0,0,0,0,0,0,0,0,0,0,"floure","bestowest"]
[{"$f":"B785+C785","v":1.0952380952380953},{"$f":"D785/Author1Sections","v":9.5238095238095233E-2},{"$f":"E785/Author2Sections","v":1},{"$f":"COUNTIF(OFFSET(H785,0,0,1,Author1Sections),\">0\")","v":2},{"$f":"COUNTIF(OFFSET(H785,0,Author1Sections,1,Author2Sections),\"=0\")","v":8},1773,"felicitie",0,0,0,0,7.4183979999999997E-2,0,0,0,0,0,0,0,0,0,0,0,0,0,0.1,0,0,0,0,0,0,0,0,0,0,"forbeares","betray"]
[{"$f":"B786+C786","v":1.0952380952380953},{"$f":"D786/Author1Sections","v":9.5238095238095233E-2},{"$f":"E786/Author2Sections","v":1},{"$f":"COUNTIF(OFFSET(H786,0,0,1,Author1Sections),\">0\")","v":2},{"$f":"COUNTIF(OFFSET(H786,0,Author1Sections,1,Author2Sections),\"=0\")","v":8},1774,"fellowship",0,0,0,0,0,0,0,0,0,0,0,0,0.1,0,0,0,0,0.1,0,0,0,0,0,0,0,0,0,0,0,"forgot","betwixt"]
[{"$f":"B787+C787","v":1.0952380952380953},{"$f":"D787/Author1Sections","v":9.5238095238095233E-2},{"$f":"E787/Author2Sections","v":1},{"$f":"COUNTIF(OFFSET(H787,0,0,1,Author1Sections),\">0\")","v":2},{"$f":"COUNTIF(OFFSET(H787,0,Author1Sections,1,Author2Sections),\"=0\")","v":8},1778,"fierce",0,0,0,0,0,0,0,0,0,0,0,0,0,0.1,0,0.1,0,0,0,0,0,0,0,0,0,0,0,0,0,"form'd","bewail'd"]
[{"$f":"B788+C788","v":1.0952380952380953},{"$f":"D788/Author1Sections","v":9.5238095238095233E-2},{"$f":"E788/Author2Sections","v":1},{"$f":"COUNTIF(OFFSET(H788,0,0,1,Author1Sections),\">0\")","v":2},{"$f":"COUNTIF(OFFSET(H788,0,Author1Sections,1,Author2Sections),\"=0\")","v":8},1780,"fights",0,0,0,0,0,0,0,0,0,0,0,0,0.1,0,0,0.1,0,0,0,0,0,0,0,0,0,0,0,0,0,"forward","bewitch'd"]
[{"$f":"B789+C789","v":1.0952380952380953},{"$f":"D789/Author1Sections","v":9.5238095238095233E-2},{"$f":"E789/Author2Sections","v":1},{"$f":"COUNTIF(OFFSET(H789,0,0,1,Author1Sections),\">0\")","v":2},{"$f":"COUNTIF(OFFSET(H789,0,Author1Sections,1,Author2Sections),\"=0\")","v":8},1782,"filthy",0,0,0,0,0,0,0,0.1,0,0,0,0.1,0,0,0,0,0,0,0,0,0,0,0,0,0,0,0,0,0,"foster","bidding"]
[{"$f":"B790+C790","v":1.0952380952380953},{"$f":"D790/Author1Sections","v":9.5238095238095233E-2},{"$f":"E790/Author2Sections","v":1},{"$f":"COUNTIF(OFFSET(H790,0,0,1,Author1Sections),\">0\")","v":2},{"$f":"COUNTIF(OFFSET(H790,0,Author1Sections,1,Author2Sections),\"=0\")","v":8},1784,"firmly",0,0,0,0,0,0,0,0,0,0,0,0,0,0,0.1,0,0.1,0,0,0,0,0,0,0,0,0,0,0,0,"foundation","big"]
[{"$f":"B791+C791","v":1.0952380952380953},{"$f":"D791/Author1Sections","v":9.5238095238095233E-2},{"$f":"E791/Author2Sections","v":1},{"$f":"COUNTIF(OFFSET(H791,0,0,1,Author1Sections),\">0\")","v":2},{"$f":"COUNTIF(OFFSET(H791,0,Author1Sections,1,Author2Sections),\"=0\")","v":8},1785,"fleshlie",0,0,0.1,0,7.4183979999999997E-2,0,0,0,0,0,0,0,0,0,0,0,0,0,0,0,0,0,0,0,0,0,0,0,0,"freed","bird"]
[{"$f":"B792+C792","v":1.0952380952380953},{"$f":"D792/Author1Sections","v":9.5238095238095233E-2},{"$f":"E792/Author2Sections","v":1},{"$f":"COUNTIF(OFFSET(H792,0,0,1,Author1Sections),\">0\")","v":2},{"$f":"COUNTIF(OFFSET(H792,0,Author1Sections,1,Author2Sections),\"=0\")","v":8},1786,"flintie",0,0,0,0,0,0,0.1,0.1,0,0,0,0,0,0,0,0,0,0,0,0,0,0,0,0,0,0,0,0,0,"freshly","blasting"]
[{"$f":"B793+C793","v":1.0952380952380953},{"$f":"D793/Author1Sections","v":9.5238095238095233E-2},{"$f":"E793/Author2Sections","v":1},{"$f":"COUNTIF(OFFSET(H793,0,0,1,Author1Sections),\">0\")","v":2},{"$f":"COUNTIF(OFFSET(H793,0,Author1Sections,1,Author2Sections),\"=0\")","v":8},1788,"floure",0,0,0,0,0,0,0,0,0,0,0,0,0,0,0,0,0,0.1,0,0,7.0372980000000002E-2,0,0,0,0,0,0,0,0,"fruits","blazon'd"]
[{"$f":"B794+C794","v":1.0952380952380953},{"$f":"D794/Author1Sections","v":9.5238095238095233E-2},{"$f":"E794/Author2Sections","v":1},{"$f":"COUNTIF(OFFSET(H794,0,0,1,Author1Sections),\">0\")","v":2},{"$f":"COUNTIF(OFFSET(H794,0,Author1Sections,1,Author2Sections),\"=0\")","v":8},1795,"forbeares",0,0,0,0,0,0,0,0,0,0,0,0,0,0,0,0.1,0,0,0,0.1,0,0,0,0,0,0,0,0,0,"gallant","blend"]
[{"$f":"B795+C795","v":1.0952380952380953},{"$f":"D795/Author1Sections","v":9.5238095238095233E-2},{"$f":"E795/Author2Sections","v":1},{"$f":"COUNTIF(OFFSET(H795,0,0,1,Author1Sections),\">0\")","v":2},{"$f":"COUNTIF(OFFSET(H795,0,Author1Sections,1,Author2Sections),\"=0\")","v":8},1798,"forgot",0,0,0,0.1,0,0,0,0,0,0,0,0,0,0,0,0,0,0,0.1,0,0,0,0,0,0,0,0,0,0,"garden","bless"]
[{"$f":"B796+C796","v":1.0952380952380953},{"$f":"D796/Author1Sections","v":9.5238095238095233E-2},{"$f":"E796/Author2Sections","v":1},{"$f":"COUNTIF(OFFSET(H796,0,0,1,Author1Sections),\">0\")","v":2},{"$f":"COUNTIF(OFFSET(H796,0,Author1Sections,1,Author2Sections),\"=0\")","v":8},1799,"form'd",0,0,0,0,0,0,0,0,0,0.1,0.1,0,0,0,0,0,0,0,0,0,0,0,0,0,0,0,0,0,0,"garland","bloodless"]
[{"$f":"B797+C797","v":1.0952380952380953},{"$f":"D797/Author1Sections","v":9.5238095238095233E-2},{"$f":"E797/Author2Sections","v":1},{"$f":"COUNTIF(OFFSET(H797,0,0,1,Author1Sections),\">0\")","v":2},{"$f":"COUNTIF(OFFSET(H797,0,Author1Sections,1,Author2Sections),\"=0\")","v":8},1803,"forward",0,0,0,0,0,0.1,0,0,0.1,0,0,0,0,0,0,0,0,0,0,0,0,0,0,0,0,0,0,0,0,"gates","blossoms"]
[{"$f":"B798+C798","v":1.0952380952380953},{"$f":"D798/Author1Sections","v":9.5238095238095233E-2},{"$f":"E798/Author2Sections","v":1},{"$f":"COUNTIF(OFFSET(H798,0,0,1,Author1Sections),\">0\")","v":2},{"$f":"COUNTIF(OFFSET(H798,0,Author1Sections,1,Author2Sections),\"=0\")","v":8},1804,"foster",0,0,0,0,0,0,0.1,0.1,0,0,0,0,0,0,0,0,0,0,0,0,0,0,0,0,0,0,0,0,0,"gentlemen","blunting"]
[{"$f":"B799+C799","v":1.0952380952380953},{"$f":"D799/Author1Sections","v":9.5238095238095233E-2},{"$f":"E799/Author2Sections","v":1},{"$f":"COUNTIF(OFFSET(H799,0,0,1,Author1Sections),\">0\")","v":2},{"$f":"COUNTIF(OFFSET(H799,0,Author1Sections,1,Author2Sections),\"=0\")","v":8},1806,"foundation",0,0,0,0.1,0,0.1,0,0,0,0,0,0,0,0,0,0,0,0,0,0,0,0,0,0,0,0,0,0,0,"ghesse","blusterer"]
[{"$f":"B800+C800","v":1.0952380952380953},{"$f":"D800/Author1Sections","v":9.5238095238095233E-2},{"$f":"E800/Author2Sections","v":1},{"$f":"COUNTIF(OFFSET(H800,0,0,1,Author1Sections),\">0\")","v":2},{"$f":"COUNTIF(OFFSET(H800,0,Author1Sections,1,Author2Sections),\"=0\")","v":8},1808,"freed",0,0,0,0.1,7.4183979999999997E-2,0,0,0,0,0,0,0,0,0,0,0,0,0,0,0,0,0,0,0,0,0,0,0,0,"girt","board"]
[{"$f":"B801+C801","v":1.0952380952380953},{"$f":"D801/Author1Sections","v":9.5238095238095233E-2},{"$f":"E801/Author2Sections","v":1},{"$f":"COUNTIF(OFFSET(H801,0,0,1,Author1Sections),\">0\")","v":2},{"$f":"COUNTIF(OFFSET(H801,0,Author1Sections,1,Author2Sections),\"=0\")","v":8},1809,"freshly",0,0,0,0,0,0,0,0,0,0,0,0,0,0,0.1,0,0,0.1,0,0,0,0,0,0,0,0,0,0,0,"glorifie","bond"]
[{"$f":"B802+C802","v":1.0952380952380953},{"$f":"D802/Author1Sections","v":9.5238095238095233E-2},{"$f":"E802/Author2Sections","v":1},{"$f":"COUNTIF(OFFSET(H802,0,0,1,Author1Sections),\">0\")","v":2},{"$f":"COUNTIF(OFFSET(H802,0,Author1Sections,1,Author2Sections),\"=0\")","v":8},1811,"fruits",0,0,0,0,0,0,0,0,0,0,0.1,0,0,0,0,0,0,0,0.1,0,0,0,0,0,0,0,0,0,0,"gloue","bondage"]
[{"$f":"B803+C803","v":1.0952380952380953},{"$f":"D803/Author1Sections","v":9.5238095238095233E-2},{"$f":"E803/Author2Sections","v":1},{"$f":"COUNTIF(OFFSET(H803,0,0,1,Author1Sections),\">0\")","v":2},{"$f":"COUNTIF(OFFSET(H803,0,Author1Sections,1,Author2Sections),\"=0\")","v":8},1813,"gallant",0,0,0,0,0,0,0.1,0.1,0,0,0,0,0,0,0,0,0,0,0,0,0,0,0,0,0,0,0,0,0,"gras","bonded"]
[{"$f":"B804+C804","v":1.0952380952380953},{"$f":"D804/Author1Sections","v":9.5238095238095233E-2},{"$f":"E804/Author2Sections","v":1},{"$f":"COUNTIF(OFFSET(H804,0,0,1,Author1Sections),\">0\")","v":2},{"$f":"COUNTIF(OFFSET(H804,0,Author1Sections,1,Author2Sections),\"=0\")","v":8},1815,"garden",0,0,0,0,0,0.1,0,0,0,0,0,0,0,0,0,0,0,0,0.1,0,0,0,0,0,0,0,0,0,0,"greatnes","bone"]
[{"$f":"B805+C805","v":1.0952380952380953},{"$f":"D805/Author1Sections","v":9.5238095238095233E-2},{"$f":"E805/Author2Sections","v":1},{"$f":"COUNTIF(OFFSET(H805,0,0,1,Author1Sections),\">0\")","v":2},{"$f":"COUNTIF(OFFSET(H805,0,Author1Sections,1,Author2Sections),\"=0\")","v":8},1818,"garland",0.1,0,0,0,0,0,0,0,0,0,0,0,0,0.1,0,0,0,0,0,0,0,0,0,0,0,0,0,0,0,"greedie","bonnet"]
[{"$f":"B806+C806","v":1.0952380952380953},{"$f":"D806/Author1Sections","v":9.5238095238095233E-2},{"$f":"E806/Author2Sections","v":1},{"$f":"COUNTIF(OFFSET(H806,0,0,1,Author1Sections),\">0\")","v":2},{"$f":"COUNTIF(OFFSET(H806,0,Author1Sections,1,Author2Sections),\"=0\")","v":8},1819,"gates",0.1,0,0.1,0,0,0,0,0,0,0,0,0,0,0,0,0,0,0,0,0,0,0,0,0,0,0,0,0,0,"gripe","boots"]
[{"$f":"B807+C807","v":1.0952380952380953},{"$f":"D807/Author1Sections","v":9.5238095238095233E-2},{"$f":"E807/Author2Sections","v":1},{"$f":"COUNTIF(OFFSET(H807,0,0,1,Author1Sections),\">0\")","v":2},{"$f":"COUNTIF(OFFSET(H807,0,Author1Sections,1,Author2Sections),\"=0\")","v":8},1824,"gentlemen",0,0,0,0,0,0.1,0,0,0,0,0.1,0,0,0,0,0,0,0,0,0,0,0,0,0,0,0,0,0,0,"guided","born"]
[{"$f":"B808+C808","v":1.0952380952380953},{"$f":"D808/Author1Sections","v":9.5238095238095233E-2},{"$f":"E808/Author2Sections","v":1},{"$f":"COUNTIF(OFFSET(H808,0,0,1,Author1Sections),\">0\")","v":2},{"$f":"COUNTIF(OFFSET(H808,0,Author1Sections,1,Author2Sections),\"=0\")","v":8},1825,"ghesse",0,0,0,0,0,0,0,0,0,0,0,0,0,0.1,0,0,0,0.1,0,0,0,0,0,0,0,0,0,0,0,"guiltles","borrow'd"]
[{"$f":"B809+C809","v":1.0952380952380953},{"$f":"D809/Author1Sections","v":9.5238095238095233E-2},{"$f":"E809/Author2Sections","v":1},{"$f":"COUNTIF(OFFSET(H809,0,0,1,Author1Sections),\">0\")","v":2},{"$f":"COUNTIF(OFFSET(H809,0,Author1Sections,1,Author2Sections),\"=0\")","v":8},1828,"girt",0,0,0.1,0,0,0,0,0,0,0,0,0,0,0,0.1,0,0,0,0,0,0,0,0,0,0,0,0,0,0,"guise","bosom'd"]
[{"$f":"B810+C810","v":1.0952380952380953},{"$f":"D810/Author1Sections","v":9.5238095238095233E-2},{"$f":"E810/Author2Sections","v":1},{"$f":"COUNTIF(OFFSET(H810,0,0,1,Author1Sections),\">0\")","v":2},{"$f":"COUNTIF(OFFSET(H810,0,Author1Sections,1,Author2Sections),\"=0\")","v":8},1831,"glorifie",0,0,0.1,0,7.4183979999999997E-2,0,0,0,0,0,0,0,0,0,0,0,0,0,0,0,0,0,0,0,0,0,0,0,0,"halfe","bosoms"]
[{"$f":"B811+C811","v":1.0952380952380953},{"$f":"D811/Author1Sections","v":9.5238095238095233E-2},{"$f":"E811/Author2Sections","v":1},{"$f":"COUNTIF(OFFSET(H811,0,0,1,Author1Sections),\">0\")","v":2},{"$f":"COUNTIF(OFFSET(H811,0,Author1Sections,1,Author2Sections),\"=0\")","v":8},1833,"gloue",0,0,0,0,0,0,0,0,0,0,0.1,0,0,0,0,0.1,0,0,0,0,0,0,0,0,0,0,0,0,0,"harder","bottom"]
[{"$f":"B812+C812","v":1.0952380952380953},{"$f":"D812/Author1Sections","v":9.5238095238095233E-2},{"$f":"E812/Author2Sections","v":1},{"$f":"COUNTIF(OFFSET(H812,0,0,1,Author1Sections),\">0\")","v":2},{"$f":"COUNTIF(OFFSET(H812,0,Author1Sections,1,Author2Sections),\"=0\")","v":8},1835,"gras",0.1,0,0,0,7.4183979999999997E-2,0,0,0,0,0,0,0,0,0,0,0,0,0,0,0,0,0,0,0,0,0,0,0,0,"heares","bout"]
[{"$f":"B813+C813","v":1.0952380952380953},{"$f":"D813/Author1Sections","v":9.5238095238095233E-2},{"$f":"E813/Author2Sections","v":1},{"$f":"COUNTIF(OFFSET(H813,0,0,1,Author1Sections),\">0\")","v":2},{"$f":"COUNTIF(OFFSET(H813,0,Author1Sections,1,Author2Sections),\"=0\")","v":8},1836,"greatnes",0,0.1,0,0,7.4183979999999997E-2,0,0,0,0,0,0,0,0,0,0,0,0,0,0,0,0,0,0,0,0,0,0,0,0,"heauen","bow'd"]
[{"$f":"B814+C814","v":1.0952380952380953},{"$f":"D814/Author1Sections","v":9.5238095238095233E-2},{"$f":"E814/Author2Sections","v":1},{"$f":"COUNTIF(OFFSET(H814,0,0,1,Author1Sections),\">0\")","v":2},{"$f":"COUNTIF(OFFSET(H814,0,Author1Sections,1,Author2Sections),\"=0\")","v":8},1837,"greedie",0.1,0,0,0,7.4183979999999997E-2,0,0,0,0,0,0,0,0,0,0,0,0,0,0,0,0,0,0,0,0,0,0,0,0,"heauenly","bow'r"]
[{"$f":"B815+C815","v":1.0952380952380953},{"$f":"D815/Author1Sections","v":9.5238095238095233E-2},{"$f":"E815/Author2Sections","v":1},{"$f":"COUNTIF(OFFSET(H815,0,0,1,Author1Sections),\">0\")","v":2},{"$f":"COUNTIF(OFFSET(H815,0,Author1Sections,1,Author2Sections),\"=0\")","v":8},1840,"gripe",0,0,0,0,0,0,0,0,0,0,0.1,0,0,0,0,0,0,0,0.1,0,0,0,0,0,0,0,0,0,0,"heere","bow'rs"]
[{"$f":"B816+C816","v":1.0952380952380953},{"$f":"D816/Author1Sections","v":9.5238095238095233E-2},{"$f":"E816/Author2Sections","v":1},{"$f":"COUNTIF(OFFSET(H816,0,0,1,Author1Sections),\">0\")","v":2},{"$f":"COUNTIF(OFFSET(H816,0,Author1Sections,1,Author2Sections),\"=0\")","v":8},1845,"guided",0,0,0,0,0,0,0,0,0,0,0,0,0,0.1,0,0.1,0,0,0,0,0,0,0,0,0,0,0,0,0,"heire","bower"]
[{"$f":"B817+C817","v":1.0952380952380953},{"$f":"D817/Author1Sections","v":9.5238095238095233E-2},{"$f":"E817/Author2Sections","v":1},{"$f":"COUNTIF(OFFSET(H817,0,0,1,Author1Sections),\">0\")","v":2},{"$f":"COUNTIF(OFFSET(H817,0,Author1Sections,1,Author2Sections),\"=0\")","v":8},1846,"guiltles",0,0.1,0.1,0,0,0,0,0,0,0,0,0,0,0,0,0,0,0,0,0,0,0,0,0,0,0,0,0,0,"hellish","bowers"]
[{"$f":"B818+C818","v":1.0952380952380953},{"$f":"D818/Author1Sections","v":9.5238095238095233E-2},{"$f":"E818/Author2Sections","v":1},{"$f":"COUNTIF(OFFSET(H818,0,0,1,Author1Sections),\">0\")","v":2},{"$f":"COUNTIF(OFFSET(H818,0,Author1Sections,1,Author2Sections),\"=0\")","v":8},1847,"guise",0,0,0,0,0,0,0,0,0,0,0,0.1,0,0,0,0,0,0,0,0,7.0372980000000002E-2,0,0,0,0,0,0,0,0,"help","bowl"]
[{"$f":"B819+C819","v":1.0952380952380953},{"$f":"D819/Author1Sections","v":9.5238095238095233E-2},{"$f":"E819/Author2Sections","v":1},{"$f":"COUNTIF(OFFSET(H819,0,0,1,Author1Sections),\">0\")","v":2},{"$f":"COUNTIF(OFFSET(H819,0,Author1Sections,1,Author2Sections),\"=0\")","v":8},1849,"halfe",0,0.1,0,0.1,0,0,0,0,0,0,0,0,0,0,0,0,0,0,0,0,0,0,0,0,0,0,0,0,0,"hercules","bragg'd"]
[{"$f":"B820+C820","v":1.0952380952380953},{"$f":"D820/Author1Sections","v":9.5238095238095233E-2},{"$f":"E820/Author2Sections","v":1},{"$f":"COUNTIF(OFFSET(H820,0,0,1,Author1Sections),\">0\")","v":2},{"$f":"COUNTIF(OFFSET(H820,0,Author1Sections,1,Author2Sections),\"=0\")","v":8},1855,"harder",0,0,0,0,0,0,0,0,0,0,0,0.1,0.1,0,0,0,0,0,0,0,0,0,0,0,0,0,0,0,0,"hers","braided"]
[{"$f":"B821+C821","v":1.0952380952380953},{"$f":"D821/Author1Sections","v":9.5238095238095233E-2},{"$f":"E821/Author2Sections","v":1},{"$f":"COUNTIF(OFFSET(H821,0,0,1,Author1Sections),\">0\")","v":2},{"$f":"COUNTIF(OFFSET(H821,0,Author1Sections,1,Author2Sections),\"=0\")","v":8},1862,"heares",0.1,0,0,0,0,0,0,0,0,0,0,0,0,0.1,0,0,0,0,0,0,0,0,0,0,0,0,0,0,0,"honest","brain'd"]
[{"$f":"B822+C822","v":1.0952380952380953},{"$f":"D822/Author1Sections","v":9.5238095238095233E-2},{"$f":"E822/Author2Sections","v":1},{"$f":"COUNTIF(OFFSET(H822,0,0,1,Author1Sections),\">0\")","v":2},{"$f":"COUNTIF(OFFSET(H822,0,Author1Sections,1,Author2Sections),\"=0\")","v":8},1865,"heauen",0,0,0,0,0,0,0,0,0,0,0.1,0,0,0,0,0,0,0,0,0,7.0372980000000002E-2,0,0,0,0,0,0,0,0,"honor","brand"]
[{"$f":"B823+C823","v":1.0952380952380953},{"$f":"D823/Author1Sections","v":9.5238095238095233E-2},{"$f":"E823/Author2Sections","v":1},{"$f":"COUNTIF(OFFSET(H823,0,0,1,Author1Sections),\">0\")","v":2},{"$f":"COUNTIF(OFFSET(H823,0,Author1Sections,1,Author2Sections),\"=0\")","v":8},1866,"heauenly",0,0,0,0,0,0,0,0,0,0.1,0,0,0,0,0,0,0,0,0,0,7.0372980000000002E-2,0,0,0,0,0,0,0,0,"honord","brass"]
[{"$f":"B824+C824","v":1.0952380952380953},{"$f":"D824/Author1Sections","v":9.5238095238095233E-2},{"$f":"E824/Author2Sections","v":1},{"$f":"COUNTIF(OFFSET(H824,0,0,1,Author1Sections),\">0\")","v":2},{"$f":"COUNTIF(OFFSET(H824,0,Author1Sections,1,Author2Sections),\"=0\")","v":8},1870,"heere",0,0,0,0,0,0,0,0,0,0,0,0,0,0,0,0,0,0,0.1,0,7.0372980000000002E-2,0,0,0,0,0,0,0,0,"horrors","briar"]
[{"$f":"B825+C825","v":1.0952380952380953},{"$f":"D825/Author1Sections","v":9.5238095238095233E-2},{"$f":"E825/Author2Sections","v":1},{"$f":"COUNTIF(OFFSET(H825,0,0,1,Author1Sections),\">0\")","v":2},{"$f":"COUNTIF(OFFSET(H825,0,Author1Sections,1,Author2Sections),\"=0\")","v":8},1872,"heire",0,0,0,0,0,0,0,0,0,0,0,0,0,0,0.1,0,0.1,0,0,0,0,0,0,0,0,0,0,0,0,"host","brinish"]
[{"$f":"B826+C826","v":1.0952380952380953},{"$f":"D826/Author1Sections","v":9.5238095238095233E-2},{"$f":"E826/Author2Sections","v":1},{"$f":"COUNTIF(OFFSET(H826,0,0,1,Author1Sections),\">0\")","v":2},{"$f":"COUNTIF(OFFSET(H826,0,Author1Sections,1,Author2Sections),\"=0\")","v":8},1873,"hellish",0,0,0,0,0,0,0,0,0,0.1,0,0,0,0,0,0,0,0.1,0,0,0,0,0,0,0,0,0,0,0,"hurt","bristly"]
[{"$f":"B827+C827","v":1.0952380952380953},{"$f":"D827/Author1Sections","v":9.5238095238095233E-2},{"$f":"E827/Author2Sections","v":1},{"$f":"COUNTIF(OFFSET(H827,0,0,1,Author1Sections),\">0\")","v":2},{"$f":"COUNTIF(OFFSET(H827,0,Author1Sections,1,Author2Sections),\"=0\")","v":8},1874,"help",0,0,0,0,0,0,0,0,0,0,0,0,0,0.1,0,0.1,0,0,0,0,0,0,0,0,0,0,0,0,0,"hurts","brokers"]
[{"$f":"B828+C828","v":1.0952380952380953},{"$f":"D828/Author1Sections","v":9.5238095238095233E-2},{"$f":"E828/Author2Sections","v":1},{"$f":"COUNTIF(OFFSET(H828,0,0,1,Author1Sections),\">0\")","v":2},{"$f":"COUNTIF(OFFSET(H828,0,Author1Sections,1,Author2Sections),\"=0\")","v":8},1877,"hercules",0,0,0,0,0,0,0,0,0.1,0,0,0,0,0,0.1,0,0,0,0,0,0,0,0,0,0,0,0,0,0,"impe","brooding"]
[{"$f":"B829+C829","v":1.0952380952380953},{"$f":"D829/Author1Sections","v":9.5238095238095233E-2},{"$f":"E829/Author2Sections","v":1},{"$f":"COUNTIF(OFFSET(H829,0,0,1,Author1Sections),\">0\")","v":2},{"$f":"COUNTIF(OFFSET(H829,0,Author1Sections,1,Author2Sections),\"=0\")","v":8},1879,"hers",0,0,0,0,0,0,0,0,0,0,0,0,0,0,0,0.1,0,0,0.1,0,0,0,0,0,0,0,0,0,0,"indeede","brook"]
[{"$f":"B830+C830","v":1.0952380952380953},{"$f":"D830/Author1Sections","v":9.5238095238095233E-2},{"$f":"E830/Author2Sections","v":1},{"$f":"COUNTIF(OFFSET(H830,0,0,1,Author1Sections),\">0\")","v":2},{"$f":"COUNTIF(OFFSET(H830,0,Author1Sections,1,Author2Sections),\"=0\")","v":8},1884,"honest",0,0,0,0,0,0.1,0,0.1,0,0,0,0,0,0,0,0,0,0,0,0,0,0,0,0,0,0,0,0,0,"inuite","brow'd"]
[{"$f":"B831+C831","v":1.0952380952380953},{"$f":"D831/Author1Sections","v":9.5238095238095233E-2},{"$f":"E831/Author2Sections","v":1},{"$f":"COUNTIF(OFFSET(H831,0,0,1,Author1Sections),\">0\")","v":2},{"$f":"COUNTIF(OFFSET(H831,0,Author1Sections,1,Author2Sections),\"=0\")","v":8},1885,"honor",0,0,0,0,7.4183979999999997E-2,0,0,0,0,0,0,0,0,0,0,0,0,0,0,0,7.0372980000000002E-2,0,0,0,0,0,0,0,0,"itself","browny"]
[{"$f":"B832+C832","v":1.0952380952380953},{"$f":"D832/Author1Sections","v":9.5238095238095233E-2},{"$f":"E832/Author2Sections","v":1},{"$f":"COUNTIF(OFFSET(H832,0,0,1,Author1Sections),\">0\")","v":2},{"$f":"COUNTIF(OFFSET(H832,0,Author1Sections,1,Author2Sections),\"=0\")","v":8},1886,"honord",0.1,0,0,0,0,0,0,0,0,0,0,0,0,0,0,0,0,0,0.1,0,0,0,0,0,0,0,0,0,0,"iudges","builded"]
[{"$f":"B833+C833","v":1.0952380952380953},{"$f":"D833/Author1Sections","v":9.5238095238095233E-2},{"$f":"E833/Author2Sections","v":1},{"$f":"COUNTIF(OFFSET(H833,0,0,1,Author1Sections),\">0\")","v":2},{"$f":"COUNTIF(OFFSET(H833,0,Author1Sections,1,Author2Sections),\"=0\")","v":8},1890,"horrors",0,0,0,0,0,0,0,0,0,0,0,0,0,0,0,0,0,0,0,0.1,7.0372980000000002E-2,0,0,0,0,0,0,0,0,"iudging","bulwarks"]
[{"$f":"B834+C834","v":1.0952380952380953},{"$f":"D834/Author1Sections","v":9.5238095238095233E-2},{"$f":"E834/Author2Sections","v":1},{"$f":"COUNTIF(OFFSET(H834,0,0,1,Author1Sections),\">0\")","v":2},{"$f":"COUNTIF(OFFSET(H834,0,Author1Sections,1,Author2Sections),\"=0\")","v":8},1891,"host",0,0,0,0,0,0,0,0,0,0,0,0,0.1,0.1,0,0,0,0,0,0,0,0,0,0,0,0,0,0,0,"iustice","buriest"]
[{"$f":"B835+C835","v":1.0952380952380953},{"$f":"D835/Author1Sections","v":9.5238095238095233E-2},{"$f":"E835/Author2Sections","v":1},{"$f":"COUNTIF(OFFSET(H835,0,0,1,Author1Sections),\">0\")","v":2},{"$f":"COUNTIF(OFFSET(H835,0,Author1Sections,1,Author2Sections),\"=0\")","v":8},1898,"hurt",0,0,0,0,0,0,0,0,0,0,0.1,0,0,0,0,0,0,0.1,0,0,0,0,0,0,0,0,0,0,0,"keepes","burst"]
[{"$f":"B836+C836","v":1.0952380952380953},{"$f":"D836/Author1Sections","v":9.5238095238095233E-2},{"$f":"E836/Author2Sections","v":1},{"$f":"COUNTIF(OFFSET(H836,0,0,1,Author1Sections),\">0\")","v":2},{"$f":"COUNTIF(OFFSET(H836,0,Author1Sections,1,Author2Sections),\"=0\")","v":8},1899,"hurts",0,0,0,0,0,0.1,0,0,0,0,0,0,0,0,0,0,0,0,0,0.1,0,0,0,0,0,0,0,0,0,"kingdomes","buskin'd"]
[{"$f":"B837+C837","v":1.0952380952380953},{"$f":"D837/Author1Sections","v":9.5238095238095233E-2},{"$f":"E837/Author2Sections","v":1},{"$f":"COUNTIF(OFFSET(H837,0,0,1,Author1Sections),\">0\")","v":2},{"$f":"COUNTIF(OFFSET(H837,0,Author1Sections,1,Author2Sections),\"=0\")","v":8},1904,"impe",0,0,0.1,0,0,0,0,0,0,0,0,0,0,0,0,0,0,0.1,0,0,0,0,0,0,0,0,0,0,0,"lacke","buxom"]
[{"$f":"B838+C838","v":1.0952380952380953},{"$f":"D838/Author1Sections","v":9.5238095238095233E-2},{"$f":"E838/Author2Sections","v":1},{"$f":"COUNTIF(OFFSET(H838,0,0,1,Author1Sections),\">0\")","v":2},{"$f":"COUNTIF(OFFSET(H838,0,Author1Sections,1,Author2Sections),\"=0\")","v":8},1905,"indeede",0,0,0,0,0,0,0,0.1,0,0,0,0,0,0,0,0,0,0,0,0.1,0,0,0,0,0,0,0,0,0,"lalus","caged"]
[{"$f":"B839+C839","v":1.0952380952380953},{"$f":"D839/Author1Sections","v":9.5238095238095233E-2},{"$f":"E839/Author2Sections","v":1},{"$f":"COUNTIF(OFFSET(H839,0,0,1,Author1Sections),\">0\")","v":2},{"$f":"COUNTIF(OFFSET(H839,0,Author1Sections,1,Author2Sections),\"=0\")","v":8},1908,"inuite",0,0,0,0,0,0,0,0,0,0,0,0.1,0,0,0,0,0,0,0,0.1,0,0,0,0,0,0,0,0,0,"lambe","call'd"]
[{"$f":"B840+C840","v":1.0952380952380953},{"$f":"D840/Author1Sections","v":9.5238095238095233E-2},{"$f":"E840/Author2Sections","v":1},{"$f":"COUNTIF(OFFSET(H840,0,0,1,Author1Sections),\">0\")","v":2},{"$f":"COUNTIF(OFFSET(H840,0,Author1Sections,1,Author2Sections),\"=0\")","v":8},1911,"itself",0,0,0,0,0,0,0,0,0,0,0,0,0.1,0,0,0,0,0,0,0,7.0372980000000002E-2,0,0,0,0,0,0,0,0,"languisht","camball"]
[{"$f":"B841+C841","v":1.0952380952380953},{"$f":"D841/Author1Sections","v":9.5238095238095233E-2},{"$f":"E841/Author2Sections","v":1},{"$f":"COUNTIF(OFFSET(H841,0,0,1,Author1Sections),\">0\")","v":2},{"$f":"COUNTIF(OFFSET(H841,0,Author1Sections,1,Author2Sections),\"=0\")","v":8},1912,"iudges",0,0,0,0,0,0,0,0,0,0,0,0.1,0,0,0,0,0,0.1,0,0,0,0,0,0,0,0,0,0,0,"lasting","cambuscan"]
[{"$f":"B842+C842","v":1.0952380952380953},{"$f":"D842/Author1Sections","v":9.5238095238095233E-2},{"$f":"E842/Author2Sections","v":1},{"$f":"COUNTIF(OFFSET(H842,0,0,1,Author1Sections),\">0\")","v":2},{"$f":"COUNTIF(OFFSET(H842,0,Author1Sections,1,Author2Sections),\"=0\")","v":8},1913,"iudging",0,0,0,0,0,0,0,0,0.1,0,0.1,0,0,0,0,0,0,0,0,0,0,0,0,0,0,0,0,0,0,"laud","camus"]
[{"$f":"B843+C843","v":1.0952380952380953},{"$f":"D843/Author1Sections","v":9.5238095238095233E-2},{"$f":"E843/Author2Sections","v":1},{"$f":"COUNTIF(OFFSET(H843,0,0,1,Author1Sections),\">0\")","v":2},{"$f":"COUNTIF(OFFSET(H843,0,Author1Sections,1,Author2Sections),\"=0\")","v":8},1914,"iustice",0,0,0,0,0,0.1,0,0,0,0,0,0,0,0,0,0,0,0,0.1,0,0,0,0,0,0,0,0,0,0,"learning","canace"]
[{"$f":"B844+C844","v":1.0952380952380953},{"$f":"D844/Author1Sections","v":9.5238095238095233E-2},{"$f":"E844/Author2Sections","v":1},{"$f":"COUNTIF(OFFSET(H844,0,0,1,Author1Sections),\">0\")","v":2},{"$f":"COUNTIF(OFFSET(H844,0,Author1Sections,1,Author2Sections),\"=0\")","v":8},1920,"keepes",0,0,0,0,0,0,0,0,0,0,0,0,0,0,0,0,0,0,0.1,0,7.0372980000000002E-2,0,0,0,0,0,0,0,0,"leaues","canary"]
[{"$f":"B845+C845","v":1.0952380952380953},{"$f":"D845/Author1Sections","v":9.5238095238095233E-2},{"$f":"E845/Author2Sections","v":1},{"$f":"COUNTIF(OFFSET(H845,0,0,1,Author1Sections),\">0\")","v":2},{"$f":"COUNTIF(OFFSET(H845,0,Author1Sections,1,Author2Sections),\"=0\")","v":8},1923,"kingdomes",0.1,0,0,0,0,0,0,0,0,0,0,0,0,0,0,0,0,0.1,0,0,0,0,0,0,0,0,0,0,0,"libertie","canker"]
[{"$f":"B846+C846","v":1.0952380952380953},{"$f":"D846/Author1Sections","v":9.5238095238095233E-2},{"$f":"E846/Author2Sections","v":1},{"$f":"COUNTIF(OFFSET(H846,0,0,1,Author1Sections),\">0\")","v":2},{"$f":"COUNTIF(OFFSET(H846,0,Author1Sections,1,Author2Sections),\"=0\")","v":8},1928,"lacke",0,0,0,0,7.4183979999999997E-2,0,0,0,0,0,0,0,0,0,0,0,0,0,0,0,7.0372980000000002E-2,0,0,0,0,0,0,0,0,"lik'st","canopy"]
[{"$f":"B847+C847","v":1.0952380952380953},{"$f":"D847/Author1Sections","v":9.5238095238095233E-2},{"$f":"E847/Author2Sections","v":1},{"$f":"COUNTIF(OFFSET(H847,0,0,1,Author1Sections),\">0\")","v":2},{"$f":"COUNTIF(OFFSET(H847,0,Author1Sections,1,Author2Sections),\"=0\")","v":8},1929,"lalus",0,0,0,0,0,0.1,0.1,0,0,0,0,0,0,0,0,0,0,0,0,0,0,0,0,0,0,0,0,0,0,"lillies","capers"]
[{"$f":"B848+C848","v":1.0952380952380953},{"$f":"D848/Author1Sections","v":9.5238095238095233E-2},{"$f":"E848/Author2Sections","v":1},{"$f":"COUNTIF(OFFSET(H848,0,0,1,Author1Sections),\">0\")","v":2},{"$f":"COUNTIF(OFFSET(H848,0,Author1Sections,1,Author2Sections),\"=0\")","v":8},1930,"lambe",0,0,0,0,0,0.1,0,0.1,0,0,0,0,0,0,0,0,0,0,0,0,0,0,0,0,0,0,0,0,0,"lin'd","carcass"]
[{"$f":"B849+C849","v":1.0952380952380953},{"$f":"D849/Author1Sections","v":9.5238095238095233E-2},{"$f":"E849/Author2Sections","v":1},{"$f":"COUNTIF(OFFSET(H849,0,0,1,Author1Sections),\">0\")","v":2},{"$f":"COUNTIF(OFFSET(H849,0,Author1Sections,1,Author2Sections),\"=0\")","v":8},1933,"languisht",0,0,0,0,0,0,0,0,0,0,0,0,0,0.1,0,0,0,0,0,0.1,0,0,0,0,0,0,0,0,0,"lip","career"]
[{"$f":"B850+C850","v":1.0952380952380953},{"$f":"D850/Author1Sections","v":9.5238095238095233E-2},{"$f":"E850/Author2Sections","v":1},{"$f":"COUNTIF(OFFSET(H850,0,0,1,Author1Sections),\">0\")","v":2},{"$f":"COUNTIF(OFFSET(H850,0,Author1Sections,1,Author2Sections),\"=0\")","v":8},1935,"lasting",0.1,0,0,0,7.4183979999999997E-2,0,0,0,0,0,0,0,0,0,0,0,0,0,0,0,0,0,0,0,0,0,0,0,0,"liuelier","carriage"]
[{"$f":"B851+C851","v":1.0952380952380953},{"$f":"D851/Author1Sections","v":9.5238095238095233E-2},{"$f":"E851/Author2Sections","v":1},{"$f":"COUNTIF(OFFSET(H851,0,0,1,Author1Sections),\">0\")","v":2},{"$f":"COUNTIF(OFFSET(H851,0,Author1Sections,1,Author2Sections),\"=0\")","v":8},1937,"laud",0,0,0,0,0,0.1,0,0,0,0,0,0,0,0,0,0,0,0,0,0.1,0,0,0,0,0,0,0,0,0,"liuerie","carved"]
[{"$f":"B852+C852","v":1.0952380952380953},{"$f":"D852/Author1Sections","v":9.5238095238095233E-2},{"$f":"E852/Author2Sections","v":1},{"$f":"COUNTIF(OFFSET(H852,0,0,1,Author1Sections),\">0\")","v":2},{"$f":"COUNTIF(OFFSET(H852,0,Author1Sections,1,Author2Sections),\"=0\")","v":8},1940,"learning",0,0,0.1,0.1,0,0,0,0,0,0,0,0,0,0,0,0,0,0,0,0,0,0,0,0,0,0,0,0,0,"looked","casting"]
[{"$f":"B853+C853","v":1.0952380952380953},{"$f":"D853/Author1Sections","v":9.5238095238095233E-2},{"$f":"E853/Author2Sections","v":1},{"$f":"COUNTIF(OFFSET(H853,0,0,1,Author1Sections),\">0\")","v":2},{"$f":"COUNTIF(OFFSET(H853,0,Author1Sections,1,Author2Sections),\"=0\")","v":8},1941,"leaues",0,0,0,0,0,0,0,0,0.1,0.1,0,0,0,0,0,0,0,0,0,0,0,0,0,0,0,0,0,0,0,"loved","catching"]
[{"$f":"B854+C854","v":1.0952380952380953},{"$f":"D854/Author1Sections","v":9.5238095238095233E-2},{"$f":"E854/Author2Sections","v":1},{"$f":"COUNTIF(OFFSET(H854,0,0,1,Author1Sections),\">0\")","v":2},{"$f":"COUNTIF(OFFSET(H854,0,Author1Sections,1,Author2Sections),\"=0\")","v":8},1945,"libertie",0,0,0,0,0,0,0,0,0.1,0,0,0,0,0,0.1,0,0,0,0,0,0,0,0,0,0,0,0,0,0,"lowe","cattle"]
[{"$f":"B855+C855","v":1.0952380952380953},{"$f":"D855/Author1Sections","v":9.5238095238095233E-2},{"$f":"E855/Author2Sections","v":1},{"$f":"COUNTIF(OFFSET(H855,0,0,1,Author1Sections),\">0\")","v":2},{"$f":"COUNTIF(OFFSET(H855,0,Author1Sections,1,Author2Sections),\"=0\")","v":8},1949,"lik'st",0,0,0,0,0,0,0,0,0,0.1,0,0,0,0,0,0,0,0,0,0.1,0,0,0,0,0,0,0,0,0,"lowest","cautels"]
[{"$f":"B856+C856","v":1.0952380952380953},{"$f":"D856/Author1Sections","v":9.5238095238095233E-2},{"$f":"E856/Author2Sections","v":1},{"$f":"COUNTIF(OFFSET(H856,0,0,1,Author1Sections),\">0\")","v":2},{"$f":"COUNTIF(OFFSET(H856,0,Author1Sections,1,Author2Sections),\"=0\")","v":8},1952,"lillies",0,0,0,0,0,0,0,0,0,0,0,0,0,0,0,0,0,0,0.1,0,7.0372980000000002E-2,0,0,0,0,0,0,0,0,"lye","caves"]
[{"$f":"B857+C857","v":1.0952380952380953},{"$f":"D857/Author1Sections","v":9.5238095238095233E-2},{"$f":"E857/Author2Sections","v":1},{"$f":"COUNTIF(OFFSET(H857,0,0,1,Author1Sections),\">0\")","v":2},{"$f":"COUNTIF(OFFSET(H857,0,Author1Sections,1,Author2Sections),\"=0\")","v":8},1953,"lin'd",0,0,0,0,0,0,0,0,0,0,0,0,0,0,0,0.1,0,0.1,0,0,0,0,0,0,0,0,0,0,0,"maias","cerberus"]
[{"$f":"B858+C858","v":1.0952380952380953},{"$f":"D858/Author1Sections","v":9.5238095238095233E-2},{"$f":"E858/Author2Sections","v":1},{"$f":"COUNTIF(OFFSET(H858,0,0,1,Author1Sections),\">0\")","v":2},{"$f":"COUNTIF(OFFSET(H858,0,Author1Sections,1,Author2Sections),\"=0\")","v":8},1954,"lip",0,0,0,0,0,0,0,0,0,0,0,0,0,0.1,0,0,0,0,0.1,0,0,0,0,0,0,0,0,0,0,"maiesty","ceston"]
[{"$f":"B859+C859","v":1.0952380952380953},{"$f":"D859/Author1Sections","v":9.5238095238095233E-2},{"$f":"E859/Author2Sections","v":1},{"$f":"COUNTIF(OFFSET(H859,0,0,1,Author1Sections),\">0\")","v":2},{"$f":"COUNTIF(OFFSET(H859,0,Author1Sections,1,Author2Sections),\"=0\")","v":8},1956,"liuelier",0,0,0,0,0,0,0.1,0,0,0,0,0,0,0.1,0,0,0,0,0,0,0,0,0,0,0,0,0,0,0,"maintaine","chains"]
[{"$f":"B860+C860","v":1.0952380952380953},{"$f":"D860/Author1Sections","v":9.5238095238095233E-2},{"$f":"E860/Author2Sections","v":1},{"$f":"COUNTIF(OFFSET(H860,0,0,1,Author1Sections),\">0\")","v":2},{"$f":"COUNTIF(OFFSET(H860,0,Author1Sections,1,Author2Sections),\"=0\")","v":8},1957,"liuerie",0,0,0,0,0,0,0,0,0,0,0,0,0,0,0,0,0.1,0,0,0.1,0,0,0,0,0,0,0,0,0,"manner","channel"]
[{"$f":"B861+C861","v":1.0952380952380953},{"$f":"D861/Author1Sections","v":9.5238095238095233E-2},{"$f":"E861/Author2Sections","v":1},{"$f":"COUNTIF(OFFSET(H861,0,0,1,Author1Sections),\">0\")","v":2},{"$f":"COUNTIF(OFFSET(H861,0,Author1Sections,1,Author2Sections),\"=0\")","v":8},1965,"looked",0,0,0,0.1,7.4183979999999997E-2,0,0,0,0,0,0,0,0,0,0,0,0,0,0,0,0,0,0,0,0,0,0,0,0,"manners","charged"]
[{"$f":"B862+C862","v":1.0952380952380953},{"$f":"D862/Author1Sections","v":9.5238095238095233E-2},{"$f":"E862/Author2Sections","v":1},{"$f":"COUNTIF(OFFSET(H862,0,0,1,Author1Sections),\">0\")","v":2},{"$f":"COUNTIF(OFFSET(H862,0,Author1Sections,1,Author2Sections),\"=0\")","v":8},1967,"loved",0,0.1,0.1,0,0,0,0,0,0,0,0,0,0,0,0,0,0,0,0,0,0,0,0,0,0,0,0,0,0,"markes","charity"]
[{"$f":"B863+C863","v":1.0952380952380953},{"$f":"D863/Author1Sections","v":9.5238095238095233E-2},{"$f":"E863/Author2Sections","v":1},{"$f":"COUNTIF(OFFSET(H863,0,0,1,Author1Sections),\">0\")","v":2},{"$f":"COUNTIF(OFFSET(H863,0,Author1Sections,1,Author2Sections),\"=0\")","v":8},1970,"lowe",0,0.1,0,0,0,0,0,0,0,0,0,0,0,0,0,0.1,0,0,0,0,0,0,0,0,0,0,0,0,0,"marses","charm'd"]
[{"$f":"B864+C864","v":1.0952380952380953},{"$f":"D864/Author1Sections","v":9.5238095238095233E-2},{"$f":"E864/Author2Sections","v":1},{"$f":"COUNTIF(OFFSET(H864,0,0,1,Author1Sections),\">0\")","v":2},{"$f":"COUNTIF(OFFSET(H864,0,Author1Sections,1,Author2Sections),\"=0\")","v":8},1971,"lowest",0.1,0,0,0.1,0,0,0,0,0,0,0,0,0,0,0,0,0,0,0,0,0,0,0,0,0,0,0,0,0,"matchable","charmed"]
[{"$f":"B865+C865","v":1.0952380952380953},{"$f":"D865/Author1Sections","v":9.5238095238095233E-2},{"$f":"E865/Author2Sections","v":1},{"$f":"COUNTIF(OFFSET(H865,0,0,1,Author1Sections),\">0\")","v":2},{"$f":"COUNTIF(OFFSET(H865,0,Author1Sections,1,Author2Sections),\"=0\")","v":8},1974,"lye",0.1,0,0,0,0,0,0,0,0,0,0,0,0,0,0,0,0,0.1,0,0,0,0,0,0,0,0,0,0,0,"mate","chatt'ring"]
[{"$f":"B866+C866","v":1.0952380952380953},{"$f":"D866/Author1Sections","v":9.5238095238095233E-2},{"$f":"E866/Author2Sections","v":1},{"$f":"COUNTIF(OFFSET(H866,0,0,1,Author1Sections),\">0\")","v":2},{"$f":"COUNTIF(OFFSET(H866,0,Author1Sections,1,Author2Sections),\"=0\")","v":8},1976,"maias",0,0,0,0,0,0.1,0,0.1,0,0,0,0,0,0,0,0,0,0,0,0,0,0,0,0,0,0,0,0,0,"maugre","chauntress"]
[{"$f":"B867+C867","v":1.0952380952380953},{"$f":"D867/Author1Sections","v":9.5238095238095233E-2},{"$f":"E867/Author2Sections","v":1},{"$f":"COUNTIF(OFFSET(H867,0,0,1,Author1Sections),\">0\")","v":2},{"$f":"COUNTIF(OFFSET(H867,0,Author1Sections,1,Author2Sections),\"=0\")","v":8},1977,"maiesty",0,0,0,0,0,0,0,0,0.1,0,0,0,0,0,0.1,0,0,0,0,0,0,0,0,0,0,0,0,0,0,"melodie","checks"]
[{"$f":"B868+C868","v":1.0952380952380953},{"$f":"D868/Author1Sections","v":9.5238095238095233E-2},{"$f":"E868/Author2Sections","v":1},{"$f":"COUNTIF(OFFSET(H868,0,0,1,Author1Sections),\">0\")","v":2},{"$f":"COUNTIF(OFFSET(H868,0,Author1Sections,1,Author2Sections),\"=0\")","v":8},1978,"maintaine",0,0.1,0,0,0,0,0,0,0,0,0,0,0,0,0,0,0.1,0,0,0,0,0,0,0,0,0,0,0,0,"mens","cheerly"]
[{"$f":"B869+C869","v":1.0952380952380953},{"$f":"D869/Author1Sections","v":9.5238095238095233E-2},{"$f":"E869/Author2Sections","v":1},{"$f":"COUNTIF(OFFSET(H869,0,0,1,Author1Sections),\">0\")","v":2},{"$f":"COUNTIF(OFFSET(H869,0,Author1Sections,1,Author2Sections),\"=0\")","v":8},1980,"manner",0,0,0,0,0,0,0.1,0,0,0,0,0,0,0,0.1,0,0,0,0,0,0,0,0,0,0,0,0,0,0,"merits","cheque'd"]
[{"$f":"B870+C870","v":1.0952380952380953},{"$f":"D870/Author1Sections","v":9.5238095238095233E-2},{"$f":"E870/Author2Sections","v":1},{"$f":"COUNTIF(OFFSET(H870,0,0,1,Author1Sections),\">0\")","v":2},{"$f":"COUNTIF(OFFSET(H870,0,Author1Sections,1,Author2Sections),\"=0\")","v":8},1981,"manners",0,0,0,0,0,0,0,0,0,0,0.1,0,0.1,0,0,0,0,0,0,0,0,0,0,0,0,0,0,0,0,"mery","chequer'd"]
[{"$f":"B871+C871","v":1.0952380952380953},{"$f":"D871/Author1Sections","v":9.5238095238095233E-2},{"$f":"E871/Author2Sections","v":1},{"$f":"COUNTIF(OFFSET(H871,0,0,1,Author1Sections),\">0\")","v":2},{"$f":"COUNTIF(OFFSET(H871,0,Author1Sections,1,Author2Sections),\"=0\")","v":8},1986,"markes",0,0,0,0,0,0,0,0,0,0,0,0,0,0,0.1,0,0,0,0,0,7.0372980000000002E-2,0,0,0,0,0,0,0,0,"mettall","cherub"]
[{"$f":"B872+C872","v":1.0952380952380953},{"$f":"D872/Author1Sections","v":9.5238095238095233E-2},{"$f":"E872/Author2Sections","v":1},{"$f":"COUNTIF(OFFSET(H872,0,0,1,Author1Sections),\">0\")","v":2},{"$f":"COUNTIF(OFFSET(H872,0,Author1Sections,1,Author2Sections),\"=0\")","v":8},1988,"marses",0,0,0,0,0,0,0,0,0,0,0.1,0,0,0,0.1,0,0,0,0,0,0,0,0,0,0,0,0,0,0,"mishaps","cherubin"]
[{"$f":"B873+C873","v":1.0952380952380953},{"$f":"D873/Author1Sections","v":9.5238095238095233E-2},{"$f":"E873/Author2Sections","v":1},{"$f":"COUNTIF(OFFSET(H873,0,0,1,Author1Sections),\">0\")","v":2},{"$f":"COUNTIF(OFFSET(H873,0,Author1Sections,1,Author2Sections),\"=0\")","v":8},1991,"matchable",0.1,0,0,0,7.4183979999999997E-2,0,0,0,0,0,0,0,0,0,0,0,0,0,0,0,0,0,0,0,0,0,0,0,0,"morne","chiefest"]
[{"$f":"B874+C874","v":1.0952380952380953},{"$f":"D874/Author1Sections","v":9.5238095238095233E-2},{"$f":"E874/Author2Sections","v":1},{"$f":"COUNTIF(OFFSET(H874,0,0,1,Author1Sections),\">0\")","v":2},{"$f":"COUNTIF(OFFSET(H874,0,Author1Sections,1,Author2Sections),\"=0\")","v":8},1992,"mate",0,0,0,0,0,0,0,0,0,0,0,0,0,0,0,0.1,0,0,0,0.1,0,0,0,0,0,0,0,0,0,"mothers","children's"]
[{"$f":"B875+C875","v":1.0952380952380953},{"$f":"D875/Author1Sections","v":9.5238095238095233E-2},{"$f":"E875/Author2Sections","v":1},{"$f":"COUNTIF(OFFSET(H875,0,0,1,Author1Sections),\">0\")","v":2},{"$f":"COUNTIF(OFFSET(H875,0,Author1Sections,1,Author2Sections),\"=0\")","v":8},1993,"maugre",0,0.1,0,0,0,0,0,0,0,0,0,0,0,0,0,0.1,0,0,0,0,0,0,0,0,0,0,0,0,0,"mould","chill"]
[{"$f":"B876+C876","v":1.0952380952380953},{"$f":"D876/Author1Sections","v":9.5238095238095233E-2},{"$f":"E876/Author2Sections","v":1},{"$f":"COUNTIF(OFFSET(H876,0,0,1,Author1Sections),\">0\")","v":2},{"$f":"COUNTIF(OFFSET(H876,0,Author1Sections,1,Author2Sections),\"=0\")","v":8},1996,"melodie",0,0,0,0,7.4183979999999997E-2,0,0,0,0,0,0,0,0,0,0,0,0,0,0.1,0,0,0,0,0,0,0,0,0,0,"nam'd","chimney"]
[{"$f":"B877+C877","v":1.0952380952380953},{"$f":"D877/Author1Sections","v":9.5238095238095233E-2},{"$f":"E877/Author2Sections","v":1},{"$f":"COUNTIF(OFFSET(H877,0,0,1,Author1Sections),\">0\")","v":2},{"$f":"COUNTIF(OFFSET(H877,0,Author1Sections,1,Author2Sections),\"=0\")","v":8},1998,"mens",0,0,0,0,0,0,0,0,0,0,0,0,0,0,0,0.1,0,0,0.1,0,0,0,0,0,0,0,0,0,0,"natiue","chimney's"]
[{"$f":"B878+C878","v":1.0952380952380953},{"$f":"D878/Author1Sections","v":9.5238095238095233E-2},{"$f":"E878/Author2Sections","v":1},{"$f":"COUNTIF(OFFSET(H878,0,0,1,Author1Sections),\">0\")","v":2},{"$f":"COUNTIF(OFFSET(H878,0,Author1Sections,1,Author2Sections),\"=0\")","v":8},2000,"merits",0,0,0.1,0,0,0,0,0.1,0,0,0,0,0,0,0,0,0,0,0,0,0,0,0,0,0,0,0,0,0,"needes","chin"]
[{"$f":"B879+C879","v":1.0952380952380953},{"$f":"D879/Author1Sections","v":9.5238095238095233E-2},{"$f":"E879/Author2Sections","v":1},{"$f":"COUNTIF(OFFSET(H879,0,0,1,Author1Sections),\">0\")","v":2},{"$f":"COUNTIF(OFFSET(H879,0,Author1Sections,1,Author2Sections),\"=0\")","v":8},2001,"mery",0,0,0,0,0,0,0.1,0,0,0,0,0,0,0,0,0,0,0,0,0,7.0372980000000002E-2,0,0,0,0,0,0,0,0,"neighbour","choose"]
[{"$f":"B880+C880","v":1.0952380952380953},{"$f":"D880/Author1Sections","v":9.5238095238095233E-2},{"$f":"E880/Author2Sections","v":1},{"$f":"COUNTIF(OFFSET(H880,0,0,1,Author1Sections),\">0\")","v":2},{"$f":"COUNTIF(OFFSET(H880,0,Author1Sections,1,Author2Sections),\"=0\")","v":8},2003,"mettall",0,0,0,0.1,0,0,0,0,0,0,0,0,0,0,0,0.1,0,0,0,0,0,0,0,0,0,0,0,0,0,"nightingale","churl"]
[{"$f":"B881+C881","v":1.0952380952380953},{"$f":"D881/Author1Sections","v":9.5238095238095233E-2},{"$f":"E881/Author2Sections","v":1},{"$f":"COUNTIF(OFFSET(H881,0,0,1,Author1Sections),\">0\")","v":2},{"$f":"COUNTIF(OFFSET(H881,0,Author1Sections,1,Author2Sections),\"=0\")","v":8},2010,"mishaps",0,0.1,0,0,0,0,0.1,0,0,0,0,0,0,0,0,0,0,0,0,0,0,0,0,0,0,0,0,0,0,"numbers","cimmerian"]
[{"$f":"B882+C882","v":1.0952380952380953},{"$f":"D882/Author1Sections","v":9.5238095238095233E-2},{"$f":"E882/Author2Sections","v":1},{"$f":"COUNTIF(OFFSET(H882,0,0,1,Author1Sections),\">0\")","v":2},{"$f":"COUNTIF(OFFSET(H882,0,Author1Sections,1,Author2Sections),\"=0\")","v":8},2021,"morne",0,0,0,0,0,0,0,0,0,0,0,0,0.1,0,0,0,0,0.1,0,0,0,0,0,0,0,0,0,0,0,"nunc","clamours"]
[{"$f":"B883+C883","v":1.0952380952380953},{"$f":"D883/Author1Sections","v":9.5238095238095233E-2},{"$f":"E883/Author2Sections","v":1},{"$f":"COUNTIF(OFFSET(H883,0,0,1,Author1Sections),\">0\")","v":2},{"$f":"COUNTIF(OFFSET(H883,0,Author1Sections,1,Author2Sections),\"=0\")","v":8},2023,"mothers",0.1,0,0,0,0,0,0,0,0,0,0,0,0,0,0,0,0,0.1,0,0,0,0,0,0,0,0,0,0,0,"obscure","clarius'"]
[{"$f":"B884+C884","v":1.0952380952380953},{"$f":"D884/Author1Sections","v":9.5238095238095233E-2},{"$f":"E884/Author2Sections","v":1},{"$f":"COUNTIF(OFFSET(H884,0,0,1,Author1Sections),\">0\")","v":2},{"$f":"COUNTIF(OFFSET(H884,0,Author1Sections,1,Author2Sections),\"=0\")","v":8},2025,"mould",0,0,0,0,0,0,0,0,0,0,0,0,0,0,0,0,0,0,0,0.1,7.0372980000000002E-2,0,0,0,0,0,0,0,0,"open","cleft"]
[{"$f":"B885+C885","v":1.0952380952380953},{"$f":"D885/Author1Sections","v":9.5238095238095233E-2},{"$f":"E885/Author2Sections","v":1},{"$f":"COUNTIF(OFFSET(H885,0,0,1,Author1Sections),\">0\")","v":2},{"$f":"COUNTIF(OFFSET(H885,0,Author1Sections,1,Author2Sections),\"=0\")","v":8},2034,"nam'd",0,0,0,0,0,0,0,0,0,0,0.1,0,0,0,0,0,0,0.1,0,0,0,0,0,0,0,0,0,0,0,"ouerthrow","clerks"]
[{"$f":"B886+C886","v":1.0952380952380953},{"$f":"D886/Author1Sections","v":9.5238095238095233E-2},{"$f":"E886/Author2Sections","v":1},{"$f":"COUNTIF(OFFSET(H886,0,0,1,Author1Sections),\">0\")","v":2},{"$f":"COUNTIF(OFFSET(H886,0,Author1Sections,1,Author2Sections),\"=0\")","v":8},2035,"natiue",0,0,0,0,0,0,0,0,0,0.1,0,0,0,0,0,0,0,0,0,0.1,0,0,0,0,0,0,0,0,0,"ouerthrowne","climb"]
[{"$f":"B887+C887","v":1.0952380952380953},{"$f":"D887/Author1Sections","v":9.5238095238095233E-2},{"$f":"E887/Author2Sections","v":1},{"$f":"COUNTIF(OFFSET(H887,0,0,1,Author1Sections),\">0\")","v":2},{"$f":"COUNTIF(OFFSET(H887,0,Author1Sections,1,Author2Sections),\"=0\")","v":8},2039,"needes",0,0,0,0,0,0,0,0,0,0.1,0,0,0,0,0,0,0,0,0,0,7.0372980000000002E-2,0,0,0,0,0,0,0,0,"outside","climb'd"]
[{"$f":"B888+C888","v":1.0952380952380953},{"$f":"D888/Author1Sections","v":9.5238095238095233E-2},{"$f":"E888/Author2Sections","v":1},{"$f":"COUNTIF(OFFSET(H888,0,0,1,Author1Sections),\">0\")","v":2},{"$f":"COUNTIF(OFFSET(H888,0,Author1Sections,1,Author2Sections),\"=0\")","v":8},2040,"neighbour",0,0,0,0,0,0,0.1,0.1,0,0,0,0,0,0,0,0,0,0,0,0,0,0,0,0,0,0,0,0,0,"outward","clock"]
[{"$f":"B889+C889","v":1.0952380952380953},{"$f":"D889/Author1Sections","v":9.5238095238095233E-2},{"$f":"E889/Author2Sections","v":1},{"$f":"COUNTIF(OFFSET(H889,0,0,1,Author1Sections),\">0\")","v":2},{"$f":"COUNTIF(OFFSET(H889,0,Author1Sections,1,Author2Sections),\"=0\")","v":8},2041,"nightingale",0,0.1,0,0,0,0,0,0.1,0,0,0,0,0,0,0,0,0,0,0,0,0,0,0,0,0,0,0,0,0,"pace","cloister"]
[{"$f":"B890+C890","v":1.0952380952380953},{"$f":"D890/Author1Sections","v":9.5238095238095233E-2},{"$f":"E890/Author2Sections","v":1},{"$f":"COUNTIF(OFFSET(H890,0,0,1,Author1Sections),\">0\")","v":2},{"$f":"COUNTIF(OFFSET(H890,0,Author1Sections,1,Author2Sections),\"=0\")","v":8},2044,"numbers",0,0,0,0.1,0,0,0,0,0,0,0,0.1,0,0,0,0,0,0,0,0,0,0,0,0,0,0,0,0,0,"pain","cloister's"]
[{"$f":"B891+C891","v":1.0952380952380953},{"$f":"D891/Author1Sections","v":9.5238095238095233E-2},{"$f":"E891/Author2Sections","v":1},{"$f":"COUNTIF(OFFSET(H891,0,0,1,Author1Sections),\">0\")","v":2},{"$f":"COUNTIF(OFFSET(H891,0,Author1Sections,1,Author2Sections),\"=0\")","v":8},2045,"nunc",0,0,0,0,0,0,0,0.1,0.1,0,0,0,0,0,0,0,0,0,0,0,0,0,0,0,0,0,0,0,0,"pained","clov'n"]
[{"$f":"B892+C892","v":1.0952380952380953},{"$f":"D892/Author1Sections","v":9.5238095238095233E-2},{"$f":"E892/Author2Sections","v":1},{"$f":"COUNTIF(OFFSET(H892,0,0,1,Author1Sections),\">0\")","v":2},{"$f":"COUNTIF(OFFSET(H892,0,Author1Sections,1,Author2Sections),\"=0\")","v":8},2048,"obscure",0,0.1,0.1,0,0,0,0,0,0,0,0,0,0,0,0,0,0,0,0,0,0,0,0,0,0,0,0,0,0,"painted","coat"]
[{"$f":"B893+C893","v":1.0952380952380953},{"$f":"D893/Author1Sections","v":9.5238095238095233E-2},{"$f":"E893/Author2Sections","v":1},{"$f":"COUNTIF(OFFSET(H893,0,0,1,Author1Sections),\">0\")","v":2},{"$f":"COUNTIF(OFFSET(H893,0,Author1Sections,1,Author2Sections),\"=0\")","v":8},2053,"open",0,0,0,0,0,0,0,0.1,0,0,0,0.1,0,0,0,0,0,0,0,0,0,0,0,0,0,0,0,0,0,"parnassus","combined"]
[{"$f":"B894+C894","v":1.0952380952380953},{"$f":"D894/Author1Sections","v":9.5238095238095233E-2},{"$f":"E894/Author2Sections","v":1},{"$f":"COUNTIF(OFFSET(H894,0,0,1,Author1Sections),\">0\")","v":2},{"$f":"COUNTIF(OFFSET(H894,0,Author1Sections,1,Author2Sections),\"=0\")","v":8},2057,"ouerthrow",0,0,0,0,0,0,0,0.1,0,0,0,0,0,0,0,0,0.1,0,0,0,0,0,0,0,0,0,0,0,0,"passed","coming"]
[{"$f":"B895+C895","v":1.0952380952380953},{"$f":"D895/Author1Sections","v":9.5238095238095233E-2},{"$f":"E895/Author2Sections","v":1},{"$f":"COUNTIF(OFFSET(H895,0,0,1,Author1Sections),\">0\")","v":2},{"$f":"COUNTIF(OFFSET(H895,0,Author1Sections,1,Author2Sections),\"=0\")","v":8},2058,"ouerthrowne",0,0,0,0,0,0,0,0,0.1,0,0,0,0,0.1,0,0,0,0,0,0,0,0,0,0,0,0,0,0,0,"pearl","command"]
[{"$f":"B896+C896","v":1.0952380952380953},{"$f":"D896/Author1Sections","v":9.5238095238095233E-2},{"$f":"E896/Author2Sections","v":1},{"$f":"COUNTIF(OFFSET(H896,0,0,1,Author1Sections),\">0\")","v":2},{"$f":"COUNTIF(OFFSET(H896,0,Author1Sections,1,Author2Sections),\"=0\")","v":8},2059,"outside",0,0,0,0,0,0,0,0,0,0,0,0,0,0,0.1,0,0,0.1,0,0,0,0,0,0,0,0,0,0,0,"peece","commanding"]
[{"$f":"B897+C897","v":1.0952380952380953},{"$f":"D897/Author1Sections","v":9.5238095238095233E-2},{"$f":"E897/Author2Sections","v":1},{"$f":"COUNTIF(OFFSET(H897,0,0,1,Author1Sections),\">0\")","v":2},{"$f":"COUNTIF(OFFSET(H897,0,Author1Sections,1,Author2Sections),\"=0\")","v":8},2060,"outward",0,0,0,0,0,0,0,0.1,0,0.1,0,0,0,0,0,0,0,0,0,0,0,0,0,0,0,0,0,0,0,"peepe","commend"]
[{"$f":"B898+C898","v":1.0952380952380953},{"$f":"D898/Author1Sections","v":9.5238095238095233E-2},{"$f":"E898/Author2Sections","v":1},{"$f":"COUNTIF(OFFSET(H898,0,0,1,Author1Sections),\">0\")","v":2},{"$f":"COUNTIF(OFFSET(H898,0,Author1Sections,1,Author2Sections),\"=0\")","v":8},2061,"pace",0,0,0,0,0,0.1,0,0,0,0,0,0,0,0,0,0.1,0,0,0,0,0,0,0,0,0,0,0,0,0,"peere","commended"]
[{"$f":"B899+C899","v":1.0952380952380953},{"$f":"D899/Author1Sections","v":9.5238095238095233E-2},{"$f":"E899/Author2Sections","v":1},{"$f":"COUNTIF(OFFSET(H899,0,0,1,Author1Sections),\">0\")","v":2},{"$f":"COUNTIF(OFFSET(H899,0,Author1Sections,1,Author2Sections),\"=0\")","v":8},2062,"pain",0,0,0,0,0,0,0,0,0,0.1,0.1,0,0,0,0,0,0,0,0,0,0,0,0,0,0,0,0,0,0,"peoples","commercing"]
[{"$f":"B900+C900","v":1.0952380952380953},{"$f":"D900/Author1Sections","v":9.5238095238095233E-2},{"$f":"E900/Author2Sections","v":1},{"$f":"COUNTIF(OFFSET(H900,0,0,1,Author1Sections),\">0\")","v":2},{"$f":"COUNTIF(OFFSET(H900,0,Author1Sections,1,Author2Sections),\"=0\")","v":8},2063,"pained",0,0.1,0,0,7.4183979999999997E-2,0,0,0,0,0,0,0,0,0,0,0,0,0,0,0,0,0,0,0,0,0,0,0,0,"perswades","commits"]
[{"$f":"B901+C901","v":1.0952380952380953},{"$f":"D901/Author1Sections","v":9.5238095238095233E-2},{"$f":"E901/Author2Sections","v":1},{"$f":"COUNTIF(OFFSET(H901,0,0,1,Author1Sections),\">0\")","v":2},{"$f":"COUNTIF(OFFSET(H901,0,Author1Sections,1,Author2Sections),\"=0\")","v":8},2064,"painted",0,0.1,0,0,0,0,0,0,0,0,0,0,0,0.1,0,0,0,0,0,0,0,0,0,0,0,0,0,0,0,"pierc'd","commix'd"]
[{"$f":"B902+C902","v":1.0952380952380953},{"$f":"D902/Author1Sections","v":9.5238095238095233E-2},{"$f":"E902/Author2Sections","v":1},{"$f":"COUNTIF(OFFSET(H902,0,0,1,Author1Sections),\">0\")","v":2},{"$f":"COUNTIF(OFFSET(H902,0,Author1Sections,1,Author2Sections),\"=0\")","v":8},2069,"parnassus",0,0,0,0,0,0,0,0,0,0,0.1,0,0,0,0,0,0,0,0.1,0,0,0,0,0,0,0,0,0,0,"piercing","common"]
[{"$f":"B903+C903","v":1.0952380952380953},{"$f":"D903/Author1Sections","v":9.5238095238095233E-2},{"$f":"E903/Author2Sections","v":1},{"$f":"COUNTIF(OFFSET(H903,0,0,1,Author1Sections),\">0\")","v":2},{"$f":"COUNTIF(OFFSET(H903,0,Author1Sections,1,Author2Sections),\"=0\")","v":8},2071,"passed",0,0,0,0,0,0.1,0,0,0.1,0,0,0,0,0,0,0,0,0,0,0,0,0,0,0,0,0,0,0,0,"pillours","compels"]
[{"$f":"B904+C904","v":1.0952380952380953},{"$f":"D904/Author1Sections","v":9.5238095238095233E-2},{"$f":"E904/Author2Sections","v":1},{"$f":"COUNTIF(OFFSET(H904,0,0,1,Author1Sections),\">0\")","v":2},{"$f":"COUNTIF(OFFSET(H904,0,Author1Sections,1,Author2Sections),\"=0\")","v":8},2073,"pearl",0,0,0,0,0,0,0,0,0,0.1,0,0,0.1,0,0,0,0,0,0,0,0,0,0,0,0,0,0,0,0,"pipe","compound"]
[{"$f":"B905+C905","v":1.0952380952380953},{"$f":"D905/Author1Sections","v":9.5238095238095233E-2},{"$f":"E905/Author2Sections","v":1},{"$f":"COUNTIF(OFFSET(H905,0,0,1,Author1Sections),\">0\")","v":2},{"$f":"COUNTIF(OFFSET(H905,0,Author1Sections,1,Author2Sections),\"=0\")","v":8},2074,"peece",0,0,0,0,0,0,0,0,0,0,0,0,0,0,0,0.1,0,0,0,0.1,0,0,0,0,0,0,0,0,0,"plac'd","concave"]
[{"$f":"B906+C906","v":1.0952380952380953},{"$f":"D906/Author1Sections","v":9.5238095238095233E-2},{"$f":"E906/Author2Sections","v":1},{"$f":"COUNTIF(OFFSET(H906,0,0,1,Author1Sections),\">0\")","v":2},{"$f":"COUNTIF(OFFSET(H906,0,Author1Sections,1,Author2Sections),\"=0\")","v":8},2075,"peepe",0,0,0,0,0,0,0,0,0,0.1,0,0,0,0,0,0,0,0,0.1,0,0,0,0,0,0,0,0,0,0,"plague","concealed"]
[{"$f":"B907+C907","v":1.0952380952380953},{"$f":"D907/Author1Sections","v":9.5238095238095233E-2},{"$f":"E907/Author2Sections","v":1},{"$f":"COUNTIF(OFFSET(H907,0,0,1,Author1Sections),\">0\")","v":2},{"$f":"COUNTIF(OFFSET(H907,0,Author1Sections,1,Author2Sections),\"=0\")","v":8},2076,"peere",0,0.1,0,0,0,0,0,0,0,0,0,0,0,0,0,0,0,0,0,0,7.0372980000000002E-2,0,0,0,0,0,0,0,0,"planted","conceit"]
[{"$f":"B908+C908","v":1.0952380952380953},{"$f":"D908/Author1Sections","v":9.5238095238095233E-2},{"$f":"E908/Author2Sections","v":1},{"$f":"COUNTIF(OFFSET(H908,0,0,1,Author1Sections),\">0\")","v":2},{"$f":"COUNTIF(OFFSET(H908,0,Author1Sections,1,Author2Sections),\"=0\")","v":8},2078,"peoples",0.1,0,0,0,0,0,0,0,0,0,0,0,0,0,0.1,0,0,0,0,0,0,0,0,0,0,0,0,0,0,"pleas'd","conceited"]
[{"$f":"B909+C909","v":1.0952380952380953},{"$f":"D909/Author1Sections","v":9.5238095238095233E-2},{"$f":"E909/Author2Sections","v":1},{"$f":"COUNTIF(OFFSET(H909,0,0,1,Author1Sections),\">0\")","v":2},{"$f":"COUNTIF(OFFSET(H909,0,Author1Sections,1,Author2Sections),\"=0\")","v":8},2079,"perswades",0,0,0,0,0,0,0,0,0,0,0.1,0,0,0,0,0,0,0,0,0,7.0372980000000002E-2,0,0,0,0,0,0,0,0,"plumes","concord"]
[{"$f":"B910+C910","v":1.0952380952380953},{"$f":"D910/Author1Sections","v":9.5238095238095233E-2},{"$f":"E910/Author2Sections","v":1},{"$f":"COUNTIF(OFFSET(H910,0,0,1,Author1Sections),\">0\")","v":2},{"$f":"COUNTIF(OFFSET(H910,0,Author1Sections,1,Author2Sections),\"=0\")","v":8},2084,"pierc'd",0,0,0,0,0,0,0,0,0,0,0,0.1,0,0,0,0.1,0,0,0,0,0,0,0,0,0,0,0,0,0,"porches","confine"]
[{"$f":"B911+C911","v":1.0952380952380953},{"$f":"D911/Author1Sections","v":9.5238095238095233E-2},{"$f":"E911/Author2Sections","v":1},{"$f":"COUNTIF(OFFSET(H911,0,0,1,Author1Sections),\">0\")","v":2},{"$f":"COUNTIF(OFFSET(H911,0,Author1Sections,1,Author2Sections),\"=0\")","v":8},2086,"piercing",0,0,0,0,0,0,0,0,0,0,0,0,0,0,0,0.1,0,0.1,0,0,0,0,0,0,0,0,0,0,0,"pow'r","congest"]
[{"$f":"B912+C912","v":1.0952380952380953},{"$f":"D912/Author1Sections","v":9.5238095238095233E-2},{"$f":"E912/Author2Sections","v":1},{"$f":"COUNTIF(OFFSET(H912,0,0,1,Author1Sections),\">0\")","v":2},{"$f":"COUNTIF(OFFSET(H912,0,Author1Sections,1,Author2Sections),\"=0\")","v":8},2088,"pillours",0.1,0,0,0.1,0,0,0,0,0,0,0,0,0,0,0,0,0,0,0,0,0,0,0,0,0,0,0,0,0,"prepar'd","conscious"]
[{"$f":"B913+C913","v":1.0952380952380953},{"$f":"D913/Author1Sections","v":9.5238095238095233E-2},{"$f":"E913/Author2Sections","v":1},{"$f":"COUNTIF(OFFSET(H913,0,0,1,Author1Sections),\">0\")","v":2},{"$f":"COUNTIF(OFFSET(H913,0,Author1Sections,1,Author2Sections),\"=0\")","v":8},2089,"pipe",0,0,0.1,0,0,0,0,0,0,0.1,0,0,0,0,0,0,0,0,0,0,0,0,0,0,0,0,0,0,0,"prettie","consecrations"]
[{"$f":"B914+C914","v":1.0952380952380953},{"$f":"D914/Author1Sections","v":9.5238095238095233E-2},{"$f":"E914/Author2Sections","v":1},{"$f":"COUNTIF(OFFSET(H914,0,0,1,Author1Sections),\">0\")","v":2},{"$f":"COUNTIF(OFFSET(H914,0,Author1Sections,1,Author2Sections),\"=0\")","v":8},2091,"plac'd",0,0,0,0,0,0,0,0,0,0.1,0,0,0,0,0,0,0,0,0,0.1,0,0,0,0,0,0,0,0,0,"prop","consents"]
[{"$f":"B915+C915","v":1.0952380952380953},{"$f":"D915/Author1Sections","v":9.5238095238095233E-2},{"$f":"E915/Author2Sections","v":1},{"$f":"COUNTIF(OFFSET(H915,0,0,1,Author1Sections),\">0\")","v":2},{"$f":"COUNTIF(OFFSET(H915,0,Author1Sections,1,Author2Sections),\"=0\")","v":8},2092,"plague",0,0,0,0,0,0,0,0,0,0,0,0,0,0,0,0,0,0.1,0.1,0,0,0,0,0,0,0,0,0,0,"proportion","conspire"]
[{"$f":"B916+C916","v":1.0952380952380953},{"$f":"D916/Author1Sections","v":9.5238095238095233E-2},{"$f":"E916/Author2Sections","v":1},{"$f":"COUNTIF(OFFSET(H916,0,0,1,Author1Sections),\">0\")","v":2},{"$f":"COUNTIF(OFFSET(H916,0,Author1Sections,1,Author2Sections),\"=0\")","v":8},2094,"planted",0,0,0,0.1,0,0.1,0,0,0,0,0,0,0,0,0,0,0,0,0,0,0,0,0,0,0,0,0,0,0,"prospect","consumest"]
[{"$f":"B917+C917","v":1.0952380952380953},{"$f":"D917/Author1Sections","v":9.5238095238095233E-2},{"$f":"E917/Author2Sections","v":1},{"$f":"COUNTIF(OFFSET(H917,0,0,1,Author1Sections),\">0\")","v":2},{"$f":"COUNTIF(OFFSET(H917,0,Author1Sections,1,Author2Sections),\"=0\")","v":8},2097,"pleas'd",0,0,0,0,0,0,0,0,0,0.1,0,0.1,0,0,0,0,0,0,0,0,0,0,0,0,0,0,0,0,0,"questions","contagion"]
[{"$f":"B918+C918","v":1.0952380952380953},{"$f":"D918/Author1Sections","v":9.5238095238095233E-2},{"$f":"E918/Author2Sections","v":1},{"$f":"COUNTIF(OFFSET(H918,0,0,1,Author1Sections),\">0\")","v":2},{"$f":"COUNTIF(OFFSET(H918,0,Author1Sections,1,Author2Sections),\"=0\")","v":8},2100,"plumes",0,0,0,0.1,0,0,0,0,0,0,0,0,0,0,0,0,0,0,0,0.1,0,0,0,0,0,0,0,0,0,"quintessence","contains"]
[{"$f":"B919+C919","v":1.0952380952380953},{"$f":"D919/Author1Sections","v":9.5238095238095233E-2},{"$f":"E919/Author2Sections","v":1},{"$f":"COUNTIF(OFFSET(H919,0,0,1,Author1Sections),\">0\")","v":2},{"$f":"COUNTIF(OFFSET(H919,0,Author1Sections,1,Author2Sections),\"=0\")","v":8},2102,"porches",0.1,0,0,0,0,0,0,0,0,0.1,0,0,0,0,0,0,0,0,0,0,0,0,0,0,0,0,0,0,0,"raigne","contemplation"]
[{"$f":"B920+C920","v":1.0952380952380953},{"$f":"D920/Author1Sections","v":9.5238095238095233E-2},{"$f":"E920/Author2Sections","v":1},{"$f":"COUNTIF(OFFSET(H920,0,0,1,Author1Sections),\">0\")","v":2},{"$f":"COUNTIF(OFFSET(H920,0,Author1Sections,1,Author2Sections),\"=0\")","v":8},2105,"pow'r",0,0,0,0,0,0,0,0,0,0,0,0,0.1,0,0,0.1,0,0,0,0,0,0,0,0,0,0,0,0,0,"railing","contracted"]
[{"$f":"B921+C921","v":1.0952380952380953},{"$f":"D921/Author1Sections","v":9.5238095238095233E-2},{"$f":"E921/Author2Sections","v":1},{"$f":"COUNTIF(OFFSET(H921,0,0,1,Author1Sections),\">0\")","v":2},{"$f":"COUNTIF(OFFSET(H921,0,Author1Sections,1,Author2Sections),\"=0\")","v":8},2106,"prepar'd",0,0,0,0,0,0,0,0,0,0.1,0,0.1,0,0,0,0,0,0,0,0,0,0,0,0,0,0,0,0,0,"raines","contrives"]
[{"$f":"B922+C922","v":1.0952380952380953},{"$f":"D922/Author1Sections","v":9.5238095238095233E-2},{"$f":"E922/Author2Sections","v":1},{"$f":"COUNTIF(OFFSET(H922,0,0,1,Author1Sections),\">0\")","v":2},{"$f":"COUNTIF(OFFSET(H922,0,Author1Sections,1,Author2Sections),\"=0\")","v":8},2108,"prettie",0,0,0,0,0,0,0.1,0,0,0,0,0,0,0,0,0,0,0.1,0,0,0,0,0,0,0,0,0,0,0,"raised","controversy"]
[{"$f":"B923+C923","v":1.0952380952380953},{"$f":"D923/Author1Sections","v":9.5238095238095233E-2},{"$f":"E923/Author2Sections","v":1},{"$f":"COUNTIF(OFFSET(H923,0,0,1,Author1Sections),\">0\")","v":2},{"$f":"COUNTIF(OFFSET(H923,0,Author1Sections,1,Author2Sections),\"=0\")","v":8},2111,"prop",0,0,0,0,7.4183979999999997E-2,0,0,0,0,0,0.1,0,0,0,0,0,0,0,0,0,0,0,0,0,0,0,0,0,0,"reare","convert"]
[{"$f":"B924+C924","v":1.0952380952380953},{"$f":"D924/Author1Sections","v":9.5238095238095233E-2},{"$f":"E924/Author2Sections","v":1},{"$f":"COUNTIF(OFFSET(H924,0,0,1,Author1Sections),\">0\")","v":2},{"$f":"COUNTIF(OFFSET(H924,0,Author1Sections,1,Author2Sections),\"=0\")","v":8},2112,"proportion",0,0,0,0,0,0.1,0,0,0,0,0,0,0,0,0.1,0,0,0,0,0,0,0,0,0,0,0,0,0,0,"receiued","converted"]
[{"$f":"B925+C925","v":1.0952380952380953},{"$f":"D925/Author1Sections","v":9.5238095238095233E-2},{"$f":"E925/Author2Sections","v":1},{"$f":"COUNTIF(OFFSET(H925,0,0,1,Author1Sections),\">0\")","v":2},{"$f":"COUNTIF(OFFSET(H925,0,Author1Sections,1,Author2Sections),\"=0\")","v":8},2113,"prospect",0,0,0,0,0,0,0,0,0,0,0,0.1,0.1,0,0,0,0,0,0,0,0,0,0,0,0,0,0,0,0,"recorders","convertest"]
[{"$f":"B926+C926","v":1.0952380952380953},{"$f":"D926/Author1Sections","v":9.5238095238095233E-2},{"$f":"E926/Author2Sections","v":1},{"$f":"COUNTIF(OFFSET(H926,0,0,1,Author1Sections),\">0\")","v":2},{"$f":"COUNTIF(OFFSET(H926,0,Author1Sections,1,Author2Sections),\"=0\")","v":8},2118,"questions",0,0,0,0,0,0,0,0,0,0,0,0,0.1,0,0,0,0,0,0,0.1,0,0,0,0,0,0,0,0,0,"remaines","cony"]
[{"$f":"B927+C927","v":1.0952380952380953},{"$f":"D927/Author1Sections","v":9.5238095238095233E-2},{"$f":"E927/Author2Sections","v":1},{"$f":"COUNTIF(OFFSET(H927,0,0,1,Author1Sections),\">0\")","v":2},{"$f":"COUNTIF(OFFSET(H927,0,Author1Sections,1,Author2Sections),\"=0\")","v":8},2120,"quintessence",0,0,0,0,0,0,0,0,0,0,0,0.1,0,0,0,0,0,0.1,0,0,0,0,0,0,0,0,0,0,0,"remembred","copses"]
[{"$f":"B928+C928","v":1.0952380952380953},{"$f":"D928/Author1Sections","v":9.5238095238095233E-2},{"$f":"E928/Author2Sections","v":1},{"$f":"COUNTIF(OFFSET(H928,0,0,1,Author1Sections),\">0\")","v":2},{"$f":"COUNTIF(OFFSET(H928,0,Author1Sections,1,Author2Sections),\"=0\")","v":8},2122,"raigne",0,0,0,0,0,0,0,0,0,0,0,0.1,0,0,0,0,0,0.1,0,0,0,0,0,0,0,0,0,0,0,"remnant","copy"]
[{"$f":"B929+C929","v":1.0952380952380953},{"$f":"D929/Author1Sections","v":9.5238095238095233E-2},{"$f":"E929/Author2Sections","v":1},{"$f":"COUNTIF(OFFSET(H929,0,0,1,Author1Sections),\">0\")","v":2},{"$f":"COUNTIF(OFFSET(H929,0,Author1Sections,1,Author2Sections),\"=0\")","v":8},2123,"railing",0.1,0,0,0,7.4183979999999997E-2,0,0,0,0,0,0,0,0,0,0,0,0,0,0,0,0,0,0,0,0,0,0,0,0,"renowne","corn"]
[{"$f":"B930+C930","v":1.0952380952380953},{"$f":"D930/Author1Sections","v":9.5238095238095233E-2},{"$f":"E930/Author2Sections","v":1},{"$f":"COUNTIF(OFFSET(H930,0,0,1,Author1Sections),\">0\")","v":2},{"$f":"COUNTIF(OFFSET(H930,0,Author1Sections,1,Author2Sections),\"=0\")","v":8},2124,"raines",0,0,0,0,0,0,0,0,0,0,0,0.1,0,0,0.1,0,0,0,0,0,0,0,0,0,0,0,0,0,0,"rent","corydon"]
[{"$f":"B931+C931","v":1.0952380952380953},{"$f":"D931/Author1Sections","v":9.5238095238095233E-2},{"$f":"E931/Author2Sections","v":1},{"$f":"COUNTIF(OFFSET(H931,0,0,1,Author1Sections),\">0\")","v":2},{"$f":"COUNTIF(OFFSET(H931,0,Author1Sections,1,Author2Sections),\"=0\")","v":8},2125,"raised",0,0,0.1,0,0,0.1,0,0,0,0,0,0,0,0,0,0,0,0,0,0,0,0,0,0,0,0,0,0,0,"ribs","cottage"]
[{"$f":"B932+C932","v":1.0952380952380953},{"$f":"D932/Author1Sections","v":9.5238095238095233E-2},{"$f":"E932/Author2Sections","v":1},{"$f":"COUNTIF(OFFSET(H932,0,0,1,Author1Sections),\">0\")","v":2},{"$f":"COUNTIF(OFFSET(H932,0,Author1Sections,1,Author2Sections),\"=0\")","v":8},2128,"reare",0.1,0,0,0,0,0,0,0,0,0,0.1,0,0,0,0,0,0,0,0,0,0,0,0,0,0,0,0,0,0,"robd","counsel"]
[{"$f":"B933+C933","v":1.0952380952380953},{"$f":"D933/Author1Sections","v":9.5238095238095233E-2},{"$f":"E933/Author2Sections","v":1},{"$f":"COUNTIF(OFFSET(H933,0,0,1,Author1Sections),\">0\")","v":2},{"$f":"COUNTIF(OFFSET(H933,0,Author1Sections,1,Author2Sections),\"=0\")","v":8},2129,"receiued",0,0,0,0,0,0.1,0.1,0,0,0,0,0,0,0,0,0,0,0,0,0,0,0,0,0,0,0,0,0,0,"rome","counterfeit"]
[{"$f":"B934+C934","v":1.0952380952380953},{"$f":"D934/Author1Sections","v":9.5238095238095233E-2},{"$f":"E934/Author2Sections","v":1},{"$f":"COUNTIF(OFFSET(H934,0,0,1,Author1Sections),\">0\")","v":2},{"$f":"COUNTIF(OFFSET(H934,0,Author1Sections,1,Author2Sections),\"=0\")","v":8},2131,"recorders",0,0,0,0,0,0,0.1,0,0.1,0,0,0,0,0,0,0,0,0,0,0,0,0,0,0,0,0,0,0,0,"rosie","country"]
[{"$f":"B935+C935","v":1.0952380952380953},{"$f":"D935/Author1Sections","v":9.5238095238095233E-2},{"$f":"E935/Author2Sections","v":1},{"$f":"COUNTIF(OFFSET(H935,0,0,1,Author1Sections),\">0\")","v":2},{"$f":"COUNTIF(OFFSET(H935,0,Author1Sections,1,Author2Sections),\"=0\")","v":8},2137,"remaines",0.1,0.1,0,0,0,0,0,0,0,0,0,0,0,0,0,0,0,0,0,0,0,0,0,0,0,0,0,0,0,"royall","cover'd"]
[{"$f":"B936+C936","v":1.0952380952380953},{"$f":"D936/Author1Sections","v":9.5238095238095233E-2},{"$f":"E936/Author2Sections","v":1},{"$f":"COUNTIF(OFFSET(H936,0,0,1,Author1Sections),\">0\")","v":2},{"$f":"COUNTIF(OFFSET(H936,0,Author1Sections,1,Author2Sections),\"=0\")","v":8},2139,"remembred",0,0.1,0.1,0,0,0,0,0,0,0,0,0,0,0,0,0,0,0,0,0,0,0,0,0,0,0,0,0,0,"runne","covert"]
[{"$f":"B937+C937","v":1.0952380952380953},{"$f":"D937/Author1Sections","v":9.5238095238095233E-2},{"$f":"E937/Author2Sections","v":1},{"$f":"COUNTIF(OFFSET(H937,0,0,1,Author1Sections),\">0\")","v":2},{"$f":"COUNTIF(OFFSET(H937,0,Author1Sections,1,Author2Sections),\"=0\")","v":8},2140,"remnant",0,0,0,0.1,0,0,0,0,0.1,0,0,0,0,0,0,0,0,0,0,0,0,0,0,0,0,0,0,0,0,"saie","cowslips"]
[{"$f":"B938+C938","v":1.0952380952380953},{"$f":"D938/Author1Sections","v":9.5238095238095233E-2},{"$f":"E938/Author2Sections","v":1},{"$f":"COUNTIF(OFFSET(H938,0,0,1,Author1Sections),\">0\")","v":2},{"$f":"COUNTIF(OFFSET(H938,0,Author1Sections,1,Author2Sections),\"=0\")","v":8},2142,"renowne",0,0,0.1,0,0,0,0,0,0,0,0,0,0.1,0,0,0,0,0,0,0,0,0,0,0,0,0,0,0,0,"saue","coy"]
[{"$f":"B939+C939","v":1.0952380952380953},{"$f":"D939/Author1Sections","v":9.5238095238095233E-2},{"$f":"E939/Author2Sections","v":1},{"$f":"COUNTIF(OFFSET(H939,0,0,1,Author1Sections),\">0\")","v":2},{"$f":"COUNTIF(OFFSET(H939,0,Author1Sections,1,Author2Sections),\"=0\")","v":8},2143,"rent",0,0,0,0.1,0,0,0,0,0,0,0.1,0,0,0,0,0,0,0,0,0,0,0,0,0,0,0,0,0,0,"scantly","cozening"]
[{"$f":"B940+C940","v":1.0952380952380953},{"$f":"D940/Author1Sections","v":9.5238095238095233E-2},{"$f":"E940/Author2Sections","v":1},{"$f":"COUNTIF(OFFSET(H940,0,0,1,Author1Sections),\">0\")","v":2},{"$f":"COUNTIF(OFFSET(H940,0,Author1Sections,1,Author2Sections),\"=0\")","v":8},2151,"ribs",0,0,0,0,0,0,0,0,0,0,0.1,0,0,0,0,0,0,0,0,0,7.0372980000000002E-2,0,0,0,0,0,0,0,0,"scepter","crack'd"]
[{"$f":"B941+C941","v":1.0952380952380953},{"$f":"D941/Author1Sections","v":9.5238095238095233E-2},{"$f":"E941/Author2Sections","v":1},{"$f":"COUNTIF(OFFSET(H941,0,0,1,Author1Sections),\">0\")","v":2},{"$f":"COUNTIF(OFFSET(H941,0,Author1Sections,1,Author2Sections),\"=0\")","v":8},2155,"robd",0,0,0.1,0,0,0,0,0,0,0,0,0,0.1,0,0,0,0,0,0,0,0,0,0,0,0,0,0,0,0,"schoolemaster","craggy"]
[{"$f":"B942+C942","v":1.0952380952380953},{"$f":"D942/Author1Sections","v":9.5238095238095233E-2},{"$f":"E942/Author2Sections","v":1},{"$f":"COUNTIF(OFFSET(H942,0,0,1,Author1Sections),\">0\")","v":2},{"$f":"COUNTIF(OFFSET(H942,0,Author1Sections,1,Author2Sections),\"=0\")","v":8},2158,"rome",0.1,0,0,0,0,0,0,0,0,0,0,0,0,0.1,0,0,0,0,0,0,0,0,0,0,0,0,0,0,0,"schooles","cramp'd"]
[{"$f":"B943+C943","v":1.0952380952380953},{"$f":"D943/Author1Sections","v":9.5238095238095233E-2},{"$f":"E943/Author2Sections","v":1},{"$f":"COUNTIF(OFFSET(H943,0,0,1,Author1Sections),\">0\")","v":2},{"$f":"COUNTIF(OFFSET(H943,0,Author1Sections,1,Author2Sections),\"=0\")","v":8},2160,"rosie",0,0,0,0,0,0,0,0,0,0,0,0,0,0.1,0,0,0,0.1,0,0,0,0,0,0,0,0,0,0,0,"scourge","cranks"]
[{"$f":"B944+C944","v":1.0952380952380953},{"$f":"D944/Author1Sections","v":9.5238095238095233E-2},{"$f":"E944/Author2Sections","v":1},{"$f":"COUNTIF(OFFSET(H944,0,0,1,Author1Sections),\">0\")","v":2},{"$f":"COUNTIF(OFFSET(H944,0,Author1Sections,1,Author2Sections),\"=0\")","v":8},2163,"royall",0,0,0,0,0,0,0,0,0,0.1,0,0,0.1,0,0,0,0,0,0,0,0,0,0,0,0,0,0,0,0,"scuse","cream"]
[{"$f":"B945+C945","v":1.0952380952380953},{"$f":"D945/Author1Sections","v":9.5238095238095233E-2},{"$f":"E945/Author2Sections","v":1},{"$f":"COUNTIF(OFFSET(H945,0,0,1,Author1Sections),\">0\")","v":2},{"$f":"COUNTIF(OFFSET(H945,0,Author1Sections,1,Author2Sections),\"=0\")","v":8},2168,"runne",0,0,0.1,0.1,0,0,0,0,0,0,0,0,0,0,0,0,0,0,0,0,0,0,0,0,0,0,0,0,0,"seekes","creates"]
[{"$f":"B946+C946","v":1.0952380952380953},{"$f":"D946/Author1Sections","v":9.5238095238095233E-2},{"$f":"E946/Author2Sections","v":1},{"$f":"COUNTIF(OFFSET(H946,0,0,1,Author1Sections),\">0\")","v":2},{"$f":"COUNTIF(OFFSET(H946,0,Author1Sections,1,Author2Sections),\"=0\")","v":8},2170,"saie",0,0.1,0,0,0,0,0,0,0,0,0,0,0,0,0,0,0,0,0,0.1,0,0,0,0,0,0,0,0,0,"seeme","creatures"]
[{"$f":"B947+C947","v":1.0952380952380953},{"$f":"D947/Author1Sections","v":9.5238095238095233E-2},{"$f":"E947/Author2Sections","v":1},{"$f":"COUNTIF(OFFSET(H947,0,0,1,Author1Sections),\">0\")","v":2},{"$f":"COUNTIF(OFFSET(H947,0,Author1Sections,1,Author2Sections),\"=0\")","v":8},2171,"saue",0,0,0,0,0,0,0.1,0,0,0,0,0,0,0.1,0,0,0,0,0,0,0,0,0,0,0,0,0,0,0,"seemes","credent"]
[{"$f":"B948+C948","v":1.0952380952380953},{"$f":"D948/Author1Sections","v":9.5238095238095233E-2},{"$f":"E948/Author2Sections","v":1},{"$f":"COUNTIF(OFFSET(H948,0,0,1,Author1Sections),\">0\")","v":2},{"$f":"COUNTIF(OFFSET(H948,0,Author1Sections,1,Author2Sections),\"=0\")","v":8},2173,"scantly",0,0,0,0,0,0,0,0,0,0,0.1,0,0,0,0,0,0,0,0,0,7.0372980000000002E-2,0,0,0,0,0,0,0,0,"serue","crew"]
[{"$f":"B949+C949","v":1.0952380952380953},{"$f":"D949/Author1Sections","v":9.5238095238095233E-2},{"$f":"E949/Author2Sections","v":1},{"$f":"COUNTIF(OFFSET(H949,0,0,1,Author1Sections),\">0\")","v":2},{"$f":"COUNTIF(OFFSET(H949,0,Author1Sections,1,Author2Sections),\"=0\")","v":8},2175,"scepter",0,0,0,0,0,0,0,0,0,0.1,0,0,0,0.1,0,0,0,0,0,0,0,0,0,0,0,0,0,0,0,"sharpe","cricket"]
[{"$f":"B950+C950","v":1.0952380952380953},{"$f":"D950/Author1Sections","v":9.5238095238095233E-2},{"$f":"E950/Author2Sections","v":1},{"$f":"COUNTIF(OFFSET(H950,0,0,1,Author1Sections),\">0\")","v":2},{"$f":"COUNTIF(OFFSET(H950,0,Author1Sections,1,Author2Sections),\"=0\")","v":8},2176,"schoolemaster",0,0,0,0,0,0.1,0,0,0,0,0,0,0,0,0,0,0,0.1,0,0,0,0,0,0,0,0,0,0,0,"shepeheards","crooked"]
[{"$f":"B951+C951","v":1.0952380952380953},{"$f":"D951/Author1Sections","v":9.5238095238095233E-2},{"$f":"E951/Author2Sections","v":1},{"$f":"COUNTIF(OFFSET(H951,0,0,1,Author1Sections),\">0\")","v":2},{"$f":"COUNTIF(OFFSET(H951,0,Author1Sections,1,Author2Sections),\"=0\")","v":8},2177,"schooles",0,0,0,0,0,0,0,0,0,0.1,0,0,0,0.1,0,0,0,0,0,0,0,0,0,0,0,0,0,0,0,"shewe","crop"]
[{"$f":"B952+C952","v":1.0952380952380953},{"$f":"D952/Author1Sections","v":9.5238095238095233E-2},{"$f":"E952/Author2Sections","v":1},{"$f":"COUNTIF(OFFSET(H952,0,0,1,Author1Sections),\">0\")","v":2},{"$f":"COUNTIF(OFFSET(H952,0,Author1Sections,1,Author2Sections),\"=0\")","v":8},2178,"scourge",0,0,0,0,0,0,0,0,0,0,0,0.1,0,0,0,0,0,0.1,0,0,0,0,0,0,0,0,0,0,0,"shines","crow"]
[{"$f":"B953+C953","v":1.0952380952380953},{"$f":"D953/Author1Sections","v":9.5238095238095233E-2},{"$f":"E953/Author2Sections","v":1},{"$f":"COUNTIF(OFFSET(H953,0,0,1,Author1Sections),\">0\")","v":2},{"$f":"COUNTIF(OFFSET(H953,0,Author1Sections,1,Author2Sections),\"=0\")","v":8},2179,"scuse",0,0,0,0,0,0,0,0,0,0,0,0,0,0,0,0,0,0.1,0,0.1,0,0,0,0,0,0,0,0,0,"shone","crowned"]
[{"$f":"B954+C954","v":1.0952380952380953},{"$f":"D954/Author1Sections","v":9.5238095238095233E-2},{"$f":"E954/Author2Sections","v":1},{"$f":"COUNTIF(OFFSET(H954,0,0,1,Author1Sections),\">0\")","v":2},{"$f":"COUNTIF(OFFSET(H954,0,Author1Sections,1,Author2Sections),\"=0\")","v":8},2184,"seekes",0,0.1,0,0,0,0,0.1,0,0,0,0,0,0,0,0,0,0,0,0,0,0,0,0,0,0,0,0,0,0,"shortly","crowning"]
[{"$f":"B955+C955","v":1.0952380952380953},{"$f":"D955/Author1Sections","v":9.5238095238095233E-2},{"$f":"E955/Author2Sections","v":1},{"$f":"COUNTIF(OFFSET(H955,0,0,1,Author1Sections),\">0\")","v":2},{"$f":"COUNTIF(OFFSET(H955,0,Author1Sections,1,Author2Sections),\"=0\")","v":8},2185,"seeme",0,0,0,0,0,0,0,0,0,0,0,0.1,0,0,0,0,0,0,0,0.1,0,0,0,0,0,0,0,0,0,"shrines","crude"]
[{"$f":"B956+C956","v":1.0952380952380953},{"$f":"D956/Author1Sections","v":9.5238095238095233E-2},{"$f":"E956/Author2Sections","v":1},{"$f":"COUNTIF(OFFSET(H956,0,0,1,Author1Sections),\">0\")","v":2},{"$f":"COUNTIF(OFFSET(H956,0,Author1Sections,1,Author2Sections),\"=0\")","v":8},2186,"seemes",0,0.1,0,0,0,0,0,0,0,0,0,0,0,0,0,0,0,0,0,0.1,0,0,0,0,0,0,0,0,0,"sicknesse","curb"]
[{"$f":"B957+C957","v":1.0952380952380953},{"$f":"D957/Author1Sections","v":9.5238095238095233E-2},{"$f":"E957/Author2Sections","v":1},{"$f":"COUNTIF(OFFSET(H957,0,0,1,Author1Sections),\">0\")","v":2},{"$f":"COUNTIF(OFFSET(H957,0,Author1Sections,1,Author2Sections),\"=0\")","v":8},2188,"serue",0,0,0,0,0,0,0,0,0,0.1,0,0,0.1,0,0,0,0,0,0,0,0,0,0,0,0,0,0,0,0,"silke","curfew"]
[{"$f":"B958+C958","v":1.0952380952380953},{"$f":"D958/Author1Sections","v":9.5238095238095233E-2},{"$f":"E958/Author2Sections","v":1},{"$f":"COUNTIF(OFFSET(H958,0,0,1,Author1Sections),\">0\")","v":2},{"$f":"COUNTIF(OFFSET(H958,0,Author1Sections,1,Author2Sections),\"=0\")","v":8},2193,"sharpe",0,0,0,0,0,0,0,0,0,0,0,0,0.1,0,0.1,0,0,0,0,0,0,0,0,0,0,0,0,0,0,"six","current"]
[{"$f":"B959+C959","v":1.0952380952380953},{"$f":"D959/Author1Sections","v":9.5238095238095233E-2},{"$f":"E959/Author2Sections","v":1},{"$f":"COUNTIF(OFFSET(H959,0,0,1,Author1Sections),\">0\")","v":2},{"$f":"COUNTIF(OFFSET(H959,0,Author1Sections,1,Author2Sections),\"=0\")","v":8},2195,"shepeheards",0,0,0,0,0,0,0.1,0.1,0,0,0,0,0,0,0,0,0,0,0,0,0,0,0,0,0,0,0,0,0,"skie","curses"]
[{"$f":"B960+C960","v":1.0952380952380953},{"$f":"D960/Author1Sections","v":9.5238095238095233E-2},{"$f":"E960/Author2Sections","v":1},{"$f":"COUNTIF(OFFSET(H960,0,0,1,Author1Sections),\">0\")","v":2},{"$f":"COUNTIF(OFFSET(H960,0,Author1Sections,1,Author2Sections),\"=0\")","v":8},2197,"shewe",0,0,0,0,0,0,0,0,0,0,0,0,0,0,0,0,0,0,0,0.1,7.0372980000000002E-2,0,0,0,0,0,0,0,0,"smile","cynosure"]
[{"$f":"B961+C961","v":1.0952380952380953},{"$f":"D961/Author1Sections","v":9.5238095238095233E-2},{"$f":"E961/Author2Sections","v":1},{"$f":"COUNTIF(OFFSET(H961,0,0,1,Author1Sections),\">0\")","v":2},{"$f":"COUNTIF(OFFSET(H961,0,Author1Sections,1,Author2Sections),\"=0\")","v":8},2198,"shines",0,0,0,0,0,0,0,0,0,0,0,0,0,0.1,0,0,0,0,0,0,7.0372980000000002E-2,0,0,0,0,0,0,0,0,"sobs","cynthia"]
[{"$f":"B962+C962","v":1.0952380952380953},{"$f":"D962/Author1Sections","v":9.5238095238095233E-2},{"$f":"E962/Author2Sections","v":1},{"$f":"COUNTIF(OFFSET(H962,0,0,1,Author1Sections),\">0\")","v":2},{"$f":"COUNTIF(OFFSET(H962,0,Author1Sections,1,Author2Sections),\"=0\")","v":8},2199,"shone",0,0.1,0,0,0,0,0,0,0,0,0,0.1,0,0,0,0,0,0,0,0,0,0,0,0,0,0,0,0,0,"sooth","cypress"]
[{"$f":"B963+C963","v":1.0952380952380953},{"$f":"D963/Author1Sections","v":9.5238095238095233E-2},{"$f":"E963/Author2Sections","v":1},{"$f":"COUNTIF(OFFSET(H963,0,0,1,Author1Sections),\">0\")","v":2},{"$f":"COUNTIF(OFFSET(H963,0,Author1Sections,1,Author2Sections),\"=0\")","v":8},2201,"shortly",0,0,0,0.1,0,0,0,0,0,0,0,0,0,0,0,0,0,0,0,0,7.0372980000000002E-2,0,0,0,0,0,0,0,0,"sorrowes","cæsure"]
[{"$f":"B964+C964","v":1.0952380952380953},{"$f":"D964/Author1Sections","v":9.5238095238095233E-2},{"$f":"E964/Author2Sections","v":1},{"$f":"COUNTIF(OFFSET(H964,0,0,1,Author1Sections),\">0\")","v":2},{"$f":"COUNTIF(OFFSET(H964,0,Author1Sections,1,Author2Sections),\"=0\")","v":8},2204,"shrines",0,0,0,0.1,0,0,0,0,0,0.1,0,0,0,0,0,0,0,0,0,0,0,0,0,0,0,0,0,0,0,"soueraigne","daff'd"]
[{"$f":"B965+C965","v":1.0952380952380953},{"$f":"D965/Author1Sections","v":9.5238095238095233E-2},{"$f":"E965/Author2Sections","v":1},{"$f":"COUNTIF(OFFSET(H965,0,0,1,Author1Sections),\">0\")","v":2},{"$f":"COUNTIF(OFFSET(H965,0,Author1Sections,1,Author2Sections),\"=0\")","v":8},2205,"sicknesse",0,0,0,0,0,0,0,0,0,0,0,0,0,0,0,0,0,0,0,0.1,7.0372980000000002E-2,0,0,0,0,0,0,0,0,"souls","daffadillies"]
[{"$f":"B966+C966","v":1.0952380952380953},{"$f":"D966/Author1Sections","v":9.5238095238095233E-2},{"$f":"E966/Author2Sections","v":1},{"$f":"COUNTIF(OFFSET(H966,0,0,1,Author1Sections),\">0\")","v":2},{"$f":"COUNTIF(OFFSET(H966,0,Author1Sections,1,Author2Sections),\"=0\")","v":8},2207,"silke",0,0,0,0,7.4183979999999997E-2,0,0.1,0,0,0,0,0,0,0,0,0,0,0,0,0,0,0,0,0,0,0,0,0,0,"speaking","daffodil"]
[{"$f":"B967+C967","v":1.0952380952380953},{"$f":"D967/Author1Sections","v":9.5238095238095233E-2},{"$f":"E967/Author2Sections","v":1},{"$f":"COUNTIF(OFFSET(H967,0,0,1,Author1Sections),\">0\")","v":2},{"$f":"COUNTIF(OFFSET(H967,0,Author1Sections,1,Author2Sections),\"=0\")","v":8},2210,"six",0,0,0,0,0,0.1,0.1,0,0,0,0,0,0,0,0,0,0,0,0,0,0,0,0,0,0,0,0,0,0,"spide","daisies"]
[{"$f":"B968+C968","v":1.0952380952380953},{"$f":"D968/Author1Sections","v":9.5238095238095233E-2},{"$f":"E968/Author2Sections","v":1},{"$f":"COUNTIF(OFFSET(H968,0,0,1,Author1Sections),\">0\")","v":2},{"$f":"COUNTIF(OFFSET(H968,0,Author1Sections,1,Author2Sections),\"=0\")","v":8},2211,"skie",0,0,0,0.1,7.4183979999999997E-2,0,0,0,0,0,0,0,0,0,0,0,0,0,0,0,0,0,0,0,0,0,0,0,0,"spie","dale"]
[{"$f":"B969+C969","v":1.0952380952380953},{"$f":"D969/Author1Sections","v":9.5238095238095233E-2},{"$f":"E969/Author2Sections","v":1},{"$f":"COUNTIF(OFFSET(H969,0,0,1,Author1Sections),\">0\")","v":2},{"$f":"COUNTIF(OFFSET(H969,0,Author1Sections,1,Author2Sections),\"=0\")","v":8},2216,"smile",0,0,0,0,0,0,0,0,0,0,0,0,0.1,0,0,0,0.1,0,0,0,0,0,0,0,0,0,0,0,0,"spurre","dally"]
[{"$f":"B970+C970","v":1.0952380952380953},{"$f":"D970/Author1Sections","v":9.5238095238095233E-2},{"$f":"E970/Author2Sections","v":1},{"$f":"COUNTIF(OFFSET(H970,0,0,1,Author1Sections),\">0\")","v":2},{"$f":"COUNTIF(OFFSET(H970,0,Author1Sections,1,Author2Sections),\"=0\")","v":8},2220,"sobs",0,0,0,0,0,0,0,0,0,0,0,0,0,0.1,0,0,0,0,0,0.1,0,0,0,0,0,0,0,0,0,"staire","dames"]
[{"$f":"B971+C971","v":1.0952380952380953},{"$f":"D971/Author1Sections","v":9.5238095238095233E-2},{"$f":"E971/Author2Sections","v":1},{"$f":"COUNTIF(OFFSET(H971,0,0,1,Author1Sections),\">0\")","v":2},{"$f":"COUNTIF(OFFSET(H971,0,Author1Sections,1,Author2Sections),\"=0\")","v":8},2223,"sooth",0,0,0,0,0,0.1,0,0,0.1,0,0,0,0,0,0,0,0,0,0,0,0,0,0,0,0,0,0,0,0,"standing","damned"]
[{"$f":"B972+C972","v":1.0952380952380953},{"$f":"D972/Author1Sections","v":9.5238095238095233E-2},{"$f":"E972/Author2Sections","v":1},{"$f":"COUNTIF(OFFSET(H972,0,0,1,Author1Sections),\">0\")","v":2},{"$f":"COUNTIF(OFFSET(H972,0,Author1Sections,1,Author2Sections),\"=0\")","v":8},2224,"sorrowes",0,0,0,0,0,0,0,0,0,0,0,0,0,0,0,0,0,0,0,0.1,7.0372980000000002E-2,0,0,0,0,0,0,0,0,"starre","damætas"]
[{"$f":"B973+C973","v":1.0952380952380953},{"$f":"D973/Author1Sections","v":9.5238095238095233E-2},{"$f":"E973/Author2Sections","v":1},{"$f":"COUNTIF(OFFSET(H973,0,0,1,Author1Sections),\">0\")","v":2},{"$f":"COUNTIF(OFFSET(H973,0,Author1Sections,1,Author2Sections),\"=0\")","v":8},2226,"soueraigne",0,0,0,0,0,0.1,0,0,0,0,0,0,0,0,0,0,0,0,0,0,7.0372980000000002E-2,0,0,0,0,0,0,0,0,"start","danc'd"]
[{"$f":"B974+C974","v":1.0952380952380953},{"$f":"D974/Author1Sections","v":9.5238095238095233E-2},{"$f":"E974/Author2Sections","v":1},{"$f":"COUNTIF(OFFSET(H974,0,0,1,Author1Sections),\">0\")","v":2},{"$f":"COUNTIF(OFFSET(H974,0,Author1Sections,1,Author2Sections),\"=0\")","v":8},2227,"souls",0,0,0,0,0,0,0,0,0,0,0.1,0.1,0,0,0,0,0,0,0,0,0,0,0,0,0,0,0,0,0,"stile","dancing"]
[{"$f":"B975+C975","v":1.0952380952380953},{"$f":"D975/Author1Sections","v":9.5238095238095233E-2},{"$f":"E975/Author2Sections","v":1},{"$f":"COUNTIF(OFFSET(H975,0,0,1,Author1Sections),\">0\")","v":2},{"$f":"COUNTIF(OFFSET(H975,0,Author1Sections,1,Author2Sections),\"=0\")","v":8},2229,"speaking",0,0,0.1,0,0,0,0.1,0,0,0,0,0,0,0,0,0,0,0,0,0,0,0,0,0,0,0,0,0,0,"strake","dappled"]
[{"$f":"B976+C976","v":1.0952380952380953},{"$f":"D976/Author1Sections","v":9.5238095238095233E-2},{"$f":"E976/Author2Sections","v":1},{"$f":"COUNTIF(OFFSET(H976,0,0,1,Author1Sections),\">0\")","v":2},{"$f":"COUNTIF(OFFSET(H976,0,Author1Sections,1,Author2Sections),\"=0\")","v":8},2232,"spide",0,0,0,0,7.4183979999999997E-2,0,0,0,0,0,0,0,0,0,0.1,0,0,0,0,0,0,0,0,0,0,0,0,0,0,"streaming","daunt"]
[{"$f":"B977+C977","v":1.0952380952380953},{"$f":"D977/Author1Sections","v":9.5238095238095233E-2},{"$f":"E977/Author2Sections","v":1},{"$f":"COUNTIF(OFFSET(H977,0,0,1,Author1Sections),\">0\")","v":2},{"$f":"COUNTIF(OFFSET(H977,0,Author1Sections,1,Author2Sections),\"=0\")","v":8},2233,"spie",0,0,0,0,0,0,0,0,0,0,0.1,0,0,0,0,0,0,0,0,0,7.0372980000000002E-2,0,0,0,0,0,0,0,0,"striuing","dawn"]
[{"$f":"B978+C978","v":1.0952380952380953},{"$f":"D978/Author1Sections","v":9.5238095238095233E-2},{"$f":"E978/Author2Sections","v":1},{"$f":"COUNTIF(OFFSET(H978,0,0,1,Author1Sections),\">0\")","v":2},{"$f":"COUNTIF(OFFSET(H978,0,Author1Sections,1,Author2Sections),\"=0\")","v":8},2241,"spurre",0,0,0,0,0,0,0,0,0,0,0,0,0,0,0.1,0,0,0,0.1,0,0,0,0,0,0,0,0,0,0,"stuffe","day's"]
[{"$f":"B979+C979","v":1.0952380952380953},{"$f":"D979/Author1Sections","v":9.5238095238095233E-2},{"$f":"E979/Author2Sections","v":1},{"$f":"COUNTIF(OFFSET(H979,0,0,1,Author1Sections),\">0\")","v":2},{"$f":"COUNTIF(OFFSET(H979,0,Author1Sections,1,Author2Sections),\"=0\")","v":8},2242,"staire",0.1,0,0,0.1,0,0,0,0,0,0,0,0,0,0,0,0,0,0,0,0,0,0,0,0,0,0,0,0,0,"swans","daylight"]
[{"$f":"B980+C980","v":1.0952380952380953},{"$f":"D980/Author1Sections","v":9.5238095238095233E-2},{"$f":"E980/Author2Sections","v":1},{"$f":"COUNTIF(OFFSET(H980,0,0,1,Author1Sections),\">0\")","v":2},{"$f":"COUNTIF(OFFSET(H980,0,Author1Sections,1,Author2Sections),\"=0\")","v":8},2244,"standing",0,0,0,0,7.4183979999999997E-2,0,0,0,0,0,0,0,0,0,0,0,0,0,0,0,7.0372980000000002E-2,0,0,0,0,0,0,0,0,"sware","deaf"]
[{"$f":"B981+C981","v":1.0952380952380953},{"$f":"D981/Author1Sections","v":9.5238095238095233E-2},{"$f":"E981/Author2Sections","v":1},{"$f":"COUNTIF(OFFSET(H981,0,0,1,Author1Sections),\">0\")","v":2},{"$f":"COUNTIF(OFFSET(H981,0,Author1Sections,1,Author2Sections),\"=0\")","v":8},2245,"starre",0,0,0,0,7.4183979999999997E-2,0,0,0,0,0,0,0,0,0,0,0,0,0.1,0,0,0,0,0,0,0,0,0,0,0,"sweetner","dearths"]
[{"$f":"B982+C982","v":1.0952380952380953},{"$f":"D982/Author1Sections","v":9.5238095238095233E-2},{"$f":"E982/Author2Sections","v":1},{"$f":"COUNTIF(OFFSET(H982,0,0,1,Author1Sections),\">0\")","v":2},{"$f":"COUNTIF(OFFSET(H982,0,Author1Sections,1,Author2Sections),\"=0\")","v":8},2246,"start",0,0,0,0,0,0,0,0,0,0,0,0.1,0,0.1,0,0,0,0,0,0,0,0,0,0,0,0,0,0,0,"sweetnesse","debonair"]
[{"$f":"B983+C983","v":1.0952380952380953},{"$f":"D983/Author1Sections","v":9.5238095238095233E-2},{"$f":"E983/Author2Sections","v":1},{"$f":"COUNTIF(OFFSET(H983,0,0,1,Author1Sections),\">0\")","v":2},{"$f":"COUNTIF(OFFSET(H983,0,Author1Sections,1,Author2Sections),\"=0\")","v":8},2250,"stile",0,0,0,0,0,0,0,0,0,0.1,0,0,0,0,0,0,0.1,0,0,0,0,0,0,0,0,0,0,0,0,"sword","deceits"]
[{"$f":"B984+C984","v":1.0952380952380953},{"$f":"D984/Author1Sections","v":9.5238095238095233E-2},{"$f":"E984/Author2Sections","v":1},{"$f":"COUNTIF(OFFSET(H984,0,0,1,Author1Sections),\">0\")","v":2},{"$f":"COUNTIF(OFFSET(H984,0,Author1Sections,1,Author2Sections),\"=0\")","v":8},2254,"strake",0,0,0,0,0,0,0,0,0,0.1,0,0,0,0,0,0,0,0,0,0.1,0,0,0,0,0,0,0,0,0,"teeth","deceive"]
[{"$f":"B985+C985","v":1.0952380952380953},{"$f":"D985/Author1Sections","v":9.5238095238095233E-2},{"$f":"E985/Author2Sections","v":1},{"$f":"COUNTIF(OFFSET(H985,0,0,1,Author1Sections),\">0\")","v":2},{"$f":"COUNTIF(OFFSET(H985,0,Author1Sections,1,Author2Sections),\"=0\")","v":8},2256,"streaming",0.1,0,0,0,0,0,0,0,0,0,0,0.1,0,0,0,0,0,0,0,0,0,0,0,0,0,0,0,0,0,"temple","deceives"]
[{"$f":"B986+C986","v":1.0952380952380953},{"$f":"D986/Author1Sections","v":9.5238095238095233E-2},{"$f":"E986/Author2Sections","v":1},{"$f":"COUNTIF(OFFSET(H986,0,0,1,Author1Sections),\">0\")","v":2},{"$f":"COUNTIF(OFFSET(H986,0,Author1Sections,1,Author2Sections),\"=0\")","v":8},2261,"striuing",0,0,0,0,0,0.1,0,0,0,0,0,0,0,0,0,0.1,0,0,0,0,0,0,0,0,0,0,0,0,0,"therewith","decent"]
[{"$f":"B987+C987","v":1.0952380952380953},{"$f":"D987/Author1Sections","v":9.5238095238095233E-2},{"$f":"E987/Author2Sections","v":1},{"$f":"COUNTIF(OFFSET(H987,0,0,1,Author1Sections),\">0\")","v":2},{"$f":"COUNTIF(OFFSET(H987,0,Author1Sections,1,Author2Sections),\"=0\")","v":8},2262,"stuffe",0,0,0,0,0,0,0,0,0,0,0,0,0,0,0,0.1,0,0,0,0,7.0372980000000002E-2,0,0,0,0,0,0,0,0,"thither","defac'd"]
[{"$f":"B988+C988","v":1.0952380952380953},{"$f":"D988/Author1Sections","v":9.5238095238095233E-2},{"$f":"E988/Author2Sections","v":1},{"$f":"COUNTIF(OFFSET(H988,0,0,1,Author1Sections),\">0\")","v":2},{"$f":"COUNTIF(OFFSET(H988,0,Author1Sections,1,Author2Sections),\"=0\")","v":8},2272,"swans",0,0,0,0,0,0,0,0,0,0.1,0,0,0,0,0.1,0,0,0,0,0,0,0,0,0,0,0,0,0,0,"throwes","deface"]
[{"$f":"B989+C989","v":1.0952380952380953},{"$f":"D989/Author1Sections","v":9.5238095238095233E-2},{"$f":"E989/Author2Sections","v":1},{"$f":"COUNTIF(OFFSET(H989,0,0,1,Author1Sections),\">0\")","v":2},{"$f":"COUNTIF(OFFSET(H989,0,Author1Sections,1,Author2Sections),\"=0\")","v":8},2273,"sware",0,0,0,0,0,0,0,0,0,0,0.1,0,0,0,0,0,0,0,0,0.1,0,0,0,0,0,0,0,0,0,"tired","defiling"]
[{"$f":"B990+C990","v":1.0952380952380953},{"$f":"D990/Author1Sections","v":9.5238095238095233E-2},{"$f":"E990/Author2Sections","v":1},{"$f":"COUNTIF(OFFSET(H990,0,0,1,Author1Sections),\">0\")","v":2},{"$f":"COUNTIF(OFFSET(H990,0,Author1Sections,1,Author2Sections),\"=0\")","v":8},2274,"sweetner",0,0,0,0,0,0,0,0,0,0,0,0,0,0,0,0,0,0.1,0.1,0,0,0,0,0,0,0,0,0,0,"titles","deified"]
[{"$f":"B991+C991","v":1.0952380952380953},{"$f":"D991/Author1Sections","v":9.5238095238095233E-2},{"$f":"E991/Author2Sections","v":1},{"$f":"COUNTIF(OFFSET(H991,0,0,1,Author1Sections),\">0\")","v":2},{"$f":"COUNTIF(OFFSET(H991,0,Author1Sections,1,Author2Sections),\"=0\")","v":8},2275,"sweetnesse",0,0,0,0,0,0,0,0,0,0,0,0,0,0,0,0,0,0.1,0,0,7.0372980000000002E-2,0,0,0,0,0,0,0,0,"totall","deign"]
[{"$f":"B992+C992","v":1.0952380952380953},{"$f":"D992/Author1Sections","v":9.5238095238095233E-2},{"$f":"E992/Author2Sections","v":1},{"$f":"COUNTIF(OFFSET(H992,0,0,1,Author1Sections),\">0\")","v":2},{"$f":"COUNTIF(OFFSET(H992,0,Author1Sections,1,Author2Sections),\"=0\")","v":8},2277,"sword",0,0,0,0,0,0,0,0,0,0.1,0,0,0,0,0,0,0,0.1,0,0,0,0,0,0,0,0,0,0,0,"traine","deluding"]
[{"$f":"B993+C993","v":1.0952380952380953},{"$f":"D993/Author1Sections","v":9.5238095238095233E-2},{"$f":"E993/Author2Sections","v":1},{"$f":"COUNTIF(OFFSET(H993,0,0,1,Author1Sections),\">0\")","v":2},{"$f":"COUNTIF(OFFSET(H993,0,Author1Sections,1,Author2Sections),\"=0\")","v":8},2283,"teeth",0,0,0,0,0,0.1,0,0,0,0,0,0,0.1,0,0,0,0,0,0,0,0,0,0,0,0,0,0,0,0,"troian","demand"]
[{"$f":"B994+C994","v":1.0952380952380953},{"$f":"D994/Author1Sections","v":9.5238095238095233E-2},{"$f":"E994/Author2Sections","v":1},{"$f":"COUNTIF(OFFSET(H994,0,0,1,Author1Sections),\">0\")","v":2},{"$f":"COUNTIF(OFFSET(H994,0,Author1Sections,1,Author2Sections),\"=0\")","v":8},2284,"temple",0,0,0,0,0,0,0,0,0,0.1,0,0,0,0.1,0,0,0,0,0,0,0,0,0,0,0,0,0,0,0,"tropes","demure"]
[{"$f":"B995+C995","v":1.0952380952380953},{"$f":"D995/Author1Sections","v":9.5238095238095233E-2},{"$f":"E995/Author2Sections","v":1},{"$f":"COUNTIF(OFFSET(H995,0,0,1,Author1Sections),\">0\")","v":2},{"$f":"COUNTIF(OFFSET(H995,0,Author1Sections,1,Author2Sections),\"=0\")","v":8},2288,"therewith",0,0,0,0,0,0,0,0,0,0,0.1,0,0,0,0,0,0,0.1,0,0,0,0,0,0,0,0,0,0,0,"trouble","denial"]
[{"$f":"B996+C996","v":1.0952380952380953},{"$f":"D996/Author1Sections","v":9.5238095238095233E-2},{"$f":"E996/Author2Sections","v":1},{"$f":"COUNTIF(OFFSET(H996,0,0,1,Author1Sections),\">0\")","v":2},{"$f":"COUNTIF(OFFSET(H996,0,Author1Sections,1,Author2Sections),\"=0\")","v":8},2290,"thither",0,0,0,0,0,0.1,0,0,0,0,0.1,0,0,0,0,0,0,0,0,0,0,0,0,0,0,0,0,0,0,"trueth","denied"]
[{"$f":"B997+C997","v":1.0952380952380953},{"$f":"D997/Author1Sections","v":9.5238095238095233E-2},{"$f":"E997/Author2Sections","v":1},{"$f":"COUNTIF(OFFSET(H997,0,0,1,Author1Sections),\">0\")","v":2},{"$f":"COUNTIF(OFFSET(H997,0,Author1Sections,1,Author2Sections),\"=0\")","v":8},2292,"throwes",0,0,0,0,0,0,0,0,0.1,0,0,0,0,0,0,0.1,0,0,0,0,0,0,0,0,0,0,0,0,0,"trust","departest"]
[{"$f":"B998+C998","v":1.0952380952380953},{"$f":"D998/Author1Sections","v":9.5238095238095233E-2},{"$f":"E998/Author2Sections","v":1},{"$f":"COUNTIF(OFFSET(H998,0,0,1,Author1Sections),\">0\")","v":2},{"$f":"COUNTIF(OFFSET(H998,0,Author1Sections,1,Author2Sections),\"=0\")","v":8},2294,"tired",0,0,0,0,0,0,0,0,0,0,0,0,0,0,0,0,0,0,0,0.1,7.0372980000000002E-2,0,0,0,0,0,0,0,0,"tuch","depend"]
[{"$f":"B999+C999","v":1.0952380952380953},{"$f":"D999/Author1Sections","v":9.5238095238095233E-2},{"$f":"E999/Author2Sections","v":1},{"$f":"COUNTIF(OFFSET(H999,0,0,1,Author1Sections),\">0\")","v":2},{"$f":"COUNTIF(OFFSET(H999,0,Author1Sections,1,Author2Sections),\"=0\")","v":8},2295,"titles",0,0,0,0,0,0.1,0,0,0.1,0,0,0,0,0,0,0,0,0,0,0,0,0,0,0,0,0,0,0,0,"turkish","derides"]
[{"$f":"B1000+C1000","v":1.0952380952380953},{"$f":"D1000/Author1Sections","v":9.5238095238095233E-2},{"$f":"E1000/Author2Sections","v":1},{"$f":"COUNTIF(OFFSET(H1000,0,0,1,Author1Sections),\">0\")","v":2},{"$f":"COUNTIF(OFFSET(H1000,0,Author1Sections,1,Author2Sections),\"=0\")","v":8},2300,"totall",0,0,0,0,0,0,0,0,0,0,0,0,0,0,0,0,0,0,0.1,0.1,0,0,0,0,0,0,0,0,0,"turnes","derive"]
[{"$f":"B1001+C1001","v":1.0952380952380953},{"$f":"D1001/Author1Sections","v":9.5238095238095233E-2},{"$f":"E1001/Author2Sections","v":1},{"$f":"COUNTIF(OFFSET(H1001,0,0,1,Author1Sections),\">0\")","v":2},{"$f":"COUNTIF(OFFSET(H1001,0,Author1Sections,1,Author2Sections),\"=0\")","v":8},2304,"traine",0,0,0,0,0,0.1,0,0,0,0,0,0,0,0,0,0,0,0,0,0.1,0,0,0,0,0,0,0,0,0,"twinnes","descent"]
[{"$f":"B1002+C1002","v":1.0952380952380953},{"$f":"D1002/Author1Sections","v":9.5238095238095233E-2},{"$f":"E1002/Author2Sections","v":1},{"$f":"COUNTIF(OFFSET(H1002,0,0,1,Author1Sections),\">0\")","v":2},{"$f":"COUNTIF(OFFSET(H1002,0,Author1Sections,1,Author2Sections),\"=0\")","v":8},2307,"troian",0,0,0,0,0,0.1,0,0,0,0,0,0,0,0,0,0,0,0,0.1,0,0,0,0,0,0,0,0,0,0,"tyrannie","deserved"]
[{"$f":"B1003+C1003","v":1.0952380952380953},{"$f":"D1003/Author1Sections","v":9.5238095238095233E-2},{"$f":"E1003/Author2Sections","v":1},{"$f":"COUNTIF(OFFSET(H1003,0,0,1,Author1Sections),\">0\")","v":2},{"$f":"COUNTIF(OFFSET(H1003,0,Author1Sections,1,Author2Sections),\"=0\")","v":8},2308,"tropes",0,0,0,0,0,0,0,0,0.1,0,0,0,0,0,0,0.1,0,0,0,0,0,0,0,0,0,0,0,0,0,"usde","design"]
[{"$f":"B1004+C1004","v":1.0952380952380953},{"$f":"D1004/Author1Sections","v":9.5238095238095233E-2},{"$f":"E1004/Author2Sections","v":1},{"$f":"COUNTIF(OFFSET(H1004,0,0,1,Author1Sections),\">0\")","v":2},{"$f":"COUNTIF(OFFSET(H1004,0,Author1Sections,1,Author2Sections),\"=0\")","v":8},2310,"trouble",0,0,0,0,0,0,0.1,0.1,0,0,0,0,0,0,0,0,0,0,0,0,0,0,0,0,0,0,0,0,0,"vaile","despaired"]
[{"$f":"B1005+C1005","v":1.0952380952380953},{"$f":"D1005/Author1Sections","v":9.5238095238095233E-2},{"$f":"E1005/Author2Sections","v":1},{"$f":"COUNTIF(OFFSET(H1005,0,0,1,Author1Sections),\">0\")","v":2},{"$f":"COUNTIF(OFFSET(H1005,0,Author1Sections,1,Author2Sections),\"=0\")","v":8},2311,"trueth",0,0,0,0,0,0,0,0,0.1,0,0,0,0,0,0,0,0,0,0,0.1,0,0,0,0,0,0,0,0,0,"vanisht","despite"]
[{"$f":"B1006+C1006","v":1.0952380952380953},{"$f":"D1006/Author1Sections","v":9.5238095238095233E-2},{"$f":"E1006/Author2Sections","v":1},{"$f":"COUNTIF(OFFSET(H1006,0,0,1,Author1Sections),\">0\")","v":2},{"$f":"COUNTIF(OFFSET(H1006,0,Author1Sections,1,Author2Sections),\"=0\")","v":8},2312,"trust",0,0,0,0.1,0,0,0,0,0,0,0,0,0.1,0,0,0,0,0,0,0,0,0,0,0,0,0,0,0,0,"veritie","destin'd"]
[{"$f":"B1007+C1007","v":1.0952380952380953},{"$f":"D1007/Author1Sections","v":9.5238095238095233E-2},{"$f":"E1007/Author2Sections","v":1},{"$f":"COUNTIF(OFFSET(H1007,0,0,1,Author1Sections),\">0\")","v":2},{"$f":"COUNTIF(OFFSET(H1007,0,Author1Sections,1,Author2Sections),\"=0\")","v":8},2313,"tuch",0,0,0,0,0,0,0,0,0,0,0.1,0,0,0.1,0,0,0,0,0,0,0,0,0,0,0,0,0,0,0,"vewe","destined"]
[{"$f":"B1008+C1008","v":1.0952380952380953},{"$f":"D1008/Author1Sections","v":9.5238095238095233E-2},{"$f":"E1008/Author2Sections","v":1},{"$f":"COUNTIF(OFFSET(H1008,0,0,1,Author1Sections),\">0\")","v":2},{"$f":"COUNTIF(OFFSET(H1008,0,Author1Sections,1,Author2Sections),\"=0\")","v":8},2316,"turkish",0,0,0,0,0,0,0,0,0,0.1,0,0,0.1,0,0,0,0,0,0,0,0,0,0,0,0,0,0,0,0,"vexed","deva"]
[{"$f":"B1009+C1009","v":1.0952380952380953},{"$f":"D1009/Author1Sections","v":9.5238095238095233E-2},{"$f":"E1009/Author2Sections","v":1},{"$f":"COUNTIF(OFFSET(H1009,0,0,1,Author1Sections),\">0\")","v":2},{"$f":"COUNTIF(OFFSET(H1009,0,Author1Sections,1,Author2Sections),\"=0\")","v":8},2319,"turnes",0,0,0,0,0,0,0,0,0,0,0.1,0,0,0,0,0,0.1,0,0,0,0,0,0,0,0,0,0,0,0,"victorie","device"]
[{"$f":"B1010+C1010","v":1.0952380952380953},{"$f":"D1010/Author1Sections","v":9.5238095238095233E-2},{"$f":"E1010/Author2Sections","v":1},{"$f":"COUNTIF(OFFSET(H1010,0,0,1,Author1Sections),\">0\")","v":2},{"$f":"COUNTIF(OFFSET(H1010,0,Author1Sections,1,Author2Sections),\"=0\")","v":8},2321,"twinnes",0,0,0,0.1,0,0,0,0,0,0,0,0.1,0,0,0,0,0,0,0,0,0,0,0,0,0,0,0,0,0,"vile","devours"]
[{"$f":"B1011+C1011","v":1.0952380952380953},{"$f":"D1011/Author1Sections","v":9.5238095238095233E-2},{"$f":"E1011/Author2Sections","v":1},{"$f":"COUNTIF(OFFSET(H1011,0,0,1,Author1Sections),\">0\")","v":2},{"$f":"COUNTIF(OFFSET(H1011,0,Author1Sections,1,Author2Sections),\"=0\")","v":8},2324,"tyrannie",0,0,0,0,0,0,0,0,0.1,0,0,0,0,0,0.1,0,0,0,0,0,0,0,0,0,0,0,0,0,0,"vnfelt","devout"]
[{"$f":"B1012+C1012","v":1.0952380952380953},{"$f":"D1012/Author1Sections","v":9.5238095238095233E-2},{"$f":"E1012/Author2Sections","v":1},{"$f":"COUNTIF(OFFSET(H1012,0,0,1,Author1Sections),\">0\")","v":2},{"$f":"COUNTIF(OFFSET(H1012,0,Author1Sections,1,Author2Sections),\"=0\")","v":8},2330,"usde",0.1,0.1,0,0,0,0,0,0,0,0,0,0,0,0,0,0,0,0,0,0,0,0,0,0,0,0,0,0,0,"vnfit","dews"]
[{"$f":"B1013+C1013","v":1.0952380952380953},{"$f":"D1013/Author1Sections","v":9.5238095238095233E-2},{"$f":"E1013/Author2Sections","v":1},{"$f":"COUNTIF(OFFSET(H1013,0,0,1,Author1Sections),\">0\")","v":2},{"$f":"COUNTIF(OFFSET(H1013,0,Author1Sections,1,Author2Sections),\"=0\")","v":8},2332,"vaile",0,0,0,0,0,0,0,0,0,0.1,0,0,0,0,0,0,0,0,0,0.1,0,0,0,0,0,0,0,0,0,"vowed","dewy"]
[{"$f":"B1014+C1014","v":1.0952380952380953},{"$f":"D1014/Author1Sections","v":9.5238095238095233E-2},{"$f":"E1014/Author2Sections","v":1},{"$f":"COUNTIF(OFFSET(H1014,0,0,1,Author1Sections),\">0\")","v":2},{"$f":"COUNTIF(OFFSET(H1014,0,Author1Sections,1,Author2Sections),\"=0\")","v":8},2334,"vanisht",0,0.1,0,0,0,0,0,0,0,0,0,0,0,0,0,0,0,0,0,0,7.0372980000000002E-2,0,0,0,0,0,0,0,0,"vsed","dialect"]
[{"$f":"B1015+C1015","v":1.0952380952380953},{"$f":"D1015/Author1Sections","v":9.5238095238095233E-2},{"$f":"E1015/Author2Sections","v":1},{"$f":"COUNTIF(OFFSET(H1015,0,0,1,Author1Sections),\">0\")","v":2},{"$f":"COUNTIF(OFFSET(H1015,0,Author1Sections,1,Author2Sections),\"=0\")","v":8},2335,"veritie",0,0.1,0,0,0,0.1,0,0,0,0,0,0,0,0,0,0,0,0,0,0,0,0,0,0,0,0,0,0,0,"vsing","dialogued"]
[{"$f":"B1016+C1016","v":1.0952380952380953},{"$f":"D1016/Author1Sections","v":9.5238095238095233E-2},{"$f":"E1016/Author2Sections","v":1},{"$f":"COUNTIF(OFFSET(H1016,0,0,1,Author1Sections),\">0\")","v":2},{"$f":"COUNTIF(OFFSET(H1016,0,Author1Sections,1,Author2Sections),\"=0\")","v":8},2337,"vewe",0.1,0,0,0,7.4183979999999997E-2,0,0,0,0,0,0,0,0,0,0,0,0,0,0,0,0,0,0,0,0,0,0,0,0,"waite","diamond"]
[{"$f":"B1017+C1017","v":1.0952380952380953},{"$f":"D1017/Author1Sections","v":9.5238095238095233E-2},{"$f":"E1017/Author2Sections","v":1},{"$f":"COUNTIF(OFFSET(H1017,0,0,1,Author1Sections),\">0\")","v":2},{"$f":"COUNTIF(OFFSET(H1017,0,Author1Sections,1,Author2Sections),\"=0\")","v":8},2338,"vexed",0.1,0,0,0,0,0,0,0,0,0,0,0,0,0,0,0,0,0,0,0.1,0,0,0,0,0,0,0,0,0,"waited","diet"]
[{"$f":"B1018+C1018","v":1.0952380952380953},{"$f":"D1018/Author1Sections","v":9.5238095238095233E-2},{"$f":"E1018/Author2Sections","v":1},{"$f":"COUNTIF(OFFSET(H1018,0,0,1,Author1Sections),\">0\")","v":2},{"$f":"COUNTIF(OFFSET(H1018,0,Author1Sections,1,Author2Sections),\"=0\")","v":8},2340,"victorie",0,0,0,0,0,0,0,0,0,0,0.1,0,0,0.1,0,0,0,0,0,0,0,0,0,0,0,0,0,0,0,"wanting","dieted"]
[{"$f":"B1019+C1019","v":1.0952380952380953},{"$f":"D1019/Author1Sections","v":9.5238095238095233E-2},{"$f":"E1019/Author2Sections","v":1},{"$f":"COUNTIF(OFFSET(H1019,0,0,1,Author1Sections),\">0\")","v":2},{"$f":"COUNTIF(OFFSET(H1019,0,Author1Sections,1,Author2Sections),\"=0\")","v":8},2341,"vile",0,0,0,0.1,0,0.1,0,0,0,0,0,0,0,0,0,0,0,0,0,0,0,0,0,0,0,0,0,0,0,"wants","difference"]
[{"$f":"B1020+C1020","v":1.0952380952380953},{"$f":"D1020/Author1Sections","v":9.5238095238095233E-2},{"$f":"E1020/Author2Sections","v":1},{"$f":"COUNTIF(OFFSET(H1020,0,0,1,Author1Sections),\">0\")","v":2},{"$f":"COUNTIF(OFFSET(H1020,0,Author1Sections,1,Author2Sections),\"=0\")","v":8},2344,"vnfelt",0,0,0,0,0,0,0,0,0,0,0,0.1,0,0,0,0.1,0,0,0,0,0,0,0,0,0,0,0,0,0,"ware","different"]
[{"$f":"B1021+C1021","v":1.0952380952380953},{"$f":"D1021/Author1Sections","v":9.5238095238095233E-2},{"$f":"E1021/Author2Sections","v":1},{"$f":"COUNTIF(OFFSET(H1021,0,0,1,Author1Sections),\">0\")","v":2},{"$f":"COUNTIF(OFFSET(H1021,0,Author1Sections,1,Author2Sections),\"=0\")","v":8},2345,"vnfit",0,0,0,0,0,0,0,0,0,0,0.1,0,0,0,0,0,0,0.1,0,0,0,0,0,0,0,0,0,0,0,"warlike","digestive"]
[{"$f":"B1022+C1022","v":1.0952380952380953},{"$f":"D1022/Author1Sections","v":9.5238095238095233E-2},{"$f":"E1022/Author2Sections","v":1},{"$f":"COUNTIF(OFFSET(H1022,0,0,1,Author1Sections),\">0\")","v":2},{"$f":"COUNTIF(OFFSET(H1022,0,Author1Sections,1,Author2Sections),\"=0\")","v":8},2346,"vowed",0,0,0,0,0,0,0.1,0,0,0,0,0,0,0,0.1,0,0,0,0,0,0,0,0,0,0,0,0,0,0,"warned","dignify"]
[{"$f":"B1023+C1023","v":1.0952380952380953},{"$f":"D1023/Author1Sections","v":9.5238095238095233E-2},{"$f":"E1023/Author2Sections","v":1},{"$f":"COUNTIF(OFFSET(H1023,0,0,1,Author1Sections),\">0\")","v":2},{"$f":"COUNTIF(OFFSET(H1023,0,Author1Sections,1,Author2Sections),\"=0\")","v":8},2347,"vsed",0,0,0,0,0,0.1,0,0,0.1,0,0,0,0,0,0,0,0,0,0,0,0,0,0,0,0,0,0,0,0,"warre","dimple"]
[{"$f":"B1024+C1024","v":1.0952380952380953},{"$f":"D1024/Author1Sections","v":9.5238095238095233E-2},{"$f":"E1024/Author2Sections","v":1},{"$f":"COUNTIF(OFFSET(H1024,0,0,1,Author1Sections),\">0\")","v":2},{"$f":"COUNTIF(OFFSET(H1024,0,Author1Sections,1,Author2Sections),\"=0\")","v":8},2348,"vsing",0,0,0,0,0,0,0,0.1,0,0,0,0,0,0,0,0,0,0,0,0,7.0372980000000002E-2,0,0,0,0,0,0,0,0,"weedes","din"]
[{"$f":"B1025+C1025","v":1.0952380952380953},{"$f":"D1025/Author1Sections","v":9.5238095238095233E-2},{"$f":"E1025/Author2Sections","v":1},{"$f":"COUNTIF(OFFSET(H1025,0,0,1,Author1Sections),\">0\")","v":2},{"$f":"COUNTIF(OFFSET(H1025,0,Author1Sections,1,Author2Sections),\"=0\")","v":8},2352,"waite",0,0,0,0,0,0,0,0,0,0,0,0,0,0,0,0.1,0,0,0,0.1,0,0,0,0,0,0,0,0,0,"wel","dinner"]
[{"$f":"B1026+C1026","v":1.0952380952380953},{"$f":"D1026/Author1Sections","v":9.5238095238095233E-2},{"$f":"E1026/Author2Sections","v":1},{"$f":"COUNTIF(OFFSET(H1026,0,0,1,Author1Sections),\">0\")","v":2},{"$f":"COUNTIF(OFFSET(H1026,0,Author1Sections,1,Author2Sections),\"=0\")","v":8},2353,"waited",0,0,0,0,0,0,0.1,0,0,0,0,0,0,0,0,0,0,0,0,0.1,0,0,0,0,0,0,0,0,0,"wil","disciplined"]
[{"$f":"B1027+C1027","v":1.0952380952380953},{"$f":"D1027/Author1Sections","v":9.5238095238095233E-2},{"$f":"E1027/Author2Sections","v":1},{"$f":"COUNTIF(OFFSET(H1027,0,0,1,Author1Sections),\">0\")","v":2},{"$f":"COUNTIF(OFFSET(H1027,0,Author1Sections,1,Author2Sections),\"=0\")","v":8},2358,"wanting",0,0,0,0,0,0,0,0,0.1,0,0,0,0,0,0,0,0,0,0,0,7.0372980000000002E-2,0,0,0,0,0,0,0,0,"windowes","discontent"]
[{"$f":"B1028+C1028","v":1.0952380952380953},{"$f":"D1028/Author1Sections","v":9.5238095238095233E-2},{"$f":"E1028/Author2Sections","v":1},{"$f":"COUNTIF(OFFSET(H1028,0,0,1,Author1Sections),\">0\")","v":2},{"$f":"COUNTIF(OFFSET(H1028,0,Author1Sections,1,Author2Sections),\"=0\")","v":8},2359,"wants",0,0,0,0,0,0,0.1,0,0,0,0,0,0,0,0,0,0,0.1,0,0,0,0,0,0,0,0,0,0,0,"winged","disdains"]
[{"$f":"B1029+C1029","v":1.0952380952380953},{"$f":"D1029/Author1Sections","v":9.5238095238095233E-2},{"$f":"E1029/Author2Sections","v":1},{"$f":"COUNTIF(OFFSET(H1029,0,0,1,Author1Sections),\">0\")","v":2},{"$f":"COUNTIF(OFFSET(H1029,0,Author1Sections,1,Author2Sections),\"=0\")","v":8},2362,"ware",0,0,0,0,0,0,0,0,0,0,0,0,0.1,0,0,0,0,0,0,0.1,0,0,0,0,0,0,0,0,0,"wisedomes","disgrac'd"]
[{"$f":"B1030+C1030","v":1.0952380952380953},{"$f":"D1030/Author1Sections","v":9.5238095238095233E-2},{"$f":"E1030/Author2Sections","v":1},{"$f":"COUNTIF(OFFSET(H1030,0,0,1,Author1Sections),\">0\")","v":2},{"$f":"COUNTIF(OFFSET(H1030,0,Author1Sections,1,Author2Sections),\"=0\")","v":8},2363,"warlike",0.1,0.1,0,0,0,0,0,0,0,0,0,0,0,0,0,0,0,0,0,0,0,0,0,0,0,0,0,0,0,"witnesses","dismount"]
[{"$f":"B1031+C1031","v":1.0952380952380953},{"$f":"D1031/Author1Sections","v":9.5238095238095233E-2},{"$f":"E1031/Author2Sections","v":1},{"$f":"COUNTIF(OFFSET(H1031,0,0,1,Author1Sections),\">0\")","v":2},{"$f":"COUNTIF(OFFSET(H1031,0,Author1Sections,1,Author2Sections),\"=0\")","v":8},2365,"warned",0.1,0,0,0.1,0,0,0,0,0,0,0,0,0,0,0,0,0,0,0,0,0,0,0,0,0,0,0,0,0,"wofull","display'd"]
[{"$f":"B1032+C1032","v":1.0952380952380953},{"$f":"D1032/Author1Sections","v":9.5238095238095233E-2},{"$f":"E1032/Author2Sections","v":1},{"$f":"COUNTIF(OFFSET(H1032,0,0,1,Author1Sections),\">0\")","v":2},{"$f":"COUNTIF(OFFSET(H1032,0,Author1Sections,1,Author2Sections),\"=0\")","v":8},2366,"warre",0,0,0,0,0,0,0,0,0,0,0,0,0.1,0,0,0,0,0,0,0,7.0372980000000002E-2,0,0,0,0,0,0,0,0,"wondrous","dissolve"]
[{"$f":"B1033+C1033","v":1.0952380952380953},{"$f":"D1033/Author1Sections","v":9.5238095238095233E-2},{"$f":"E1033/Author2Sections","v":1},{"$f":"COUNTIF(OFFSET(H1033,0,0,1,Author1Sections),\">0\")","v":2},{"$f":"COUNTIF(OFFSET(H1033,0,Author1Sections,1,Author2Sections),\"=0\")","v":8},2372,"weedes",0.1,0,0,0,0,0,0,0,0,0,0,0,0,0,0,0,0,0,0,0,7.0372980000000002E-2,0,0,0,0,0,0,0,0,"wooed","distant"]
[{"$f":"B1034+C1034","v":1.0952380952380953},{"$f":"D1034/Author1Sections","v":9.5238095238095233E-2},{"$f":"E1034/Author2Sections","v":1},{"$f":"COUNTIF(OFFSET(H1034,0,0,1,Author1Sections),\">0\")","v":2},{"$f":"COUNTIF(OFFSET(H1034,0,Author1Sections,1,Author2Sections),\"=0\")","v":8},2375,"wel",0,0,0,0,0,0,0,0,0,0,0.1,0.1,0,0,0,0,0,0,0,0,0,0,0,0,0,0,0,0,0,"wooll","distillation"]
[{"$f":"B1035+C1035","v":1.0952380952380953},{"$f":"D1035/Author1Sections","v":9.5238095238095233E-2},{"$f":"E1035/Author2Sections","v":1},{"$f":"COUNTIF(OFFSET(H1035,0,0,1,Author1Sections),\">0\")","v":2},{"$f":"COUNTIF(OFFSET(H1035,0,Author1Sections,1,Author2Sections),\"=0\")","v":8},2380,"wil",0,0,0,0,0,0.1,0.1,0,0,0,0,0,0,0,0,0,0,0,0,0,0,0,0,0,0,0,0,0,0,"wore","distract"]
[{"$f":"B1036+C1036","v":1.0952380952380953},{"$f":"D1036/Author1Sections","v":9.5238095238095233E-2},{"$f":"E1036/Author2Sections","v":1},{"$f":"COUNTIF(OFFSET(H1036,0,0,1,Author1Sections),\">0\")","v":2},{"$f":"COUNTIF(OFFSET(H1036,0,Author1Sections,1,Author2Sections),\"=0\")","v":8},2382,"windowes",0,0,0,0,0,0,0,0,0,0.1,0,0,0,0,0,0,0,0,0,0,7.0372980000000002E-2,0,0,0,0,0,0,0,0,"worship","distractedly"]
[{"$f":"B1037+C1037","v":1.0952380952380953},{"$f":"D1037/Author1Sections","v":9.5238095238095233E-2},{"$f":"E1037/Author2Sections","v":1},{"$f":"COUNTIF(OFFSET(H1037,0,0,1,Author1Sections),\">0\")","v":2},{"$f":"COUNTIF(OFFSET(H1037,0,Author1Sections,1,Author2Sections),\"=0\")","v":8},2385,"winged",0,0.1,0,0,7.4183979999999997E-2,0,0,0,0,0,0,0,0,0,0,0,0,0,0,0,0,0,0,0,0,0,0,0,0,"worshipfull","disturb"]
[{"$f":"B1038+C1038","v":1.0952380952380953},{"$f":"D1038/Author1Sections","v":9.5238095238095233E-2},{"$f":"E1038/Author2Sections","v":1},{"$f":"COUNTIF(OFFSET(H1038,0,0,1,Author1Sections),\">0\")","v":2},{"$f":"COUNTIF(OFFSET(H1038,0,Author1Sections,1,Author2Sections),\"=0\")","v":8},2388,"wisedomes",0,0,0,0,0,0,0,0,0,0,0,0.1,0,0,0,0,0,0,0.1,0,0,0,0,0,0,0,0,0,0,"wrapt","diverted"]
[{"$f":"B1039+C1039","v":1.0952380952380953},{"$f":"D1039/Author1Sections","v":9.5238095238095233E-2},{"$f":"E1039/Author2Sections","v":1},{"$f":"COUNTIF(OFFSET(H1039,0,0,1,Author1Sections),\">0\")","v":2},{"$f":"COUNTIF(OFFSET(H1039,0,Author1Sections,1,Author2Sections),\"=0\")","v":8},2390,"witnesses",0,0,0,0,0,0.1,0,0.1,0,0,0,0,0,0,0,0,0,0,0,0,0,0,0,0,0,0,0,0,0,"writ","divide"]
[{"$f":"B1040+C1040","v":1.0952380952380953},{"$f":"D1040/Author1Sections","v":9.5238095238095233E-2},{"$f":"E1040/Author2Sections","v":1},{"$f":"COUNTIF(OFFSET(H1040,0,0,1,Author1Sections),\">0\")","v":2},{"$f":"COUNTIF(OFFSET(H1040,0,Author1Sections,1,Author2Sections),\"=0\")","v":8},2392,"wofull",0.1,0,0,0,0,0,0,0.1,0,0,0,0,0,0,0,0,0,0,0,0,0,0,0,0,0,0,0,0,0,"yeares","divinest"]
[{"$f":"B1041+C1041","v":1.0952380952380953},{"$f":"D1041/Author1Sections","v":9.5238095238095233E-2},{"$f":"E1041/Author2Sections","v":1},{"$f":"COUNTIF(OFFSET(H1041,0,0,1,Author1Sections),\">0\")","v":2},{"$f":"COUNTIF(OFFSET(H1041,0,Author1Sections,1,Author2Sections),\"=0\")","v":8},2393,"wondrous",0.1,0,0,0,7.4183979999999997E-2,0,0,0,0,0,0,0,0,0,0,0,0,0,0,0,0,0,0,0,0,0,0,0,0,"yonder","division"]
[{"$f":"B1042+C1042","v":1.0952380952380953},{"$f":"D1042/Author1Sections","v":9.5238095238095233E-2},{"$f":"E1042/Author2Sections","v":1},{"$f":"COUNTIF(OFFSET(H1042,0,0,1,Author1Sections),\">0\")","v":2},{"$f":"COUNTIF(OFFSET(H1042,0,Author1Sections,1,Author2Sections),\"=0\")","v":8},2396,"wooed",0,0,0,0,0,0,0,0,0,0,0,0,0,0.1,0,0.1,0,0,0,0,0,0,0,0,0,0,0,0,0,"you","dolphins"]
[{"$f":"B1043+C1043","v":1.0952380952380953},{"$f":"D1043/Author1Sections","v":9.5238095238095233E-2},{"$f":"E1043/Author2Sections","v":1},{"$f":"COUNTIF(OFFSET(H1043,0,0,1,Author1Sections),\">0\")","v":2},{"$f":"COUNTIF(OFFSET(H1043,0,Author1Sections,1,Author2Sections),\"=0\")","v":8},2397,"wooll",0,0,0,0,0,0,0.1,0.1,0,0,0,0,0,0,0,0,0,0,0,0,0,0,0,0,0,0,0,0,0,"quite","doom'd"]
[{"$f":"B1044+C1044","v":1.0952380952380953},{"$f":"D1044/Author1Sections","v":9.5238095238095233E-2},{"$f":"E1044/Author2Sections","v":1},{"$f":"COUNTIF(OFFSET(H1044,0,0,1,Author1Sections),\">0\")","v":2},{"$f":"COUNTIF(OFFSET(H1044,0,Author1Sections,1,Author2Sections),\"=0\")","v":8},2398,"wore",0.1,0,0,0,0,0,0.1,0,0,0,0,0,0,0,0,0,0,0,0,0,0,0,0,0,0,0,0,0,0,"thing","doric"]
[{"$f":"B1045+C1045","v":1.0952380952380953},{"$f":"D1045/Author1Sections","v":9.5238095238095233E-2},{"$f":"E1045/Author2Sections","v":1},{"$f":"COUNTIF(OFFSET(H1045,0,0,1,Author1Sections),\">0\")","v":2},{"$f":"COUNTIF(OFFSET(H1045,0,Author1Sections,1,Author2Sections),\"=0\")","v":8},2399,"worship",0,0,0.1,0.1,0,0,0,0,0,0,0,0,0,0,0,0,0,0,0,0,0,0,0,0,0,0,0,0,0,"muses","dote"]
[{"$f":"B1046+C1046","v":1.0952380952380953},{"$f":"D1046/Author1Sections","v":9.5238095238095233E-2},{"$f":"E1046/Author2Sections","v":1},{"$f":"COUNTIF(OFFSET(H1046,0,0,1,Author1Sections),\">0\")","v":2},{"$f":"COUNTIF(OFFSET(H1046,0,Author1Sections,1,Author2Sections),\"=0\")","v":8},2400,"worshipfull",0,0,0,0,0,0.1,0.1,0,0,0,0,0,0,0,0,0,0,0,0,0,0,0,0,0,0,0,0,0,0,"rest","dragon"]
[{"$f":"B1047+C1047","v":1.0952380952380953},{"$f":"D1047/Author1Sections","v":9.5238095238095233E-2},{"$f":"E1047/Author2Sections","v":1},{"$f":"COUNTIF(OFFSET(H1047,0,0,1,Author1Sections),\">0\")","v":2},{"$f":"COUNTIF(OFFSET(H1047,0,Author1Sections,1,Author2Sections),\"=0\")","v":8},2401,"wrapt",0,0,0,0,0,0,0,0,0,0.1,0,0,0.1,0,0,0,0,0,0,0,0,0,0,0,0,0,0,0,0,"truth","dreams"]
[{"$f":"B1048+C1048","v":1.0952380952380953},{"$f":"D1048/Author1Sections","v":9.5238095238095233E-2},{"$f":"E1048/Author2Sections","v":1},{"$f":"COUNTIF(OFFSET(H1048,0,0,1,Author1Sections),\">0\")","v":2},{"$f":"COUNTIF(OFFSET(H1048,0,Author1Sections,1,Author2Sections),\"=0\")","v":8},2403,"writ",0,0.1,0,0.1,0,0,0,0,0,0,0,0,0,0,0,0,0,0,0,0,0,0,0,0,0,0,0,0,0,"breed","drear"]
[{"$f":"B1049+C1049","v":1.0952380952380953},{"$f":"D1049/Author1Sections","v":9.5238095238095233E-2},{"$f":"E1049/Author2Sections","v":1},{"$f":"COUNTIF(OFFSET(H1049,0,0,1,Author1Sections),\">0\")","v":2},{"$f":"COUNTIF(OFFSET(H1049,0,Author1Sections,1,Author2Sections),\"=0\")","v":8},2406,"yeares",0.1,0,0,0,0,0,0,0,0,0,0,0,0,0,0,0,0,0,0.1,0,0,0,0,0,0,0,0,0,0,"what","dressed"]
[{"$f":"B1050+C1050","v":1.0952380952380953},{"$f":"D1050/Author1Sections","v":9.5238095238095233E-2},{"$f":"E1050/Author2Sections","v":1},{"$f":"COUNTIF(OFFSET(H1050,0,0,1,Author1Sections),\">0\")","v":2},{"$f":"COUNTIF(OFFSET(H1050,0,Author1Sections,1,Author2Sections),\"=0\")","v":8},2409,"yonder",0,0,0,0,0,0,0.1,0.1,0,0,0,0,0,0,0,0,0,0,0,0,0,0,0,0,0,0,0,0,0,"yet","dresses"]
[{"$f":"B1051+C1051","v":1.0892857142857144},{"$f":"D1051/Author1Sections","v":0.7142857142857143},{"$f":"E1051/Author2Sections","v":0.375},{"$f":"COUNTIF(OFFSET(H1051,0,0,1,Author1Sections),\">0\")","v":15},{"$f":"COUNTIF(OFFSET(H1051,0,Author1Sections,1,Author2Sections),\"=0\")","v":3},29,"you",0,0.3,0,0,0,1,1.8,1.5,1,0,0.4,0.2,0.1,0.2,0.6,0.4,0.1,0,1.9,1.8,0.21111894,0.39525690000000002,0.1,0,0,0,0.8,0.2,0.70921990000000001,"more","dried"]
[{"$f":"B1052+C1052","v":1.0833333333333333},{"$f":"D1052/Author1Sections","v":0.33333333333333331},{"$f":"E1052/Author2Sections","v":0.75},{"$f":"COUNTIF(OFFSET(H1052,0,0,1,Author1Sections),\">0\")","v":7},{"$f":"COUNTIF(OFFSET(H1052,0,Author1Sections,1,Author2Sections),\"=0\")","v":6},313,"quite",0.1,0.4,0,0.1,7.4183979999999997E-2,0,0,0,0,0,0.1,0.1,0,0,0.1,0,0,0,0,0,0,0,0.1,0,0,0.1,0,0,0,"know","drooping"]
[{"$f":"B1053+C1053","v":1.0833333333333333},{"$f":"D1053/Author1Sections","v":0.33333333333333331},{"$f":"E1053/Author2Sections","v":0.75},{"$f":"COUNTIF(OFFSET(H1053,0,0,1,Author1Sections),\">0\")","v":7},{"$f":"COUNTIF(OFFSET(H1053,0,Author1Sections,1,Author2Sections),\"=0\")","v":6},320,"thing",0.1,0.1,0.1,0,7.4183979999999997E-2,0,0,0,0,0,0,0.1,0.2,0,0,0,0.1,0,0,0,0,0.13175231000000001,0,0,0,0,0,0,0.17730497000000001,"lady","dropp'd"]
[{"$f":"B1054+C1054","v":1.0833333333333333},{"$f":"D1054/Author1Sections","v":0.33333333333333331},{"$f":"E1054/Author2Sections","v":0.75},{"$f":"COUNTIF(OFFSET(H1054,0,0,1,Author1Sections),\">0\")","v":7},{"$f":"COUNTIF(OFFSET(H1054,0,Author1Sections,1,Author2Sections),\"=0\")","v":6},343,"muses",0,0,0.1,0.1,0,0,0.1,0,0,0.2,0,0,0,0,0,0.2,0,0.1,0.1,0,0,6.5876156000000005E-2,0,0.1,0,0,0,0,0,"brave","drove"]
[{"$f":"B1055+C1055","v":1.0833333333333333},{"$f":"D1055/Author1Sections","v":0.33333333333333331},{"$f":"E1055/Author2Sections","v":0.75},{"$f":"COUNTIF(OFFSET(H1055,0,0,1,Author1Sections),\">0\")","v":7},{"$f":"COUNTIF(OFFSET(H1055,0,Author1Sections,1,Author2Sections),\"=0\")","v":6},346,"rest",0.2,0,0,0.1,0.14836795999999999,0.1,0,0,0,0.1,0,0,0,0,0,0,0,0,0,0.1,7.0372980000000002E-2,6.5876156000000005E-2,0.1,0,0,0,0,0,0,"woes","drowning"]
[{"$f":"B1056+C1056","v":1.0833333333333333},{"$f":"D1056/Author1Sections","v":0.33333333333333331},{"$f":"E1056/Author2Sections","v":0.75},{"$f":"COUNTIF(OFFSET(H1056,0,0,1,Author1Sections),\">0\")","v":7},{"$f":"COUNTIF(OFFSET(H1056,0,Author1Sections,1,Author2Sections),\"=0\")","v":6},353,"truth",0,0,0,0,0,0,0,0,0,0.1,0.1,0.1,0.1,0.1,0,0,0.3,0,0,0.1,0,0,0,0,0,0,0.1,0.1,0,"alone","drowsy"]
[{"$f":"B1057+C1057","v":1.0833333333333333},{"$f":"D1057/Author1Sections","v":0.33333333333333331},{"$f":"E1057/Author2Sections","v":0.75},{"$f":"COUNTIF(OFFSET(H1057,0,0,1,Author1Sections),\">0\")","v":7},{"$f":"COUNTIF(OFFSET(H1057,0,Author1Sections,1,Author2Sections),\"=0\")","v":6},360,"breed",0,0,0,0,0,0,0,0,0,0.1,0.1,0,0.1,0.2,0.1,0.1,0.1,0,0,0,0,0,0,0,0,0.1,0.1,0,0,"hid","drudging"]
[{"$f":"B1058+C1058","v":1.0773809523809523},{"$f":"D1058/Author1Sections","v":0.95238095238095233},{"$f":"E1058/Author2Sections","v":0.125},{"$f":"COUNTIF(OFFSET(H1058,0,0,1,Author1Sections),\">0\")","v":20},{"$f":"COUNTIF(OFFSET(H1058,0,Author1Sections,1,Author2Sections),\"=0\")","v":1},37,"what",0.6,0.2,0.3,0,0.14836795999999999,0.1,0.2,0.2,0.6,0.5,0.4,0.2,1.1000000000000001,0.2,0.4,0.3,0.6,0.7,0.1,0.3,0.56298380000000003,0.19762845000000001,0,0.4,0.54127199999999998,0.4,0.2,0.8,0.79787235999999995,"labour","druids"]
[{"$f":"B1059+C1059","v":1.0773809523809523},{"$f":"D1059/Author1Sections","v":0.95238095238095233},{"$f":"E1059/Author2Sections","v":0.125},{"$f":"COUNTIF(OFFSET(H1059,0,0,1,Author1Sections),\">0\")","v":20},{"$f":"COUNTIF(OFFSET(H1059,0,Author1Sections,1,Author2Sections),\"=0\")","v":1},49,"yet",0.2,0.4,0.4,0,0.22255193000000001,0.2,0.1,0.3,0.3,0.3,0.6,0.4,0.4,0.7,0.5,0.2,0.2,0.4,0.2,0.8,7.0372980000000002E-2,0.6587615,0,0.3,0.13531799999999999,0.2,0.2,0.5,0.17730497000000001,"matter","duly"]
[{"$f":"B1060+C1060","v":1.0773809523809523},{"$f":"D1060/Author1Sections","v":0.95238095238095233},{"$f":"E1060/Author2Sections","v":0.125},{"$f":"COUNTIF(OFFSET(H1060,0,0,1,Author1Sections),\">0\")","v":20},{"$f":"COUNTIF(OFFSET(H1060,0,Author1Sections,1,Author2Sections),\"=0\")","v":1},60,"more",0.1,0.2,0.2,0,7.4183979999999997E-2,0.1,0.3,0.4,0.4,0.2,0.2,0.2,0.2,0.2,0.1,0.4,0.6,0.3,0.5,0.4,0.14074595000000001,0.13175231000000001,0.1,0.1,0.47361300000000001,0.1,0.3,0.2,0,"sought","dumb"]
[{"$f":"B1061+C1061","v":1.0714285714285714},{"$f":"D1061/Author1Sections","v":0.5714285714285714},{"$f":"E1061/Author2Sections","v":0.5},{"$f":"COUNTIF(OFFSET(H1061,0,0,1,Author1Sections),\">0\")","v":12},{"$f":"COUNTIF(OFFSET(H1061,0,Author1Sections,1,Author2Sections),\"=0\")","v":4},138,"know",0,0,0,0,0,0,0,0,0.2,0,0.2,0.6,0.1,0.2,0.1,0.2,0.1,0.1,0.1,0.2,7.0372980000000002E-2,0.13175231000000001,0,0,6.7658999999999997E-2,0,0.1,0.1,0,"brings","duteous"]
[{"$f":"B1062+C1062","v":1.0654761904761905},{"$f":"D1062/Author1Sections","v":0.19047619047619047},{"$f":"E1062/Author2Sections","v":0.875},{"$f":"COUNTIF(OFFSET(H1062,0,0,1,Author1Sections),\">0\")","v":4},{"$f":"COUNTIF(OFFSET(H1062,0,Author1Sections,1,Author2Sections),\"=0\")","v":7},227,"lady",0,0,0,0,0,0.4,0.7,0,0.3,0,0,0,0,0,0,0,0,0,0,0,7.0372980000000002E-2,6.5876156000000005E-2,0,0,0,0,0,0,0,"cease","duty"]
[{"$f":"B1063+C1063","v":1.0654761904761905},{"$f":"D1063/Author1Sections","v":0.19047619047619047},{"$f":"E1063/Author2Sections","v":0.875},{"$f":"COUNTIF(OFFSET(H1063,0,0,1,Author1Sections),\">0\")","v":4},{"$f":"COUNTIF(OFFSET(H1063,0,Author1Sections,1,Author2Sections),\"=0\")","v":7},398,"brave",0.2,0,0.1,0.2,0.14836795999999999,0,0,0,0,0,0,0,0,0,0,0,0,0,0,0,0,0,0,0,0,0,0.2,0,0,"either","dæmons"]
[{"$f":"B1064+C1064","v":1.0654761904761905},{"$f":"D1064/Author1Sections","v":0.19047619047619047},{"$f":"E1064/Author2Sections","v":0.875},{"$f":"COUNTIF(OFFSET(H1064,0,0,1,Author1Sections),\">0\")","v":4},{"$f":"COUNTIF(OFFSET(H1064,0,Author1Sections,1,Author2Sections),\"=0\")","v":7},489,"woes",0,0,0,0,0,0.1,0,0,0,0,0.1,0,0,0,0,0.3,0,0,0,0,0.14074595000000001,0,0,0,0,0,0,0,8.8652484000000004E-2,"goodly","earlier"]
[{"$f":"B1065+C1065","v":1.0654761904761905},{"$f":"D1065/Author1Sections","v":0.19047619047619047},{"$f":"E1065/Author2Sections","v":0.875},{"$f":"COUNTIF(OFFSET(H1065,0,0,1,Author1Sections),\">0\")","v":4},{"$f":"COUNTIF(OFFSET(H1065,0,Author1Sections,1,Author2Sections),\"=0\")","v":7},491,"alone",0,0,0,0,7.4183979999999997E-2,0,0,0,0,0,0,0.2,0,0,0.2,0.1,0,0,0,0,0,0,0,0,0,0.1,0,0,0,"hast","earn"]
[{"$f":"B1066+C1066","v":1.0654761904761905},{"$f":"D1066/Author1Sections","v":0.19047619047619047},{"$f":"E1066/Author2Sections","v":0.875},{"$f":"COUNTIF(OFFSET(H1066,0,0,1,Author1Sections),\">0\")","v":4},{"$f":"COUNTIF(OFFSET(H1066,0,Author1Sections,1,Author2Sections),\"=0\")","v":7},518,"hid",0,0,0,0,0,0,0,0,0,0,0.1,0.3,0,0,0,0,0,0,0.1,0,7.0372980000000002E-2,6.5876156000000005E-2,0,0,0,0,0,0,0,"pardon","easing"]
[{"$f":"B1067+C1067","v":1.0654761904761905},{"$f":"D1067/Author1Sections","v":0.19047619047619047},{"$f":"E1067/Author2Sections","v":0.875},{"$f":"COUNTIF(OFFSET(H1067,0,0,1,Author1Sections),\">0\")","v":4},{"$f":"COUNTIF(OFFSET(H1067,0,Author1Sections,1,Author2Sections),\"=0\")","v":7},525,"labour",0.2,0,0,0,0,0,0,0.1,0,0,0,0,0.1,0,0,0,0.2,0,0,0,0,0,0,0,0,0,0,0,8.8652484000000004E-2,"powers","eastern"]
[{"$f":"B1068+C1068","v":1.0654761904761905},{"$f":"D1068/Author1Sections","v":0.19047619047619047},{"$f":"E1068/Author2Sections","v":0.875},{"$f":"COUNTIF(OFFSET(H1068,0,0,1,Author1Sections),\">0\")","v":4},{"$f":"COUNTIF(OFFSET(H1068,0,Author1Sections,1,Author2Sections),\"=0\")","v":7},534,"matter",0,0,0,0,0,0.3,0.1,0.1,0.1,0,0,0,0,0,0,0,0,0,0,0,0,0,0,0,0,0,0,0,8.8652484000000004E-2,"skin","eats"]
[{"$f":"B1069+C1069","v":1.0654761904761905},{"$f":"D1069/Author1Sections","v":0.19047619047619047},{"$f":"E1069/Author2Sections","v":0.875},{"$f":"COUNTIF(OFFSET(H1069,0,0,1,Author1Sections),\">0\")","v":4},{"$f":"COUNTIF(OFFSET(H1069,0,Author1Sections,1,Author2Sections),\"=0\")","v":7},557,"sought",0,0.1,0,0,7.4183979999999997E-2,0,0,0,0.1,0,0,0,0,0.1,0,0,0,0,0,0,0,0,0,0,0,0,0,0,0.26595743999999999,"spent","eaves"]
[{"$f":"B1070+C1070","v":1.0654761904761905},{"$f":"D1070/Author1Sections","v":0.19047619047619047},{"$f":"E1070/Author2Sections","v":0.875},{"$f":"COUNTIF(OFFSET(H1070,0,0,1,Author1Sections),\">0\")","v":4},{"$f":"COUNTIF(OFFSET(H1070,0,Author1Sections,1,Author2Sections),\"=0\")","v":7},582,"brings",0,0,0,0,0,0,0,0,0,0.1,0.1,0,0.1,0.2,0,0,0,0,0,0,0,0,0,0,6.7658999999999997E-2,0,0,0,0,"tongue","ebon"]
[{"$f":"B1071+C1071","v":1.0654761904761905},{"$f":"D1071/Author1Sections","v":0.19047619047619047},{"$f":"E1071/Author2Sections","v":0.875},{"$f":"COUNTIF(OFFSET(H1071,0,0,1,Author1Sections),\">0\")","v":4},{"$f":"COUNTIF(OFFSET(H1071,0,Author1Sections,1,Author2Sections),\"=0\")","v":7},583,"cease",0,0,0,0,0,0,0,0,0,0,0,0,0,0.1,0,0,0.1,0,0.2,0,7.0372980000000002E-2,0,0,0,0,0,0.1,0,0,"wretched","echoes"]
[{"$f":"B1072+C1072","v":1.0654761904761905},{"$f":"D1072/Author1Sections","v":0.19047619047619047},{"$f":"E1072/Author2Sections","v":0.875},{"$f":"COUNTIF(OFFSET(H1072,0,0,1,Author1Sections),\">0\")","v":4},{"$f":"COUNTIF(OFFSET(H1072,0,Author1Sections,1,Author2Sections),\"=0\")","v":7},593,"either",0,0.1,0,0,0,0,0,0.2,0,0,0,0.1,0,0.1,0,0,0,0,0,0,0,6.5876156000000005E-2,0,0,0,0,0,0,0,"blest","echoing"]
[{"$f":"B1073+C1073","v":1.0654761904761905},{"$f":"D1073/Author1Sections","v":0.19047619047619047},{"$f":"E1073/Author2Sections","v":0.875},{"$f":"COUNTIF(OFFSET(H1073,0,0,1,Author1Sections),\">0\")","v":4},{"$f":"COUNTIF(OFFSET(H1073,0,Author1Sections,1,Author2Sections),\"=0\")","v":7},608,"goodly",0.2,0,0.1,0,7.4183979999999997E-2,0,0,0,0.1,0,0,0,0,0,0,0,0,0,0,0,0,0,0,0,0,0,0,0.1,0,"blush","ecstasies"]
[{"$f":"B1074+C1074","v":1.0654761904761905},{"$f":"D1074/Author1Sections","v":0.19047619047619047},{"$f":"E1074/Author2Sections","v":0.875},{"$f":"COUNTIF(OFFSET(H1074,0,0,1,Author1Sections),\">0\")","v":4},{"$f":"COUNTIF(OFFSET(H1074,0,Author1Sections,1,Author2Sections),\"=0\")","v":7},611,"hast",0,0,0,0,0,0,0,0,0,0,0,0,0.1,0.2,0,0,0.1,0,0,0.1,0,0,0,0,0,0.1,0,0,0,"conquest","ecstasy"]
[{"$f":"B1075+C1075","v":1.0654761904761905},{"$f":"D1075/Author1Sections","v":0.19047619047619047},{"$f":"E1075/Author2Sections","v":0.875},{"$f":"COUNTIF(OFFSET(H1075,0,0,1,Author1Sections),\">0\")","v":4},{"$f":"COUNTIF(OFFSET(H1075,0,Author1Sections,1,Author2Sections),\"=0\")","v":7},635,"pardon",0,0,0,0,0,0,0,0,0.1,0.1,0,0,0,0,0.2,0,0,0,0.1,0,0,0,0,0,0,0,0,0,8.8652484000000004E-2,"dainty","edge"]
[{"$f":"B1076+C1076","v":1.0654761904761905},{"$f":"D1076/Author1Sections","v":0.19047619047619047},{"$f":"E1076/Author2Sections","v":0.875},{"$f":"COUNTIF(OFFSET(H1076,0,0,1,Author1Sections),\">0\")","v":4},{"$f":"COUNTIF(OFFSET(H1076,0,Author1Sections,1,Author2Sections),\"=0\")","v":7},645,"powers",0,0,0,0,0,0,0,0,0,0.1,0,0.1,0,0,0,0,0,0,0,0.1,0.14074595000000001,0,0,0.1,0,0,0,0,0,"doubt","eggs"]
[{"$f":"B1077+C1077","v":1.0654761904761905},{"$f":"D1077/Author1Sections","v":0.19047619047619047},{"$f":"E1077/Author2Sections","v":0.875},{"$f":"COUNTIF(OFFSET(H1077,0,0,1,Author1Sections),\">0\")","v":4},{"$f":"COUNTIF(OFFSET(H1077,0,Author1Sections,1,Author2Sections),\"=0\")","v":7},664,"skin",0,0,0,0,0,0,0,0,0.1,0.1,0,0,0.2,0,0,0,0,0.1,0,0,0,0,0,0,0,0,0,0.1,0,"fruit","eglantine"]
[{"$f":"B1078+C1078","v":1.0654761904761905},{"$f":"D1078/Author1Sections","v":0.19047619047619047},{"$f":"E1078/Author2Sections","v":0.875},{"$f":"COUNTIF(OFFSET(H1078,0,0,1,Author1Sections),\">0\")","v":4},{"$f":"COUNTIF(OFFSET(H1078,0,Author1Sections,1,Author2Sections),\"=0\")","v":7},667,"spent",0.1,0,0.1,0,0,0,0,0,0,0,0.2,0,0,0,0,0,0,0,0,0,7.0372980000000002E-2,0,0,0,0,0,0.1,0,0,"making","either's"]
[{"$f":"B1079+C1079","v":1.0654761904761905},{"$f":"D1079/Author1Sections","v":0.19047619047619047},{"$f":"E1079/Author2Sections","v":0.875},{"$f":"COUNTIF(OFFSET(H1079,0,0,1,Author1Sections),\">0\")","v":4},{"$f":"COUNTIF(OFFSET(H1079,0,Author1Sections,1,Author2Sections),\"=0\")","v":7},675,"tongue",0,0,0,0,0,0.1,0.1,0,0,0,0,0,0.1,0,0.2,0,0,0,0,0,0,0,0,0,0,0,0,0.1,0,"rare","element"]
[{"$f":"B1080+C1080","v":1.0654761904761905},{"$f":"D1080/Author1Sections","v":0.19047619047619047},{"$f":"E1080/Author2Sections","v":0.875},{"$f":"COUNTIF(OFFSET(H1080,0,0,1,Author1Sections),\">0\")","v":4},{"$f":"COUNTIF(OFFSET(H1080,0,Author1Sections,1,Author2Sections),\"=0\")","v":7},688,"wretched",0.1,0,0.2,0,0,0,0,0,0,0,0,0.1,0,0,0,0,0,0,0,0.1,0,0,0,0,6.7658999999999997E-2,0,0,0,0,"rise","elms"]
[{"$f":"B1081+C1081","v":1.0654761904761905},{"$f":"D1081/Author1Sections","v":0.19047619047619047},{"$f":"E1081/Author2Sections","v":0.875},{"$f":"COUNTIF(OFFSET(H1081,0,0,1,Author1Sections),\">0\")","v":4},{"$f":"COUNTIF(OFFSET(H1081,0,Author1Sections,1,Author2Sections),\"=0\")","v":7},701,"blest",0,0,0,0,0,0,0,0,0,0,0.1,0,0,0,0,0.1,0,0.1,0.1,0,0,0,0,0,6.7658999999999997E-2,0,0,0,0,"sit","elysian"]
[{"$f":"B1082+C1082","v":1.0654761904761905},{"$f":"D1082/Author1Sections","v":0.19047619047619047},{"$f":"E1082/Author2Sections","v":0.875},{"$f":"COUNTIF(OFFSET(H1082,0,0,1,Author1Sections),\">0\")","v":4},{"$f":"COUNTIF(OFFSET(H1082,0,Author1Sections,1,Author2Sections),\"=0\")","v":7},702,"blush",0,0,0,0,0,0,0,0,0,0,0,0,0,0,0.1,0,0.1,0.1,0.1,0,0,0,0,0,0,0,0,0,8.8652484000000004E-2,"sung","embers"]
[{"$f":"B1083+C1083","v":1.0654761904761905},{"$f":"D1083/Author1Sections","v":0.19047619047619047},{"$f":"E1083/Author2Sections","v":0.875},{"$f":"COUNTIF(OFFSET(H1083,0,0,1,Author1Sections),\">0\")","v":4},{"$f":"COUNTIF(OFFSET(H1083,0,Author1Sections,1,Author2Sections),\"=0\")","v":7},709,"conquest",0.1,0,0,0,0,0,0,0,0.1,0,0,0,0.1,0,0,0,0.1,0,0,0,0,0,0,0,0,0.1,0,0,0,"tame","embowed"]
[{"$f":"B1084+C1084","v":1.0654761904761905},{"$f":"D1084/Author1Sections","v":0.19047619047619047},{"$f":"E1084/Author2Sections","v":0.875},{"$f":"COUNTIF(OFFSET(H1084,0,0,1,Author1Sections),\">0\")","v":4},{"$f":"COUNTIF(OFFSET(H1084,0,Author1Sections,1,Author2Sections),\"=0\")","v":7},715,"dainty",0,0,0,0,0,0,0,0,0.1,0,0,0,0,0.1,0,0.1,0,0,0,0,7.0372980000000002E-2,6.5876156000000005E-2,0,0,0,0,0,0,0,"teach","embroidery"]
[{"$f":"B1085+C1085","v":1.0654761904761905},{"$f":"D1085/Author1Sections","v":0.19047619047619047},{"$f":"E1085/Author2Sections","v":0.875},{"$f":"COUNTIF(OFFSET(H1085,0,0,1,Author1Sections),\">0\")","v":4},{"$f":"COUNTIF(OFFSET(H1085,0,Author1Sections,1,Author2Sections),\"=0\")","v":7},721,"doubt",0.1,0,0,0,0,0,0,0,0.1,0,0,0,0.1,0,0,0.1,0,0,0,0,0,0,0,0,0,0,0,0.1,0,"mine","emerald"]
[{"$f":"B1086+C1086","v":1.0654761904761905},{"$f":"D1086/Author1Sections","v":0.19047619047619047},{"$f":"E1086/Author2Sections","v":0.875},{"$f":"COUNTIF(OFFSET(H1086,0,0,1,Author1Sections),\">0\")","v":4},{"$f":"COUNTIF(OFFSET(H1086,0,Author1Sections,1,Author2Sections),\"=0\")","v":7},735,"fruit",0,0,0,0.1,0,0,0,0,0,0.1,0,0.1,0,0,0,0,0,0,0.1,0,0,6.5876156000000005E-2,0,0,0,0,0,0,0,"made","emptied"]
[{"$f":"B1087+C1087","v":1.0654761904761905},{"$f":"D1087/Author1Sections","v":0.19047619047619047},{"$f":"E1087/Author2Sections","v":0.875},{"$f":"COUNTIF(OFFSET(H1087,0,0,1,Author1Sections),\">0\")","v":4},{"$f":"COUNTIF(OFFSET(H1087,0,Author1Sections,1,Author2Sections),\"=0\")","v":7},752,"making",0,0,0,0,0,0.1,0,0.1,0,0,0,0,0,0,0,0.1,0,0,0,0,7.0372980000000002E-2,0,0,0,0,0.1,0,0,0,"good","enamel'd"]
[{"$f":"B1088+C1088","v":1.0654761904761905},{"$f":"D1088/Author1Sections","v":0.19047619047619047},{"$f":"E1088/Author2Sections","v":0.875},{"$f":"COUNTIF(OFFSET(H1088,0,0,1,Author1Sections),\">0\")","v":4},{"$f":"COUNTIF(OFFSET(H1088,0,Author1Sections,1,Author2Sections),\"=0\")","v":7},777,"rare",0.1,0,0.1,0,0,0,0,0,0,0,0,0,0.1,0,0,0,0.1,0,0,0,0,0,0,0.1,0,0,0,0,0,"long","encamp'd"]
[{"$f":"B1089+C1089","v":1.0654761904761905},{"$f":"D1089/Author1Sections","v":0.19047619047619047},{"$f":"E1089/Author2Sections","v":0.875},{"$f":"COUNTIF(OFFSET(H1089,0,0,1,Author1Sections),\">0\")","v":4},{"$f":"COUNTIF(OFFSET(H1089,0,Author1Sections,1,Author2Sections),\"=0\")","v":7},782,"rise",0,0,0,0,0,0,0,0,0,0,0.1,0.1,0,0.1,0,0,0,0,0,0,7.0372980000000002E-2,0,0.1,0,0,0,0,0,0,"into","enchanted"]
[{"$f":"B1090+C1090","v":1.0654761904761905},{"$f":"D1090/Author1Sections","v":0.19047619047619047},{"$f":"E1090/Author2Sections","v":0.875},{"$f":"COUNTIF(OFFSET(H1090,0,0,1,Author1Sections),\">0\")","v":4},{"$f":"COUNTIF(OFFSET(H1090,0,Author1Sections,1,Author2Sections),\"=0\")","v":7},798,"sit",0,0,0,0,0,0,0,0,0,0,0,0,0,0,0,0,0.1,0.1,0,0.1,7.0372980000000002E-2,0,0,0.1,0,0,0,0,0,"honour","enchanting"]
[{"$f":"B1091+C1091","v":1.0654761904761905},{"$f":"D1091/Author1Sections","v":0.19047619047619047},{"$f":"E1091/Author2Sections","v":0.875},{"$f":"COUNTIF(OFFSET(H1091,0,0,1,Author1Sections),\">0\")","v":4},{"$f":"COUNTIF(OFFSET(H1091,0,Author1Sections,1,Author2Sections),\"=0\")","v":7},810,"sung",0,0,0.1,0,7.4183979999999997E-2,0,0.1,0.1,0,0,0,0,0,0,0,0,0,0,0,0,0,0,0,0.1,0,0,0,0,0,"state","enchantments"]
[{"$f":"B1092+C1092","v":1.0654761904761905},{"$f":"D1092/Author1Sections","v":0.19047619047619047},{"$f":"E1092/Author2Sections","v":0.875},{"$f":"COUNTIF(OFFSET(H1092,0,0,1,Author1Sections),\">0\")","v":4},{"$f":"COUNTIF(OFFSET(H1092,0,Author1Sections,1,Author2Sections),\"=0\")","v":7},812,"tame",0,0,0,0,0,0,0,0.1,0,0,0,0.1,0.1,0,0,0,0,0.1,0,0,0,0,0,0,0,0,0,0,8.8652484000000004E-2,"sicke","encloses"]
[{"$f":"B1093+C1093","v":1.0654761904761905},{"$f":"D1093/Author1Sections","v":0.19047619047619047},{"$f":"E1093/Author2Sections","v":0.875},{"$f":"COUNTIF(OFFSET(H1093,0,0,1,Author1Sections),\">0\")","v":4},{"$f":"COUNTIF(OFFSET(H1093,0,Author1Sections,1,Author2Sections),\"=0\")","v":7},813,"teach",0,0,0,0.1,0,0,0,0.1,0,0,0,0,0,0,0,0.1,0,0,0.1,0,0,0,0,0.1,0,0,0,0,0,"harpe","encrimson'd"]
[{"$f":"B1094+C1094","v":1.0595238095238095},{"$f":"D1094/Author1Sections","v":0.80952380952380953},{"$f":"E1094/Author2Sections","v":0.25},{"$f":"COUNTIF(OFFSET(H1094,0,0,1,Author1Sections),\">0\")","v":17},{"$f":"COUNTIF(OFFSET(H1094,0,Author1Sections,1,Author2Sections),\"=0\")","v":2},73,"mine",0.2,0,0,0.1,0.14836795999999999,0.3,0.3,0,0.1,0.1,0.1,0.1,0,0.2,0.3,0.2,0.5,0.3,0.2,0.4,0.63335680000000005,0.19762845000000001,0.1,0.2,0,0.1,0,0.1,0.53191489999999997,"patience","ender"]
[{"$f":"B1095+C1095","v":1.0595238095238095},{"$f":"D1095/Author1Sections","v":0.80952380952380953},{"$f":"E1095/Author2Sections","v":0.25},{"$f":"COUNTIF(OFFSET(H1095,0,0,1,Author1Sections),\">0\")","v":17},{"$f":"COUNTIF(OFFSET(H1095,0,Author1Sections,1,Author2Sections),\"=0\")","v":2},83,"made",0.4,0,0.1,0.4,0.37091987999999998,0.2,0,0.2,0.1,0.3,0.1,0.1,0.3,0.2,0.3,0.1,0,0.1,0,0.3,7.0372980000000002E-2,0,0,0.1,6.7658999999999997E-2,0.1,0.1,0.4,0.17730497000000001,"deserts","ending"]
[{"$f":"B1096+C1096","v":1.0595238095238095},{"$f":"D1096/Author1Sections","v":0.80952380952380953},{"$f":"E1096/Author2Sections","v":0.25},{"$f":"COUNTIF(OFFSET(H1096,0,0,1,Author1Sections),\">0\")","v":17},{"$f":"COUNTIF(OFFSET(H1096,0,Author1Sections,1,Author2Sections),\"=0\")","v":2},84,"good",0,0,0.3,0.2,7.4183979999999997E-2,0.4,0.1,0.6,0.2,0.3,0.1,0,0.3,0.3,0,0.4,0.2,0.2,0.1,0.2,7.0372980000000002E-2,6.5876156000000005E-2,0.1,0.1,6.7658999999999997E-2,0,0.1,0.1,0,"foresters","endow'd"]
[{"$f":"B1097+C1097","v":1.0595238095238095},{"$f":"D1097/Author1Sections","v":0.80952380952380953},{"$f":"E1097/Author2Sections","v":0.25},{"$f":"COUNTIF(OFFSET(H1097,0,0,1,Author1Sections),\">0\")","v":17},{"$f":"COUNTIF(OFFSET(H1097,0,Author1Sections,1,Author2Sections),\"=0\")","v":2},92,"long",0.3,0.2,0,0.3,0.14836795999999999,0,0.2,0.3,0.4,0,0.1,0.1,0.6,0.1,0.2,0.2,0.1,0.1,0.1,0.2,0,0.13175231000000001,0.2,0.1,6.7658999999999997E-2,0,0.1,0.1,0,"moone","engine"]
[{"$f":"B1098+C1098","v":1.0535714285714286},{"$f":"D1098/Author1Sections","v":0.42857142857142855},{"$f":"E1098/Author2Sections","v":0.625},{"$f":"COUNTIF(OFFSET(H1098,0,0,1,Author1Sections),\">0\")","v":9},{"$f":"COUNTIF(OFFSET(H1098,0,Author1Sections,1,Author2Sections),\"=0\")","v":5},170,"into",0,0.1,0.1,0,0.22255193000000001,0.2,0,0.3,0,0.1,0.3,0,0,0,0,0.1,0,0,0,0,7.0372980000000002E-2,0,0,0.1,0.20297699999999999,0,0,0,8.8652484000000004E-2,"supplication","enjoys"]
[{"$f":"B1099+C1099","v":1.0535714285714286},{"$f":"D1099/Author1Sections","v":0.42857142857142855},{"$f":"E1099/Author2Sections","v":0.625},{"$f":"COUNTIF(OFFSET(H1099,0,0,1,Author1Sections),\">0\")","v":9},{"$f":"COUNTIF(OFFSET(H1099,0,Author1Sections,1,Author2Sections),\"=0\")","v":5},263,"honour",0.1,0.1,0.2,0,0,0,0.1,0,0,0.1,0,0,0.1,0.1,0,0,0,0.1,0,0,7.0372980000000002E-2,0,0.1,0,0,0,0.1,0.2,0,"agree","ennobled"]
[{"$f":"B1100+C1100","v":1.0535714285714286},{"$f":"D1100/Author1Sections","v":0.42857142857142855},{"$f":"E1100/Author2Sections","v":0.625},{"$f":"COUNTIF(OFFSET(H1100,0,0,1,Author1Sections),\">0\")","v":9},{"$f":"COUNTIF(OFFSET(H1100,0,Author1Sections,1,Author2Sections),\"=0\")","v":5},269,"state",0.1,0.1,0,0,7.4183979999999997E-2,0.3,0,0,0,0.1,0.1,0.1,0.1,0,0,0,0,0,0,0.1,0,6.5876156000000005E-2,0.1,0.1,0,0,0,0,0,"almost","enow"]
[{"$f":"B1101+C1101","v":1.0476190476190477},{"$f":"D1101/Author1Sections","v":4.7619047619047616E-2},{"$f":"E1101/Author2Sections","v":1},{"$f":"COUNTIF(OFFSET(H1101,0,0,1,Author1Sections),\">0\")","v":1},{"$f":"COUNTIF(OFFSET(H1101,0,Author1Sections,1,Author2Sections),\"=0\")","v":8},660,"sicke",0,0,0,0,0,0,0,0,0,0,0,0,0,0,0,0,0,0,0,0,0.42223787000000002,0,0,0,0,0,0,0,0,"altare","enpatron"]
[{"$f":"B1102+C1102","v":1.0476190476190477},{"$f":"D1102/Author1Sections","v":4.7619047619047616E-2},{"$f":"E1102/Author2Sections","v":1},{"$f":"COUNTIF(OFFSET(H1102,0,0,1,Author1Sections),\">0\")","v":1},{"$f":"COUNTIF(OFFSET(H1102,0,Author1Sections,1,Author2Sections),\"=0\")","v":8},920,"harpe",0,0,0,0,0.2967359,0,0,0,0,0,0,0,0,0,0,0,0,0,0,0,0,0,0,0,0,0,0,0,0,"anoy","enrich'd"]
[{"$f":"B1103+C1103","v":1.0476190476190477},{"$f":"D1103/Author1Sections","v":4.7619047619047616E-2},{"$f":"E1103/Author2Sections","v":1},{"$f":"COUNTIF(OFFSET(H1103,0,0,1,Author1Sections),\">0\")","v":1},{"$f":"COUNTIF(OFFSET(H1103,0,Author1Sections,1,Author2Sections),\"=0\")","v":8},972,"patience",0,0,0,0,0,0,0,0,0,0,0,0,0,0,0,0.4,0,0,0,0,0,0,0,0,0,0,0,0,0,"arke","enswathed"]
[{"$f":"B1104+C1104","v":1.0476190476190477},{"$f":"D1104/Author1Sections","v":4.7619047619047616E-2},{"$f":"E1104/Author2Sections","v":1},{"$f":"COUNTIF(OFFSET(H1104,0,0,1,Author1Sections),\">0\")","v":1},{"$f":"COUNTIF(OFFSET(H1104,0,Author1Sections,1,Author2Sections),\"=0\")","v":8},1130,"deserts",0,0,0,0,0,0,0.3,0,0,0,0,0,0,0,0,0,0,0,0,0,0,0,0,0,0,0,0,0,0,"arrow","entertain"]
[{"$f":"B1105+C1105","v":1.0476190476190477},{"$f":"D1105/Author1Sections","v":4.7619047619047616E-2},{"$f":"E1105/Author2Sections","v":1},{"$f":"COUNTIF(OFFSET(H1105,0,0,1,Author1Sections),\">0\")","v":1},{"$f":"COUNTIF(OFFSET(H1105,0,Author1Sections,1,Author2Sections),\"=0\")","v":8},1181,"foresters",0,0,0,0,0,0,0.3,0,0,0,0,0,0,0,0,0,0,0,0,0,0,0,0,0,0,0,0,0,0,"beamy","entice"]
[{"$f":"B1106+C1106","v":1.0476190476190477},{"$f":"D1106/Author1Sections","v":4.7619047619047616E-2},{"$f":"E1106/Author2Sections","v":1},{"$f":"COUNTIF(OFFSET(H1106,0,0,1,Author1Sections),\">0\")","v":1},{"$f":"COUNTIF(OFFSET(H1106,0,Author1Sections,1,Author2Sections),\"=0\")","v":8},1265,"moone",0,0,0,0,0,0,0,0,0,0,0,0,0.3,0,0,0,0,0,0,0,0,0,0,0,0,0,0,0,0,"bowe","envy"]
[{"$f":"B1107+C1107","v":1.0476190476190477},{"$f":"D1107/Author1Sections","v":4.7619047619047616E-2},{"$f":"E1107/Author2Sections","v":1},{"$f":"COUNTIF(OFFSET(H1107,0,0,1,Author1Sections),\">0\")","v":1},{"$f":"COUNTIF(OFFSET(H1107,0,Author1Sections,1,Author2Sections),\"=0\")","v":8},1389,"supplication",0,0,0,0,0,0.3,0,0,0,0,0,0,0,0,0,0,0,0,0,0,0,0,0,0,0,0,0,0,0,"brake","equals"]
[{"$f":"B1108+C1108","v":1.0476190476190477},{"$f":"D1108/Author1Sections","v":4.7619047619047616E-2},{"$f":"E1108/Author2Sections","v":1},{"$f":"COUNTIF(OFFSET(H1108,0,0,1,Author1Sections),\">0\")","v":1},{"$f":"COUNTIF(OFFSET(H1108,0,Author1Sections,1,Author2Sections),\"=0\")","v":8},1471,"agree",0,0,0,0,0,0,0,0,0,0,0,0,0.2,0,0,0,0,0,0,0,0,0,0,0,0,0,0,0,0,"breath'd","er"]
[{"$f":"B1109+C1109","v":1.0476190476190477},{"$f":"D1109/Author1Sections","v":4.7619047619047616E-2},{"$f":"E1109/Author2Sections","v":1},{"$f":"COUNTIF(OFFSET(H1109,0,0,1,Author1Sections),\">0\")","v":1},{"$f":"COUNTIF(OFFSET(H1109,0,Author1Sections,1,Author2Sections),\"=0\")","v":8},1475,"almost",0,0,0,0,0.14836795999999999,0,0,0,0,0,0,0,0,0,0,0,0,0,0,0,0,0,0,0,0,0,0,0,0,"bridge","errors"]
[{"$f":"B1110+C1110","v":1.0476190476190477},{"$f":"D1110/Author1Sections","v":4.7619047619047616E-2},{"$f":"E1110/Author2Sections","v":1},{"$f":"COUNTIF(OFFSET(H1110,0,0,1,Author1Sections),\">0\")","v":1},{"$f":"COUNTIF(OFFSET(H1110,0,Author1Sections,1,Author2Sections),\"=0\")","v":8},1480,"altare",0,0,0,0.2,0,0,0,0,0,0,0,0,0,0,0,0,0,0,0,0,0,0,0,0,0,0,0,0,0,"bunduca","erst"]
[{"$f":"B1111+C1111","v":1.0476190476190477},{"$f":"D1111/Author1Sections","v":4.7619047619047616E-2},{"$f":"E1111/Author2Sections","v":1},{"$f":"COUNTIF(OFFSET(H1111,0,0,1,Author1Sections),\">0\")","v":1},{"$f":"COUNTIF(OFFSET(H1111,0,Author1Sections,1,Author2Sections),\"=0\")","v":8},1485,"anoy",0,0,0.2,0,0,0,0,0,0,0,0,0,0,0,0,0,0,0,0,0,0,0,0,0,0,0,0,0,0,"burn","espied"]
[{"$f":"B1112+C1112","v":1.0476190476190477},{"$f":"D1112/Author1Sections","v":4.7619047619047616E-2},{"$f":"E1112/Author2Sections","v":1},{"$f":"COUNTIF(OFFSET(H1112,0,0,1,Author1Sections),\">0\")","v":1},{"$f":"COUNTIF(OFFSET(H1112,0,Author1Sections,1,Author2Sections),\"=0\")","v":8},1496,"arke",0,0,0,0,0.14836795999999999,0,0,0,0,0,0,0,0,0,0,0,0,0,0,0,0,0,0,0,0,0,0,0,0,"burne","ethiop"]
[{"$f":"B1113+C1113","v":1.0476190476190477},{"$f":"D1113/Author1Sections","v":4.7619047619047616E-2},{"$f":"E1113/Author2Sections","v":1},{"$f":"COUNTIF(OFFSET(H1113,0,0,1,Author1Sections),\">0\")","v":1},{"$f":"COUNTIF(OFFSET(H1113,0,Author1Sections,1,Author2Sections),\"=0\")","v":8},1500,"arrow",0,0,0,0,0,0,0,0,0,0,0,0,0,0,0,0,0.2,0,0,0,0,0,0,0,0,0,0,0,0,"cambden","euphrosyne"]
[{"$f":"B1114+C1114","v":1.0476190476190477},{"$f":"D1114/Author1Sections","v":4.7619047619047616E-2},{"$f":"E1114/Author2Sections","v":1},{"$f":"COUNTIF(OFFSET(H1114,0,0,1,Author1Sections),\">0\")","v":1},{"$f":"COUNTIF(OFFSET(H1114,0,Author1Sections,1,Author2Sections),\"=0\")","v":8},1521,"beamy",0,0,0,0,0,0,0,0,0,0.2,0,0,0,0,0,0,0,0,0,0,0,0,0,0,0,0,0,0,0,"charme","ev'n"]
[{"$f":"B1115+C1115","v":1.0476190476190477},{"$f":"D1115/Author1Sections","v":4.7619047619047616E-2},{"$f":"E1115/Author2Sections","v":1},{"$f":"COUNTIF(OFFSET(H1115,0,0,1,Author1Sections),\">0\")","v":1},{"$f":"COUNTIF(OFFSET(H1115,0,Author1Sections,1,Author2Sections),\"=0\")","v":8},1566,"bowe",0,0,0,0,0,0,0,0,0,0,0.2,0,0,0,0,0,0,0,0,0,0,0,0,0,0,0,0,0,0,"cheere","ev'ning"]
[{"$f":"B1116+C1116","v":1.0476190476190477},{"$f":"D1116/Author1Sections","v":4.7619047619047616E-2},{"$f":"E1116/Author2Sections","v":1},{"$f":"COUNTIF(OFFSET(H1116,0,0,1,Author1Sections),\">0\")","v":1},{"$f":"COUNTIF(OFFSET(H1116,0,Author1Sections,1,Author2Sections),\"=0\")","v":8},1569,"brake",0,0,0,0,0,0,0,0,0,0,0.2,0,0,0,0,0,0,0,0,0,0,0,0,0,0,0,0,0,0,"chekes","eves"]
[{"$f":"B1117+C1117","v":1.0476190476190477},{"$f":"D1117/Author1Sections","v":4.7619047619047616E-2},{"$f":"E1117/Author2Sections","v":1},{"$f":"COUNTIF(OFFSET(H1117,0,0,1,Author1Sections),\">0\")","v":1},{"$f":"COUNTIF(OFFSET(H1117,0,Author1Sections,1,Author2Sections),\"=0\")","v":8},1573,"breath'd",0,0,0,0,0,0,0,0,0,0,0,0,0,0,0,0.2,0,0,0,0,0,0,0,0,0,0,0,0,0,"chose","evident"]
[{"$f":"B1118+C1118","v":1.0476190476190477},{"$f":"D1118/Author1Sections","v":4.7619047619047616E-2},{"$f":"E1118/Author2Sections","v":1},{"$f":"COUNTIF(OFFSET(H1118,0,0,1,Author1Sections),\">0\")","v":1},{"$f":"COUNTIF(OFFSET(H1118,0,Author1Sections,1,Author2Sections),\"=0\")","v":8},1577,"bridge",0,0,0,0,0.14836795999999999,0,0,0,0,0,0,0,0,0,0,0,0,0,0,0,0,0,0,0,0,0,0,0,0,"citie","evil"]
[{"$f":"B1119+C1119","v":1.0476190476190477},{"$f":"D1119/Author1Sections","v":4.7619047619047616E-2},{"$f":"E1119/Author2Sections","v":1},{"$f":"COUNTIF(OFFSET(H1119,0,0,1,Author1Sections),\">0\")","v":1},{"$f":"COUNTIF(OFFSET(H1119,0,Author1Sections,1,Author2Sections),\"=0\")","v":8},1587,"bunduca",0.2,0,0,0,0,0,0,0,0,0,0,0,0,0,0,0,0,0,0,0,0,0,0,0,0,0,0,0,0,"colin","exacted"]
[{"$f":"B1120+C1120","v":1.0476190476190477},{"$f":"D1120/Author1Sections","v":4.7619047619047616E-2},{"$f":"E1120/Author2Sections","v":1},{"$f":"COUNTIF(OFFSET(H1120,0,0,1,Author1Sections),\">0\")","v":1},{"$f":"COUNTIF(OFFSET(H1120,0,Author1Sections,1,Author2Sections),\"=0\")","v":8},1588,"burn",0,0,0,0,0,0,0,0,0,0,0,0.2,0,0,0,0,0,0,0,0,0,0,0,0,0,0,0,0,0,"confusion","examples"]
[{"$f":"B1121+C1121","v":1.0476190476190477},{"$f":"D1121/Author1Sections","v":4.7619047619047616E-2},{"$f":"E1121/Author2Sections","v":1},{"$f":"COUNTIF(OFFSET(H1121,0,0,1,Author1Sections),\">0\")","v":1},{"$f":"COUNTIF(OFFSET(H1121,0,Author1Sections,1,Author2Sections),\"=0\")","v":8},1590,"burne",0,0,0,0,0,0,0,0,0,0,0,0,0,0,0,0.2,0,0,0,0,0,0,0,0,0,0,0,0,0,"conquer","excel"]
[{"$f":"B1122+C1122","v":1.0476190476190477},{"$f":"D1122/Author1Sections","v":4.7619047619047616E-2},{"$f":"E1122/Author2Sections","v":1},{"$f":"COUNTIF(OFFSET(H1122,0,0,1,Author1Sections),\">0\")","v":1},{"$f":"COUNTIF(OFFSET(H1122,0,Author1Sections,1,Author2Sections),\"=0\")","v":8},1600,"cambden",0,0.2,0,0,0,0,0,0,0,0,0,0,0,0,0,0,0,0,0,0,0,0,0,0,0,0,0,0,0,"courtiers","except"]
[{"$f":"B1123+C1123","v":1.0476190476190477},{"$f":"D1123/Author1Sections","v":4.7619047619047616E-2},{"$f":"E1123/Author2Sections","v":1},{"$f":"COUNTIF(OFFSET(H1123,0,0,1,Author1Sections),\">0\")","v":1},{"$f":"COUNTIF(OFFSET(H1123,0,Author1Sections,1,Author2Sections),\"=0\")","v":8},1614,"charme",0,0,0,0,0,0,0,0,0,0,0,0,0,0,0,0,0,0,0,0,0.14074595000000001,0,0,0,0,0,0,0,0,"courtly","excess"]
[{"$f":"B1124+C1124","v":1.0476190476190477},{"$f":"D1124/Author1Sections","v":4.7619047619047616E-2},{"$f":"E1124/Author2Sections","v":1},{"$f":"COUNTIF(OFFSET(H1124,0,0,1,Author1Sections),\">0\")","v":1},{"$f":"COUNTIF(OFFSET(H1124,0,Author1Sections,1,Author2Sections),\"=0\")","v":8},1617,"cheere",0,0,0,0,0,0,0,0,0,0,0,0,0,0,0,0,0,0,0,0,0.14074595000000001,0,0,0,0,0,0,0,0,"dan","exclaim"]
[{"$f":"B1125+C1125","v":1.0476190476190477},{"$f":"D1125/Author1Sections","v":4.7619047619047616E-2},{"$f":"E1125/Author2Sections","v":1},{"$f":"COUNTIF(OFFSET(H1125,0,0,1,Author1Sections),\">0\")","v":1},{"$f":"COUNTIF(OFFSET(H1125,0,Author1Sections,1,Author2Sections),\"=0\")","v":8},1619,"chekes",0,0,0,0,0,0,0,0,0,0.2,0,0,0,0,0,0,0,0,0,0,0,0,0,0,0,0,0,0,0,"deckt","executor"]
[{"$f":"B1126+C1126","v":1.0476190476190477},{"$f":"D1126/Author1Sections","v":4.7619047619047616E-2},{"$f":"E1126/Author2Sections","v":1},{"$f":"COUNTIF(OFFSET(H1126,0,0,1,Author1Sections),\">0\")","v":1},{"$f":"COUNTIF(OFFSET(H1126,0,Author1Sections,1,Author2Sections),\"=0\")","v":8},1625,"chose",0,0,0.2,0,0,0,0,0,0,0,0,0,0,0,0,0,0,0,0,0,0,0,0,0,0,0,0,0,0,"descending","expect"]
[{"$f":"B1127+C1127","v":1.0476190476190477},{"$f":"D1127/Author1Sections","v":4.7619047619047616E-2},{"$f":"E1127/Author2Sections","v":1},{"$f":"COUNTIF(OFFSET(H1127,0,0,1,Author1Sections),\">0\")","v":1},{"$f":"COUNTIF(OFFSET(H1127,0,Author1Sections,1,Author2Sections),\"=0\")","v":8},1626,"citie",0.2,0,0,0,0,0,0,0,0,0,0,0,0,0,0,0,0,0,0,0,0,0,0,0,0,0,0,0,0,"dipt","expresseth"]
[{"$f":"B1128+C1128","v":1.0476190476190477},{"$f":"D1128/Author1Sections","v":4.7619047619047616E-2},{"$f":"E1128/Author2Sections","v":1},{"$f":"COUNTIF(OFFSET(H1128,0,0,1,Author1Sections),\">0\")","v":1},{"$f":"COUNTIF(OFFSET(H1128,0,Author1Sections,1,Author2Sections),\"=0\")","v":8},1636,"colin",0,0.2,0,0,0,0,0,0,0,0,0,0,0,0,0,0,0,0,0,0,0,0,0,0,0,0,0,0,0,"dog","exscribe"]
[{"$f":"B1129+C1129","v":1.0476190476190477},{"$f":"D1129/Author1Sections","v":4.7619047619047616E-2},{"$f":"E1129/Author2Sections","v":1},{"$f":"COUNTIF(OFFSET(H1129,0,0,1,Author1Sections),\">0\")","v":1},{"$f":"COUNTIF(OFFSET(H1129,0,Author1Sections,1,Author2Sections),\"=0\")","v":8},1646,"confusion",0,0,0,0.2,0,0,0,0,0,0,0,0,0,0,0,0,0,0,0,0,0,0,0,0,0,0,0,0,0,"driue","extincture"]
[{"$f":"B1130+C1130","v":1.0476190476190477},{"$f":"D1130/Author1Sections","v":4.7619047619047616E-2},{"$f":"E1130/Author2Sections","v":1},{"$f":"COUNTIF(OFFSET(H1130,0,0,1,Author1Sections),\">0\")","v":1},{"$f":"COUNTIF(OFFSET(H1130,0,Author1Sections,1,Author2Sections),\"=0\")","v":8},1647,"conquer",0,0,0,0,0,0,0,0,0,0,0,0,0,0.2,0,0,0,0,0,0,0,0,0,0,0,0,0,0,0,"dyde","extremes"]
[{"$f":"B1131+C1131","v":1.0476190476190477},{"$f":"D1131/Author1Sections","v":4.7619047619047616E-2},{"$f":"E1131/Author2Sections","v":1},{"$f":"COUNTIF(OFFSET(H1131,0,0,1,Author1Sections),\">0\")","v":1},{"$f":"COUNTIF(OFFSET(H1131,0,Author1Sections,1,Author2Sections),\"=0\")","v":8},1663,"courtiers",0,0,0,0,0,0,0,0.2,0,0,0,0,0,0,0,0,0,0,0,0,0,0,0,0,0,0,0,0,0,"envie","eyelids"]
[{"$f":"B1132+C1132","v":1.0476190476190477},{"$f":"D1132/Author1Sections","v":4.7619047619047616E-2},{"$f":"E1132/Author2Sections","v":1},{"$f":"COUNTIF(OFFSET(H1132,0,0,1,Author1Sections),\">0\")","v":1},{"$f":"COUNTIF(OFFSET(H1132,0,Author1Sections,1,Author2Sections),\"=0\")","v":8},1664,"courtly",0,0,0,0,0,0,0,0,0,0,0,0,0,0,0.2,0,0,0,0,0,0,0,0,0,0,0,0,0,0,"ergo","eyne"]
[{"$f":"B1133+C1133","v":1.0476190476190477},{"$f":"D1133/Author1Sections","v":4.7619047619047616E-2},{"$f":"E1133/Author2Sections","v":1},{"$f":"COUNTIF(OFFSET(H1133,0,0,1,Author1Sections),\">0\")","v":1},{"$f":"COUNTIF(OFFSET(H1133,0,Author1Sections,1,Author2Sections),\"=0\")","v":8},1678,"dan",0,0,0,0,0.14836795999999999,0,0,0,0,0,0,0,0,0,0,0,0,0,0,0,0,0,0,0,0,0,0,0,0,"eternall","faery"]
[{"$f":"B1134+C1134","v":1.0476190476190477},{"$f":"D1134/Author1Sections","v":4.7619047619047616E-2},{"$f":"E1134/Author2Sections","v":1},{"$f":"COUNTIF(OFFSET(H1134,0,0,1,Author1Sections),\">0\")","v":1},{"$f":"COUNTIF(OFFSET(H1134,0,Author1Sections,1,Author2Sections),\"=0\")","v":8},1688,"deckt",0,0,0,0,0.14836795999999999,0,0,0,0,0,0,0,0,0,0,0,0,0,0,0,0,0,0,0,0,0,0,0,0,"eternitie","failed"]
[{"$f":"B1135+C1135","v":1.0476190476190477},{"$f":"D1135/Author1Sections","v":4.7619047619047616E-2},{"$f":"E1135/Author2Sections","v":1},{"$f":"COUNTIF(OFFSET(H1135,0,0,1,Author1Sections),\">0\")","v":1},{"$f":"COUNTIF(OFFSET(H1135,0,Author1Sections,1,Author2Sections),\"=0\")","v":8},1698,"descending",0,0,0,0,0.14836795999999999,0,0,0,0,0,0,0,0,0,0,0,0,0,0,0,0,0,0,0,0,0,0,0,0,"exceeding","faintly"]
[{"$f":"B1136+C1136","v":1.0476190476190477},{"$f":"D1136/Author1Sections","v":4.7619047619047616E-2},{"$f":"E1136/Author2Sections","v":1},{"$f":"COUNTIF(OFFSET(H1136,0,0,1,Author1Sections),\">0\")","v":1},{"$f":"COUNTIF(OFFSET(H1136,0,Author1Sections,1,Author2Sections),\"=0\")","v":8},1710,"dipt",0,0,0,0.2,0,0,0,0,0,0,0,0,0,0,0,0,0,0,0,0,0,0,0,0,0,0,0,0,0,"fatall","fairly"]
[{"$f":"B1137+C1137","v":1.0476190476190477},{"$f":"D1137/Author1Sections","v":4.7619047619047616E-2},{"$f":"E1137/Author2Sections","v":1},{"$f":"COUNTIF(OFFSET(H1137,0,0,1,Author1Sections),\">0\")","v":1},{"$f":"COUNTIF(OFFSET(H1137,0,Author1Sections,1,Author2Sections),\"=0\")","v":8},1717,"dog",0,0,0,0,0,0,0,0,0,0,0,0,0,0,0,0.2,0,0,0,0,0,0,0,0,0,0,0,0,0,"fields","faithful"]
[{"$f":"B1138+C1138","v":1.0476190476190477},{"$f":"D1138/Author1Sections","v":4.7619047619047616E-2},{"$f":"E1138/Author2Sections","v":1},{"$f":"COUNTIF(OFFSET(H1138,0,0,1,Author1Sections),\">0\")","v":1},{"$f":"COUNTIF(OFFSET(H1138,0,Author1Sections,1,Author2Sections),\"=0\")","v":8},1725,"driue",0,0,0,0,0,0,0,0,0,0,0,0,0,0,0,0,0,0,0,0,0.14074595000000001,0,0,0,0,0,0,0,0,"flowres","fallows"]
[{"$f":"B1139+C1139","v":1.0476190476190477},{"$f":"D1139/Author1Sections","v":4.7619047619047616E-2},{"$f":"E1139/Author2Sections","v":1},{"$f":"COUNTIF(OFFSET(H1139,0,0,1,Author1Sections),\">0\")","v":1},{"$f":"COUNTIF(OFFSET(H1139,0,Author1Sections,1,Author2Sections),\"=0\")","v":8},1732,"dyde",0,0.2,0,0,0,0,0,0,0,0,0,0,0,0,0,0,0,0,0,0,0,0,0,0,0,0,0,0,0,"fortunate","falseness"]
[{"$f":"B1140+C1140","v":1.0476190476190477},{"$f":"D1140/Author1Sections","v":4.7619047619047616E-2},{"$f":"E1140/Author2Sections","v":1},{"$f":"COUNTIF(OFFSET(H1140,0,0,1,Author1Sections),\">0\")","v":1},{"$f":"COUNTIF(OFFSET(H1140,0,Author1Sections,1,Author2Sections),\"=0\")","v":8},1747,"envie",0,0,0,0.2,0,0,0,0,0,0,0,0,0,0,0,0,0,0,0,0,0,0,0,0,0,0,0,0,0,"fought","famine"]
[{"$f":"B1141+C1141","v":1.0476190476190477},{"$f":"D1141/Author1Sections","v":4.7619047619047616E-2},{"$f":"E1141/Author2Sections","v":1},{"$f":"COUNTIF(OFFSET(H1141,0,0,1,Author1Sections),\">0\")","v":1},{"$f":"COUNTIF(OFFSET(H1141,0,Author1Sections,1,Author2Sections),\"=0\")","v":8},1750,"ergo",0,0,0,0,0,0,0,0.2,0,0,0,0,0,0,0,0,0,0,0,0,0,0,0,0,0,0,0,0,0,"fy","fancy"]
[{"$f":"B1142+C1142","v":1.0476190476190477},{"$f":"D1142/Author1Sections","v":4.7619047619047616E-2},{"$f":"E1142/Author2Sections","v":1},{"$f":"COUNTIF(OFFSET(H1142,0,0,1,Author1Sections),\">0\")","v":1},{"$f":"COUNTIF(OFFSET(H1142,0,Author1Sections,1,Author2Sections),\"=0\")","v":8},1753,"eternall",0,0,0.2,0,0,0,0,0,0,0,0,0,0,0,0,0,0,0,0,0,0,0,0,0,0,0,0,0,0,"gardine","fancy's"]
[{"$f":"B1143+C1143","v":1.0476190476190477},{"$f":"D1143/Author1Sections","v":4.7619047619047616E-2},{"$f":"E1143/Author2Sections","v":1},{"$f":"COUNTIF(OFFSET(H1143,0,0,1,Author1Sections),\">0\")","v":1},{"$f":"COUNTIF(OFFSET(H1143,0,Author1Sections,1,Author2Sections),\"=0\")","v":8},1754,"eternitie",0,0,0.2,0,0,0,0,0,0,0,0,0,0,0,0,0,0,0,0,0,0,0,0,0,0,0,0,0,0,"gemmes","fanning"]
[{"$f":"B1144+C1144","v":1.0476190476190477},{"$f":"D1144/Author1Sections","v":4.7619047619047616E-2},{"$f":"E1144/Author2Sections","v":1},{"$f":"COUNTIF(OFFSET(H1144,0,0,1,Author1Sections),\">0\")","v":1},{"$f":"COUNTIF(OFFSET(H1144,0,Author1Sections,1,Author2Sections),\"=0\")","v":8},1758,"exceeding",0,0,0,0,0.14836795999999999,0,0,0,0,0,0,0,0,0,0,0,0,0,0,0,0,0,0,0,0,0,0,0,0,"growing","fantastic"]
[{"$f":"B1145+C1145","v":1.0476190476190477},{"$f":"D1145/Author1Sections","v":4.7619047619047616E-2},{"$f":"E1145/Author2Sections","v":1},{"$f":"COUNTIF(OFFSET(H1145,0,0,1,Author1Sections),\">0\")","v":1},{"$f":"COUNTIF(OFFSET(H1145,0,Author1Sections,1,Author2Sections),\"=0\")","v":8},1768,"fatall",0.2,0,0,0,0,0,0,0,0,0,0,0,0,0,0,0,0,0,0,0,0,0,0,0,0,0,0,0,0,"hates","fast'ning"]
[{"$f":"B1146+C1146","v":1.0476190476190477},{"$f":"D1146/Author1Sections","v":4.7619047619047616E-2},{"$f":"E1146/Author2Sections","v":1},{"$f":"COUNTIF(OFFSET(H1146,0,0,1,Author1Sections),\">0\")","v":1},{"$f":"COUNTIF(OFFSET(H1146,0,Author1Sections,1,Author2Sections),\"=0\")","v":8},1776,"fields",0,0,0.2,0,0,0,0,0,0,0,0,0,0,0,0,0,0,0,0,0,0,0,0,0,0,0,0,0,0,"holie","fastly"]
[{"$f":"B1147+C1147","v":1.0476190476190477},{"$f":"D1147/Author1Sections","v":4.7619047619047616E-2},{"$f":"E1147/Author2Sections","v":1},{"$f":"COUNTIF(OFFSET(H1147,0,0,1,Author1Sections),\">0\")","v":1},{"$f":"COUNTIF(OFFSET(H1147,0,Author1Sections,1,Author2Sections),\"=0\")","v":8},1791,"flowres",0,0,0,0,0.14836795999999999,0,0,0,0,0,0,0,0,0,0,0,0,0,0,0,0,0,0,0,0,0,0,0,0,"hunts","fatal"]
[{"$f":"B1148+C1148","v":1.0476190476190477},{"$f":"D1148/Author1Sections","v":4.7619047619047616E-2},{"$f":"E1148/Author2Sections","v":1},{"$f":"COUNTIF(OFFSET(H1148,0,0,1,Author1Sections),\">0\")","v":1},{"$f":"COUNTIF(OFFSET(H1148,0,Author1Sections,1,Author2Sections),\"=0\")","v":8},1801,"fortunate",0,0,0,0.2,0,0,0,0,0,0,0,0,0,0,0,0,0,0,0,0,0,0,0,0,0,0,0,0,0,"inuentions","fauns"]
[{"$f":"B1149+C1149","v":1.0476190476190477},{"$f":"D1149/Author1Sections","v":4.7619047619047616E-2},{"$f":"E1149/Author2Sections","v":1},{"$f":"COUNTIF(OFFSET(H1149,0,0,1,Author1Sections),\">0\")","v":1},{"$f":"COUNTIF(OFFSET(H1149,0,Author1Sections,1,Author2Sections),\"=0\")","v":8},1805,"fought",0.2,0,0,0,0,0,0,0,0,0,0,0,0,0,0,0,0,0,0,0,0,0,0,0,0,0,0,0,0,"kneeling","favour"]
[{"$f":"B1150+C1150","v":1.0476190476190477},{"$f":"D1150/Author1Sections","v":4.7619047619047616E-2},{"$f":"E1150/Author2Sections","v":1},{"$f":"COUNTIF(OFFSET(H1150,0,0,1,Author1Sections),\">0\")","v":1},{"$f":"COUNTIF(OFFSET(H1150,0,Author1Sections,1,Author2Sections),\"=0\")","v":8},1812,"fy",0,0,0,0,0,0,0,0,0,0,0,0,0,0,0,0.2,0,0,0,0,0,0,0,0,0,0,0,0,0,"knight","favours"]
[{"$f":"B1151+C1151","v":1.0476190476190477},{"$f":"D1151/Author1Sections","v":4.7619047619047616E-2},{"$f":"E1151/Author2Sections","v":1},{"$f":"COUNTIF(OFFSET(H1151,0,0,1,Author1Sections),\">0\")","v":1},{"$f":"COUNTIF(OFFSET(H1151,0,Author1Sections,1,Author2Sections),\"=0\")","v":8},1817,"gardine",0,0,0,0,0.14836795999999999,0,0,0,0,0,0,0,0,0,0,0,0,0,0,0,0,0,0,0,0,0,0,0,0,"lams","feasts"]
[{"$f":"B1152+C1152","v":1.0476190476190477},{"$f":"D1152/Author1Sections","v":4.7619047619047616E-2},{"$f":"E1152/Author2Sections","v":1},{"$f":"COUNTIF(OFFSET(H1152,0,0,1,Author1Sections),\">0\")","v":1},{"$f":"COUNTIF(OFFSET(H1152,0,Author1Sections,1,Author2Sections),\"=0\")","v":8},1823,"gemmes",0,0,0,0,0,0,0,0,0,0,0,0,0,0,0,0,0,0,0.2,0,0,0,0,0,0,0,0,0,0,"lik'd","feather'd"]
[{"$f":"B1153+C1153","v":1.0476190476190477},{"$f":"D1153/Author1Sections","v":4.7619047619047616E-2},{"$f":"E1153/Author2Sections","v":1},{"$f":"COUNTIF(OFFSET(H1153,0,0,1,Author1Sections),\">0\")","v":1},{"$f":"COUNTIF(OFFSET(H1153,0,Author1Sections,1,Author2Sections),\"=0\")","v":8},1844,"growing",0,0,0,0,0,0,0,0.2,0,0,0,0,0,0,0,0,0,0,0,0,0,0,0,0,0,0,0,0,0,"liken","featureless"]
[{"$f":"B1154+C1154","v":1.0476190476190477},{"$f":"D1154/Author1Sections","v":4.7619047619047616E-2},{"$f":"E1154/Author2Sections","v":1},{"$f":"COUNTIF(OFFSET(H1154,0,0,1,Author1Sections),\">0\")","v":1},{"$f":"COUNTIF(OFFSET(H1154,0,Author1Sections,1,Author2Sections),\"=0\")","v":8},1860,"hates",0,0,0,0,0,0,0,0,0,0,0,0,0,0,0,0.2,0,0,0,0,0,0,0,0,0,0,0,0,0,"lived","fee"]
[{"$f":"B1155+C1155","v":1.0476190476190477},{"$f":"D1155/Author1Sections","v":4.7619047619047616E-2},{"$f":"E1155/Author2Sections","v":1},{"$f":"COUNTIF(OFFSET(H1155,0,0,1,Author1Sections),\">0\")","v":1},{"$f":"COUNTIF(OFFSET(H1155,0,Author1Sections,1,Author2Sections),\"=0\")","v":8},1882,"holie",0,0,0,0.2,0,0,0,0,0,0,0,0,0,0,0,0,0,0,0,0,0,0,0,0,0,0,0,0,0,"livest","feed'st"]
[{"$f":"B1156+C1156","v":1.0476190476190477},{"$f":"D1156/Author1Sections","v":4.7619047619047616E-2},{"$f":"E1156/Author2Sections","v":1},{"$f":"COUNTIF(OFFSET(H1156,0,0,1,Author1Sections),\">0\")","v":1},{"$f":"COUNTIF(OFFSET(H1156,0,Author1Sections,1,Author2Sections),\"=0\")","v":8},1897,"hunts",0,0,0,0,0,0,0,0.2,0,0,0,0,0,0,0,0,0,0,0,0,0,0,0,0,0,0,0,0,0,"lockes","felon"]
[{"$f":"B1157+C1157","v":1.0476190476190477},{"$f":"D1157/Author1Sections","v":4.7619047619047616E-2},{"$f":"E1157/Author2Sections","v":1},{"$f":"COUNTIF(OFFSET(H1157,0,0,1,Author1Sections),\">0\")","v":1},{"$f":"COUNTIF(OFFSET(H1157,0,Author1Sections,1,Author2Sections),\"=0\")","v":8},1907,"inuentions",0,0,0,0,0,0,0,0,0.2,0,0,0,0,0,0,0,0,0,0,0,0,0,0,0,0,0,0,0,0,"milde","fetters"]
[{"$f":"B1158+C1158","v":1.0476190476190477},{"$f":"D1158/Author1Sections","v":4.7619047619047616E-2},{"$f":"E1158/Author2Sections","v":1},{"$f":"COUNTIF(OFFSET(H1158,0,0,1,Author1Sections),\">0\")","v":1},{"$f":"COUNTIF(OFFSET(H1158,0,Author1Sections,1,Author2Sections),\"=0\")","v":8},1924,"kneeling",0,0,0,0,0,0,0.2,0,0,0,0,0,0,0,0,0,0,0,0,0,0,0,0,0,0,0,0,0,0,"mixt","fiery"]
[{"$f":"B1159+C1159","v":1.0476190476190477},{"$f":"D1159/Author1Sections","v":4.7619047619047616E-2},{"$f":"E1159/Author2Sections","v":1},{"$f":"COUNTIF(OFFSET(H1159,0,0,1,Author1Sections),\">0\")","v":1},{"$f":"COUNTIF(OFFSET(H1159,0,Author1Sections,1,Author2Sections),\"=0\")","v":8},1925,"knight",0,0,0,0,0.14836795999999999,0,0,0,0,0,0,0,0,0,0,0,0,0,0,0,0,0,0,0,0,0,0,0,0,"models","figuring"]
[{"$f":"B1160+C1160","v":1.0476190476190477},{"$f":"D1160/Author1Sections","v":4.7619047619047616E-2},{"$f":"E1160/Author2Sections","v":1},{"$f":"COUNTIF(OFFSET(H1160,0,0,1,Author1Sections),\">0\")","v":1},{"$f":"COUNTIF(OFFSET(H1160,0,Author1Sections,1,Author2Sections),\"=0\")","v":8},1931,"lams",0,0,0,0,0,0,0,0.2,0,0,0,0,0,0,0,0,0,0,0,0,0,0,0,0,0,0,0,0,0,"moneth","filial"]
[{"$f":"B1161+C1161","v":1.0476190476190477},{"$f":"D1161/Author1Sections","v":4.7619047619047616E-2},{"$f":"E1161/Author2Sections","v":1},{"$f":"COUNTIF(OFFSET(H1161,0,0,1,Author1Sections),\">0\")","v":1},{"$f":"COUNTIF(OFFSET(H1161,0,Author1Sections,1,Author2Sections),\"=0\")","v":8},1948,"lik'd",0,0,0,0,0,0,0,0,0.2,0,0,0,0,0,0,0,0,0,0,0,0,0,0,0,0,0,0,0,0,"moribus","fill'd"]
[{"$f":"B1162+C1162","v":1.0476190476190477},{"$f":"D1162/Author1Sections","v":4.7619047619047616E-2},{"$f":"E1162/Author2Sections","v":1},{"$f":"COUNTIF(OFFSET(H1162,0,0,1,Author1Sections),\">0\")","v":1},{"$f":"COUNTIF(OFFSET(H1162,0,Author1Sections,1,Author2Sections),\"=0\")","v":8},1950,"liken",0,0,0,0,0,0,0,0.2,0,0,0,0,0,0,0,0,0,0,0,0,0,0,0,0,0,0,0,0,0,"mourne","fillet"]
[{"$f":"B1163+C1163","v":1.0476190476190477},{"$f":"D1163/Author1Sections","v":4.7619047619047616E-2},{"$f":"E1163/Author2Sections","v":1},{"$f":"COUNTIF(OFFSET(H1163,0,0,1,Author1Sections),\">0\")","v":1},{"$f":"COUNTIF(OFFSET(H1163,0,Author1Sections,1,Author2Sections),\"=0\")","v":8},1958,"lived",0,0.2,0,0,0,0,0,0,0,0,0,0,0,0,0,0,0,0,0,0,0,0,0,0,0,0,0,0,0,"myselfe","finest"]
[{"$f":"B1164+C1164","v":1.0476190476190477},{"$f":"D1164/Author1Sections","v":4.7619047619047616E-2},{"$f":"E1164/Author2Sections","v":1},{"$f":"COUNTIF(OFFSET(H1164,0,0,1,Author1Sections),\">0\")","v":1},{"$f":"COUNTIF(OFFSET(H1164,0,Author1Sections,1,Author2Sections),\"=0\")","v":8},1961,"livest",0,0,0.2,0,0,0,0,0,0,0,0,0,0,0,0,0,0,0,0,0,0,0,0,0,0,0,0,0,0,"nights","fingers"]
[{"$f":"B1165+C1165","v":1.0476190476190477},{"$f":"D1165/Author1Sections","v":4.7619047619047616E-2},{"$f":"E1165/Author2Sections","v":1},{"$f":"COUNTIF(OFFSET(H1165,0,0,1,Author1Sections),\">0\")","v":1},{"$f":"COUNTIF(OFFSET(H1165,0,Author1Sections,1,Author2Sections),\"=0\")","v":8},1962,"lockes",0,0,0,0,0,0,0,0,0,0,0,0,0,0,0,0,0,0,0,0,0.14074595000000001,0,0,0,0,0,0,0,0,"palenesse","fits"]
[{"$f":"B1166+C1166","v":1.0476190476190477},{"$f":"D1166/Author1Sections","v":4.7619047619047616E-2},{"$f":"E1166/Author2Sections","v":1},{"$f":"COUNTIF(OFFSET(H1166,0,0,1,Author1Sections),\">0\")","v":1},{"$f":"COUNTIF(OFFSET(H1166,0,Author1Sections,1,Author2Sections),\"=0\")","v":8},2006,"milde",0,0,0,0,0.14836795999999999,0,0,0,0,0,0,0,0,0,0,0,0,0,0,0,0,0,0,0,0,0,0,0,0,"pants","fix"]
[{"$f":"B1167+C1167","v":1.0476190476190477},{"$f":"D1167/Author1Sections","v":4.7619047619047616E-2},{"$f":"E1167/Author2Sections","v":1},{"$f":"COUNTIF(OFFSET(H1167,0,0,1,Author1Sections),\">0\")","v":1},{"$f":"COUNTIF(OFFSET(H1167,0,Author1Sections,1,Author2Sections),\"=0\")","v":8},2013,"mixt",0,0,0,0,0,0,0,0,0,0.2,0,0,0,0,0,0,0,0,0,0,0,0,0,0,0,0,0,0,0,"pawes","fix'd"]
[{"$f":"B1168+C1168","v":1.0476190476190477},{"$f":"D1168/Author1Sections","v":4.7619047619047616E-2},{"$f":"E1168/Author2Sections","v":1},{"$f":"COUNTIF(OFFSET(H1168,0,0,1,Author1Sections),\">0\")","v":1},{"$f":"COUNTIF(OFFSET(H1168,0,Author1Sections,1,Author2Sections),\"=0\")","v":8},2014,"models",0,0,0,0,0,0,0,0,0,0,0,0,0,0,0,0,0,0,0,0.2,0,0,0,0,0,0,0,0,0,"philisides","fixed"]
[{"$f":"B1169+C1169","v":1.0476190476190477},{"$f":"D1169/Author1Sections","v":4.7619047619047616E-2},{"$f":"E1169/Author2Sections","v":1},{"$f":"COUNTIF(OFFSET(H1169,0,0,1,Author1Sections),\">0\")","v":1},{"$f":"COUNTIF(OFFSET(H1169,0,Author1Sections,1,Author2Sections),\"=0\")","v":8},2018,"moneth",0,0,0,0,0,0,0.2,0,0,0,0,0,0,0,0,0,0,0,0,0,0,0,0,0,0,0,0,0,0,"pillour","flail"]
[{"$f":"B1170+C1170","v":1.0476190476190477},{"$f":"D1170/Author1Sections","v":4.7619047619047616E-2},{"$f":"E1170/Author2Sections","v":1},{"$f":"COUNTIF(OFFSET(H1170,0,0,1,Author1Sections),\">0\")","v":1},{"$f":"COUNTIF(OFFSET(H1170,0,Author1Sections,1,Author2Sections),\"=0\")","v":8},2020,"moribus",0,0,0,0,0,0,0.2,0,0,0,0,0,0,0,0,0,0,0,0,0,0,0,0,0,0,0,0,0,0,"posteritie","flaring"]
[{"$f":"B1171+C1171","v":1.0476190476190477},{"$f":"D1171/Author1Sections","v":4.7619047619047616E-2},{"$f":"E1171/Author2Sections","v":1},{"$f":"COUNTIF(OFFSET(H1171,0,0,1,Author1Sections),\">0\")","v":1},{"$f":"COUNTIF(OFFSET(H1171,0,Author1Sections,1,Author2Sections),\"=0\")","v":8},2029,"mourne",0,0.2,0,0,0,0,0,0,0,0,0,0,0,0,0,0,0,0,0,0,0,0,0,0,0,0,0,0,0,"preuaile","flash"]
[{"$f":"B1172+C1172","v":1.0476190476190477},{"$f":"D1172/Author1Sections","v":4.7619047619047616E-2},{"$f":"E1172/Author2Sections","v":1},{"$f":"COUNTIF(OFFSET(H1172,0,0,1,Author1Sections),\">0\")","v":1},{"$f":"COUNTIF(OFFSET(H1172,0,Author1Sections,1,Author2Sections),\"=0\")","v":8},2032,"myselfe",0,0,0,0,0,0,0,0,0.2,0,0,0,0,0,0,0,0,0,0,0,0,0,0,0,0,0,0,0,0,"puffing","flashy"]
[{"$f":"B1173+C1173","v":1.0476190476190477},{"$f":"D1173/Author1Sections","v":4.7619047619047616E-2},{"$f":"E1173/Author2Sections","v":1},{"$f":"COUNTIF(OFFSET(H1173,0,0,1,Author1Sections),\">0\")","v":1},{"$f":"COUNTIF(OFFSET(H1173,0,Author1Sections,1,Author2Sections),\"=0\")","v":8},2042,"nights",0,0,0,0,0,0,0,0,0,0,0,0,0,0,0,0,0,0,0,0.2,0,0,0,0,0,0,0,0,0,"quasi","fleecy"]
[{"$f":"B1174+C1174","v":1.0476190476190477},{"$f":"D1174/Author1Sections","v":4.7619047619047616E-2},{"$f":"E1174/Author2Sections","v":1},{"$f":"COUNTIF(OFFSET(H1174,0,0,1,Author1Sections),\">0\")","v":1},{"$f":"COUNTIF(OFFSET(H1174,0,Author1Sections,1,Author2Sections),\"=0\")","v":8},2066,"palenesse",0,0,0,0,0,0,0,0,0,0,0,0,0,0,0,0,0,0,0,0,0.14074595000000001,0,0,0,0,0,0,0,0,"quight","flesh's"]
[{"$f":"B1175+C1175","v":1.0476190476190477},{"$f":"D1175/Author1Sections","v":4.7619047619047616E-2},{"$f":"E1175/Author2Sections","v":1},{"$f":"COUNTIF(OFFSET(H1175,0,0,1,Author1Sections),\">0\")","v":1},{"$f":"COUNTIF(OFFSET(H1175,0,Author1Sections,1,Author2Sections),\"=0\")","v":8},2067,"pants",0,0,0,0,0,0,0,0,0,0,0,0,0,0,0,0,0,0,0,0,0.14074595000000001,0,0,0,0,0,0,0,0,"recount","fleshly"]
[{"$f":"B1176+C1176","v":1.0476190476190477},{"$f":"D1176/Author1Sections","v":4.7619047619047616E-2},{"$f":"E1176/Author2Sections","v":1},{"$f":"COUNTIF(OFFSET(H1176,0,0,1,Author1Sections),\">0\")","v":1},{"$f":"COUNTIF(OFFSET(H1176,0,Author1Sections,1,Author2Sections),\"=0\")","v":8},2072,"pawes",0,0,0,0,0,0,0,0,0,0,0,0,0,0,0,0,0,0.2,0,0,0,0,0,0,0,0,0,0,0,"remained","flew"]
[{"$f":"B1177+C1177","v":1.0476190476190477},{"$f":"D1177/Author1Sections","v":4.7619047619047616E-2},{"$f":"E1177/Author2Sections","v":1},{"$f":"COUNTIF(OFFSET(H1177,0,0,1,Author1Sections),\">0\")","v":1},{"$f":"COUNTIF(OFFSET(H1177,0,Author1Sections,1,Author2Sections),\"=0\")","v":8},2080,"philisides",0,0,0,0,0.14836795999999999,0,0,0,0,0,0,0,0,0,0,0,0,0,0,0,0,0,0,0,0,0,0,0,0,"scarse","fling"]
[{"$f":"B1178+C1178","v":1.0476190476190477},{"$f":"D1178/Author1Sections","v":4.7619047619047616E-2},{"$f":"E1178/Author2Sections","v":1},{"$f":"COUNTIF(OFFSET(H1178,0,0,1,Author1Sections),\">0\")","v":1},{"$f":"COUNTIF(OFFSET(H1178,0,Author1Sections,1,Author2Sections),\"=0\")","v":8},2087,"pillour",0,0,0,0,0.14836795999999999,0,0,0,0,0,0,0,0,0,0,0,0,0,0,0,0,0,0,0,0,0,0,0,0,"shoue","flings"]
[{"$f":"B1179+C1179","v":1.0476190476190477},{"$f":"D1179/Author1Sections","v":4.7619047619047616E-2},{"$f":"E1179/Author2Sections","v":1},{"$f":"COUNTIF(OFFSET(H1179,0,0,1,Author1Sections),\">0\")","v":1},{"$f":"COUNTIF(OFFSET(H1179,0,Author1Sections,1,Author2Sections),\"=0\")","v":8},2103,"posteritie",0,0.2,0,0,0,0,0,0,0,0,0,0,0,0,0,0,0,0,0,0,0,0,0,0,0,0,0,0,0,"sleeping","float"]
[{"$f":"B1180+C1180","v":1.0476190476190477},{"$f":"D1180/Author1Sections","v":4.7619047619047616E-2},{"$f":"E1180/Author2Sections","v":1},{"$f":"COUNTIF(OFFSET(H1180,0,0,1,Author1Sections),\">0\")","v":1},{"$f":"COUNTIF(OFFSET(H1180,0,Author1Sections,1,Author2Sections),\"=0\")","v":8},2109,"preuaile",0,0,0,0,0,0,0,0,0,0,0,0,0,0,0,0,0,0,0,0,0.14074595000000001,0,0,0,0,0,0,0,0,"sorrowing","flock"]
[{"$f":"B1181+C1181","v":1.0476190476190477},{"$f":"D1181/Author1Sections","v":4.7619047619047616E-2},{"$f":"E1181/Author2Sections","v":1},{"$f":"COUNTIF(OFFSET(H1181,0,0,1,Author1Sections),\">0\")","v":1},{"$f":"COUNTIF(OFFSET(H1181,0,Author1Sections,1,Author2Sections),\"=0\")","v":8},2115,"puffing",0,0,0,0,0,0,0,0,0,0,0,0,0,0,0,0,0,0,0,0,0.14074595000000001,0,0,0,0,0,0,0,0,"tace","floor"]
[{"$f":"B1182+C1182","v":1.0476190476190477},{"$f":"D1182/Author1Sections","v":4.7619047619047616E-2},{"$f":"E1182/Author2Sections","v":1},{"$f":"COUNTIF(OFFSET(H1182,0,0,1,Author1Sections),\">0\")","v":1},{"$f":"COUNTIF(OFFSET(H1182,0,Author1Sections,1,Author2Sections),\"=0\")","v":8},2117,"quasi",0,0,0,0,0,0,0,0.2,0,0,0,0,0,0,0,0,0,0,0,0,0,0,0,0,0,0,0,0,0,"tempori","flow'd"]
[{"$f":"B1183+C1183","v":1.0476190476190477},{"$f":"D1183/Author1Sections","v":4.7619047619047616E-2},{"$f":"E1183/Author2Sections","v":1},{"$f":"COUNTIF(OFFSET(H1183,0,0,1,Author1Sections),\">0\")","v":1},{"$f":"COUNTIF(OFFSET(H1183,0,Author1Sections,1,Author2Sections),\"=0\")","v":8},2119,"quight",0,0,0,0,0.14836795999999999,0,0,0,0,0,0,0,0,0,0,0,0,0,0,0,0,0,0,0,0,0,0,0,0,"turnd","flow'rets"]
[{"$f":"B1184+C1184","v":1.0476190476190477},{"$f":"D1184/Author1Sections","v":4.7619047619047616E-2},{"$f":"E1184/Author2Sections","v":1},{"$f":"COUNTIF(OFFSET(H1184,0,0,1,Author1Sections),\">0\")","v":1},{"$f":"COUNTIF(OFFSET(H1184,0,Author1Sections,1,Author2Sections),\"=0\")","v":8},2132,"recount",0,0,0,0,0,0,0,0,0,0,0,0,0,0,0,0,0.2,0,0,0,0,0,0,0,0,0,0,0,0,"twixt","flow'rs"]
[{"$f":"B1185+C1185","v":1.0476190476190477},{"$f":"D1185/Author1Sections","v":4.7619047619047616E-2},{"$f":"E1185/Author2Sections","v":1},{"$f":"COUNTIF(OFFSET(H1185,0,0,1,Author1Sections),\">0\")","v":1},{"$f":"COUNTIF(OFFSET(H1185,0,Author1Sections,1,Author2Sections),\"=0\")","v":8},2136,"remained",0,0,0,0,0.14836795999999999,0,0,0,0,0,0,0,0,0,0,0,0,0,0,0,0,0,0,0,0,0,0,0,0,"unhappie","flow'ry"]
[{"$f":"B1186+C1186","v":1.0476190476190477},{"$f":"D1186/Author1Sections","v":4.7619047619047616E-2},{"$f":"E1186/Author2Sections","v":1},{"$f":"COUNTIF(OFFSET(H1186,0,0,1,Author1Sections),\">0\")","v":1},{"$f":"COUNTIF(OFFSET(H1186,0,Author1Sections,1,Author2Sections),\"=0\")","v":8},2174,"scarse",0,0.2,0,0,0,0,0,0,0,0,0,0,0,0,0,0,0,0,0,0,0,0,0,0,0,0,0,0,0,"unwares","flown"]
[{"$f":"B1187+C1187","v":1.0476190476190477},{"$f":"D1187/Author1Sections","v":4.7619047619047616E-2},{"$f":"E1187/Author2Sections","v":1},{"$f":"COUNTIF(OFFSET(H1187,0,0,1,Author1Sections),\">0\")","v":1},{"$f":"COUNTIF(OFFSET(H1187,0,Author1Sections,1,Author2Sections),\"=0\")","v":8},2202,"shoue",0,0,0,0,0,0,0,0,0,0,0.2,0,0,0,0,0,0,0,0,0,0,0,0,0,0,0,0,0,0,"verlame","flute"]
[{"$f":"B1188+C1188","v":1.0476190476190477},{"$f":"D1188/Author1Sections","v":4.7619047619047616E-2},{"$f":"E1188/Author2Sections","v":1},{"$f":"COUNTIF(OFFSET(H1188,0,0,1,Author1Sections),\">0\")","v":1},{"$f":"COUNTIF(OFFSET(H1188,0,Author1Sections,1,Author2Sections),\"=0\")","v":8},2214,"sleeping",0,0,0,0,0.14836795999999999,0,0,0,0,0,0,0,0,0,0,0,0,0,0,0,0,0,0,0,0,0,0,0,0,"vext","fluxive"]
[{"$f":"B1189+C1189","v":1.0476190476190477},{"$f":"D1189/Author1Sections","v":4.7619047619047616E-2},{"$f":"E1189/Author2Sections","v":1},{"$f":"COUNTIF(OFFSET(H1189,0,0,1,Author1Sections),\">0\")","v":1},{"$f":"COUNTIF(OFFSET(H1189,0,Author1Sections,1,Author2Sections),\"=0\")","v":8},2225,"sorrowing",0,0,0.2,0,0,0,0,0,0,0,0,0,0,0,0,0,0,0,0,0,0,0,0,0,0,0,0,0,0,"waile","foiled"]
[{"$f":"B1190+C1190","v":1.0476190476190477},{"$f":"D1190/Author1Sections","v":4.7619047619047616E-2},{"$f":"E1190/Author2Sections","v":1},{"$f":"COUNTIF(OFFSET(H1190,0,0,1,Author1Sections),\">0\")","v":1},{"$f":"COUNTIF(OFFSET(H1190,0,Author1Sections,1,Author2Sections),\"=0\")","v":8},2280,"tace",0,0,0,0,0,0,0,0.2,0,0,0,0,0,0,0,0,0,0,0,0,0,0,0,0,0,0,0,0,0,"wailing","folded"]
[{"$f":"B1191+C1191","v":1.0476190476190477},{"$f":"D1191/Author1Sections","v":4.7619047619047616E-2},{"$f":"E1191/Author2Sections","v":1},{"$f":"COUNTIF(OFFSET(H1191,0,0,1,Author1Sections),\">0\")","v":1},{"$f":"COUNTIF(OFFSET(H1191,0,Author1Sections,1,Author2Sections),\"=0\")","v":8},2285,"tempori",0,0,0,0,0,0,0.2,0,0,0,0,0,0,0,0,0,0,0,0,0,0,0,0,0,0,0,0,0,0,"whilom","fondly"]
[{"$f":"B1192+C1192","v":1.0476190476190477},{"$f":"D1192/Author1Sections","v":4.7619047619047616E-2},{"$f":"E1192/Author2Sections","v":1},{"$f":"COUNTIF(OFFSET(H1192,0,0,1,Author1Sections),\">0\")","v":1},{"$f":"COUNTIF(OFFSET(H1192,0,Author1Sections,1,Author2Sections),\"=0\")","v":8},2318,"turnd",0.2,0,0,0,0,0,0,0,0,0,0,0,0,0,0,0,0,0,0,0,0,0,0,0,0,0,0,0,0,"yeeres","fools"]
[{"$f":"B1193+C1193","v":1.0476190476190477},{"$f":"D1193/Author1Sections","v":4.7619047619047616E-2},{"$f":"E1193/Author2Sections","v":1},{"$f":"COUNTIF(OFFSET(H1193,0,0,1,Author1Sections),\">0\")","v":1},{"$f":"COUNTIF(OFFSET(H1193,0,Author1Sections,1,Author2Sections),\"=0\")","v":8},2323,"twixt",0,0,0,0,0.14836795999999999,0,0,0,0,0,0,0,0,0,0,0,0,0,0,0,0,0,0,0,0,0,0,0,0,"'fraid","forbid"]
[{"$f":"B1194+C1194","v":1.0476190476190477},{"$f":"D1194/Author1Sections","v":4.7619047619047616E-2},{"$f":"E1194/Author2Sections","v":1},{"$f":"COUNTIF(OFFSET(H1194,0,0,1,Author1Sections),\">0\")","v":1},{"$f":"COUNTIF(OFFSET(H1194,0,Author1Sections,1,Author2Sections),\"=0\")","v":8},2327,"unhappie",0,0.2,0,0,0,0,0,0,0,0,0,0,0,0,0,0,0,0,0,0,0,0,0,0,0,0,0,0,0,"'pointing","forbidden"]
[{"$f":"B1195+C1195","v":1.0476190476190477},{"$f":"D1195/Author1Sections","v":4.7619047619047616E-2},{"$f":"E1195/Author2Sections","v":1},{"$f":"COUNTIF(OFFSET(H1195,0,0,1,Author1Sections),\">0\")","v":1},{"$f":"COUNTIF(OFFSET(H1195,0,Author1Sections,1,Author2Sections),\"=0\")","v":8},2329,"unwares",0,0,0,0,0.14836795999999999,0,0,0,0,0,0,0,0,0,0,0,0,0,0,0,0,0,0,0,0,0,0,0,0,"'quite","forbod"]
[{"$f":"B1196+C1196","v":1.0476190476190477},{"$f":"D1196/Author1Sections","v":4.7619047619047616E-2},{"$f":"E1196/Author2Sections","v":1},{"$f":"COUNTIF(OFFSET(H1196,0,0,1,Author1Sections),\">0\")","v":1},{"$f":"COUNTIF(OFFSET(H1196,0,Author1Sections,1,Author2Sections),\"=0\")","v":8},2336,"verlame",0.2,0,0,0,0,0,0,0,0,0,0,0,0,0,0,0,0,0,0,0,0,0,0,0,0,0,0,0,0,"abie","forehead"]
[{"$f":"B1197+C1197","v":1.0476190476190477},{"$f":"D1197/Author1Sections","v":4.7619047619047616E-2},{"$f":"E1197/Author2Sections","v":1},{"$f":"COUNTIF(OFFSET(H1197,0,0,1,Author1Sections),\">0\")","v":1},{"$f":"COUNTIF(OFFSET(H1197,0,Author1Sections,1,Author2Sections),\"=0\")","v":8},2339,"vext",0,0,0,0,0,0,0,0,0,0,0,0,0,0,0,0,0,0,0.2,0,0,0,0,0,0,0,0,0,0,"abisse","forests"]
[{"$f":"B1198+C1198","v":1.0476190476190477},{"$f":"D1198/Author1Sections","v":4.7619047619047616E-2},{"$f":"E1198/Author2Sections","v":1},{"$f":"COUNTIF(OFFSET(H1198,0,0,1,Author1Sections),\">0\")","v":1},{"$f":"COUNTIF(OFFSET(H1198,0,Author1Sections,1,Author2Sections),\"=0\")","v":8},2350,"waile",0,0,0,0,0,0,0,0,0,0,0,0,0,0,0,0,0,0,0,0.2,0,0,0,0,0,0,0,0,0,"able","forever"]
[{"$f":"B1199+C1199","v":1.0476190476190477},{"$f":"D1199/Author1Sections","v":4.7619047619047616E-2},{"$f":"E1199/Author2Sections","v":1},{"$f":"COUNTIF(OFFSET(H1199,0,0,1,Author1Sections),\">0\")","v":1},{"$f":"COUNTIF(OFFSET(H1199,0,Author1Sections,1,Author2Sections),\"=0\")","v":8},2351,"wailing",0.2,0,0,0,0,0,0,0,0,0,0,0,0,0,0,0,0,0,0,0,0,0,0,0,0,0,0,0,0,"absolute","forlorn"]
[{"$f":"B1200+C1200","v":1.0476190476190477},{"$f":"D1200/Author1Sections","v":4.7619047619047616E-2},{"$f":"E1200/Author2Sections","v":1},{"$f":"COUNTIF(OFFSET(H1200,0,0,1,Author1Sections),\">0\")","v":1},{"$f":"COUNTIF(OFFSET(H1200,0,Author1Sections,1,Author2Sections),\"=0\")","v":8},2377,"whilom",0.2,0,0,0,0,0,0,0,0,0,0,0,0,0,0,0,0,0,0,0,0,0,0,0,0,0,0,0,0,"abstracted","formal"]
[{"$f":"B1201+C1201","v":1.0476190476190477},{"$f":"D1201/Author1Sections","v":4.7619047619047616E-2},{"$f":"E1201/Author2Sections","v":1},{"$f":"COUNTIF(OFFSET(H1201,0,0,1,Author1Sections),\">0\")","v":1},{"$f":"COUNTIF(OFFSET(H1201,0,Author1Sections,1,Author2Sections),\"=0\")","v":8},2407,"yeeres",0,0,0,0,0,0,0,0,0,0,0,0.2,0,0,0,0,0,0,0,0,0,0,0,0,0,0,0,0,0,"accepted","forms"]
[{"$f":"B1202+C1202","v":1.0476190476190477},{"$f":"D1202/Author1Sections","v":4.7619047619047616E-2},{"$f":"E1202/Author2Sections","v":1},{"$f":"COUNTIF(OFFSET(H1202,0,0,1,Author1Sections),\">0\")","v":1},{"$f":"COUNTIF(OFFSET(H1202,0,Author1Sections,1,Author2Sections),\"=0\")","v":8},2414,"'fraid",0,0,0,0,0,0,0,0,0,0,0,0,0,0,0,0,0,0.1,0,0,0,0,0,0,0,0,0,0,0,"accomplishment","forsake"]
[{"$f":"B1203+C1203","v":1.0476190476190477},{"$f":"D1203/Author1Sections","v":4.7619047619047616E-2},{"$f":"E1203/Author2Sections","v":1},{"$f":"COUNTIF(OFFSET(H1203,0,0,1,Author1Sections),\">0\")","v":1},{"$f":"COUNTIF(OFFSET(H1203,0,Author1Sections,1,Author2Sections),\"=0\")","v":8},2427,"'pointing",0,0,0,0,0,0,0,0,0,0,0,0,0,0,0,0,0,0,0.1,0,0,0,0,0,0,0,0,0,0,"aching","forsaken"]
[{"$f":"B1204+C1204","v":1.0476190476190477},{"$f":"D1204/Author1Sections","v":4.7619047619047616E-2},{"$f":"E1204/Author2Sections","v":1},{"$f":"COUNTIF(OFFSET(H1204,0,0,1,Author1Sections),\">0\")","v":1},{"$f":"COUNTIF(OFFSET(H1204,0,Author1Sections,1,Author2Sections),\"=0\")","v":8},2428,"'quite",0,0,0,0,0,0,0,0,0,0,0,0,0,0,0,0,0,0,0,0.1,0,0,0,0,0,0,0,0,0,"acquaintance","forsook"]
[{"$f":"B1205+C1205","v":1.0476190476190477},{"$f":"D1205/Author1Sections","v":4.7619047619047616E-2},{"$f":"E1205/Author2Sections","v":1},{"$f":"COUNTIF(OFFSET(H1205,0,0,1,Author1Sections),\">0\")","v":1},{"$f":"COUNTIF(OFFSET(H1205,0,Author1Sections,1,Author2Sections),\"=0\")","v":8},2442,"abie",0.1,0,0,0,0,0,0,0,0,0,0,0,0,0,0,0,0,0,0,0,0,0,0,0,0,0,0,0,0,"acquiescate","founder"]
[{"$f":"B1206+C1206","v":1.0476190476190477},{"$f":"D1206/Author1Sections","v":4.7619047619047616E-2},{"$f":"E1206/Author2Sections","v":1},{"$f":"COUNTIF(OFFSET(H1206,0,0,1,Author1Sections),\">0\")","v":1},{"$f":"COUNTIF(OFFSET(H1206,0,Author1Sections,1,Author2Sections),\"=0\")","v":8},2443,"abisse",0,0,0,0,7.4183979999999997E-2,0,0,0,0,0,0,0,0,0,0,0,0,0,0,0,0,0,0,0,0,0,0,0,0,"actiuitie","fountains"]
[{"$f":"B1207+C1207","v":1.0476190476190477},{"$f":"D1207/Author1Sections","v":4.7619047619047616E-2},{"$f":"E1207/Author2Sections","v":1},{"$f":"COUNTIF(OFFSET(H1207,0,0,1,Author1Sections),\">0\")","v":1},{"$f":"COUNTIF(OFFSET(H1207,0,Author1Sections,1,Author2Sections),\"=0\")","v":8},2444,"able",0,0,0.1,0,0,0,0,0,0,0,0,0,0,0,0,0,0,0,0,0,0,0,0,0,0,0,0,0,0,"acts","fowl"]
[{"$f":"B1208+C1208","v":1.0476190476190477},{"$f":"D1208/Author1Sections","v":4.7619047619047616E-2},{"$f":"E1208/Author2Sections","v":1},{"$f":"COUNTIF(OFFSET(H1208,0,0,1,Author1Sections),\">0\")","v":1},{"$f":"COUNTIF(OFFSET(H1208,0,Author1Sections,1,Author2Sections),\"=0\")","v":8},2445,"absolute",0,0,0,0,0,0,0.1,0,0,0,0,0,0,0,0,0,0,0,0,0,0,0,0,0,0,0,0,0,0,"ad","frail"]
[{"$f":"B1209+C1209","v":1.0476190476190477},{"$f":"D1209/Author1Sections","v":4.7619047619047616E-2},{"$f":"E1209/Author2Sections","v":1},{"$f":"COUNTIF(OFFSET(H1209,0,0,1,Author1Sections),\">0\")","v":1},{"$f":"COUNTIF(OFFSET(H1209,0,Author1Sections,1,Author2Sections),\"=0\")","v":8},2446,"abstracted",0,0,0,0,0,0,0,0,0,0,0,0.1,0,0,0,0,0,0,0,0,0,0,0,0,0,0,0,0,0,"added","frank"]
[{"$f":"B1210+C1210","v":1.0476190476190477},{"$f":"D1210/Author1Sections","v":4.7619047619047616E-2},{"$f":"E1210/Author2Sections","v":1},{"$f":"COUNTIF(OFFSET(H1210,0,0,1,Author1Sections),\">0\")","v":1},{"$f":"COUNTIF(OFFSET(H1210,0,Author1Sections,1,Author2Sections),\"=0\")","v":8},2450,"accepted",0,0,0,0,0,0,0,0,0.1,0,0,0,0,0,0,0,0,0,0,0,0,0,0,0,0,0,0,0,0,"admir","freak'd"]
[{"$f":"B1211+C1211","v":1.0476190476190477},{"$f":"D1211/Author1Sections","v":4.7619047619047616E-2},{"$f":"E1211/Author2Sections","v":1},{"$f":"COUNTIF(OFFSET(H1211,0,0,1,Author1Sections),\">0\")","v":1},{"$f":"COUNTIF(OFFSET(H1211,0,Author1Sections,1,Author2Sections),\"=0\")","v":8},2453,"accomplishment",0,0,0,0,0,0,0,0,0.1,0,0,0,0,0,0,0,0,0,0,0,0,0,0,0,0,0,0,0,0,"admire","freedom"]
[{"$f":"B1212+C1212","v":1.0476190476190477},{"$f":"D1212/Author1Sections","v":4.7619047619047616E-2},{"$f":"E1212/Author2Sections","v":1},{"$f":"COUNTIF(OFFSET(H1212,0,0,1,Author1Sections),\">0\")","v":1},{"$f":"COUNTIF(OFFSET(H1212,0,Author1Sections,1,Author2Sections),\"=0\")","v":8},2456,"aching",0,0,0,0,0,0,0,0,0,0,0,0,0,0,0,0,0,0.1,0,0,0,0,0,0,0,0,0,0,0,"admired","friar's"]
[{"$f":"B1213+C1213","v":1.0476190476190477},{"$f":"D1213/Author1Sections","v":4.7619047619047616E-2},{"$f":"E1213/Author2Sections","v":1},{"$f":"COUNTIF(OFFSET(H1213,0,0,1,Author1Sections),\">0\")","v":1},{"$f":"COUNTIF(OFFSET(H1213,0,Author1Sections,1,Author2Sections),\"=0\")","v":8},2457,"acquaintance",0,0,0,0,0,0,0,0,0,0,0,0,0.1,0,0,0,0,0,0,0,0,0,0,0,0,0,0,0,0,"admitted","frolic"]
[{"$f":"B1214+C1214","v":1.0476190476190477},{"$f":"D1214/Author1Sections","v":4.7619047619047616E-2},{"$f":"E1214/Author2Sections","v":1},{"$f":"COUNTIF(OFFSET(H1214,0,0,1,Author1Sections),\">0\")","v":1},{"$f":"COUNTIF(OFFSET(H1214,0,Author1Sections,1,Author2Sections),\"=0\")","v":8},2458,"acquiescate",0,0,0,0,0,0,0,0.1,0,0,0,0,0,0,0,0,0,0,0,0,0,0,0,0,0,0,0,0,0,"adoptiue","frounc'd"]
[{"$f":"B1215+C1215","v":1.0476190476190477},{"$f":"D1215/Author1Sections","v":4.7619047619047616E-2},{"$f":"E1215/Author2Sections","v":1},{"$f":"COUNTIF(OFFSET(H1215,0,0,1,Author1Sections),\">0\")","v":1},{"$f":"COUNTIF(OFFSET(H1215,0,Author1Sections,1,Author2Sections),\"=0\")","v":8},2459,"actiuitie",0,0,0,0,0,0,0,0.1,0,0,0,0,0,0,0,0,0,0,0,0,0,0,0,0,0,0,0,0,0,"adornd","frowning"]
[{"$f":"B1216+C1216","v":1.0476190476190477},{"$f":"D1216/Author1Sections","v":4.7619047619047616E-2},{"$f":"E1216/Author2Sections","v":1},{"$f":"COUNTIF(OFFSET(H1216,0,0,1,Author1Sections),\">0\")","v":1},{"$f":"COUNTIF(OFFSET(H1216,0,Author1Sections,1,Author2Sections),\"=0\")","v":8},2460,"acts",0,0,0,0.1,0,0,0,0,0,0,0,0,0,0,0,0,0,0,0,0,0,0,0,0,0,0,0,0,0,"adorne","fry"]
[{"$f":"B1217+C1217","v":1.0476190476190477},{"$f":"D1217/Author1Sections","v":4.7619047619047616E-2},{"$f":"E1217/Author2Sections","v":1},{"$f":"COUNTIF(OFFSET(H1217,0,0,1,Author1Sections),\">0\")","v":1},{"$f":"COUNTIF(OFFSET(H1217,0,Author1Sections,1,Author2Sections),\"=0\")","v":8},2462,"ad",0,0,0,0,0,0.1,0,0,0,0,0,0,0,0,0,0,0,0,0,0,0,0,0,0,0,0,0,0,0,"adowne","fuel"]
[{"$f":"B1218+C1218","v":1.0476190476190477},{"$f":"D1218/Author1Sections","v":4.7619047619047616E-2},{"$f":"E1218/Author2Sections","v":1},{"$f":"COUNTIF(OFFSET(H1218,0,0,1,Author1Sections),\">0\")","v":1},{"$f":"COUNTIF(OFFSET(H1218,0,Author1Sections,1,Author2Sections),\"=0\")","v":8},2463,"added",0,0,0,0.1,0,0,0,0,0,0,0,0,0,0,0,0,0,0,0,0,0,0,0,0,0,0,0,0,0,"aduaunce","furrow'd"]
[{"$f":"B1219+C1219","v":1.0476190476190477},{"$f":"D1219/Author1Sections","v":4.7619047619047616E-2},{"$f":"E1219/Author2Sections","v":1},{"$f":"COUNTIF(OFFSET(H1219,0,0,1,Author1Sections),\">0\")","v":1},{"$f":"COUNTIF(OFFSET(H1219,0,Author1Sections,1,Author2Sections),\"=0\")","v":8},2465,"admir",0,0,0,0.1,0,0,0,0,0,0,0,0,0,0,0,0,0,0,0,0,0,0,0,0,0,0,0,0,0,"aduersarie","gadding"]
[{"$f":"B1220+C1220","v":1.0476190476190477},{"$f":"D1220/Author1Sections","v":4.7619047619047616E-2},{"$f":"E1220/Author2Sections","v":1},{"$f":"COUNTIF(OFFSET(H1220,0,0,1,Author1Sections),\">0\")","v":1},{"$f":"COUNTIF(OFFSET(H1220,0,Author1Sections,1,Author2Sections),\"=0\")","v":8},2466,"admire",0,0,0,0,0,0,0,0,0,0,0,0,0,0,0,0,0,0,0.1,0,0,0,0,0,0,0,0,0,0,"advaunce","gait"]
[{"$f":"B1221+C1221","v":1.0476190476190477},{"$f":"D1221/Author1Sections","v":4.7619047619047616E-2},{"$f":"E1221/Author2Sections","v":1},{"$f":"COUNTIF(OFFSET(H1221,0,0,1,Author1Sections),\">0\")","v":1},{"$f":"COUNTIF(OFFSET(H1221,0,Author1Sections,1,Author2Sections),\"=0\")","v":8},2467,"admired",0.1,0,0,0,0,0,0,0,0,0,0,0,0,0,0,0,0,0,0,0,0,0,0,0,0,0,0,0,0,"advauncement","galilean"]
[{"$f":"B1222+C1222","v":1.0476190476190477},{"$f":"D1222/Author1Sections","v":4.7619047619047616E-2},{"$f":"E1222/Author2Sections","v":1},{"$f":"COUNTIF(OFFSET(H1222,0,0,1,Author1Sections),\">0\")","v":1},{"$f":"COUNTIF(OFFSET(H1222,0,Author1Sections,1,Author2Sections),\"=0\")","v":8},2469,"admitted",0,0,0,0,0,0,0,0,0,0,0,0,0,0,0,0,0,0,0.1,0,0,0,0,0,0,0,0,0,0,"aeneas","garish"]
[{"$f":"B1223+C1223","v":1.0476190476190477},{"$f":"D1223/Author1Sections","v":4.7619047619047616E-2},{"$f":"E1223/Author2Sections","v":1},{"$f":"COUNTIF(OFFSET(H1223,0,0,1,Author1Sections),\">0\")","v":1},{"$f":"COUNTIF(OFFSET(H1223,0,Author1Sections,1,Author2Sections),\"=0\")","v":8},2470,"adoptiue",0,0,0,0,0,0,0,0,0,0,0,0,0,0,0,0,0,0,0,0,7.0372980000000002E-2,0,0,0,0,0,0,0,0,"affirme","garment"]
[{"$f":"B1224+C1224","v":1.0476190476190477},{"$f":"D1224/Author1Sections","v":4.7619047619047616E-2},{"$f":"E1224/Author2Sections","v":1},{"$f":"COUNTIF(OFFSET(H1224,0,0,1,Author1Sections),\">0\")","v":1},{"$f":"COUNTIF(OFFSET(H1224,0,Author1Sections,1,Author2Sections),\"=0\")","v":8},2471,"adornd",0.1,0,0,0,0,0,0,0,0,0,0,0,0,0,0,0,0,0,0,0,0,0,0,0,0,0,0,0,0,"affoord","gazes"]
[{"$f":"B1225+C1225","v":1.0476190476190477},{"$f":"D1225/Author1Sections","v":4.7619047619047616E-2},{"$f":"E1225/Author2Sections","v":1},{"$f":"COUNTIF(OFFSET(H1225,0,0,1,Author1Sections),\">0\")","v":1},{"$f":"COUNTIF(OFFSET(H1225,0,Author1Sections,1,Author2Sections),\"=0\")","v":8},2472,"adorne",0,0,0,0,7.4183979999999997E-2,0,0,0,0,0,0,0,0,0,0,0,0,0,0,0,0,0,0,0,0,0,0,0,0,"affords","gems"]
[{"$f":"B1226+C1226","v":1.0476190476190477},{"$f":"D1226/Author1Sections","v":4.7619047619047616E-2},{"$f":"E1226/Author2Sections","v":1},{"$f":"COUNTIF(OFFSET(H1226,0,0,1,Author1Sections),\">0\")","v":1},{"$f":"COUNTIF(OFFSET(H1226,0,Author1Sections,1,Author2Sections),\"=0\")","v":8},2473,"adowne",0,0,0,0,7.4183979999999997E-2,0,0,0,0,0,0,0,0,0,0,0,0,0,0,0,0,0,0,0,0,0,0,0,0,"affrick","general"]
[{"$f":"B1227+C1227","v":1.0476190476190477},{"$f":"D1227/Author1Sections","v":4.7619047619047616E-2},{"$f":"E1227/Author2Sections","v":1},{"$f":"COUNTIF(OFFSET(H1227,0,0,1,Author1Sections),\">0\")","v":1},{"$f":"COUNTIF(OFFSET(H1227,0,Author1Sections,1,Author2Sections),\"=0\")","v":8},2474,"aduaunce",0,0,0,0,0,0,0,0,0,0,0,0,0,0.1,0,0,0,0,0,0,0,0,0,0,0,0,0,0,0,"aganippe","gently"]
[{"$f":"B1228+C1228","v":1.0476190476190477},{"$f":"D1228/Author1Sections","v":4.7619047619047616E-2},{"$f":"E1228/Author2Sections","v":1},{"$f":"COUNTIF(OFFSET(H1228,0,0,1,Author1Sections),\">0\")","v":1},{"$f":"COUNTIF(OFFSET(H1228,0,Author1Sections,1,Author2Sections),\"=0\")","v":8},2475,"aduersarie",0,0,0,0,0,0,0,0,0.1,0,0,0,0,0,0,0,0,0,0,0,0,0,0,0,0,0,0,0,0,"agast","giddy"]
[{"$f":"B1229+C1229","v":1.0476190476190477},{"$f":"D1229/Author1Sections","v":4.7619047619047616E-2},{"$f":"E1229/Author2Sections","v":1},{"$f":"COUNTIF(OFFSET(H1229,0,0,1,Author1Sections),\">0\")","v":1},{"$f":"COUNTIF(OFFSET(H1229,0,Author1Sections,1,Author2Sections),\"=0\")","v":8},2479,"advaunce",0,0,0.1,0,0,0,0,0,0,0,0,0,0,0,0,0,0,0,0,0,0,0,0,0,0,0,0,0,0,"ages","girded"]
[{"$f":"B1230+C1230","v":1.0476190476190477},{"$f":"D1230/Author1Sections","v":4.7619047619047616E-2},{"$f":"E1230/Author2Sections","v":1},{"$f":"COUNTIF(OFFSET(H1230,0,0,1,Author1Sections),\">0\")","v":1},{"$f":"COUNTIF(OFFSET(H1230,0,Author1Sections,1,Author2Sections),\"=0\")","v":8},2480,"advauncement",0.1,0,0,0,0,0,0,0,0,0,0,0,0,0,0,0,0,0,0,0,0,0,0,0,0,0,0,0,0,"agoe","giving"]
[{"$f":"B1231+C1231","v":1.0476190476190477},{"$f":"D1231/Author1Sections","v":4.7619047619047616E-2},{"$f":"E1231/Author2Sections","v":1},{"$f":"COUNTIF(OFFSET(H1231,0,0,1,Author1Sections),\">0\")","v":1},{"$f":"COUNTIF(OFFSET(H1231,0,Author1Sections,1,Author2Sections),\"=0\")","v":8},2482,"aeneas",0,0,0,0,0,0.1,0,0,0,0,0,0,0,0,0,0,0,0,0,0,0,0,0,0,0,0,0,0,0,"agonies","glades"]
[{"$f":"B1232+C1232","v":1.0476190476190477},{"$f":"D1232/Author1Sections","v":4.7619047619047616E-2},{"$f":"E1232/Author2Sections","v":1},{"$f":"COUNTIF(OFFSET(H1232,0,0,1,Author1Sections),\">0\")","v":1},{"$f":"COUNTIF(OFFSET(H1232,0,Author1Sections,1,Author2Sections),\"=0\")","v":8},2484,"affirme",0,0,0,0,0,0,0,0,0,0,0,0,0,0,0,0,0.1,0,0,0,0,0,0,0,0,0,0,0,0,"agreed","glazed"]
[{"$f":"B1233+C1233","v":1.0476190476190477},{"$f":"D1233/Author1Sections","v":4.7619047619047616E-2},{"$f":"E1233/Author2Sections","v":1},{"$f":"COUNTIF(OFFSET(H1233,0,0,1,Author1Sections),\">0\")","v":1},{"$f":"COUNTIF(OFFSET(H1233,0,Author1Sections,1,Author2Sections),\"=0\")","v":8},2486,"affoord",0,0,0.1,0,0,0,0,0,0,0,0,0,0,0,0,0,0,0,0,0,0,0,0,0,0,0,0,0,0,"agreeve","glimmering"]
[{"$f":"B1234+C1234","v":1.0476190476190477},{"$f":"D1234/Author1Sections","v":4.7619047619047616E-2},{"$f":"E1234/Author2Sections","v":1},{"$f":"COUNTIF(OFFSET(H1234,0,0,1,Author1Sections),\">0\")","v":1},{"$f":"COUNTIF(OFFSET(H1234,0,Author1Sections,1,Author2Sections),\"=0\")","v":8},2487,"affords",0,0,0,0,0,0,0,0,0,0.1,0,0,0,0,0,0,0,0,0,0,0,0,0,0,0,0,0,0,0,"alabaster","glimpse"]
[{"$f":"B1235+C1235","v":1.0476190476190477},{"$f":"D1235/Author1Sections","v":4.7619047619047616E-2},{"$f":"E1235/Author2Sections","v":1},{"$f":"COUNTIF(OFFSET(H1235,0,0,1,Author1Sections),\">0\")","v":1},{"$f":"COUNTIF(OFFSET(H1235,0,Author1Sections,1,Author2Sections),\"=0\")","v":8},2488,"affrick",0,0,0,0,0,0,0,0,0.1,0,0,0,0,0,0,0,0,0,0,0,0,0,0,0,0,0,0,0,0,"alay","glistering"]
[{"$f":"B1236+C1236","v":1.0476190476190477},{"$f":"D1236/Author1Sections","v":4.7619047619047616E-2},{"$f":"E1236/Author2Sections","v":1},{"$f":"COUNTIF(OFFSET(H1236,0,0,1,Author1Sections),\">0\")","v":1},{"$f":"COUNTIF(OFFSET(H1236,0,Author1Sections,1,Author2Sections),\"=0\")","v":8},2491,"aganippe",0,0,0,0,0,0,0,0,0,0,0,0,0,0,0,0,0,0.1,0,0,0,0,0,0,0,0,0,0,0,"alcmena","gloom"]
[{"$f":"B1237+C1237","v":1.0476190476190477},{"$f":"D1237/Author1Sections","v":4.7619047619047616E-2},{"$f":"E1237/Author2Sections","v":1},{"$f":"COUNTIF(OFFSET(H1237,0,0,1,Author1Sections),\">0\")","v":1},{"$f":"COUNTIF(OFFSET(H1237,0,Author1Sections,1,Author2Sections),\"=0\")","v":8},2492,"agast",0,0,0,0,7.4183979999999997E-2,0,0,0,0,0,0,0,0,0,0,0,0,0,0,0,0,0,0,0,0,0,0,0,0,"aliue","glow'd"]
[{"$f":"B1238+C1238","v":1.0476190476190477},{"$f":"D1238/Author1Sections","v":4.7619047619047616E-2},{"$f":"E1238/Author2Sections","v":1},{"$f":"COUNTIF(OFFSET(H1238,0,0,1,Author1Sections),\">0\")","v":1},{"$f":"COUNTIF(OFFSET(H1238,0,Author1Sections,1,Author2Sections),\"=0\")","v":8},2493,"ages",0.1,0,0,0,0,0,0,0,0,0,0,0,0,0,0,0,0,0,0,0,0,0,0,0,0,0,0,0,0,"allegories","glutton"]
[{"$f":"B1239+C1239","v":1.0476190476190477},{"$f":"D1239/Author1Sections","v":4.7619047619047616E-2},{"$f":"E1239/Author2Sections","v":1},{"$f":"COUNTIF(OFFSET(H1239,0,0,1,Author1Sections),\">0\")","v":1},{"$f":"COUNTIF(OFFSET(H1239,0,Author1Sections,1,Author2Sections),\"=0\")","v":8},2494,"agoe",0,0,0,0.1,0,0,0,0,0,0,0,0,0,0,0,0,0,0,0,0,0,0,0,0,0,0,0,0,0,"allow","goblin"]
[{"$f":"B1240+C1240","v":1.0476190476190477},{"$f":"D1240/Author1Sections","v":4.7619047619047616E-2},{"$f":"E1240/Author2Sections","v":1},{"$f":"COUNTIF(OFFSET(H1240,0,0,1,Author1Sections),\">0\")","v":1},{"$f":"COUNTIF(OFFSET(H1240,0,Author1Sections,1,Author2Sections),\"=0\")","v":8},2495,"agonies",0,0,0,0,0,0,0,0.1,0,0,0,0,0,0,0,0,0,0,0,0,0,0,0,0,0,0,0,0,0,"almes","godwit"]
[{"$f":"B1241+C1241","v":1.0476190476190477},{"$f":"D1241/Author1Sections","v":4.7619047619047616E-2},{"$f":"E1241/Author2Sections","v":1},{"$f":"COUNTIF(OFFSET(H1241,0,0,1,Author1Sections),\">0\")","v":1},{"$f":"COUNTIF(OFFSET(H1241,0,Author1Sections,1,Author2Sections),\"=0\")","v":8},2496,"agreed",0,0,0,0,0,0,0,0,0.1,0,0,0,0,0,0,0,0,0,0,0,0,0,0,0,0,0,0,0,0,"already","gorgeous"]
[{"$f":"B1242+C1242","v":1.0476190476190477},{"$f":"D1242/Author1Sections","v":4.7619047619047616E-2},{"$f":"E1242/Author2Sections","v":1},{"$f":"COUNTIF(OFFSET(H1242,0,0,1,Author1Sections),\">0\")","v":1},{"$f":"COUNTIF(OFFSET(H1242,0,Author1Sections,1,Author2Sections),\"=0\")","v":8},2497,"agreeve",0.1,0,0,0,0,0,0,0,0,0,0,0,0,0,0,0,0,0,0,0,0,0,0,0,0,0,0,0,0,"alwaies","gory"]
[{"$f":"B1243+C1243","v":1.0476190476190477},{"$f":"D1243/Author1Sections","v":4.7619047619047616E-2},{"$f":"E1243/Author2Sections","v":1},{"$f":"COUNTIF(OFFSET(H1243,0,0,1,Author1Sections),\">0\")","v":1},{"$f":"COUNTIF(OFFSET(H1243,0,Author1Sections,1,Author2Sections),\"=0\")","v":8},2501,"alabaster",0,0,0,0,0,0,0,0,0,0.1,0,0,0,0,0,0,0,0,0,0,0,0,0,0,0,0,0,0,0,"amazeful","gouty"]
[{"$f":"B1244+C1244","v":1.0476190476190477},{"$f":"D1244/Author1Sections","v":4.7619047619047616E-2},{"$f":"E1244/Author2Sections","v":1},{"$f":"COUNTIF(OFFSET(H1244,0,0,1,Author1Sections),\">0\")","v":1},{"$f":"COUNTIF(OFFSET(H1244,0,Author1Sections,1,Author2Sections),\"=0\")","v":8},2502,"alay",0,0,0,0,0,0,0,0,0,0,0,0,0.1,0,0,0,0,0,0,0,0,0,0,0,0,0,0,0,0,"ambition","gown"]
[{"$f":"B1245+C1245","v":1.0476190476190477},{"$f":"D1245/Author1Sections","v":4.7619047619047616E-2},{"$f":"E1245/Author2Sections","v":1},{"$f":"COUNTIF(OFFSET(H1245,0,0,1,Author1Sections),\">0\")","v":1},{"$f":"COUNTIF(OFFSET(H1245,0,Author1Sections,1,Author2Sections),\"=0\")","v":8},2503,"alcmena",0,0,0.1,0,0,0,0,0,0,0,0,0,0,0,0,0,0,0,0,0,0,0,0,0,0,0,0,0,0,"ambitions","grain"]
[{"$f":"B1246+C1246","v":1.0476190476190477},{"$f":"D1246/Author1Sections","v":4.7619047619047616E-2},{"$f":"E1246/Author2Sections","v":1},{"$f":"COUNTIF(OFFSET(H1246,0,0,1,Author1Sections),\">0\")","v":1},{"$f":"COUNTIF(OFFSET(H1246,0,Author1Sections,1,Author2Sections),\"=0\")","v":8},2506,"aliue",0,0,0,0,0,0,0,0.1,0,0,0,0,0,0,0,0,0,0,0,0,0,0,0,0,0,0,0,0,0,"ambrosia","grained"]
[{"$f":"B1247+C1247","v":1.0476190476190477},{"$f":"D1247/Author1Sections","v":4.7619047619047616E-2},{"$f":"E1247/Author2Sections","v":1},{"$f":"COUNTIF(OFFSET(H1247,0,0,1,Author1Sections),\">0\")","v":1},{"$f":"COUNTIF(OFFSET(H1247,0,Author1Sections,1,Author2Sections),\"=0\")","v":8},2507,"allegories",0,0,0,0,0,0,0,0,0,0,0,0.1,0,0,0,0,0,0,0,0,0,0,0,0,0,0,0,0,0,"amid","granted"]
[{"$f":"B1248+C1248","v":1.0476190476190477},{"$f":"D1248/Author1Sections","v":4.7619047619047616E-2},{"$f":"E1248/Author2Sections","v":1},{"$f":"COUNTIF(OFFSET(H1248,0,0,1,Author1Sections),\">0\")","v":1},{"$f":"COUNTIF(OFFSET(H1248,0,Author1Sections,1,Author2Sections),\"=0\")","v":8},2508,"allow",0,0,0,0,0,0,0,0,0,0,0,0,0,0,0,0,0,0,0,0.1,0,0,0,0,0,0,0,0,0,"amisse","grate"]
[{"$f":"B1249+C1249","v":1.0476190476190477},{"$f":"D1249/Author1Sections","v":4.7619047619047616E-2},{"$f":"E1249/Author2Sections","v":1},{"$f":"COUNTIF(OFFSET(H1249,0,0,1,Author1Sections),\">0\")","v":1},{"$f":"COUNTIF(OFFSET(H1249,0,Author1Sections,1,Author2Sections),\"=0\")","v":8},2509,"almes",0,0,0,0,0,0,0,0,0,0,0,0,0,0,0.1,0,0,0,0,0,0,0,0,0,0,0,0,0,0,"amphions","graze"]
[{"$f":"B1250+C1250","v":1.0476190476190477},{"$f":"D1250/Author1Sections","v":4.7619047619047616E-2},{"$f":"E1250/Author2Sections","v":1},{"$f":"COUNTIF(OFFSET(H1250,0,0,1,Author1Sections),\">0\")","v":1},{"$f":"COUNTIF(OFFSET(H1250,0,Author1Sections,1,Author2Sections),\"=0\")","v":8},2512,"already",0,0,0,0,0,0,0,0,0,0,0,0,0,0,0.1,0,0,0,0,0,0,0,0,0,0,0,0,0,0,"ample","grazed"]
[{"$f":"B1251+C1251","v":1.0476190476190477},{"$f":"D1251/Author1Sections","v":4.7619047619047616E-2},{"$f":"E1251/Author2Sections","v":1},{"$f":"COUNTIF(OFFSET(H1251,0,0,1,Author1Sections),\">0\")","v":1},{"$f":"COUNTIF(OFFSET(H1251,0,Author1Sections,1,Author2Sections),\"=0\")","v":8},2513,"alwaies",0,0,0.1,0,0,0,0,0,0,0,0,0,0,0,0,0,0,0,0,0,0,0,0,0,0,0,0,0,0,"anatomie","greedy"]
[{"$f":"B1252+C1252","v":1.0476190476190477},{"$f":"D1252/Author1Sections","v":4.7619047619047616E-2},{"$f":"E1252/Author2Sections","v":1},{"$f":"COUNTIF(OFFSET(H1252,0,0,1,Author1Sections),\">0\")","v":1},{"$f":"COUNTIF(OFFSET(H1252,0,Author1Sections,1,Author2Sections),\"=0\")","v":8},2517,"amazeful",0,0,0,0,0,0,0,0,0,0,0,0,0,0,0,0,0,0,0,0.1,0,0,0,0,0,0,0,0,0,"anchor","grievance"]
[{"$f":"B1253+C1253","v":1.0476190476190477},{"$f":"D1253/Author1Sections","v":4.7619047619047616E-2},{"$f":"E1253/Author2Sections","v":1},{"$f":"COUNTIF(OFFSET(H1253,0,0,1,Author1Sections),\">0\")","v":1},{"$f":"COUNTIF(OFFSET(H1253,0,Author1Sections,1,Author2Sections),\"=0\")","v":8},2518,"ambition",0,0,0,0,0,0,0,0,0,0,0,0.1,0,0,0,0,0,0,0,0,0,0,0,0,0,0,0,0,0,"andromeda","grim"]
[{"$f":"B1254+C1254","v":1.0476190476190477},{"$f":"D1254/Author1Sections","v":4.7619047619047616E-2},{"$f":"E1254/Author2Sections","v":1},{"$f":"COUNTIF(OFFSET(H1254,0,0,1,Author1Sections),\">0\")","v":1},{"$f":"COUNTIF(OFFSET(H1254,0,Author1Sections,1,Author2Sections),\"=0\")","v":8},2519,"ambitions",0,0,0,0,0,0,0,0,0,0,0,0.1,0,0,0,0,0,0,0,0,0,0,0,0,0,0,0,0,0,"anew","groans"]
[{"$f":"B1255+C1255","v":1.0476190476190477},{"$f":"D1255/Author1Sections","v":4.7619047619047616E-2},{"$f":"E1255/Author2Sections","v":1},{"$f":"COUNTIF(OFFSET(H1255,0,0,1,Author1Sections),\">0\")","v":1},{"$f":"COUNTIF(OFFSET(H1255,0,Author1Sections,1,Author2Sections),\"=0\")","v":8},2520,"ambrosia",0,0,0,0.1,0,0,0,0,0,0,0,0,0,0,0,0,0,0,0,0,0,0,0,0,0,0,0,0,0,"angell","grounds"]
[{"$f":"B1256+C1256","v":1.0476190476190477},{"$f":"D1256/Author1Sections","v":4.7619047619047616E-2},{"$f":"E1256/Author2Sections","v":1},{"$f":"COUNTIF(OFFSET(H1256,0,0,1,Author1Sections),\">0\")","v":1},{"$f":"COUNTIF(OFFSET(H1256,0,Author1Sections,1,Author2Sections),\"=0\")","v":8},2522,"amid",0,0,0,0,0,0,0,0,0,0,0,0,0,0,0,0,0.1,0,0,0,0,0,0,0,0,0,0,0,0,"anger","grows"]
[{"$f":"B1257+C1257","v":1.0476190476190477},{"$f":"D1257/Author1Sections","v":4.7619047619047616E-2},{"$f":"E1257/Author2Sections","v":1},{"$f":"COUNTIF(OFFSET(H1257,0,0,1,Author1Sections),\">0\")","v":1},{"$f":"COUNTIF(OFFSET(H1257,0,Author1Sections,1,Author2Sections),\"=0\")","v":8},2524,"amisse",0,0,0,0,0,0,0,0,0,0,0,0,0,0,0,0.1,0,0,0,0,0,0,0,0,0,0,0,0,0,"angers","guarded"]
[{"$f":"B1258+C1258","v":1.0476190476190477},{"$f":"D1258/Author1Sections","v":4.7619047619047616E-2},{"$f":"E1258/Author2Sections","v":1},{"$f":"COUNTIF(OFFSET(H1258,0,0,1,Author1Sections),\">0\")","v":1},{"$f":"COUNTIF(OFFSET(H1258,0,Author1Sections,1,Author2Sections),\"=0\")","v":8},2527,"amphions",0,0,0,0,0,0,0,0,0,0,0,0,0,0,0,0,0.1,0,0,0,0,0,0,0,0,0,0,0,0,"animals","guards"]
[{"$f":"B1259+C1259","v":1.0476190476190477},{"$f":"D1259/Author1Sections","v":4.7619047619047616E-2},{"$f":"E1259/Author2Sections","v":1},{"$f":"COUNTIF(OFFSET(H1259,0,0,1,Author1Sections),\">0\")","v":1},{"$f":"COUNTIF(OFFSET(H1259,0,Author1Sections,1,Author2Sections),\"=0\")","v":8},2528,"ample",0,0,0,0,0,0,0,0,0,0,0,0,0,0,0,0,0,0.1,0,0,0,0,0,0,0,0,0,0,0,"annoyance","guerdon"]
[{"$f":"B1260+C1260","v":1.0476190476190477},{"$f":"D1260/Author1Sections","v":4.7619047619047616E-2},{"$f":"E1260/Author2Sections","v":1},{"$f":"COUNTIF(OFFSET(H1260,0,0,1,Author1Sections),\">0\")","v":1},{"$f":"COUNTIF(OFFSET(H1260,0,Author1Sections,1,Author2Sections),\"=0\")","v":8},2531,"anatomie",0,0,0,0,0,0,0,0,0,0,0,0,0,0,0,0.1,0,0,0,0,0,0,0,0,0,0,0,0,0,"anothers","guiding"]
[{"$f":"B1261+C1261","v":1.0476190476190477},{"$f":"D1261/Author1Sections","v":4.7619047619047616E-2},{"$f":"E1261/Author2Sections","v":1},{"$f":"COUNTIF(OFFSET(H1261,0,0,1,Author1Sections),\">0\")","v":1},{"$f":"COUNTIF(OFFSET(H1261,0,Author1Sections,1,Author2Sections),\"=0\")","v":8},2532,"anchor",0,0,0,0,0,0,0,0,0,0,0,0,0,0,0,0.1,0,0,0,0,0,0,0,0,0,0,0,0,0,"antequam","guilty"]
[{"$f":"B1262+C1262","v":1.0476190476190477},{"$f":"D1262/Author1Sections","v":4.7619047619047616E-2},{"$f":"E1262/Author2Sections","v":1},{"$f":"COUNTIF(OFFSET(H1262,0,0,1,Author1Sections),\">0\")","v":1},{"$f":"COUNTIF(OFFSET(H1262,0,Author1Sections,1,Author2Sections),\"=0\")","v":8},2533,"andromeda",0,0,0,0,7.4183979999999997E-2,0,0,0,0,0,0,0,0,0,0,0,0,0,0,0,0,0,0,0,0,0,0,0,0,"antiquitie","gushing"]
[{"$f":"B1263+C1263","v":1.0476190476190477},{"$f":"D1263/Author1Sections","v":4.7619047619047616E-2},{"$f":"E1263/Author2Sections","v":1},{"$f":"COUNTIF(OFFSET(H1263,0,0,1,Author1Sections),\">0\")","v":1},{"$f":"COUNTIF(OFFSET(H1263,0,Author1Sections,1,Author2Sections),\"=0\")","v":8},2534,"anew",0,0,0,0,0,0,0,0,0,0,0,0,0,0.1,0,0,0,0,0,0,0,0,0,0,0,0,0,0,0,"apart","gusts"]
[{"$f":"B1264+C1264","v":1.0476190476190477},{"$f":"D1264/Author1Sections","v":4.7619047619047616E-2},{"$f":"E1264/Author2Sections","v":1},{"$f":"COUNTIF(OFFSET(H1264,0,0,1,Author1Sections),\">0\")","v":1},{"$f":"COUNTIF(OFFSET(H1264,0,Author1Sections,1,Author2Sections),\"=0\")","v":8},2536,"angell",0,0,0,0,0,0,0,0,0,0,0,0,0,0,0,0.1,0,0,0,0,0,0,0,0,0,0,0,0,0,"apes","gyves"]
[{"$f":"B1265+C1265","v":1.0476190476190477},{"$f":"D1265/Author1Sections","v":4.7619047619047616E-2},{"$f":"E1265/Author2Sections","v":1},{"$f":"COUNTIF(OFFSET(H1265,0,0,1,Author1Sections),\">0\")","v":1},{"$f":"COUNTIF(OFFSET(H1265,0,Author1Sections,1,Author2Sections),\"=0\")","v":8},2537,"anger",0,0,0,0,0,0,0,0,0,0,0,0,0,0,0,0,0,0.1,0,0,0,0,0,0,0,0,0,0,0,"appall","habitude"]
[{"$f":"B1266+C1266","v":1.0476190476190477},{"$f":"D1266/Author1Sections","v":4.7619047619047616E-2},{"$f":"E1266/Author2Sections","v":1},{"$f":"COUNTIF(OFFSET(H1266,0,0,1,Author1Sections),\">0\")","v":1},{"$f":"COUNTIF(OFFSET(H1266,0,Author1Sections,1,Author2Sections),\"=0\")","v":8},2538,"angers",0,0,0,0,0,0,0,0,0,0,0,0,0,0,0,0,0,0.1,0,0,0,0,0,0,0,0,0,0,0,"appalled","hair'd"]
[{"$f":"B1267+C1267","v":1.0476190476190477},{"$f":"D1267/Author1Sections","v":4.7619047619047616E-2},{"$f":"E1267/Author2Sections","v":1},{"$f":"COUNTIF(OFFSET(H1267,0,0,1,Author1Sections),\">0\")","v":1},{"$f":"COUNTIF(OFFSET(H1267,0,Author1Sections,1,Author2Sections),\"=0\")","v":8},2539,"animals",0,0,0,0,0,0.1,0,0,0,0,0,0,0,0,0,0,0,0,0,0,0,0,0,0,0,0,0,0,0,"apparell","hairs"]
[{"$f":"B1268+C1268","v":1.0476190476190477},{"$f":"D1268/Author1Sections","v":4.7619047619047616E-2},{"$f":"E1268/Author2Sections","v":1},{"$f":"COUNTIF(OFFSET(H1268,0,0,1,Author1Sections),\">0\")","v":1},{"$f":"COUNTIF(OFFSET(H1268,0,Author1Sections,1,Author2Sections),\"=0\")","v":8},2541,"annoyance",0,0.1,0,0,0,0,0,0,0,0,0,0,0,0,0,0,0,0,0,0,0,0,0,0,0,0,0,0,0,"apparrelled","hamlets"]
[{"$f":"B1269+C1269","v":1.0476190476190477},{"$f":"D1269/Author1Sections","v":4.7619047619047616E-2},{"$f":"E1269/Author2Sections","v":1},{"$f":"COUNTIF(OFFSET(H1269,0,0,1,Author1Sections),\">0\")","v":1},{"$f":"COUNTIF(OFFSET(H1269,0,Author1Sections,1,Author2Sections),\"=0\")","v":8},2542,"anothers",0,0,0,0,0,0,0,0,0,0,0,0,0,0,0,0,0,0.1,0,0,0,0,0,0,0,0,0,0,0,"appease","hanging"]
[{"$f":"B1270+C1270","v":1.0476190476190477},{"$f":"D1270/Author1Sections","v":4.7619047619047616E-2},{"$f":"E1270/Author2Sections","v":1},{"$f":"COUNTIF(OFFSET(H1270,0,0,1,Author1Sections),\">0\")","v":1},{"$f":"COUNTIF(OFFSET(H1270,0,Author1Sections,1,Author2Sections),\"=0\")","v":8},2543,"antequam",0,0,0,0,0,0,0,0.1,0,0,0,0,0,0,0,0,0,0,0,0,0,0,0,0,0,0,0,0,0,"applie","hapless"]
[{"$f":"B1271+C1271","v":1.0476190476190477},{"$f":"D1271/Author1Sections","v":4.7619047619047616E-2},{"$f":"E1271/Author2Sections","v":1},{"$f":"COUNTIF(OFFSET(H1271,0,0,1,Author1Sections),\">0\")","v":1},{"$f":"COUNTIF(OFFSET(H1271,0,Author1Sections,1,Author2Sections),\"=0\")","v":8},2545,"antiquitie",0,0.1,0,0,0,0,0,0,0,0,0,0,0,0,0,0,0,0,0,0,0,0,0,0,0,0,0,0,0,"apprehending","happies"]
[{"$f":"B1272+C1272","v":1.0476190476190477},{"$f":"D1272/Author1Sections","v":4.7619047619047616E-2},{"$f":"E1272/Author2Sections","v":1},{"$f":"COUNTIF(OFFSET(H1272,0,0,1,Author1Sections),\">0\")","v":1},{"$f":"COUNTIF(OFFSET(H1272,0,Author1Sections,1,Author2Sections),\"=0\")","v":8},2547,"apart",0,0,0,0,0,0,0,0,0,0,0,0.1,0,0,0,0,0,0,0,0,0,0,0,0,0,0,0,0,0,"approch","harm'd"]
[{"$f":"B1273+C1273","v":1.0476190476190477},{"$f":"D1273/Author1Sections","v":4.7619047619047616E-2},{"$f":"E1273/Author2Sections","v":1},{"$f":"COUNTIF(OFFSET(H1273,0,0,1,Author1Sections),\">0\")","v":1},{"$f":"COUNTIF(OFFSET(H1273,0,Author1Sections,1,Author2Sections),\"=0\")","v":8},2548,"apes",0,0,0,0,0,0,0,0,0.1,0,0,0,0,0,0,0,0,0,0,0,0,0,0,0,0,0,0,0,0,"arcadian","harms"]
[{"$f":"B1274+C1274","v":1.0476190476190477},{"$f":"D1274/Author1Sections","v":4.7619047619047616E-2},{"$f":"E1274/Author2Sections","v":1},{"$f":"COUNTIF(OFFSET(H1274,0,0,1,Author1Sections),\">0\")","v":1},{"$f":"COUNTIF(OFFSET(H1274,0,Author1Sections,1,Author2Sections),\"=0\")","v":8},2549,"appall",0,0,0,0,0,0.1,0,0,0,0,0,0,0,0,0,0,0,0,0,0,0,0,0,0,0,0,0,0,0,"arche","harp"]
[{"$f":"B1275+C1275","v":1.0476190476190477},{"$f":"D1275/Author1Sections","v":4.7619047619047616E-2},{"$f":"E1275/Author2Sections","v":1},{"$f":"COUNTIF(OFFSET(H1275,0,0,1,Author1Sections),\">0\")","v":1},{"$f":"COUNTIF(OFFSET(H1275,0,Author1Sections,1,Author2Sections),\"=0\")","v":8},2550,"appalled",0,0,0,0,7.4183979999999997E-2,0,0,0,0,0,0,0,0,0,0,0,0,0,0,0,0,0,0,0,0,0,0,0,0,"archer","hat"]
[{"$f":"B1276+C1276","v":1.0476190476190477},{"$f":"D1276/Author1Sections","v":4.7619047619047616E-2},{"$f":"E1276/Author2Sections","v":1},{"$f":"COUNTIF(OFFSET(H1276,0,0,1,Author1Sections),\">0\")","v":1},{"$f":"COUNTIF(OFFSET(H1276,0,Author1Sections,1,Author2Sections),\"=0\")","v":8},2551,"apparell",0,0,0,0,0,0,0.1,0,0,0,0,0,0,0,0,0,0,0,0,0,0,0,0,0,0,0,0,0,0,"argument","havings"]
[{"$f":"B1277+C1277","v":1.0476190476190477},{"$f":"D1277/Author1Sections","v":4.7619047619047616E-2},{"$f":"E1277/Author2Sections","v":1},{"$f":"COUNTIF(OFFSET(H1277,0,0,1,Author1Sections),\">0\")","v":1},{"$f":"COUNTIF(OFFSET(H1277,0,Author1Sections,1,Author2Sections),\"=0\")","v":8},2552,"apparrelled",0,0,0,0,0,0.1,0,0,0,0,0,0,0,0,0,0,0,0,0,0,0,0,0,0,0,0,0,0,0,"argumentate","hawthorn"]
[{"$f":"B1278+C1278","v":1.0476190476190477},{"$f":"D1278/Author1Sections","v":4.7619047619047616E-2},{"$f":"E1278/Author2Sections","v":1},{"$f":"COUNTIF(OFFSET(H1278,0,0,1,Author1Sections),\">0\")","v":1},{"$f":"COUNTIF(OFFSET(H1278,0,Author1Sections,1,Author2Sections),\"=0\")","v":8},2555,"appease",0,0,0,0,7.4183979999999997E-2,0,0,0,0,0,0,0,0,0,0,0,0,0,0,0,0,0,0,0,0,0,0,0,0,"aristotless","haycock"]
[{"$f":"B1279+C1279","v":1.0476190476190477},{"$f":"D1279/Author1Sections","v":4.7619047619047616E-2},{"$f":"E1279/Author2Sections","v":1},{"$f":"COUNTIF(OFFSET(H1279,0,0,1,Author1Sections),\">0\")","v":1},{"$f":"COUNTIF(OFFSET(H1279,0,Author1Sections,1,Author2Sections),\"=0\")","v":8},2559,"applie",0,0.1,0,0,0,0,0,0,0,0,0,0,0,0,0,0,0,0,0,0,0,0,0,0,0,0,0,0,0,"arm","hazel"]
[{"$f":"B1280+C1280","v":1.0476190476190477},{"$f":"D1280/Author1Sections","v":4.7619047619047616E-2},{"$f":"E1280/Author2Sections","v":1},{"$f":"COUNTIF(OFFSET(H1280,0,0,1,Author1Sections),\">0\")","v":1},{"$f":"COUNTIF(OFFSET(H1280,0,Author1Sections,1,Author2Sections),\"=0\")","v":8},2561,"apprehending",0,0,0,0,0,0,0,0,0,0,0,0,0,0,0,0,0.1,0,0,0,0,0,0,0,0,0,0,0,0,"arm'd","heap'd"]
[{"$f":"B1281+C1281","v":1.0476190476190477},{"$f":"D1281/Author1Sections","v":4.7619047619047616E-2},{"$f":"E1281/Author2Sections","v":1},{"$f":"COUNTIF(OFFSET(H1281,0,0,1,Author1Sections),\">0\")","v":1},{"$f":"COUNTIF(OFFSET(H1281,0,Author1Sections,1,Author2Sections),\"=0\")","v":8},2562,"approch",0,0,0,0,0,0,0,0,0,0,0,0,0,0,0,0,0,0,0,0.1,0,0,0,0,0,0,0,0,0,"armies","hear'st"]
[{"$f":"B1282+C1282","v":1.0476190476190477},{"$f":"D1282/Author1Sections","v":4.7619047619047616E-2},{"$f":"E1282/Author2Sections","v":1},{"$f":"COUNTIF(OFFSET(H1282,0,0,1,Author1Sections),\">0\")","v":1},{"$f":"COUNTIF(OFFSET(H1282,0,Author1Sections,1,Author2Sections),\"=0\")","v":8},2564,"arcadian",0,0,0.1,0,0,0,0,0,0,0,0,0,0,0,0,0,0,0,0,0,0,0,0,0,0,0,0,0,0,"around","hearse"]
[{"$f":"B1283+C1283","v":1.0476190476190477},{"$f":"D1283/Author1Sections","v":4.7619047619047616E-2},{"$f":"E1283/Author2Sections","v":1},{"$f":"COUNTIF(OFFSET(H1283,0,0,1,Author1Sections),\">0\")","v":1},{"$f":"COUNTIF(OFFSET(H1283,0,Author1Sections,1,Author2Sections),\"=0\")","v":8},2565,"arche",0,0,0,0,7.4183979999999997E-2,0,0,0,0,0,0,0,0,0,0,0,0,0,0,0,0,0,0,0,0,0,0,0,0,"arraid","hearted"]
[{"$f":"B1284+C1284","v":1.0476190476190477},{"$f":"D1284/Author1Sections","v":4.7619047619047616E-2},{"$f":"E1284/Author2Sections","v":1},{"$f":"COUNTIF(OFFSET(H1284,0,0,1,Author1Sections),\">0\")","v":1},{"$f":"COUNTIF(OFFSET(H1284,0,Author1Sections,1,Author2Sections),\"=0\")","v":8},2566,"archer",0,0,0,0,0,0,0,0,0,0,0,0,0.1,0,0,0,0,0,0,0,0,0,0,0,0,0,0,0,0,"array","hearth"]
[{"$f":"B1285+C1285","v":1.0476190476190477},{"$f":"D1285/Author1Sections","v":4.7619047619047616E-2},{"$f":"E1285/Author2Sections","v":1},{"$f":"COUNTIF(OFFSET(H1285,0,0,1,Author1Sections),\">0\")","v":1},{"$f":"COUNTIF(OFFSET(H1285,0,Author1Sections,1,Author2Sections),\"=0\")","v":8},2568,"argument",0,0,0,0,0,0,0,0.1,0,0,0,0,0,0,0,0,0,0,0,0,0,0,0,0,0,0,0,0,0,"arrowes","heav'n's"]
[{"$f":"B1286+C1286","v":1.0476190476190477},{"$f":"D1286/Author1Sections","v":4.7619047619047616E-2},{"$f":"E1286/Author2Sections","v":1},{"$f":"COUNTIF(OFFSET(H1286,0,0,1,Author1Sections),\">0\")","v":1},{"$f":"COUNTIF(OFFSET(H1286,0,Author1Sections,1,Author2Sections),\"=0\")","v":8},2569,"argumentate",0,0,0,0,0,0,0,0.1,0,0,0,0,0,0,0,0,0,0,0,0,0,0,0,0,0,0,0,0,0,"arrows","heav'ns"]
[{"$f":"B1287+C1287","v":1.0476190476190477},{"$f":"D1287/Author1Sections","v":4.7619047619047616E-2},{"$f":"E1287/Author2Sections","v":1},{"$f":"COUNTIF(OFFSET(H1287,0,0,1,Author1Sections),\">0\")","v":1},{"$f":"COUNTIF(OFFSET(H1287,0,Author1Sections,1,Author2Sections),\"=0\")","v":8},2570,"aristotless",0,0,0,0,0,0,0,0,0,0,0,0,0,0,0,0,0.1,0,0,0,0,0,0,0,0,0,0,0,0,"arte","heaved"]
[{"$f":"B1288+C1288","v":1.0476190476190477},{"$f":"D1288/Author1Sections","v":4.7619047619047616E-2},{"$f":"E1288/Author2Sections","v":1},{"$f":"COUNTIF(OFFSET(H1288,0,0,1,Author1Sections),\">0\")","v":1},{"$f":"COUNTIF(OFFSET(H1288,0,Author1Sections,1,Author2Sections),\"=0\")","v":8},2571,"arm",0,0,0,0,7.4183979999999997E-2,0,0,0,0,0,0,0,0,0,0,0,0,0,0,0,0,0,0,0,0,0,0,0,0,"artes","heaven's"]
[{"$f":"B1289+C1289","v":1.0476190476190477},{"$f":"D1289/Author1Sections","v":4.7619047619047616E-2},{"$f":"E1289/Author2Sections","v":1},{"$f":"COUNTIF(OFFSET(H1289,0,0,1,Author1Sections),\">0\")","v":1},{"$f":"COUNTIF(OFFSET(H1289,0,Author1Sections,1,Author2Sections),\"=0\")","v":8},2572,"arm'd",0,0,0,0,0,0,0,0,0,0,0,0,0,0,0,0.1,0,0,0,0,0,0,0,0,0,0,0,0,0,"asinus","hebe's"]
[{"$f":"B1290+C1290","v":1.0476190476190477},{"$f":"D1290/Author1Sections","v":4.7619047619047616E-2},{"$f":"E1290/Author2Sections","v":1},{"$f":"COUNTIF(OFFSET(H1290,0,0,1,Author1Sections),\">0\")","v":1},{"$f":"COUNTIF(OFFSET(H1290,0,Author1Sections,1,Author2Sections),\"=0\")","v":8},2573,"armies",0,0,0,0,0,0,0,0,0,0,0,0,0.1,0,0,0,0,0,0,0,0,0,0,0,0,0,0,0,0,"aske","hebrides"]
[{"$f":"B1291+C1291","v":1.0476190476190477},{"$f":"D1291/Author1Sections","v":4.7619047619047616E-2},{"$f":"E1291/Author2Sections","v":1},{"$f":"COUNTIF(OFFSET(H1291,0,0,1,Author1Sections),\">0\")","v":1},{"$f":"COUNTIF(OFFSET(H1291,0,Author1Sections,1,Author2Sections),\"=0\")","v":8},2574,"around",0,0,0,0,7.4183979999999997E-2,0,0,0,0,0,0,0,0,0,0,0,0,0,0,0,0,0,0,0,0,0,0,0,0,"asleepe","hebrus"]
[{"$f":"B1292+C1292","v":1.0476190476190477},{"$f":"D1292/Author1Sections","v":4.7619047619047616E-2},{"$f":"E1292/Author2Sections","v":1},{"$f":"COUNTIF(OFFSET(H1292,0,0,1,Author1Sections),\">0\")","v":1},{"$f":"COUNTIF(OFFSET(H1292,0,Author1Sections,1,Author2Sections),\"=0\")","v":8},2575,"arraid",0,0,0,0,0,0,0,0,0,0,0,0,0,0,0,0.1,0,0,0,0,0,0,0,0,0,0,0,0,0,"aspect","hedge"]
[{"$f":"B1293+C1293","v":1.0476190476190477},{"$f":"D1293/Author1Sections","v":4.7619047619047616E-2},{"$f":"E1293/Author2Sections","v":1},{"$f":"COUNTIF(OFFSET(H1293,0,0,1,Author1Sections),\">0\")","v":1},{"$f":"COUNTIF(OFFSET(H1293,0,Author1Sections,1,Author2Sections),\"=0\")","v":8},2576,"array",0,0,0,0,0,0,0,0,0,0,0,0,0,0,0,0,0,0,0.1,0,0,0,0,0,0,0,0,0,0,"aspired","heel"]
[{"$f":"B1294+C1294","v":1.0476190476190477},{"$f":"D1294/Author1Sections","v":4.7619047619047616E-2},{"$f":"E1294/Author2Sections","v":1},{"$f":"COUNTIF(OFFSET(H1294,0,0,1,Author1Sections),\">0\")","v":1},{"$f":"COUNTIF(OFFSET(H1294,0,Author1Sections,1,Author2Sections),\"=0\")","v":8},2577,"arrowes",0,0,0,0,0,0,0,0,0,0,0,0,0.1,0,0,0,0,0,0,0,0,0,0,0,0,0,0,0,0,"assaid","hen"]
[{"$f":"B1295+C1295","v":1.0476190476190477},{"$f":"D1295/Author1Sections","v":4.7619047619047616E-2},{"$f":"E1295/Author2Sections","v":1},{"$f":"COUNTIF(OFFSET(H1295,0,0,1,Author1Sections),\">0\")","v":1},{"$f":"COUNTIF(OFFSET(H1295,0,Author1Sections,1,Author2Sections),\"=0\")","v":8},2578,"arrows",0,0,0,0,0,0,0,0,0,0,0.1,0,0,0,0,0,0,0,0,0,0,0,0,0,0,0,0,0,0,"assailed","herb"]
[{"$f":"B1296+C1296","v":1.0476190476190477},{"$f":"D1296/Author1Sections","v":4.7619047619047616E-2},{"$f":"E1296/Author2Sections","v":1},{"$f":"COUNTIF(OFFSET(H1296,0,0,1,Author1Sections),\">0\")","v":1},{"$f":"COUNTIF(OFFSET(H1296,0,Author1Sections,1,Author2Sections),\"=0\")","v":8},2580,"arte",0,0,0,0,0,0,0,0,0,0,0,0.1,0,0,0,0,0,0,0,0,0,0,0,0,0,0,0,0,0,"assaults","herd"]
[{"$f":"B1297+C1297","v":1.0476190476190477},{"$f":"D1297/Author1Sections","v":4.7619047619047616E-2},{"$f":"E1297/Author2Sections","v":1},{"$f":"COUNTIF(OFFSET(H1297,0,0,1,Author1Sections),\">0\")","v":1},{"$f":"COUNTIF(OFFSET(H1297,0,Author1Sections,1,Author2Sections),\"=0\")","v":8},2581,"artes",0,0,0.1,0,0,0,0,0,0,0,0,0,0,0,0,0,0,0,0,0,0,0,0,0,0,0,0,0,0,"astonished","herdman's"]
[{"$f":"B1298+C1298","v":1.0476190476190477},{"$f":"D1298/Author1Sections","v":4.7619047619047616E-2},{"$f":"E1298/Author2Sections","v":1},{"$f":"COUNTIF(OFFSET(H1298,0,0,1,Author1Sections),\">0\")","v":1},{"$f":"COUNTIF(OFFSET(H1298,0,Author1Sections,1,Author2Sections),\"=0\")","v":8},2582,"asinus",0,0,0,0,0,0.1,0,0,0,0,0,0,0,0,0,0,0,0,0,0,0,0,0,0,0,0,0,0,0,"astrologie","herds"]
[{"$f":"B1299+C1299","v":1.0476190476190477},{"$f":"D1299/Author1Sections","v":4.7619047619047616E-2},{"$f":"E1299/Author2Sections","v":1},{"$f":"COUNTIF(OFFSET(H1299,0,0,1,Author1Sections),\">0\")","v":1},{"$f":"COUNTIF(OFFSET(H1299,0,Author1Sections,1,Author2Sections),\"=0\")","v":8},2583,"aske",0,0,0,0,0,0,0.1,0,0,0,0,0,0,0,0,0,0,0,0,0,0,0,0,0,0,0,0,0,0,"astrophel","hermes"]
[{"$f":"B1300+C1300","v":1.0476190476190477},{"$f":"D1300/Author1Sections","v":4.7619047619047616E-2},{"$f":"E1300/Author2Sections","v":1},{"$f":"COUNTIF(OFFSET(H1300,0,0,1,Author1Sections),\">0\")","v":1},{"$f":"COUNTIF(OFFSET(H1300,0,Author1Sections,1,Author2Sections),\"=0\")","v":8},2585,"asleepe",0,0,0,0,0,0,0,0,0,0,0,0,0,0,0,0,0,0.1,0,0,0,0,0,0,0,0,0,0,0,"atcheivements","hermitage"]
[{"$f":"B1301+C1301","v":1.0476190476190477},{"$f":"D1301/Author1Sections","v":4.7619047619047616E-2},{"$f":"E1301/Author2Sections","v":1},{"$f":"COUNTIF(OFFSET(H1301,0,0,1,Author1Sections),\">0\")","v":1},{"$f":"COUNTIF(OFFSET(H1301,0,Author1Sections,1,Author2Sections),\"=0\")","v":8},2586,"aspect",0,0,0,0,7.4183979999999997E-2,0,0,0,0,0,0,0,0,0,0,0,0,0,0,0,0,0,0,0,0,0,0,0,0,"attends","hidden"]
[{"$f":"B1302+C1302","v":1.0476190476190477},{"$f":"D1302/Author1Sections","v":4.7619047619047616E-2},{"$f":"E1302/Author2Sections","v":1},{"$f":"COUNTIF(OFFSET(H1302,0,0,1,Author1Sections),\">0\")","v":1},{"$f":"COUNTIF(OFFSET(H1302,0,Author1Sections,1,Author2Sections),\"=0\")","v":8},2587,"aspired",0,0,0,0.1,0,0,0,0,0,0,0,0,0,0,0,0,0,0,0,0,0,0,0,0,0,0,0,0,0,"attires","highmost"]
[{"$f":"B1303+C1303","v":1.0476190476190477},{"$f":"D1303/Author1Sections","v":4.7619047619047616E-2},{"$f":"E1303/Author2Sections","v":1},{"$f":"COUNTIF(OFFSET(H1303,0,0,1,Author1Sections),\">0\")","v":1},{"$f":"COUNTIF(OFFSET(H1303,0,Author1Sections,1,Author2Sections),\"=0\")","v":8},2589,"assaid",0,0,0,0,0,0,0,0,0,0,0,0,0,0,0,0.1,0,0,0,0,0,0,0,0,0,0,0,0,0,"auaile","hillocks"]
[{"$f":"B1304+C1304","v":1.0476190476190477},{"$f":"D1304/Author1Sections","v":4.7619047619047616E-2},{"$f":"E1304/Author2Sections","v":1},{"$f":"COUNTIF(OFFSET(H1304,0,0,1,Author1Sections),\">0\")","v":1},{"$f":"COUNTIF(OFFSET(H1304,0,Author1Sections,1,Author2Sections),\"=0\")","v":8},2591,"assailed",0.1,0,0,0,0,0,0,0,0,0,0,0,0,0,0,0,0,0,0,0,0,0,0,0,0,0,0,0,0,"audite","hills"]
[{"$f":"B1305+C1305","v":1.0476190476190477},{"$f":"D1305/Author1Sections","v":4.7619047619047616E-2},{"$f":"E1305/Author2Sections","v":1},{"$f":"COUNTIF(OFFSET(H1305,0,0,1,Author1Sections),\">0\")","v":1},{"$f":"COUNTIF(OFFSET(H1305,0,Author1Sections,1,Author2Sections),\"=0\")","v":8},2592,"assaults",0,0,0,0,0,0,0,0,0,0,0,0,0.1,0,0,0,0,0,0,0,0,0,0,0,0,0,0,0,0,"augment","hippotades"]
[{"$f":"B1306+C1306","v":1.0476190476190477},{"$f":"D1306/Author1Sections","v":4.7619047619047616E-2},{"$f":"E1306/Author2Sections","v":1},{"$f":"COUNTIF(OFFSET(H1306,0,0,1,Author1Sections),\">0\")","v":1},{"$f":"COUNTIF(OFFSET(H1306,0,Author1Sections,1,Author2Sections),\"=0\")","v":8},2595,"astonished",0,0,0,0.1,0,0,0,0,0,0,0,0,0,0,0,0,0,0,0,0,0,0,0,0,0,0,0,0,0,"auise","hist"]
[{"$f":"B1307+C1307","v":1.0476190476190477},{"$f":"D1307/Author1Sections","v":4.7619047619047616E-2},{"$f":"E1307/Author2Sections","v":1},{"$f":"COUNTIF(OFFSET(H1307,0,0,1,Author1Sections),\">0\")","v":1},{"$f":"COUNTIF(OFFSET(H1307,0,Author1Sections,1,Author2Sections),\"=0\")","v":8},2597,"astrologie",0,0,0,0,0,0,0,0,0,0,0,0.1,0,0,0,0,0,0,0,0,0,0,0,0,0,0,0,0,0,"auncient","hive"]
[{"$f":"B1308+C1308","v":1.0476190476190477},{"$f":"D1308/Author1Sections","v":4.7619047619047616E-2},{"$f":"E1308/Author2Sections","v":1},{"$f":"COUNTIF(OFFSET(H1308,0,0,1,Author1Sections),\">0\")","v":1},{"$f":"COUNTIF(OFFSET(H1308,0,Author1Sections,1,Author2Sections),\"=0\")","v":8},2599,"astrophel",0,0,0,0,0,0,0,0,0.1,0,0,0,0,0,0,0,0,0,0,0,0,0,0,0,0,0,0,0,0,"aunswer","hoar"]
[{"$f":"B1309+C1309","v":1.0476190476190477},{"$f":"D1309/Author1Sections","v":4.7619047619047616E-2},{"$f":"E1309/Author2Sections","v":1},{"$f":"COUNTIF(OFFSET(H1309,0,0,1,Author1Sections),\">0\")","v":1},{"$f":"COUNTIF(OFFSET(H1309,0,Author1Sections,1,Author2Sections),\"=0\")","v":8},2600,"atcheivements",0,0,0,0,7.4183979999999997E-2,0,0,0,0,0,0,0,0,0,0,0,0,0,0,0,0,0,0,0,0,0,0,0,0,"auoid","hoard"]
[{"$f":"B1310+C1310","v":1.0476190476190477},{"$f":"D1310/Author1Sections","v":4.7619047619047616E-2},{"$f":"E1310/Author2Sections","v":1},{"$f":"COUNTIF(OFFSET(H1310,0,0,1,Author1Sections),\">0\")","v":1},{"$f":"COUNTIF(OFFSET(H1310,0,Author1Sections,1,Author2Sections),\"=0\")","v":8},2604,"attends",0,0,0,0,0,0,0,0,0,0,0,0,0,0,0,0,0,0,0,0,7.0372980000000002E-2,0,0,0,0,0,0,0,0,"auroras","holding"]
[{"$f":"B1311+C1311","v":1.0476190476190477},{"$f":"D1311/Author1Sections","v":4.7619047619047616E-2},{"$f":"E1311/Author2Sections","v":1},{"$f":"COUNTIF(OFFSET(H1311,0,0,1,Author1Sections),\">0\")","v":1},{"$f":"COUNTIF(OFFSET(H1311,0,Author1Sections,1,Author2Sections),\"=0\")","v":8},2607,"attires",0,0,0,0,0,0,0,0,0,0.1,0,0,0,0,0,0,0,0,0,0,0,0,0,0,0,0,0,0,0,"author","holiday"]
[{"$f":"B1312+C1312","v":1.0476190476190477},{"$f":"D1312/Author1Sections","v":4.7619047619047616E-2},{"$f":"E1312/Author2Sections","v":1},{"$f":"COUNTIF(OFFSET(H1312,0,0,1,Author1Sections),\">0\")","v":1},{"$f":"COUNTIF(OFFSET(H1312,0,Author1Sections,1,Author2Sections),\"=0\")","v":8},2608,"auaile",0,0,0,0,0,0,0,0,0,0,0,0,0,0,0,0,0,0,0,0,7.0372980000000002E-2,0,0,0,0,0,0,0,0,"authoritie","holiest"]
[{"$f":"B1313+C1313","v":1.0476190476190477},{"$f":"D1313/Author1Sections","v":4.7619047619047616E-2},{"$f":"E1313/Author2Sections","v":1},{"$f":"COUNTIF(OFFSET(H1313,0,0,1,Author1Sections),\">0\")","v":1},{"$f":"COUNTIF(OFFSET(H1313,0,Author1Sections,1,Author2Sections),\"=0\")","v":8},2609,"audite",0,0,0,0,0,0,0,0,0,0,0.1,0,0,0,0,0,0,0,0,0,0,0,0,0,0,0,0,0,0,"authority","homely"]
[{"$f":"B1314+C1314","v":1.0476190476190477},{"$f":"D1314/Author1Sections","v":4.7619047619047616E-2},{"$f":"E1314/Author2Sections","v":1},{"$f":"COUNTIF(OFFSET(H1314,0,0,1,Author1Sections),\">0\")","v":1},{"$f":"COUNTIF(OFFSET(H1314,0,Author1Sections,1,Author2Sections),\"=0\")","v":8},2610,"augment",0,0,0,0,0,0,0,0,0,0,0,0,0,0,0,0,0,0,0.1,0,0,0,0,0,0,0,0,0,0,"awaie","homeward"]
[{"$f":"B1315+C1315","v":1.0476190476190477},{"$f":"D1315/Author1Sections","v":4.7619047619047616E-2},{"$f":"E1315/Author2Sections","v":1},{"$f":"COUNTIF(OFFSET(H1315,0,0,1,Author1Sections),\">0\")","v":1},{"$f":"COUNTIF(OFFSET(H1315,0,Author1Sections,1,Author2Sections),\"=0\")","v":8},2611,"auise",0,0,0,0,0,0,0,0,0,0,0.1,0,0,0,0,0,0,0,0,0,0,0,0,0,0,0,0,0,0,"awaking","hoof"]
[{"$f":"B1316+C1316","v":1.0476190476190477},{"$f":"D1316/Author1Sections","v":4.7619047619047616E-2},{"$f":"E1316/Author2Sections","v":1},{"$f":"COUNTIF(OFFSET(H1316,0,0,1,Author1Sections),\">0\")","v":1},{"$f":"COUNTIF(OFFSET(H1316,0,Author1Sections,1,Author2Sections),\"=0\")","v":8},2612,"auncient",0.1,0,0,0,0,0,0,0,0,0,0,0,0,0,0,0,0,0,0,0,0,0,0,0,0,0,0,0,0,"awfull","hook"]
[{"$f":"B1317+C1317","v":1.0476190476190477},{"$f":"D1317/Author1Sections","v":4.7619047619047616E-2},{"$f":"E1317/Author2Sections","v":1},{"$f":"COUNTIF(OFFSET(H1317,0,0,1,Author1Sections),\">0\")","v":1},{"$f":"COUNTIF(OFFSET(H1317,0,Author1Sections,1,Author2Sections),\"=0\")","v":8},2613,"aunswer",0,0,0,0,0,0.1,0,0,0,0,0,0,0,0,0,0,0,0,0,0,0,0,0,0,0,0,0,0,0,"ayde","horace"]
[{"$f":"B1318+C1318","v":1.0476190476190477},{"$f":"D1318/Author1Sections","v":4.7619047619047616E-2},{"$f":"E1318/Author2Sections","v":1},{"$f":"COUNTIF(OFFSET(H1318,0,0,1,Author1Sections),\">0\")","v":1},{"$f":"COUNTIF(OFFSET(H1318,0,Author1Sections,1,Author2Sections),\"=0\")","v":8},2614,"auoid",0,0,0,0,0,0,0,0,0,0,0,0,0,0.1,0,0,0,0,0,0,0,0,0,0,0,0,0,0,0,"ayme","hounds"]
[{"$f":"B1319+C1319","v":1.0476190476190477},{"$f":"D1319/Author1Sections","v":4.7619047619047616E-2},{"$f":"E1319/Author2Sections","v":1},{"$f":"COUNTIF(OFFSET(H1319,0,0,1,Author1Sections),\">0\")","v":1},{"$f":"COUNTIF(OFFSET(H1319,0,Author1Sections,1,Author2Sections),\"=0\")","v":8},2615,"auroras",0,0,0,0,0,0,0,0,0,0,0,0,0.1,0,0,0,0,0,0,0,0,0,0,0,0,0,0,0,0,"ayres","hover'd"]
[{"$f":"B1320+C1320","v":1.0476190476190477},{"$f":"D1320/Author1Sections","v":4.7619047619047616E-2},{"$f":"E1320/Author2Sections","v":1},{"$f":"COUNTIF(OFFSET(H1320,0,0,1,Author1Sections),\">0\")","v":1},{"$f":"COUNTIF(OFFSET(H1320,0,Author1Sections,1,Author2Sections),\"=0\")","v":8},2616,"author",0,0,0,0,0,0,0,0,0,0,0,0,0.1,0,0,0,0,0,0,0,0,0,0,0,0,0,0,0,0,"azure","hovering"]
[{"$f":"B1321+C1321","v":1.0476190476190477},{"$f":"D1321/Author1Sections","v":4.7619047619047616E-2},{"$f":"E1321/Author2Sections","v":1},{"$f":"COUNTIF(OFFSET(H1321,0,0,1,Author1Sections),\">0\")","v":1},{"$f":"COUNTIF(OFFSET(H1321,0,Author1Sections,1,Author2Sections),\"=0\")","v":8},2617,"authoritie",0,0,0,0,0,0.1,0,0,0,0,0,0,0,0,0,0,0,0,0,0,0,0,0,0,0,0,0,0,0,"babies","howsoe"]
[{"$f":"B1322+C1322","v":1.0476190476190477},{"$f":"D1322/Author1Sections","v":4.7619047619047616E-2},{"$f":"E1322/Author2Sections","v":1},{"$f":"COUNTIF(OFFSET(H1322,0,0,1,Author1Sections),\">0\")","v":1},{"$f":"COUNTIF(OFFSET(H1322,0,Author1Sections,1,Author2Sections),\"=0\")","v":8},2618,"authority",0,0,0,0,0,0,0,0,0,0,0,0,0,0,0,0.1,0,0,0,0,0,0,0,0,0,0,0,0,0,"badger","hued"]
[{"$f":"B1323+C1323","v":1.0476190476190477},{"$f":"D1323/Author1Sections","v":4.7619047619047616E-2},{"$f":"E1323/Author2Sections","v":1},{"$f":"COUNTIF(OFFSET(H1323,0,0,1,Author1Sections),\">0\")","v":1},{"$f":"COUNTIF(OFFSET(H1323,0,Author1Sections,1,Author2Sections),\"=0\")","v":8},2620,"awaie",0,0,0.1,0,0,0,0,0,0,0,0,0,0,0,0,0,0,0,0,0,0,0,0,0,0,0,0,0,0,"bagpipe","hues"]
[{"$f":"B1324+C1324","v":1.0476190476190477},{"$f":"D1324/Author1Sections","v":4.7619047619047616E-2},{"$f":"E1324/Author2Sections","v":1},{"$f":"COUNTIF(OFFSET(H1324,0,0,1,Author1Sections),\">0\")","v":1},{"$f":"COUNTIF(OFFSET(H1324,0,Author1Sections,1,Author2Sections),\"=0\")","v":8},2621,"awaking",0,0,0,0,7.4183979999999997E-2,0,0,0,0,0,0,0,0,0,0,0,0,0,0,0,0,0,0,0,0,0,0,0,0,"bags","hum"]
[{"$f":"B1325+C1325","v":1.0476190476190477},{"$f":"D1325/Author1Sections","v":4.7619047619047616E-2},{"$f":"E1325/Author2Sections","v":1},{"$f":"COUNTIF(OFFSET(H1325,0,0,1,Author1Sections),\">0\")","v":1},{"$f":"COUNTIF(OFFSET(H1325,0,Author1Sections,1,Author2Sections),\"=0\")","v":8},2622,"awfull",0,0,0,0,0,0,0,0,0,0,0,0,0,0,0,0.1,0,0,0,0,0,0,0,0,0,0,0,0,0,"baid","hundred"]
[{"$f":"B1326+C1326","v":1.0476190476190477},{"$f":"D1326/Author1Sections","v":4.7619047619047616E-2},{"$f":"E1326/Author2Sections","v":1},{"$f":"COUNTIF(OFFSET(H1326,0,0,1,Author1Sections),\">0\")","v":1},{"$f":"COUNTIF(OFFSET(H1326,0,Author1Sections,1,Author2Sections),\"=0\")","v":8},2625,"ayde",0,0,0,0,0,0,0,0,0,0,0,0,0,0,0,0.1,0,0,0,0,0,0,0,0,0,0,0,0,0,"baiting","hung"]
[{"$f":"B1327+C1327","v":1.0476190476190477},{"$f":"D1327/Author1Sections","v":4.7619047619047616E-2},{"$f":"E1327/Author2Sections","v":1},{"$f":"COUNTIF(OFFSET(H1327,0,0,1,Author1Sections),\">0\")","v":1},{"$f":"COUNTIF(OFFSET(H1327,0,Author1Sections,1,Author2Sections),\"=0\")","v":8},2626,"ayme",0,0,0,0,0,0,0,0,0,0,0,0.1,0,0,0,0,0,0,0,0,0,0,0,0,0,0,0,0,0,"baits","hurl'd"]
[{"$f":"B1328+C1328","v":1.0476190476190477},{"$f":"D1328/Author1Sections","v":4.7619047619047616E-2},{"$f":"E1328/Author2Sections","v":1},{"$f":"COUNTIF(OFFSET(H1328,0,0,1,Author1Sections),\">0\")","v":1},{"$f":"COUNTIF(OFFSET(H1328,0,Author1Sections,1,Author2Sections),\"=0\")","v":8},2627,"ayres",0,0,0,0,0,0,0,0,0,0,0,0,0,0,0,0,0,0.1,0,0,0,0,0,0,0,0,0,0,0,"balefull","hurls"]
[{"$f":"B1329+C1329","v":1.0476190476190477},{"$f":"D1329/Author1Sections","v":4.7619047619047616E-2},{"$f":"E1329/Author2Sections","v":1},{"$f":"COUNTIF(OFFSET(H1329,0,0,1,Author1Sections),\">0\")","v":1},{"$f":"COUNTIF(OFFSET(H1329,0,Author1Sections,1,Author2Sections),\"=0\")","v":8},2628,"azure",0,0,0,0.1,0,0,0,0,0,0,0,0,0,0,0,0,0,0,0,0,0,0,0,0,0,0,0,0,0,"balme","hurting"]
[{"$f":"B1330+C1330","v":1.0476190476190477},{"$f":"D1330/Author1Sections","v":4.7619047619047616E-2},{"$f":"E1330/Author2Sections","v":1},{"$f":"COUNTIF(OFFSET(H1330,0,0,1,Author1Sections),\">0\")","v":1},{"$f":"COUNTIF(OFFSET(H1330,0,Author1Sections,1,Author2Sections),\"=0\")","v":8},2629,"babies",0,0,0,0,0,0,0,0,0,0.1,0,0,0,0,0,0,0,0,0,0,0,0,0,0,0,0,0,0,0,"bands","husband's"]
[{"$f":"B1331+C1331","v":1.0476190476190477},{"$f":"D1331/Author1Sections","v":4.7619047619047616E-2},{"$f":"E1331/Author2Sections","v":1},{"$f":"COUNTIF(OFFSET(H1331,0,0,1,Author1Sections),\">0\")","v":1},{"$f":"COUNTIF(OFFSET(H1331,0,Author1Sections,1,Author2Sections),\"=0\")","v":8},2631,"badger",0,0.1,0,0,0,0,0,0,0,0,0,0,0,0,0,0,0,0,0,0,0,0,0,0,0,0,0,0,0,"banisht","hymen"]
[{"$f":"B1332+C1332","v":1.0476190476190477},{"$f":"D1332/Author1Sections","v":4.7619047619047616E-2},{"$f":"E1332/Author2Sections","v":1},{"$f":"COUNTIF(OFFSET(H1332,0,0,1,Author1Sections),\">0\")","v":1},{"$f":"COUNTIF(OFFSET(H1332,0,Author1Sections,1,Author2Sections),\"=0\")","v":8},2632,"bagpipe",0,0.1,0,0,0,0,0,0,0,0,0,0,0,0,0,0,0,0,0,0,0,0,0,0,0,0,0,0,0,"bankes","i'm"]
[{"$f":"B1333+C1333","v":1.0476190476190477},{"$f":"D1333/Author1Sections","v":4.7619047619047616E-2},{"$f":"E1333/Author2Sections","v":1},{"$f":"COUNTIF(OFFSET(H1333,0,0,1,Author1Sections),\">0\")","v":1},{"$f":"COUNTIF(OFFSET(H1333,0,Author1Sections,1,Author2Sections),\"=0\")","v":8},2633,"bags",0,0,0,0,0,0,0.1,0,0,0,0,0,0,0,0,0,0,0,0,0,0,0,0,0,0,0,0,0,0,"bankrout","ida's"]
[{"$f":"B1334+C1334","v":1.0476190476190477},{"$f":"D1334/Author1Sections","v":4.7619047619047616E-2},{"$f":"E1334/Author2Sections","v":1},{"$f":"COUNTIF(OFFSET(H1334,0,0,1,Author1Sections),\">0\")","v":1},{"$f":"COUNTIF(OFFSET(H1334,0,Author1Sections,1,Author2Sections),\"=0\")","v":8},2634,"baid",0,0.1,0,0,0,0,0,0,0,0,0,0,0,0,0,0,0,0,0,0,0,0,0,0,0,0,0,0,0,"banner","imagination"]
[{"$f":"B1335+C1335","v":1.0476190476190477},{"$f":"D1335/Author1Sections","v":4.7619047619047616E-2},{"$f":"E1335/Author2Sections","v":1},{"$f":"COUNTIF(OFFSET(H1335,0,0,1,Author1Sections),\">0\")","v":1},{"$f":"COUNTIF(OFFSET(H1335,0,Author1Sections,1,Author2Sections),\"=0\")","v":8},2636,"baiting",0,0,0,0,0,0,0,0,0,0,0,0,0,0.1,0,0,0,0,0,0,0,0,0,0,0,0,0,0,0,"banners","immured"]
[{"$f":"B1336+C1336","v":1.0476190476190477},{"$f":"D1336/Author1Sections","v":4.7619047619047616E-2},{"$f":"E1336/Author2Sections","v":1},{"$f":"COUNTIF(OFFSET(H1336,0,0,1,Author1Sections),\">0\")","v":1},{"$f":"COUNTIF(OFFSET(H1336,0,Author1Sections,1,Author2Sections),\"=0\")","v":8},2637,"baits",0,0.1,0,0,0,0,0,0,0,0,0,0,0,0,0,0,0,0,0,0,0,0,0,0,0,0,0,0,0,"barge","impediments"]
[{"$f":"B1337+C1337","v":1.0476190476190477},{"$f":"D1337/Author1Sections","v":4.7619047619047616E-2},{"$f":"E1337/Author2Sections","v":1},{"$f":"COUNTIF(OFFSET(H1337,0,0,1,Author1Sections),\">0\")","v":1},{"$f":"COUNTIF(OFFSET(H1337,0,Author1Sections,1,Author2Sections),\"=0\")","v":8},2638,"balefull",0,0.1,0,0,0,0,0,0,0,0,0,0,0,0,0,0,0,0,0,0,0,0,0,0,0,0,0,0,0,"barks","impleach'd"]
[{"$f":"B1338+C1338","v":1.0476190476190477},{"$f":"D1338/Author1Sections","v":4.7619047619047616E-2},{"$f":"E1338/Author2Sections","v":1},{"$f":"COUNTIF(OFFSET(H1338,0,0,1,Author1Sections),\">0\")","v":1},{"$f":"COUNTIF(OFFSET(H1338,0,Author1Sections,1,Author2Sections),\"=0\")","v":8},2641,"balme",0,0,0,0,0,0,0,0,0,0,0,0,0,0.1,0,0,0,0,0,0,0,0,0,0,0,0,0,0,0,"baser","impressest"]
[{"$f":"B1339+C1339","v":1.0476190476190477},{"$f":"D1339/Author1Sections","v":4.7619047619047616E-2},{"$f":"E1339/Author2Sections","v":1},{"$f":"COUNTIF(OFFSET(H1339,0,0,1,Author1Sections),\">0\")","v":1},{"$f":"COUNTIF(OFFSET(H1339,0,Author1Sections,1,Author2Sections),\"=0\")","v":8},2642,"bands",0,0,0,0.1,0,0,0,0,0,0,0,0,0,0,0,0,0,0,0,0,0,0,0,0,0,0,0,0,0,"bases","incessant"]
[{"$f":"B1340+C1340","v":1.0476190476190477},{"$f":"D1340/Author1Sections","v":4.7619047619047616E-2},{"$f":"E1340/Author2Sections","v":1},{"$f":"COUNTIF(OFFSET(H1340,0,0,1,Author1Sections),\">0\")","v":1},{"$f":"COUNTIF(OFFSET(H1340,0,Author1Sections,1,Author2Sections),\"=0\")","v":8},2644,"banisht",0,0,0,0,0,0,0,0,0,0,0,0,0,0,0,0,0,0.1,0,0,0,0,0,0,0,0,0,0,0,"bashfull","infection"]
[{"$f":"B1341+C1341","v":1.0476190476190477},{"$f":"D1341/Author1Sections","v":4.7619047619047616E-2},{"$f":"E1341/Author2Sections","v":1},{"$f":"COUNTIF(OFFSET(H1341,0,0,1,Author1Sections),\">0\")","v":1},{"$f":"COUNTIF(OFFSET(H1341,0,Author1Sections,1,Author2Sections),\"=0\")","v":8},2645,"bankes",0,0.1,0,0,0,0,0,0,0,0,0,0,0,0,0,0,0,0,0,0,0,0,0,0,0,0,0,0,0,"bashlesse","infirmity"]
[{"$f":"B1342+C1342","v":1.0476190476190477},{"$f":"D1342/Author1Sections","v":4.7619047619047616E-2},{"$f":"E1342/Author2Sections","v":1},{"$f":"COUNTIF(OFFSET(H1342,0,0,1,Author1Sections),\">0\")","v":1},{"$f":"COUNTIF(OFFSET(H1342,0,Author1Sections,1,Author2Sections),\"=0\")","v":8},2646,"bankrout",0,0,0,0,0,0,0,0,0,0,0.1,0,0,0,0,0,0,0,0,0,0,0,0,0,0,0,0,0,0,"bate","inflame"]
[{"$f":"B1343+C1343","v":1.0476190476190477},{"$f":"D1343/Author1Sections","v":4.7619047619047616E-2},{"$f":"E1343/Author2Sections","v":1},{"$f":"COUNTIF(OFFSET(H1343,0,0,1,Author1Sections),\">0\")","v":1},{"$f":"COUNTIF(OFFSET(H1343,0,Author1Sections,1,Author2Sections),\"=0\")","v":8},2647,"banner",0,0,0,0,0,0,0,0,0,0,0,0,0,0,0,0.1,0,0,0,0,0,0,0,0,0,0,0,0,0,"battred","inflamèd"]
[{"$f":"B1344+C1344","v":1.0476190476190477},{"$f":"D1344/Author1Sections","v":4.7619047619047616E-2},{"$f":"E1344/Author2Sections","v":1},{"$f":"COUNTIF(OFFSET(H1344,0,0,1,Author1Sections),\">0\")","v":1},{"$f":"COUNTIF(OFFSET(H1344,0,Author1Sections,1,Author2Sections),\"=0\")","v":8},2648,"banners",0,0,0,0,0,0,0,0,0,0,0,0,0.1,0,0,0,0,0,0,0,0,0,0,0,0,0,0,0,0,"baudrikes","injury"]
[{"$f":"B1345+C1345","v":1.0476190476190477},{"$f":"D1345/Author1Sections","v":4.7619047619047616E-2},{"$f":"E1345/Author2Sections","v":1},{"$f":"COUNTIF(OFFSET(H1345,0,0,1,Author1Sections),\">0\")","v":1},{"$f":"COUNTIF(OFFSET(H1345,0,Author1Sections,1,Author2Sections),\"=0\")","v":8},2650,"barge",0,0,0,0,0,0,0,0,0,0,0,0,0,0,0,0,0,0,0.1,0,0,0,0,0,0,0,0,0,0,"beamie","ink"]
[{"$f":"B1346+C1346","v":1.0476190476190477},{"$f":"D1346/Author1Sections","v":4.7619047619047616E-2},{"$f":"E1346/Author2Sections","v":1},{"$f":"COUNTIF(OFFSET(H1346,0,0,1,Author1Sections),\">0\")","v":1},{"$f":"COUNTIF(OFFSET(H1346,0,Author1Sections,1,Author2Sections),\"=0\")","v":8},2652,"barks",0,0,0,0,0,0,0,0,0,0,0,0,0,0,0,0.1,0,0,0,0,0,0,0,0,0,0,0,0,0,"bearing","inmost"]
[{"$f":"B1347+C1347","v":1.0476190476190477},{"$f":"D1347/Author1Sections","v":4.7619047619047616E-2},{"$f":"E1347/Author2Sections","v":1},{"$f":"COUNTIF(OFFSET(H1347,0,0,1,Author1Sections),\">0\")","v":1},{"$f":"COUNTIF(OFFSET(H1347,0,Author1Sections,1,Author2Sections),\"=0\")","v":8},2656,"baser",0,0,0,0,7.4183979999999997E-2,0,0,0,0,0,0,0,0,0,0,0,0,0,0,0,0,0,0,0,0,0,0,0,0,"bearst","innocently"]
[{"$f":"B1348+C1348","v":1.0476190476190477},{"$f":"D1348/Author1Sections","v":4.7619047619047616E-2},{"$f":"E1348/Author2Sections","v":1},{"$f":"COUNTIF(OFFSET(H1348,0,0,1,Author1Sections),\">0\")","v":1},{"$f":"COUNTIF(OFFSET(H1348,0,Author1Sections,1,Author2Sections),\"=0\")","v":8},2657,"bases",0,0,0,0,0,0,0,0,0,0,0,0,0,0,0,0,0.1,0,0,0,0,0,0,0,0,0,0,0,0,"beating","inscrib'd"]
[{"$f":"B1349+C1349","v":1.0476190476190477},{"$f":"D1349/Author1Sections","v":4.7619047619047616E-2},{"$f":"E1349/Author2Sections","v":1},{"$f":"COUNTIF(OFFSET(H1349,0,0,1,Author1Sections),\">0\")","v":1},{"$f":"COUNTIF(OFFSET(H1349,0,Author1Sections,1,Author2Sections),\"=0\")","v":8},2658,"bashfull",0,0,0,0,0,0.1,0,0,0,0,0,0,0,0,0,0,0,0,0,0,0,0,0,0,0,0,0,0,0,"beautifier","intend"]
[{"$f":"B1350+C1350","v":1.0476190476190477},{"$f":"D1350/Author1Sections","v":4.7619047619047616E-2},{"$f":"E1350/Author2Sections","v":1},{"$f":"COUNTIF(OFFSET(H1350,0,0,1,Author1Sections),\">0\")","v":1},{"$f":"COUNTIF(OFFSET(H1350,0,Author1Sections,1,Author2Sections),\"=0\")","v":8},2659,"bashlesse",0,0,0,0,0,0.1,0,0,0,0,0,0,0,0,0,0,0,0,0,0,0,0,0,0,0,0,0,0,0,"beautifies","interpose"]
[{"$f":"B1351+C1351","v":1.0476190476190477},{"$f":"D1351/Author1Sections","v":4.7619047619047616E-2},{"$f":"E1351/Author2Sections","v":1},{"$f":"COUNTIF(OFFSET(H1351,0,0,1,Author1Sections),\">0\")","v":1},{"$f":"COUNTIF(OFFSET(H1351,0,Author1Sections,1,Author2Sections),\"=0\")","v":8},2663,"bate",0,0,0,0,0,0,0,0,0,0.1,0,0,0,0,0,0,0,0,0,0,0,0,0,0,0,0,0,0,0,"beautifullest","intrude"]
[{"$f":"B1352+C1352","v":1.0476190476190477},{"$f":"D1352/Author1Sections","v":4.7619047619047616E-2},{"$f":"E1352/Author2Sections","v":1},{"$f":"COUNTIF(OFFSET(H1352,0,0,1,Author1Sections),\">0\")","v":1},{"$f":"COUNTIF(OFFSET(H1352,0,Author1Sections,1,Author2Sections),\"=0\")","v":8},2668,"battred",0,0,0,0,0,0,0,0,0,0,0,0,0.1,0,0,0,0,0,0,0,0,0,0,0,0,0,0,0,0,"beautious","inundation"]
[{"$f":"B1353+C1353","v":1.0476190476190477},{"$f":"D1353/Author1Sections","v":4.7619047619047616E-2},{"$f":"E1353/Author2Sections","v":1},{"$f":"COUNTIF(OFFSET(H1353,0,0,1,Author1Sections),\">0\")","v":1},{"$f":"COUNTIF(OFFSET(H1353,0,Author1Sections,1,Author2Sections),\"=0\")","v":8},2669,"baudrikes",0,0,0,0,0,0,0.1,0,0,0,0,0,0,0,0,0,0,0,0,0,0,0,0,0,0,0,0,0,0,"beawtie","invented"]
[{"$f":"B1354+C1354","v":1.0476190476190477},{"$f":"D1354/Author1Sections","v":4.7619047619047616E-2},{"$f":"E1354/Author2Sections","v":1},{"$f":"COUNTIF(OFFSET(H1354,0,0,1,Author1Sections),\">0\")","v":1},{"$f":"COUNTIF(OFFSET(H1354,0,Author1Sections,1,Author2Sections),\"=0\")","v":8},2675,"beamie",0,0,0,0,0,0,0,0,0,0,0,0,0,0,0.1,0,0,0,0,0,0,0,0,0,0,0,0,0,0,"becke","invised"]
[{"$f":"B1355+C1355","v":1.0476190476190477},{"$f":"D1355/Author1Sections","v":4.7619047619047616E-2},{"$f":"E1355/Author2Sections","v":1},{"$f":"COUNTIF(OFFSET(H1355,0,0,1,Author1Sections),\">0\")","v":1},{"$f":"COUNTIF(OFFSET(H1355,0,Author1Sections,1,Author2Sections),\"=0\")","v":8},2677,"bearing",0,0,0,0,0,0.1,0,0,0,0,0,0,0,0,0,0,0,0,0,0,0,0,0,0,0,0,0,0,0,"beclowded","inwardly"]
[{"$f":"B1356+C1356","v":1.0476190476190477},{"$f":"D1356/Author1Sections","v":4.7619047619047616E-2},{"$f":"E1356/Author2Sections","v":1},{"$f":"COUNTIF(OFFSET(H1356,0,0,1,Author1Sections),\">0\")","v":1},{"$f":"COUNTIF(OFFSET(H1356,0,Author1Sections,1,Author2Sections),\"=0\")","v":8},2678,"bearst",0,0.1,0,0,0,0,0,0,0,0,0,0,0,0,0,0,0,0,0,0,0,0,0,0,0,0,0,0,0,"bedford","inwrought"]
[{"$f":"B1357+C1357","v":1.0476190476190477},{"$f":"D1357/Author1Sections","v":4.7619047619047616E-2},{"$f":"E1357/Author2Sections","v":1},{"$f":"COUNTIF(OFFSET(H1357,0,0,1,Author1Sections),\">0\")","v":1},{"$f":"COUNTIF(OFFSET(H1357,0,Author1Sections,1,Author2Sections),\"=0\")","v":8},2679,"beating",0,0,0,0,0,0,0,0,0.1,0,0,0,0,0,0,0,0,0,0,0,0,0,0,0,0,0,0,0,0,"bedimme","is't"]
[{"$f":"B1358+C1358","v":1.0476190476190477},{"$f":"D1358/Author1Sections","v":4.7619047619047616E-2},{"$f":"E1358/Author2Sections","v":1},{"$f":"COUNTIF(OFFSET(H1358,0,0,1,Author1Sections),\">0\")","v":1},{"$f":"COUNTIF(OFFSET(H1358,0,Author1Sections,1,Author2Sections),\"=0\")","v":8},2680,"beautifier",0,0,0,0,0,0,0,0,0,0,0,0,0,0,0,0,0,0,0.1,0,0,0,0,0,0,0,0,0,0,"beg","issueless"]
[{"$f":"B1359+C1359","v":1.0476190476190477},{"$f":"D1359/Author1Sections","v":4.7619047619047616E-2},{"$f":"E1359/Author2Sections","v":1},{"$f":"COUNTIF(OFFSET(H1359,0,0,1,Author1Sections),\">0\")","v":1},{"$f":"COUNTIF(OFFSET(H1359,0,Author1Sections,1,Author2Sections),\"=0\")","v":8},2681,"beautifies",0,0,0,0,0,0,0,0,0,0,0,0,0,0,0,0,0,0,0,0,7.0372980000000002E-2,0,0,0,0,0,0,0,0,"beggarie","japhet's"]
[{"$f":"B1360+C1360","v":1.0476190476190477},{"$f":"D1360/Author1Sections","v":4.7619047619047616E-2},{"$f":"E1360/Author2Sections","v":1},{"$f":"COUNTIF(OFFSET(H1360,0,0,1,Author1Sections),\">0\")","v":1},{"$f":"COUNTIF(OFFSET(H1360,0,Author1Sections,1,Author2Sections),\"=0\")","v":8},2683,"beautifullest",0,0,0,0,0,0,0.1,0,0,0,0,0,0,0,0,0,0,0,0,0,0,0,0,0,0,0,0,0,0,"beggary","jar"]
[{"$f":"B1361+C1361","v":1.0476190476190477},{"$f":"D1361/Author1Sections","v":4.7619047619047616E-2},{"$f":"E1361/Author2Sections","v":1},{"$f":"COUNTIF(OFFSET(H1361,0,0,1,Author1Sections),\">0\")","v":1},{"$f":"COUNTIF(OFFSET(H1361,0,Author1Sections,1,Author2Sections),\"=0\")","v":8},2684,"beautious",0,0,0,0,0,0.1,0,0,0,0,0,0,0,0,0,0,0,0,0,0,0,0,0,0,0,0,0,0,0,"beggers","jaw"]
[{"$f":"B1362+C1362","v":1.0476190476190477},{"$f":"D1362/Author1Sections","v":4.7619047619047616E-2},{"$f":"E1362/Author2Sections","v":1},{"$f":"COUNTIF(OFFSET(H1362,0,0,1,Author1Sections),\">0\")","v":1},{"$f":"COUNTIF(OFFSET(H1362,0,Author1Sections,1,Author2Sections),\"=0\")","v":8},2685,"beawtie",0.1,0,0,0,0,0,0,0,0,0,0,0,0,0,0,0,0,0,0,0,0,0,0,0,0,0,0,0,0,"beginne","jealous"]
[{"$f":"B1363+C1363","v":1.0476190476190477},{"$f":"D1363/Author1Sections","v":4.7619047619047616E-2},{"$f":"E1363/Author2Sections","v":1},{"$f":"COUNTIF(OFFSET(H1363,0,0,1,Author1Sections),\">0\")","v":1},{"$f":"COUNTIF(OFFSET(H1363,0,Author1Sections,1,Author2Sections),\"=0\")","v":8},2686,"becke",0,0,0,0,0,0,0,0,0,0,0,0,0,0.1,0,0,0,0,0,0,0,0,0,0,0,0,0,0,0,"beginnes","jessamine"]
[{"$f":"B1364+C1364","v":1.0476190476190477},{"$f":"D1364/Author1Sections","v":4.7619047619047616E-2},{"$f":"E1364/Author2Sections","v":1},{"$f":"COUNTIF(OFFSET(H1364,0,0,1,Author1Sections),\">0\")","v":1},{"$f":"COUNTIF(OFFSET(H1364,0,Author1Sections,1,Author2Sections),\"=0\")","v":8},2688,"beclowded",0,0,0,0,0,0,0,0,0,0,0,0,0,0.1,0,0,0,0,0,0,0,0,0,0,0,0,0,0,0,"begot","jest"]
[{"$f":"B1365+C1365","v":1.0476190476190477},{"$f":"D1365/Author1Sections","v":4.7619047619047616E-2},{"$f":"E1365/Author2Sections","v":1},{"$f":"COUNTIF(OFFSET(H1365,0,0,1,Author1Sections),\">0\")","v":1},{"$f":"COUNTIF(OFFSET(H1365,0,Author1Sections,1,Author2Sections),\"=0\")","v":8},2689,"bedford",0,0,0.1,0,0,0,0,0,0,0,0,0,0,0,0,0,0,0,0,0,0,0,0,0,0,0,0,0,0,"beguilde","jewel"]
[{"$f":"B1366+C1366","v":1.0476190476190477},{"$f":"D1366/Author1Sections","v":4.7619047619047616E-2},{"$f":"E1366/Author2Sections","v":1},{"$f":"COUNTIF(OFFSET(H1366,0,0,1,Author1Sections),\">0\")","v":1},{"$f":"COUNTIF(OFFSET(H1366,0,Author1Sections,1,Author2Sections),\"=0\")","v":8},2690,"bedimme",0,0,0,0,0,0,0,0,0,0,0,0,0,0,0,0,0.1,0,0,0,0,0,0,0,0,0,0,0,0,"behalfe","jocund"]
[{"$f":"B1367+C1367","v":1.0476190476190477},{"$f":"D1367/Author1Sections","v":4.7619047619047616E-2},{"$f":"E1367/Author2Sections","v":1},{"$f":"COUNTIF(OFFSET(H1367,0,0,1,Author1Sections),\">0\")","v":1},{"$f":"COUNTIF(OFFSET(H1367,0,Author1Sections,1,Author2Sections),\"=0\")","v":8},2693,"beg",0,0,0,0,0,0,0,0,0,0,0,0.1,0,0,0,0,0,0,0,0,0,0,0,0,0,0,0,0,0,"beheast","join"]
[{"$f":"B1368+C1368","v":1.0476190476190477},{"$f":"D1368/Author1Sections","v":4.7619047619047616E-2},{"$f":"E1368/Author2Sections","v":1},{"$f":"COUNTIF(OFFSET(H1368,0,0,1,Author1Sections),\">0\")","v":1},{"$f":"COUNTIF(OFFSET(H1368,0,Author1Sections,1,Author2Sections),\"=0\")","v":8},2694,"beggarie",0,0,0,0,0,0,0,0,0,0,0,0,0,0,0.1,0,0,0,0,0,0,0,0,0,0,0,0,0,0,"behest","jointing"]
[{"$f":"B1369+C1369","v":1.0476190476190477},{"$f":"D1369/Author1Sections","v":4.7619047619047616E-2},{"$f":"E1369/Author2Sections","v":1},{"$f":"COUNTIF(OFFSET(H1369,0,0,1,Author1Sections),\">0\")","v":1},{"$f":"COUNTIF(OFFSET(H1369,0,Author1Sections,1,Author2Sections),\"=0\")","v":8},2695,"beggary",0,0,0,0,0,0,0,0,0,0,0,0,0,0,0,0.1,0,0,0,0,0,0,0,0,0,0,0,0,0,"beleeue","joints"]
[{"$f":"B1370+C1370","v":1.0476190476190477},{"$f":"D1370/Author1Sections","v":4.7619047619047616E-2},{"$f":"E1370/Author2Sections","v":1},{"$f":"COUNTIF(OFFSET(H1370,0,0,1,Author1Sections),\">0\")","v":1},{"$f":"COUNTIF(OFFSET(H1370,0,Author1Sections,1,Author2Sections),\"=0\")","v":8},2696,"beggers",0,0,0,0,0,0.1,0,0,0,0,0,0,0,0,0,0,0,0,0,0,0,0,0,0,0,0,0,0,0,"beleeve","jollity"]
[{"$f":"B1371+C1371","v":1.0476190476190477},{"$f":"D1371/Author1Sections","v":4.7619047619047616E-2},{"$f":"E1371/Author2Sections","v":1},{"$f":"COUNTIF(OFFSET(H1371,0,0,1,Author1Sections),\">0\")","v":1},{"$f":"COUNTIF(OFFSET(H1371,0,Author1Sections,1,Author2Sections),\"=0\")","v":8},2697,"beginne",0,0,0,0,0,0,0,0,0,0,0,0,0,0,0,0,0.1,0,0,0,0,0,0,0,0,0,0,0,0,"belphœbe","jonson"]
[{"$f":"B1372+C1372","v":1.0476190476190477},{"$f":"D1372/Author1Sections","v":4.7619047619047616E-2},{"$f":"E1372/Author2Sections","v":1},{"$f":"COUNTIF(OFFSET(H1372,0,0,1,Author1Sections),\">0\")","v":1},{"$f":"COUNTIF(OFFSET(H1372,0,Author1Sections,1,Author2Sections),\"=0\")","v":8},2698,"beginnes",0,0,0,0.1,0,0,0,0,0,0,0,0,0,0,0,0,0,0,0,0,0,0,0,0,0,0,0,0,0,"bels","jonson's"]
[{"$f":"B1373+C1373","v":1.0476190476190477},{"$f":"D1373/Author1Sections","v":4.7619047619047616E-2},{"$f":"E1373/Author2Sections","v":1},{"$f":"COUNTIF(OFFSET(H1373,0,0,1,Author1Sections),\">0\")","v":1},{"$f":"COUNTIF(OFFSET(H1373,0,Author1Sections,1,Author2Sections),\"=0\")","v":8},2699,"begot",0,0,0,0,0,0,0,0,0,0.1,0,0,0,0,0,0,0,0,0,0,0,0,0,0,0,0,0,0,0,"bemone","judge"]
[{"$f":"B1374+C1374","v":1.0476190476190477},{"$f":"D1374/Author1Sections","v":4.7619047619047616E-2},{"$f":"E1374/Author2Sections","v":1},{"$f":"COUNTIF(OFFSET(H1374,0,0,1,Author1Sections),\">0\")","v":1},{"$f":"COUNTIF(OFFSET(H1374,0,Author1Sections,1,Author2Sections),\"=0\")","v":8},2701,"beguilde",0,0,0,0,0,0,0,0,0,0,0,0,0,0,0,0,0,0,0,0.1,0,0,0,0,0,0,0,0,0,"bemoned","judging"]
[{"$f":"B1375+C1375","v":1.0476190476190477},{"$f":"D1375/Author1Sections","v":4.7619047619047616E-2},{"$f":"E1375/Author2Sections","v":1},{"$f":"COUNTIF(OFFSET(H1375,0,0,1,Author1Sections),\">0\")","v":1},{"$f":"COUNTIF(OFFSET(H1375,0,Author1Sections,1,Author2Sections),\"=0\")","v":8},2704,"behalfe",0,0,0,0,0,0,0,0.1,0,0,0,0,0,0,0,0,0,0,0,0,0,0,0,0,0,0,0,0,0,"bemones","junkets"]
[{"$f":"B1376+C1376","v":1.0476190476190477},{"$f":"D1376/Author1Sections","v":4.7619047619047616E-2},{"$f":"E1376/Author2Sections","v":1},{"$f":"COUNTIF(OFFSET(H1376,0,0,1,Author1Sections),\">0\")","v":1},{"$f":"COUNTIF(OFFSET(H1376,0,Author1Sections,1,Author2Sections),\"=0\")","v":8},2705,"beheast",0.1,0,0,0,0,0,0,0,0,0,0,0,0,0,0,0,0,0,0,0,0,0,0,0,0,0,0,0,0,"benighted","keen"]
[{"$f":"B1377+C1377","v":1.0476190476190477},{"$f":"D1377/Author1Sections","v":4.7619047619047616E-2},{"$f":"E1377/Author2Sections","v":1},{"$f":"COUNTIF(OFFSET(H1377,0,0,1,Author1Sections),\">0\")","v":1},{"$f":"COUNTIF(OFFSET(H1377,0,Author1Sections,1,Author2Sections),\"=0\")","v":8},2706,"behest",0,0,0,0,0,0,0,0,0,0,0,0,0,0,0.1,0,0,0,0,0,0,0,0,0,0,0,0,0,0,"benignity","kerchief'd"]
[{"$f":"B1378+C1378","v":1.0476190476190477},{"$f":"D1378/Author1Sections","v":4.7619047619047616E-2},{"$f":"E1378/Author2Sections","v":1},{"$f":"COUNTIF(OFFSET(H1378,0,0,1,Author1Sections),\">0\")","v":1},{"$f":"COUNTIF(OFFSET(H1378,0,Author1Sections,1,Author2Sections),\"=0\")","v":8},2708,"beleeue",0,0,0,0,0,0,0,0,0.1,0,0,0,0,0,0,0,0,0,0,0,0,0,0,0,0,0,0,0,0,"bereaved","keys"]
[{"$f":"B1379+C1379","v":1.0476190476190477},{"$f":"D1379/Author1Sections","v":4.7619047619047616E-2},{"$f":"E1379/Author2Sections","v":1},{"$f":"COUNTIF(OFFSET(H1379,0,0,1,Author1Sections),\">0\")","v":1},{"$f":"COUNTIF(OFFSET(H1379,0,Author1Sections,1,Author2Sections),\"=0\")","v":8},2709,"beleeve",0.1,0,0,0,0,0,0,0,0,0,0,0,0,0,0,0,0,0,0,0,0,0,0,0,0,0,0,0,0,"berth","kill'd"]
[{"$f":"B1380+C1380","v":1.0476190476190477},{"$f":"D1380/Author1Sections","v":4.7619047619047616E-2},{"$f":"E1380/Author2Sections","v":1},{"$f":"COUNTIF(OFFSET(H1380,0,0,1,Author1Sections),\">0\")","v":1},{"$f":"COUNTIF(OFFSET(H1380,0,Author1Sections,1,Author2Sections),\"=0\")","v":8},2719,"belphœbe",0,0,0,0,7.4183979999999997E-2,0,0,0,0,0,0,0,0,0,0,0,0,0,0,0,0,0,0,0,0,0,0,0,0,"beseech","kindred"]
[{"$f":"B1381+C1381","v":1.0476190476190477},{"$f":"D1381/Author1Sections","v":4.7619047619047616E-2},{"$f":"E1381/Author2Sections","v":1},{"$f":"COUNTIF(OFFSET(H1381,0,0,1,Author1Sections),\">0\")","v":1},{"$f":"COUNTIF(OFFSET(H1381,0,Author1Sections,1,Author2Sections),\"=0\")","v":8},2720,"bels",0,0,0,0,0,0,0,0.1,0,0,0,0,0,0,0,0,0,0,0,0,0,0,0,0,0,0,0,0,0,"bestowe","kinds"]
[{"$f":"B1382+C1382","v":1.0476190476190477},{"$f":"D1382/Author1Sections","v":4.7619047619047616E-2},{"$f":"E1382/Author2Sections","v":1},{"$f":"COUNTIF(OFFSET(H1382,0,0,1,Author1Sections),\">0\")","v":1},{"$f":"COUNTIF(OFFSET(H1382,0,Author1Sections,1,Author2Sections),\"=0\")","v":8},2721,"bemone",0,0,0,0,0,0,0,0,0,0,0,0,0,0,0.1,0,0,0,0,0,0,0,0,0,0,0,0,0,0,"bestowes","kingdoms"]
[{"$f":"B1383+C1383","v":1.0476190476190477},{"$f":"D1383/Author1Sections","v":4.7619047619047616E-2},{"$f":"E1383/Author2Sections","v":1},{"$f":"COUNTIF(OFFSET(H1383,0,0,1,Author1Sections),\">0\")","v":1},{"$f":"COUNTIF(OFFSET(H1383,0,Author1Sections,1,Author2Sections),\"=0\")","v":8},2722,"bemoned",0,0.1,0,0,0,0,0,0,0,0,0,0,0,0,0,0,0,0,0,0,0,0,0,0,0,0,0,0,0,"betraie","kiss'd"]
[{"$f":"B1384+C1384","v":1.0476190476190477},{"$f":"D1384/Author1Sections","v":4.7619047619047616E-2},{"$f":"E1384/Author2Sections","v":1},{"$f":"COUNTIF(OFFSET(H1384,0,0,1,Author1Sections),\">0\")","v":1},{"$f":"COUNTIF(OFFSET(H1384,0,Author1Sections,1,Author2Sections),\"=0\")","v":8},2723,"bemones",0,0,0,0,0,0,0,0,0,0,0,0,0,0.1,0,0,0,0,0,0,0,0,0,0,0,0,0,0,0,"bewaileth","knat"]
[{"$f":"B1385+C1385","v":1.0476190476190477},{"$f":"D1385/Author1Sections","v":4.7619047619047616E-2},{"$f":"E1385/Author2Sections","v":1},{"$f":"COUNTIF(OFFSET(H1385,0,0,1,Author1Sections),\">0\")","v":1},{"$f":"COUNTIF(OFFSET(H1385,0,Author1Sections,1,Author2Sections),\"=0\")","v":8},2725,"benighted",0,0,0,0,0,0,0,0,0,0,0,0,0,0,0,0,0,0.1,0,0,0,0,0,0,0,0,0,0,0,"beware","knights"]
[{"$f":"B1386+C1386","v":1.0476190476190477},{"$f":"D1386/Author1Sections","v":4.7619047619047616E-2},{"$f":"E1386/Author2Sections","v":1},{"$f":"COUNTIF(OFFSET(H1386,0,0,1,Author1Sections),\">0\")","v":1},{"$f":"COUNTIF(OFFSET(H1386,0,Author1Sections,1,Author2Sections),\"=0\")","v":8},2726,"benignity",0,0,0,0,0,0.1,0,0,0,0,0,0,0,0,0,0,0,0,0,0,0,0,0,0,0,0,0,0,0,"bewitcht","known"]
[{"$f":"B1387+C1387","v":1.0476190476190477},{"$f":"D1387/Author1Sections","v":4.7619047619047616E-2},{"$f":"E1387/Author2Sections","v":1},{"$f":"COUNTIF(OFFSET(H1387,0,0,1,Author1Sections),\">0\")","v":1},{"$f":"COUNTIF(OFFSET(H1387,0,Author1Sections,1,Author2Sections),\"=0\")","v":8},2728,"bereaved",0,0,0,0,7.4183979999999997E-2,0,0,0,0,0,0,0,0,0,0,0,0,0,0,0,0,0,0,0,0,0,0,0,0,"billing","laborious"]
[{"$f":"B1388+C1388","v":1.0476190476190477},{"$f":"D1388/Author1Sections","v":4.7619047619047616E-2},{"$f":"E1388/Author2Sections","v":1},{"$f":"COUNTIF(OFFSET(H1388,0,0,1,Author1Sections),\">0\")","v":1},{"$f":"COUNTIF(OFFSET(H1388,0,Author1Sections,1,Author2Sections),\"=0\")","v":8},2730,"berth",0.1,0,0,0,0,0,0,0,0,0,0,0,0,0,0,0,0,0,0,0,0,0,0,0,0,0,0,0,0,"bite","labourers"]
[{"$f":"B1389+C1389","v":1.0476190476190477},{"$f":"D1389/Author1Sections","v":4.7619047619047616E-2},{"$f":"E1389/Author2Sections","v":1},{"$f":"COUNTIF(OFFSET(H1389,0,0,1,Author1Sections),\">0\")","v":1},{"$f":"COUNTIF(OFFSET(H1389,0,Author1Sections,1,Author2Sections),\"=0\")","v":8},2731,"beseech",0,0,0,0,0,0,0,0,0.1,0,0,0,0,0,0,0,0,0,0,0,0,0,0,0,0,0,0,0,0,"bites","lack'd"]
[{"$f":"B1390+C1390","v":1.0476190476190477},{"$f":"D1390/Author1Sections","v":4.7619047619047616E-2},{"$f":"E1390/Author2Sections","v":1},{"$f":"COUNTIF(OFFSET(H1390,0,0,1,Author1Sections),\">0\")","v":1},{"$f":"COUNTIF(OFFSET(H1390,0,Author1Sections,1,Author2Sections),\"=0\")","v":8},2740,"bestowe",0.1,0,0,0,0,0,0,0,0,0,0,0,0,0,0,0,0,0,0,0,0,0,0,0,0,0,0,0,0,"biting","lamp"]
[{"$f":"B1391+C1391","v":1.0476190476190477},{"$f":"D1391/Author1Sections","v":4.7619047619047616E-2},{"$f":"E1391/Author2Sections","v":1},{"$f":"COUNTIF(OFFSET(H1391,0,0,1,Author1Sections),\">0\")","v":1},{"$f":"COUNTIF(OFFSET(H1391,0,Author1Sections,1,Author2Sections),\"=0\")","v":8},2741,"bestowes",0,0,0,0,0,0,0,0,0,0,0,0,0,0,0,0,0,0,0,0,7.0372980000000002E-2,0,0,0,0,0,0,0,0,"blackly","land"]
[{"$f":"B1392+C1392","v":1.0476190476190477},{"$f":"D1392/Author1Sections","v":4.7619047619047616E-2},{"$f":"E1392/Author2Sections","v":1},{"$f":"COUNTIF(OFFSET(H1392,0,0,1,Author1Sections),\">0\")","v":1},{"$f":"COUNTIF(OFFSET(H1392,0,Author1Sections,1,Author2Sections),\"=0\")","v":8},2743,"betraie",0,0.1,0,0,0,0,0,0,0,0,0,0,0,0,0,0,0,0,0,0,0,0,0,0,0,0,0,0,0,"blacknesse","landlord"]
[{"$f":"B1393+C1393","v":1.0476190476190477},{"$f":"D1393/Author1Sections","v":4.7619047619047616E-2},{"$f":"E1393/Author2Sections","v":1},{"$f":"COUNTIF(OFFSET(H1393,0,0,1,Author1Sections),\">0\")","v":1},{"$f":"COUNTIF(OFFSET(H1393,0,Author1Sections,1,Author2Sections),\"=0\")","v":8},2747,"bewaileth",0,0.1,0,0,0,0,0,0,0,0,0,0,0,0,0,0,0,0,0,0,0,0,0,0,0,0,0,0,0,"blam'd","lands"]
[{"$f":"B1394+C1394","v":1.0476190476190477},{"$f":"D1394/Author1Sections","v":4.7619047619047616E-2},{"$f":"E1394/Author2Sections","v":1},{"$f":"COUNTIF(OFFSET(H1394,0,0,1,Author1Sections),\">0\")","v":1},{"$f":"COUNTIF(OFFSET(H1394,0,Author1Sections,1,Author2Sections),\"=0\")","v":8},2748,"beware",0,0,0,0,0,0,0,0,0,0,0,0,0,0,0,0,0,0,0.1,0,0,0,0,0,0,0,0,0,0,"blancatus","landskip"]
[{"$f":"B1395+C1395","v":1.0476190476190477},{"$f":"D1395/Author1Sections","v":4.7619047619047616E-2},{"$f":"E1395/Author2Sections","v":1},{"$f":"COUNTIF(OFFSET(H1395,0,0,1,Author1Sections),\">0\")","v":1},{"$f":"COUNTIF(OFFSET(H1395,0,Author1Sections,1,Author2Sections),\"=0\")","v":8},2750,"bewitcht",0,0,0,0.1,0,0,0,0,0,0,0,0,0,0,0,0,0,0,0,0,0,0,0,0,0,0,0,0,0,"bleaying","languages"]
[{"$f":"B1396+C1396","v":1.0476190476190477},{"$f":"D1396/Author1Sections","v":4.7619047619047616E-2},{"$f":"E1396/Author2Sections","v":1},{"$f":"COUNTIF(OFFSET(H1396,0,0,1,Author1Sections),\">0\")","v":1},{"$f":"COUNTIF(OFFSET(H1396,0,Author1Sections,1,Author2Sections),\"=0\")","v":8},2753,"billing",0,0,0,0,0,0,0,0,0,0,0,0,0,0,0,0,0,0,0.1,0,0,0,0,0,0,0,0,0,0,"blessings","lanthorn"]
[{"$f":"B1397+C1397","v":1.0476190476190477},{"$f":"D1397/Author1Sections","v":4.7619047619047616E-2},{"$f":"E1397/Author2Sections","v":1},{"$f":"COUNTIF(OFFSET(H1397,0,0,1,Author1Sections),\">0\")","v":1},{"$f":"COUNTIF(OFFSET(H1397,0,Author1Sections,1,Author2Sections),\"=0\")","v":8},2755,"bite",0,0,0,0,0,0,0,0,0,0,0,0,0,0,0,0,0,0,0.1,0,0,0,0,0,0,0,0,0,0,"blinde","largeness"]
[{"$f":"B1398+C1398","v":1.0476190476190477},{"$f":"D1398/Author1Sections","v":4.7619047619047616E-2},{"$f":"E1398/Author2Sections","v":1},{"$f":"COUNTIF(OFFSET(H1398,0,0,1,Author1Sections),\">0\")","v":1},{"$f":"COUNTIF(OFFSET(H1398,0,Author1Sections,1,Author2Sections),\"=0\")","v":8},2756,"bites",0,0.1,0,0,0,0,0,0,0,0,0,0,0,0,0,0,0,0,0,0,0,0,0,0,0,0,0,0,0,"blockheads","largess"]
[{"$f":"B1399+C1399","v":1.0476190476190477},{"$f":"D1399/Author1Sections","v":4.7619047619047616E-2},{"$f":"E1399/Author2Sections","v":1},{"$f":"COUNTIF(OFFSET(H1399,0,0,1,Author1Sections),\">0\")","v":1},{"$f":"COUNTIF(OFFSET(H1399,0,Author1Sections,1,Author2Sections),\"=0\")","v":8},2757,"biting",0,0,0,0,0,0,0,0,0.1,0,0,0,0,0,0,0,0,0,0,0,0,0,0,0,0,0,0,0,0,"bloodshed","lark"]
[{"$f":"B1400+C1400","v":1.0476190476190477},{"$f":"D1400/Author1Sections","v":4.7619047619047616E-2},{"$f":"E1400/Author2Sections","v":1},{"$f":"COUNTIF(OFFSET(H1400,0,0,1,Author1Sections),\">0\")","v":1},{"$f":"COUNTIF(OFFSET(H1400,0,Author1Sections,1,Author2Sections),\"=0\")","v":8},2758,"blackly",0,0,0,0,0,0,0,0,0,0,0,0,0,0,0,0,0,0,0,0.1,0,0,0,0,0,0,0,0,0,"blot","larks"]
[{"$f":"B1401+C1401","v":1.0476190476190477},{"$f":"D1401/Author1Sections","v":4.7619047619047616E-2},{"$f":"E1401/Author2Sections","v":1},{"$f":"COUNTIF(OFFSET(H1401,0,0,1,Author1Sections),\">0\")","v":1},{"$f":"COUNTIF(OFFSET(H1401,0,Author1Sections,1,Author2Sections),\"=0\")","v":8},2759,"blacknesse",0,0,0,0,0,0,0,0,0,0,0,0,0,0,0,0,0,0,0,0.1,0,0,0,0,0,0,0,0,0,"bloudie","latin"]
[{"$f":"B1402+C1402","v":1.0476190476190477},{"$f":"D1402/Author1Sections","v":4.7619047619047616E-2},{"$f":"E1402/Author2Sections","v":1},{"$f":"COUNTIF(OFFSET(H1402,0,0,1,Author1Sections),\">0\")","v":1},{"$f":"COUNTIF(OFFSET(H1402,0,Author1Sections,1,Author2Sections),\"=0\")","v":8},2760,"blam'd",0,0,0,0,0,0,0,0,0,0,0,0,0,0,0,0,0,0,0.1,0,0,0,0,0,0,0,0,0,0,"blowe","lattice"]
[{"$f":"B1403+C1403","v":1.0476190476190477},{"$f":"D1403/Author1Sections","v":4.7619047619047616E-2},{"$f":"E1403/Author2Sections","v":1},{"$f":"COUNTIF(OFFSET(H1403,0,0,1,Author1Sections),\">0\")","v":1},{"$f":"COUNTIF(OFFSET(H1403,0,Author1Sections,1,Author2Sections),\"=0\")","v":8},2761,"blancatus",0,0,0,0,0,0,0,0.1,0,0,0,0,0,0,0,0,0,0,0,0,0,0,0,0,0,0,0,0,0,"blusht","laugh"]
[{"$f":"B1404+C1404","v":1.0476190476190477},{"$f":"D1404/Author1Sections","v":4.7619047619047616E-2},{"$f":"E1404/Author2Sections","v":1},{"$f":"COUNTIF(OFFSET(H1404,0,0,1,Author1Sections),\">0\")","v":1},{"$f":"COUNTIF(OFFSET(H1404,0,Author1Sections,1,Author2Sections),\"=0\")","v":8},2764,"bleaying",0,0,0,0,0,0,0,0.1,0,0,0,0,0,0,0,0,0,0,0,0,0,0,0,0,0,0,0,0,0,"bo","laugher"]
[{"$f":"B1405+C1405","v":1.0476190476190477},{"$f":"D1405/Author1Sections","v":4.7619047619047616E-2},{"$f":"E1405/Author2Sections","v":1},{"$f":"COUNTIF(OFFSET(H1405,0,0,1,Author1Sections),\">0\")","v":1},{"$f":"COUNTIF(OFFSET(H1405,0,Author1Sections,1,Author2Sections),\"=0\")","v":8},2767,"blessings",0,0,0,0,0,0,0.1,0,0,0,0,0,0,0,0,0,0,0,0,0,0,0,0,0,0,0,0,0,0,"boate","laughter"]
[{"$f":"B1406+C1406","v":1.0476190476190477},{"$f":"D1406/Author1Sections","v":4.7619047619047616E-2},{"$f":"E1406/Author2Sections","v":1},{"$f":"COUNTIF(OFFSET(H1406,0,0,1,Author1Sections),\">0\")","v":1},{"$f":"COUNTIF(OFFSET(H1406,0,Author1Sections,1,Author2Sections),\"=0\")","v":8},2768,"blinde",0,0,0,0.1,0,0,0,0,0,0,0,0,0,0,0,0,0,0,0,0,0,0,0,0,0,0,0,0,0,"boiling","laundering"]
[{"$f":"B1407+C1407","v":1.0476190476190477},{"$f":"D1407/Author1Sections","v":4.7619047619047616E-2},{"$f":"E1407/Author2Sections","v":1},{"$f":"COUNTIF(OFFSET(H1407,0,0,1,Author1Sections),\">0\")","v":1},{"$f":"COUNTIF(OFFSET(H1407,0,Author1Sections,1,Author2Sections),\"=0\")","v":8},2769,"blockheads",0,0,0,0,0,0,0,0,0.1,0,0,0,0,0,0,0,0,0,0,0,0,0,0,0,0,0,0,0,0,"booteth","laureate"]
[{"$f":"B1408+C1408","v":1.0476190476190477},{"$f":"D1408/Author1Sections","v":4.7619047619047616E-2},{"$f":"E1408/Author2Sections","v":1},{"$f":"COUNTIF(OFFSET(H1408,0,0,1,Author1Sections),\">0\")","v":1},{"$f":"COUNTIF(OFFSET(H1408,0,Author1Sections,1,Author2Sections),\"=0\")","v":8},2771,"bloodshed",0.1,0,0,0,0,0,0,0,0,0,0,0,0,0,0,0,0,0,0,0,0,0,0,0,0,0,0,0,0,"bordred","laurels"]
[{"$f":"B1409+C1409","v":1.0476190476190477},{"$f":"D1409/Author1Sections","v":4.7619047619047616E-2},{"$f":"E1409/Author2Sections","v":1},{"$f":"COUNTIF(OFFSET(H1409,0,0,1,Author1Sections),\">0\")","v":1},{"$f":"COUNTIF(OFFSET(H1409,0,Author1Sections,1,Author2Sections),\"=0\")","v":8},2773,"blot",0,0,0,0,0,0,0,0,0,0,0,0.1,0,0,0,0,0,0,0,0,0,0,0,0,0,0,0,0,0,"borrowed","laves"]
[{"$f":"B1410+C1410","v":1.0476190476190477},{"$f":"D1410/Author1Sections","v":4.7619047619047616E-2},{"$f":"E1410/Author2Sections","v":1},{"$f":"COUNTIF(OFFSET(H1410,0,0,1,Author1Sections),\">0\")","v":1},{"$f":"COUNTIF(OFFSET(H1410,0,Author1Sections,1,Author2Sections),\"=0\")","v":8},2774,"bloudie",0,0,0,0,0,0,0,0,0,0,0,0,0,0,0,0,0,0.1,0,0,0,0,0,0,0,0,0,0,0,"bosse","law"]
[{"$f":"B1411+C1411","v":1.0476190476190477},{"$f":"D1411/Author1Sections","v":4.7619047619047616E-2},{"$f":"E1411/Author2Sections","v":1},{"$f":"COUNTIF(OFFSET(H1411,0,0,1,Author1Sections),\">0\")","v":1},{"$f":"COUNTIF(OFFSET(H1411,0,Author1Sections,1,Author2Sections),\"=0\")","v":8},2775,"blowe",0,0,0,0,0,0,0,0,0,0,0,0,0,0,0,0,0,0.1,0,0,0,0,0,0,0,0,0,0,0,"bounded","lawn"]
[{"$f":"B1412+C1412","v":1.0476190476190477},{"$f":"D1412/Author1Sections","v":4.7619047619047616E-2},{"$f":"E1412/Author2Sections","v":1},{"$f":"COUNTIF(OFFSET(H1412,0,0,1,Author1Sections),\">0\")","v":1},{"$f":"COUNTIF(OFFSET(H1412,0,Author1Sections,1,Author2Sections),\"=0\")","v":8},2777,"blusht",0,0,0,0,0,0,0,0,0,0,0,0,0,0,0,0,0,0,0,0,7.0372980000000002E-2,0,0,0,0,0,0,0,0,"bove","lays"]
[{"$f":"B1413+C1413","v":1.0476190476190477},{"$f":"D1413/Author1Sections","v":4.7619047619047616E-2},{"$f":"E1413/Author2Sections","v":1},{"$f":"COUNTIF(OFFSET(H1413,0,0,1,Author1Sections),\">0\")","v":1},{"$f":"COUNTIF(OFFSET(H1413,0,Author1Sections,1,Author2Sections),\"=0\")","v":8},2779,"bo",0,0,0,0,0,0,0,0,0,0.1,0,0,0,0,0,0,0,0,0,0,0,0,0,0,0,0,0,0,0,"bowes","lazy"]
[{"$f":"B1414+C1414","v":1.0476190476190477},{"$f":"D1414/Author1Sections","v":4.7619047619047616E-2},{"$f":"E1414/Author2Sections","v":1},{"$f":"COUNTIF(OFFSET(H1414,0,0,1,Author1Sections),\">0\")","v":1},{"$f":"COUNTIF(OFFSET(H1414,0,Author1Sections,1,Author2Sections),\"=0\")","v":8},2781,"boate",0,0,0,0,0,0,0,0,0,0,0,0,0,0,0,0,0,0,0,0,7.0372980000000002E-2,0,0,0,0,0,0,0,0,"boyish","leads"]
[{"$f":"B1415+C1415","v":1.0476190476190477},{"$f":"D1415/Author1Sections","v":4.7619047619047616E-2},{"$f":"E1415/Author2Sections","v":1},{"$f":"COUNTIF(OFFSET(H1415,0,0,1,Author1Sections),\">0\")","v":1},{"$f":"COUNTIF(OFFSET(H1415,0,Author1Sections,1,Author2Sections),\"=0\")","v":8},2782,"boiling",0,0,0,0,0,0,0,0,0,0,0.1,0,0,0,0,0,0,0,0,0,0,0,0,0,0,0,0,0,0,"boyling","lean"]
[{"$f":"B1416+C1416","v":1.0476190476190477},{"$f":"D1416/Author1Sections","v":4.7619047619047616E-2},{"$f":"E1416/Author2Sections","v":1},{"$f":"COUNTIF(OFFSET(H1416,0,0,1,Author1Sections),\">0\")","v":1},{"$f":"COUNTIF(OFFSET(H1416,0,Author1Sections,1,Author2Sections),\"=0\")","v":8},2788,"booteth",0,0,0.1,0,0,0,0,0,0,0,0,0,0,0,0,0,0,0,0,0,0,0,0,0,0,0,0,0,0,"brabbling","learn'd"]
[{"$f":"B1417+C1417","v":1.0476190476190477},{"$f":"D1417/Author1Sections","v":4.7619047619047616E-2},{"$f":"E1417/Author2Sections","v":1},{"$f":"COUNTIF(OFFSET(H1417,0,0,1,Author1Sections),\">0\")","v":1},{"$f":"COUNTIF(OFFSET(H1417,0,Author1Sections,1,Author2Sections),\"=0\")","v":8},2790,"bordred",0,0,0,0,0,0,0,0,0,0.1,0,0,0,0,0,0,0,0,0,0,0,0,0,0,0,0,0,0,0,"brace","lease"]
[{"$f":"B1418+C1418","v":1.0476190476190477},{"$f":"D1418/Author1Sections","v":4.7619047619047616E-2},{"$f":"E1418/Author2Sections","v":1},{"$f":"COUNTIF(OFFSET(H1418,0,0,1,Author1Sections),\">0\")","v":1},{"$f":"COUNTIF(OFFSET(H1418,0,Author1Sections,1,Author2Sections),\"=0\")","v":8},2793,"borrowed",0,0,0,0,0,0,0,0.1,0,0,0,0,0,0,0,0,0,0,0,0,0,0,0,0,0,0,0,0,0,"brag","leaving"]
[{"$f":"B1419+C1419","v":1.0476190476190477},{"$f":"D1419/Author1Sections","v":4.7619047619047616E-2},{"$f":"E1419/Author2Sections","v":1},{"$f":"COUNTIF(OFFSET(H1419,0,0,1,Author1Sections),\">0\")","v":1},{"$f":"COUNTIF(OFFSET(H1419,0,Author1Sections,1,Author2Sections),\"=0\")","v":8},2796,"bosse",0,0,0,0,0,0,0,0,0,0,0,0,0,0,0.1,0,0,0,0,0,0,0,0,0,0,0,0,0,0,"brags","leese"]
[{"$f":"B1420+C1420","v":1.0476190476190477},{"$f":"D1420/Author1Sections","v":4.7619047619047616E-2},{"$f":"E1420/Author2Sections","v":1},{"$f":"COUNTIF(OFFSET(H1420,0,0,1,Author1Sections),\">0\")","v":1},{"$f":"COUNTIF(OFFSET(H1420,0,Author1Sections,1,Author2Sections),\"=0\")","v":8},2798,"bounded",0,0,0,0,7.4183979999999997E-2,0,0,0,0,0,0,0,0,0,0,0,0,0,0,0,0,0,0,0,0,0,0,0,0,"braines","legacy"]
[{"$f":"B1421+C1421","v":1.0476190476190477},{"$f":"D1421/Author1Sections","v":4.7619047619047616E-2},{"$f":"E1421/Author2Sections","v":1},{"$f":"COUNTIF(OFFSET(H1421,0,0,1,Author1Sections),\">0\")","v":1},{"$f":"COUNTIF(OFFSET(H1421,0,Author1Sections,1,Author2Sections),\"=0\")","v":8},2800,"bove",0.1,0,0,0,0,0,0,0,0,0,0,0,0,0,0,0,0,0,0,0,0,0,0,0,0,0,0,0,0,"brasen","legged"]
[{"$f":"B1422+C1422","v":1.0476190476190477},{"$f":"D1422/Author1Sections","v":4.7619047619047616E-2},{"$f":"E1422/Author2Sections","v":1},{"$f":"COUNTIF(OFFSET(H1422,0,0,1,Author1Sections),\">0\")","v":1},{"$f":"COUNTIF(OFFSET(H1422,0,Author1Sections,1,Author2Sections),\"=0\")","v":8},2806,"bowes",0,0,0,0,0,0,0,0,0,0,0.1,0,0,0,0,0,0,0,0,0,0,0,0,0,0,0,0,0,0,"brauely","leisure"]
[{"$f":"B1423+C1423","v":1.0476190476190477},{"$f":"D1423/Author1Sections","v":4.7619047619047616E-2},{"$f":"E1423/Author2Sections","v":1},{"$f":"COUNTIF(OFFSET(H1423,0,0,1,Author1Sections),\">0\")","v":1},{"$f":"COUNTIF(OFFSET(H1423,0,Author1Sections,1,Author2Sections),\"=0\")","v":8},2808,"boyish",0,0,0,0,0,0,0,0,0,0.1,0,0,0,0,0,0,0,0,0,0,0,0,0,0,0,0,0,0,0,"brauest","leisures"]
[{"$f":"B1424+C1424","v":1.0476190476190477},{"$f":"D1424/Author1Sections","v":4.7619047619047616E-2},{"$f":"E1424/Author2Sections","v":1},{"$f":"COUNTIF(OFFSET(H1424,0,0,1,Author1Sections),\">0\")","v":1},{"$f":"COUNTIF(OFFSET(H1424,0,Author1Sections,1,Author2Sections),\"=0\")","v":8},2809,"boyling",0,0,0,0,0,0,0,0,0,0,0,0,0,0,0,0,0,0,0,0,7.0372980000000002E-2,0,0,0,0,0,0,0,0,"bravest","lemons"]
[{"$f":"B1425+C1425","v":1.0476190476190477},{"$f":"D1425/Author1Sections","v":4.7619047619047616E-2},{"$f":"E1425/Author2Sections","v":1},{"$f":"COUNTIF(OFFSET(H1425,0,0,1,Author1Sections),\">0\")","v":1},{"$f":"COUNTIF(OFFSET(H1425,0,Author1Sections,1,Author2Sections),\"=0\")","v":8},2810,"brabbling",0,0,0,0,0,0,0,0,0,0.1,0,0,0,0,0,0,0,0,0,0,0,0,0,0,0,0,0,0,0,"brawl","lending"]
[{"$f":"B1426+C1426","v":1.0476190476190477},{"$f":"D1426/Author1Sections","v":4.7619047619047616E-2},{"$f":"E1426/Author2Sections","v":1},{"$f":"COUNTIF(OFFSET(H1426,0,0,1,Author1Sections),\">0\")","v":1},{"$f":"COUNTIF(OFFSET(H1426,0,Author1Sections,1,Author2Sections),\"=0\")","v":8},2811,"brace",0,0,0,0,0,0.1,0,0,0,0,0,0,0,0,0,0,0,0,0,0,0,0,0,0,0,0,0,0,0,"breach","lends"]
[{"$f":"B1427+C1427","v":1.0476190476190477},{"$f":"D1427/Author1Sections","v":4.7619047619047616E-2},{"$f":"E1427/Author2Sections","v":1},{"$f":"COUNTIF(OFFSET(H1427,0,0,1,Author1Sections),\">0\")","v":1},{"$f":"COUNTIF(OFFSET(H1427,0,Author1Sections,1,Author2Sections),\"=0\")","v":8},2812,"brag",0,0,0,0,0,0,0,0,0,0,0,0,0,0,0,0,0.1,0,0,0,0,0,0,0,0,0,0,0,0,"breakfast","lesbian"]
[{"$f":"B1428+C1428","v":1.0476190476190477},{"$f":"D1428/Author1Sections","v":4.7619047619047616E-2},{"$f":"E1428/Author2Sections","v":1},{"$f":"COUNTIF(OFFSET(H1428,0,0,1,Author1Sections),\">0\")","v":1},{"$f":"COUNTIF(OFFSET(H1428,0,Author1Sections,1,Author2Sections),\"=0\")","v":8},2814,"brags",0,0,0,0,0,0,0,0,0,0,0,0,0,0,0,0,0,0,0,0,7.0372980000000002E-2,0,0,0,0,0,0,0,0,"breathed","light'st"]
[{"$f":"B1429+C1429","v":1.0476190476190477},{"$f":"D1429/Author1Sections","v":4.7619047619047616E-2},{"$f":"E1429/Author2Sections","v":1},{"$f":"COUNTIF(OFFSET(H1429,0,0,1,Author1Sections),\">0\")","v":1},{"$f":"COUNTIF(OFFSET(H1429,0,Author1Sections,1,Author2Sections),\"=0\")","v":8},2817,"braines",0,0,0,0,0,0,0,0,0.1,0,0,0,0,0,0,0,0,0,0,0,0,0,0,0,0,0,0,0,0,"breather","likest"]
[{"$f":"B1430+C1430","v":1.0476190476190477},{"$f":"D1430/Author1Sections","v":4.7619047619047616E-2},{"$f":"E1430/Author2Sections","v":1},{"$f":"COUNTIF(OFFSET(H1430,0,0,1,Author1Sections),\">0\")","v":1},{"$f":"COUNTIF(OFFSET(H1430,0,Author1Sections,1,Author2Sections),\"=0\")","v":8},2819,"brasen",0,0,0,0.1,0,0,0,0,0,0,0,0,0,0,0,0,0,0,0,0,0,0,0,0,0,0,0,0,0,"breathest","linked"]
[{"$f":"B1431+C1431","v":1.0476190476190477},{"$f":"D1431/Author1Sections","v":4.7619047619047616E-2},{"$f":"E1431/Author2Sections","v":1},{"$f":"COUNTIF(OFFSET(H1431,0,0,1,Author1Sections),\">0\")","v":1},{"$f":"COUNTIF(OFFSET(H1431,0,Author1Sections,1,Author2Sections),\"=0\")","v":8},2821,"brauely",0,0,0,0,0,0,0,0,0.1,0,0,0,0,0,0,0,0,0,0,0,0,0,0,0,0,0,0,0,0,"breeding","list'ning"]
[{"$f":"B1432+C1432","v":1.0476190476190477},{"$f":"D1432/Author1Sections","v":4.7619047619047616E-2},{"$f":"E1432/Author2Sections","v":1},{"$f":"COUNTIF(OFFSET(H1432,0,0,1,Author1Sections),\">0\")","v":1},{"$f":"COUNTIF(OFFSET(H1432,0,Author1Sections,1,Author2Sections),\"=0\")","v":8},2822,"brauest",0,0,0,0,0,0,0,0,0,0,0,0,0,0,0,0,0,0.1,0,0,0,0,0,0,0,0,0,0,0,"breeds","listens"]
[{"$f":"B1433+C1433","v":1.0476190476190477},{"$f":"D1433/Author1Sections","v":4.7619047619047616E-2},{"$f":"E1433/Author2Sections","v":1},{"$f":"COUNTIF(OFFSET(H1433,0,0,1,Author1Sections),\">0\")","v":1},{"$f":"COUNTIF(OFFSET(H1433,0,Author1Sections,1,Author2Sections),\"=0\")","v":8},2823,"bravest",0,0,0,0,0,0.1,0,0,0,0,0,0,0,0,0,0,0,0,0,0,0,0,0,0,0,0,0,0,0,"brent","livy"]
[{"$f":"B1434+C1434","v":1.0476190476190477},{"$f":"D1434/Author1Sections","v":4.7619047619047616E-2},{"$f":"E1434/Author2Sections","v":1},{"$f":"COUNTIF(OFFSET(H1434,0,0,1,Author1Sections),\">0\")","v":1},{"$f":"COUNTIF(OFFSET(H1434,0,Author1Sections,1,Author2Sections),\"=0\")","v":8},2824,"brawl",0,0,0,0,0,0,0,0,0,0,0,0.1,0,0,0,0,0,0,0,0,0,0,0,0,0,0,0,0,0,"brethren","loan"]
[{"$f":"B1435+C1435","v":1.0476190476190477},{"$f":"D1435/Author1Sections","v":4.7619047619047616E-2},{"$f":"E1435/Author2Sections","v":1},{"$f":"COUNTIF(OFFSET(H1435,0,0,1,Author1Sections),\">0\")","v":1},{"$f":"COUNTIF(OFFSET(H1435,0,Author1Sections,1,Author2Sections),\"=0\")","v":8},2825,"breach",0,0,0,0,0,0,0,0,0,0,0.1,0,0,0,0,0,0,0,0,0,0,0,0,0,0,0,0,0,0,"brickle","loathed"]
[{"$f":"B1436+C1436","v":1.0476190476190477},{"$f":"D1436/Author1Sections","v":4.7619047619047616E-2},{"$f":"E1436/Author2Sections","v":1},{"$f":"COUNTIF(OFFSET(H1436,0,0,1,Author1Sections),\">0\")","v":1},{"$f":"COUNTIF(OFFSET(H1436,0,Author1Sections,1,Author2Sections),\"=0\")","v":8},2826,"breakfast",0,0,0,0,0,0,0,0,0,0,0,0,0,0,0,0,0,0.1,0,0,0,0,0,0,0,0,0,0,0,"bride","lonely"]
[{"$f":"B1437+C1437","v":1.0476190476190477},{"$f":"D1437/Author1Sections","v":4.7619047619047616E-2},{"$f":"E1437/Author2Sections","v":1},{"$f":"COUNTIF(OFFSET(H1437,0,0,1,Author1Sections),\">0\")","v":1},{"$f":"COUNTIF(OFFSET(H1437,0,Author1Sections,1,Author2Sections),\"=0\")","v":8},2827,"breathed",0,0,0.1,0,0,0,0,0,0,0,0,0,0,0,0,0,0,0,0,0,0,0,0,0,0,0,0,0,0,"bridegrome","loosely"]
[{"$f":"B1438+C1438","v":1.0476190476190477},{"$f":"D1438/Author1Sections","v":4.7619047619047616E-2},{"$f":"E1438/Author2Sections","v":1},{"$f":"COUNTIF(OFFSET(H1438,0,0,1,Author1Sections),\">0\")","v":1},{"$f":"COUNTIF(OFFSET(H1438,0,Author1Sections,1,Author2Sections),\"=0\")","v":8},2828,"breather",0,0,0,0,0,0,0,0,0,0,0,0,0,0,0,0,0,0,0.1,0,0,0,0,0,0,0,0,0,0,"britaines","loss"]
[{"$f":"B1439+C1439","v":1.0476190476190477},{"$f":"D1439/Author1Sections","v":4.7619047619047616E-2},{"$f":"E1439/Author2Sections","v":1},{"$f":"COUNTIF(OFFSET(H1439,0,0,1,Author1Sections),\">0\")","v":1},{"$f":"COUNTIF(OFFSET(H1439,0,Author1Sections,1,Author2Sections),\"=0\")","v":8},2829,"breathest",0,0,0.1,0,0,0,0,0,0,0,0,0,0,0,0,0,0,0,0,0,0,0,0,0,0,0,0,0,0,"britannie","loud"]
[{"$f":"B1440+C1440","v":1.0476190476190477},{"$f":"D1440/Author1Sections","v":4.7619047619047616E-2},{"$f":"E1440/Author2Sections","v":1},{"$f":"COUNTIF(OFFSET(H1440,0,0,1,Author1Sections),\">0\")","v":1},{"$f":"COUNTIF(OFFSET(H1440,0,Author1Sections,1,Author2Sections),\"=0\")","v":8},2830,"breeding",0,0,0,0,0,0,0,0,0,0,0,0.1,0,0,0,0,0,0,0,0,0,0,0,0,0,0,0,0,0,"britonnesse","love's"]
[{"$f":"B1441+C1441","v":1.0476190476190477},{"$f":"D1441/Author1Sections","v":4.7619047619047616E-2},{"$f":"E1441/Author2Sections","v":1},{"$f":"COUNTIF(OFFSET(H1441,0,0,1,Author1Sections),\">0\")","v":1},{"$f":"COUNTIF(OFFSET(H1441,0,Author1Sections,1,Author2Sections),\"=0\")","v":8},2831,"breeds",0,0,0,0,0,0,0,0,0,0,0,0,0,0,0,0,0,0,0,0,7.0372980000000002E-2,0,0,0,0,0,0,0,0,"brows","loveliness"]
[{"$f":"B1442+C1442","v":1.0476190476190477},{"$f":"D1442/Author1Sections","v":4.7619047619047616E-2},{"$f":"E1442/Author2Sections","v":1},{"$f":"COUNTIF(OFFSET(H1442,0,0,1,Author1Sections),\">0\")","v":1},{"$f":"COUNTIF(OFFSET(H1442,0,Author1Sections,1,Author2Sections),\"=0\")","v":8},2832,"brent",0.1,0,0,0,0,0,0,0,0,0,0,0,0,0,0,0,0,0,0,0,0,0,0,0,0,0,0,0,0,"brust","lover'd"]
[{"$f":"B1443+C1443","v":1.0476190476190477},{"$f":"D1443/Author1Sections","v":4.7619047619047616E-2},{"$f":"E1443/Author2Sections","v":1},{"$f":"COUNTIF(OFFSET(H1443,0,0,1,Author1Sections),\">0\")","v":1},{"$f":"COUNTIF(OFFSET(H1443,0,Author1Sections,1,Author2Sections),\"=0\")","v":8},2833,"brethren",0,0,0,0.1,0,0,0,0,0,0,0,0,0,0,0,0,0,0,0,0,0,0,0,0,0,0,0,0,0,"brute","lubber"]
[{"$f":"B1444+C1444","v":1.0476190476190477},{"$f":"D1444/Author1Sections","v":4.7619047619047616E-2},{"$f":"E1444/Author2Sections","v":1},{"$f":"COUNTIF(OFFSET(H1444,0,0,1,Author1Sections),\">0\")","v":1},{"$f":"COUNTIF(OFFSET(H1444,0,Author1Sections,1,Author2Sections),\"=0\")","v":8},2835,"brickle",0,0,0,0.1,0,0,0,0,0,0,0,0,0,0,0,0,0,0,0,0,0,0,0,0,0,0,0,0,0,"bubble","luck"]
[{"$f":"B1445+C1445","v":1.0476190476190477},{"$f":"D1445/Author1Sections","v":4.7619047619047616E-2},{"$f":"E1445/Author2Sections","v":1},{"$f":"COUNTIF(OFFSET(H1445,0,0,1,Author1Sections),\">0\")","v":1},{"$f":"COUNTIF(OFFSET(H1445,0,Author1Sections,1,Author2Sections),\"=0\")","v":8},2836,"bride",0,0,0,0,7.4183979999999997E-2,0,0,0,0,0,0,0,0,0,0,0,0,0,0,0,0,0,0,0,0,0,0,0,0,"bubbling","lucky"]
[{"$f":"B1446+C1446","v":1.0476190476190477},{"$f":"D1446/Author1Sections","v":4.7619047619047616E-2},{"$f":"E1446/Author2Sections","v":1},{"$f":"COUNTIF(OFFSET(H1446,0,0,1,Author1Sections),\">0\")","v":1},{"$f":"COUNTIF(OFFSET(H1446,0,Author1Sections,1,Author2Sections),\"=0\")","v":8},2837,"bridegrome",0,0,0,0,7.4183979999999997E-2,0,0,0,0,0,0,0,0,0,0,0,0,0,0,0,0,0,0,0,0,0,0,0,0,"builde","lull'd"]
[{"$f":"B1447+C1447","v":1.0476190476190477},{"$f":"D1447/Author1Sections","v":4.7619047619047616E-2},{"$f":"E1447/Author2Sections","v":1},{"$f":"COUNTIF(OFFSET(H1447,0,0,1,Author1Sections),\">0\")","v":1},{"$f":"COUNTIF(OFFSET(H1447,0,Author1Sections,1,Author2Sections),\"=0\")","v":8},2840,"britaines",0.1,0,0,0,0,0,0,0,0,0,0,0,0,0,0,0,0,0,0,0,0,0,0,0,0,0,0,0,0,"buildes","luther's"]
[{"$f":"B1448+C1448","v":1.0476190476190477},{"$f":"D1448/Author1Sections","v":4.7619047619047616E-2},{"$f":"E1448/Author2Sections","v":1},{"$f":"COUNTIF(OFFSET(H1448,0,0,1,Author1Sections),\">0\")","v":1},{"$f":"COUNTIF(OFFSET(H1448,0,Author1Sections,1,Author2Sections),\"=0\")","v":8},2841,"britannie",0.1,0,0,0,0,0,0,0,0,0,0,0,0,0,0,0,0,0,0,0,0,0,0,0,0,0,0,0,0,"building","luxury"]
[{"$f":"B1449+C1449","v":1.0476190476190477},{"$f":"D1449/Author1Sections","v":4.7619047619047616E-2},{"$f":"E1449/Author2Sections","v":1},{"$f":"COUNTIF(OFFSET(H1449,0,0,1,Author1Sections),\">0\")","v":1},{"$f":"COUNTIF(OFFSET(H1449,0,Author1Sections,1,Author2Sections),\"=0\")","v":8},2842,"britonnesse",0.1,0,0,0,0,0,0,0,0,0,0,0,0,0,0,0,0,0,0,0,0,0,0,0,0,0,0,0,0,"buildings","lycid"]
[{"$f":"B1450+C1450","v":1.0476190476190477},{"$f":"D1450/Author1Sections","v":4.7619047619047616E-2},{"$f":"E1450/Author2Sections","v":1},{"$f":"COUNTIF(OFFSET(H1450,0,0,1,Author1Sections),\">0\")","v":1},{"$f":"COUNTIF(OFFSET(H1450,0,Author1Sections,1,Author2Sections),\"=0\")","v":8},2848,"brows",0,0,0,0,0,0,0,0,0,0,0.1,0,0,0,0,0,0,0,0,0,0,0,0,0,0,0,0,0,0,"builds","lydian"]
[{"$f":"B1451+C1451","v":1.0476190476190477},{"$f":"D1451/Author1Sections","v":4.7619047619047616E-2},{"$f":"E1451/Author2Sections","v":1},{"$f":"COUNTIF(OFFSET(H1451,0,0,1,Author1Sections),\">0\")","v":1},{"$f":"COUNTIF(OFFSET(H1451,0,Author1Sections,1,Author2Sections),\"=0\")","v":8},2849,"brust",0,0,0,0,7.4183979999999997E-2,0,0,0,0,0,0,0,0,0,0,0,0,0,0,0,0,0,0,0,0,0,0,0,0,"bullet","mab"]
[{"$f":"B1452+C1452","v":1.0476190476190477},{"$f":"D1452/Author1Sections","v":4.7619047619047616E-2},{"$f":"E1452/Author2Sections","v":1},{"$f":"COUNTIF(OFFSET(H1452,0,0,1,Author1Sections),\">0\")","v":1},{"$f":"COUNTIF(OFFSET(H1452,0,Author1Sections,1,Author2Sections),\"=0\")","v":8},2850,"brute",0,0,0,0,0,0,0,0.1,0,0,0,0,0,0,0,0,0,0,0,0,0,0,0,0,0,0,0,0,0,"buls","maiden"]
[{"$f":"B1453+C1453","v":1.0476190476190477},{"$f":"D1453/Author1Sections","v":4.7619047619047616E-2},{"$f":"E1453/Author2Sections","v":1},{"$f":"COUNTIF(OFFSET(H1453,0,0,1,Author1Sections),\">0\")","v":1},{"$f":"COUNTIF(OFFSET(H1453,0,Author1Sections,1,Author2Sections),\"=0\")","v":8},2851,"bubble",0.1,0,0,0,0,0,0,0,0,0,0,0,0,0,0,0,0,0,0,0,0,0,0,0,0,0,0,0,0,"bulwarkes","maidens'"]
[{"$f":"B1454+C1454","v":1.0476190476190477},{"$f":"D1454/Author1Sections","v":4.7619047619047616E-2},{"$f":"E1454/Author2Sections","v":1},{"$f":"COUNTIF(OFFSET(H1454,0,0,1,Author1Sections),\">0\")","v":1},{"$f":"COUNTIF(OFFSET(H1454,0,Author1Sections,1,Author2Sections),\"=0\")","v":8},2852,"bubbling",0,0,0,0,0,0,0,0,0,0,0,0.1,0,0,0,0,0,0,0,0,0,0,0,0,0,0,0,0,0,"burden","maim"]
[{"$f":"B1455+C1455","v":1.0476190476190477},{"$f":"D1455/Author1Sections","v":4.7619047619047616E-2},{"$f":"E1455/Author2Sections","v":1},{"$f":"COUNTIF(OFFSET(H1455,0,0,1,Author1Sections),\">0\")","v":1},{"$f":"COUNTIF(OFFSET(H1455,0,Author1Sections,1,Author2Sections),\"=0\")","v":8},2853,"builde",0,0.1,0,0,0,0,0,0,0,0,0,0,0,0,0,0,0,0,0,0,0,0,0,0,0,0,0,0,0,"burnd","maintain"]
[{"$f":"B1456+C1456","v":1.0476190476190477},{"$f":"D1456/Author1Sections","v":4.7619047619047616E-2},{"$f":"E1456/Author2Sections","v":1},{"$f":"COUNTIF(OFFSET(H1456,0,0,1,Author1Sections),\">0\")","v":1},{"$f":"COUNTIF(OFFSET(H1456,0,Author1Sections,1,Author2Sections),\"=0\")","v":8},2855,"buildes",0,0,0,0.1,0,0,0,0,0,0,0,0,0,0,0,0,0,0,0,0,0,0,0,0,0,0,0,0,0,"burned","majestic"]
[{"$f":"B1457+C1457","v":1.0476190476190477},{"$f":"D1457/Author1Sections","v":4.7619047619047616E-2},{"$f":"E1457/Author2Sections","v":1},{"$f":"COUNTIF(OFFSET(H1457,0,0,1,Author1Sections),\">0\")","v":1},{"$f":"COUNTIF(OFFSET(H1457,0,Author1Sections,1,Author2Sections),\"=0\")","v":8},2856,"building",0,0,0,0,7.4183979999999997E-2,0,0,0,0,0,0,0,0,0,0,0,0,0,0,0,0,0,0,0,0,0,0,0,0,"burthen","majesty"]
[{"$f":"B1458+C1458","v":1.0476190476190477},{"$f":"D1458/Author1Sections","v":4.7619047619047616E-2},{"$f":"E1458/Author2Sections","v":1},{"$f":"COUNTIF(OFFSET(H1458,0,0,1,Author1Sections),\">0\")","v":1},{"$f":"COUNTIF(OFFSET(H1458,0,Author1Sections,1,Author2Sections),\"=0\")","v":8},2857,"buildings",0.1,0,0,0,0,0,0,0,0,0,0,0,0,0,0,0,0,0,0,0,0,0,0,0,0,0,0,0,0,"burthen'd","makeless"]
[{"$f":"B1459+C1459","v":1.0476190476190477},{"$f":"D1459/Author1Sections","v":4.7619047619047616E-2},{"$f":"E1459/Author2Sections","v":1},{"$f":"COUNTIF(OFFSET(H1459,0,0,1,Author1Sections),\">0\")","v":1},{"$f":"COUNTIF(OFFSET(H1459,0,Author1Sections,1,Author2Sections),\"=0\")","v":8},2858,"builds",0,0,0,0,0,0,0,0,0,0,0,0,0,0,0,0,0,0,0.1,0,0,0,0,0,0,0,0,0,0,"bushes","makest"]
[{"$f":"B1460+C1460","v":1.0476190476190477},{"$f":"D1460/Author1Sections","v":4.7619047619047616E-2},{"$f":"E1460/Author2Sections","v":1},{"$f":"COUNTIF(OFFSET(H1460,0,0,1,Author1Sections),\">0\")","v":1},{"$f":"COUNTIF(OFFSET(H1460,0,Author1Sections,1,Author2Sections),\"=0\")","v":8},2859,"bullet",0,0,0,0,0,0,0,0,0,0,0.1,0,0,0,0,0,0,0,0,0,0,0,0,0,0,0,0,0,0,"busied","man's"]
[{"$f":"B1461+C1461","v":1.0476190476190477},{"$f":"D1461/Author1Sections","v":4.7619047619047616E-2},{"$f":"E1461/Author2Sections","v":1},{"$f":"COUNTIF(OFFSET(H1461,0,0,1,Author1Sections),\">0\")","v":1},{"$f":"COUNTIF(OFFSET(H1461,0,Author1Sections,1,Author2Sections),\"=0\")","v":8},2860,"buls",0,0,0,0,0,0,0,0,0,0.1,0,0,0,0,0,0,0,0,0,0,0,0,0,0,0,0,0,0,0,"cabinet","manifold"]
[{"$f":"B1462+C1462","v":1.0476190476190477},{"$f":"D1462/Author1Sections","v":4.7619047619047616E-2},{"$f":"E1462/Author2Sections","v":1},{"$f":"COUNTIF(OFFSET(H1462,0,0,1,Author1Sections),\">0\")","v":1},{"$f":"COUNTIF(OFFSET(H1462,0,Author1Sections,1,Author2Sections),\"=0\")","v":8},2861,"bulwarkes",0.1,0,0,0,0,0,0,0,0,0,0,0,0,0,0,0,0,0,0,0,0,0,0,0,0,0,0,0,0,"caet","mankind"]
[{"$f":"B1463+C1463","v":1.0476190476190477},{"$f":"D1463/Author1Sections","v":4.7619047619047616E-2},{"$f":"E1463/Author2Sections","v":1},{"$f":"COUNTIF(OFFSET(H1463,0,0,1,Author1Sections),\">0\")","v":1},{"$f":"COUNTIF(OFFSET(H1463,0,Author1Sections,1,Author2Sections),\"=0\")","v":8},2863,"burden",0,0,0,0,0,0,0,0,0,0,0,0,0,0,0,0,0.1,0,0,0,0,0,0,0,0,0,0,0,0,"cage","mansion"]
[{"$f":"B1464+C1464","v":1.0476190476190477},{"$f":"D1464/Author1Sections","v":4.7619047619047616E-2},{"$f":"E1464/Author2Sections","v":1},{"$f":"COUNTIF(OFFSET(H1464,0,0,1,Author1Sections),\">0\")","v":1},{"$f":"COUNTIF(OFFSET(H1464,0,Author1Sections,1,Author2Sections),\"=0\")","v":8},2865,"burnd",0,0,0,0,0,0,0,0,0.1,0,0,0,0,0,0,0,0,0,0,0,0,0,0,0,0,0,0,0,0,"caitife","mansions"]
[{"$f":"B1465+C1465","v":1.0476190476190477},{"$f":"D1465/Author1Sections","v":4.7619047619047616E-2},{"$f":"E1465/Author2Sections","v":1},{"$f":"COUNTIF(OFFSET(H1465,0,0,1,Author1Sections),\">0\")","v":1},{"$f":"COUNTIF(OFFSET(H1465,0,Author1Sections,1,Author2Sections),\"=0\")","v":8},2866,"burned",0,0,0,0,0,0,0,0.1,0,0,0,0,0,0,0,0,0,0,0,0,0,0,0,0,0,0,0,0,0,"caitives","mastering"]
[{"$f":"B1466+C1466","v":1.0476190476190477},{"$f":"D1466/Author1Sections","v":4.7619047619047616E-2},{"$f":"E1466/Author2Sections","v":1},{"$f":"COUNTIF(OFFSET(H1466,0,0,1,Author1Sections),\">0\")","v":1},{"$f":"COUNTIF(OFFSET(H1466,0,Author1Sections,1,Author2Sections),\"=0\")","v":8},2868,"burthen",0,0,0,0,0,0,0,0,0,0,0,0,0,0,0.1,0,0,0,0,0,0,0,0,0,0,0,0,0,0,"calamities","matin"]
[{"$f":"B1467+C1467","v":1.0476190476190477},{"$f":"D1467/Author1Sections","v":4.7619047619047616E-2},{"$f":"E1467/Author2Sections","v":1},{"$f":"COUNTIF(OFFSET(H1467,0,0,1,Author1Sections),\">0\")","v":1},{"$f":"COUNTIF(OFFSET(H1467,0,Author1Sections,1,Author2Sections),\"=0\")","v":8},2869,"burthen'd",0,0,0,0,0,0,0,0,0,0,0,0,0.1,0,0,0,0,0,0,0,0,0,0,0,0,0,0,0,0,"calfe","maund"]
[{"$f":"B1468+C1468","v":1.0476190476190477},{"$f":"D1468/Author1Sections","v":4.7619047619047616E-2},{"$f":"E1468/Author2Sections","v":1},{"$f":"COUNTIF(OFFSET(H1468,0,0,1,Author1Sections),\">0\")","v":1},{"$f":"COUNTIF(OFFSET(H1468,0,Author1Sections,1,Author2Sections),\"=0\")","v":8},2870,"bushes",0,0,0,0,0,0,0,0.1,0,0,0,0,0,0,0,0,0,0,0,0,0,0,0,0,0,0,0,0,0,"cals","maying"]
[{"$f":"B1469+C1469","v":1.0476190476190477},{"$f":"D1469/Author1Sections","v":4.7619047619047616E-2},{"$f":"E1469/Author2Sections","v":1},{"$f":"COUNTIF(OFFSET(H1469,0,0,1,Author1Sections),\">0\")","v":1},{"$f":"COUNTIF(OFFSET(H1469,0,Author1Sections,1,Author2Sections),\"=0\")","v":8},2871,"busied",0,0,0,0,0,0,0,0.1,0,0,0,0,0,0,0,0,0,0,0,0,0,0,0,0,0,0,0,0,0,"campes","mayst"]
[{"$f":"B1470+C1470","v":1.0476190476190477},{"$f":"D1470/Author1Sections","v":4.7619047619047616E-2},{"$f":"E1470/Author2Sections","v":1},{"$f":"COUNTIF(OFFSET(H1470,0,0,1,Author1Sections),\">0\")","v":1},{"$f":"COUNTIF(OFFSET(H1470,0,Author1Sections,1,Author2Sections),\"=0\")","v":8},2874,"cabinet",0,0,0,0,0,0,0,0,0,0.1,0,0,0,0,0,0,0,0,0,0,0,0,0,0,0,0,0,0,0,"candle","mazes"]
[{"$f":"B1471+C1471","v":1.0476190476190477},{"$f":"D1471/Author1Sections","v":4.7619047619047616E-2},{"$f":"E1471/Author2Sections","v":1},{"$f":"COUNTIF(OFFSET(H1471,0,0,1,Author1Sections),\">0\")","v":1},{"$f":"COUNTIF(OFFSET(H1471,0,Author1Sections,1,Author2Sections),\"=0\")","v":8},2875,"caet",0,0,0,0,0,0,0.1,0,0,0,0,0,0,0,0,0,0,0,0,0,0,0,0,0,0,0,0,0,0,"cap","mead"]
[{"$f":"B1472+C1472","v":1.0476190476190477},{"$f":"D1472/Author1Sections","v":4.7619047619047616E-2},{"$f":"E1472/Author2Sections","v":1},{"$f":"COUNTIF(OFFSET(H1472,0,0,1,Author1Sections),\">0\")","v":1},{"$f":"COUNTIF(OFFSET(H1472,0,Author1Sections,1,Author2Sections),\"=0\")","v":8},2876,"cage",0,0,0,0,0,0,0,0,0,0,0,0.1,0,0,0,0,0,0,0,0,0,0,0,0,0,0,0,0,0,"captainesse","meadows"]
[{"$f":"B1473+C1473","v":1.0476190476190477},{"$f":"D1473/Author1Sections","v":4.7619047619047616E-2},{"$f":"E1473/Author2Sections","v":1},{"$f":"COUNTIF(OFFSET(H1473,0,0,1,Author1Sections),\">0\")","v":1},{"$f":"COUNTIF(OFFSET(H1473,0,Author1Sections,1,Author2Sections),\"=0\")","v":8},2878,"caitife",0,0,0,0,0,0,0,0,0,0,0,0,0,0,0,0,0,0,0,0.1,0,0,0,0,0,0,0,0,0,"captiu'd","meanwhile"]
[{"$f":"B1474+C1474","v":1.0476190476190477},{"$f":"D1474/Author1Sections","v":4.7619047619047616E-2},{"$f":"E1474/Author2Sections","v":1},{"$f":"COUNTIF(OFFSET(H1474,0,0,1,Author1Sections),\">0\")","v":1},{"$f":"COUNTIF(OFFSET(H1474,0,Author1Sections,1,Author2Sections),\"=0\")","v":8},2879,"caitives",0,0,0,0,0,0,0,0,0,0,0,0,0,0,0,0,0,0,0,0.1,0,0,0,0,0,0,0,0,0,"captiues","measures"]
[{"$f":"B1475+C1475","v":1.0476190476190477},{"$f":"D1475/Author1Sections","v":4.7619047619047616E-2},{"$f":"E1475/Author2Sections","v":1},{"$f":"COUNTIF(OFFSET(H1475,0,0,1,Author1Sections),\">0\")","v":1},{"$f":"COUNTIF(OFFSET(H1475,0,Author1Sections,1,Author2Sections),\"=0\")","v":8},2880,"calamities",0,0,0,0.1,0,0,0,0,0,0,0,0,0,0,0,0,0,0,0,0,0,0,0,0,0,0,0,0,0,"cared","meat"]
[{"$f":"B1476+C1476","v":1.0476190476190477},{"$f":"D1476/Author1Sections","v":4.7619047619047616E-2},{"$f":"E1476/Author2Sections","v":1},{"$f":"COUNTIF(OFFSET(H1476,0,0,1,Author1Sections),\">0\")","v":1},{"$f":"COUNTIF(OFFSET(H1476,0,Author1Sections,1,Author2Sections),\"=0\")","v":8},2881,"calfe",0,0,0,0,0,0,0,0.1,0,0,0,0,0,0,0,0,0,0,0,0,0,0,0,0,0,0,0,0,0,"careleslie","meditate"]
[{"$f":"B1477+C1477","v":1.0476190476190477},{"$f":"D1477/Author1Sections","v":4.7619047619047616E-2},{"$f":"E1477/Author2Sections","v":1},{"$f":"COUNTIF(OFFSET(H1477,0,0,1,Author1Sections),\">0\")","v":1},{"$f":"COUNTIF(OFFSET(H1477,0,Author1Sections,1,Author2Sections),\"=0\")","v":8},2883,"cals",0,0,0,0,0,0,0,0,0,0,0,0,0,0,0,0,0,0,0,0,7.0372980000000002E-2,0,0,0,0,0,0,0,0,"carelessenesse","meek"]
[{"$f":"B1478+C1478","v":1.0476190476190477},{"$f":"D1478/Author1Sections","v":4.7619047619047616E-2},{"$f":"E1478/Author2Sections","v":1},{"$f":"COUNTIF(OFFSET(H1478,0,0,1,Author1Sections),\">0\")","v":1},{"$f":"COUNTIF(OFFSET(H1478,0,Author1Sections,1,Author2Sections),\"=0\")","v":8},2886,"campes",0,0,0,0,0,0,0,0,0,0,0,0.1,0,0,0,0,0,0,0,0,0,0,0,0,0,0,0,0,0,"carieth","meeting"]
[{"$f":"B1479+C1479","v":1.0476190476190477},{"$f":"D1479/Author1Sections","v":4.7619047619047616E-2},{"$f":"E1479/Author2Sections","v":1},{"$f":"COUNTIF(OFFSET(H1479,0,0,1,Author1Sections),\">0\")","v":1},{"$f":"COUNTIF(OFFSET(H1479,0,Author1Sections,1,Author2Sections),\"=0\")","v":8},2890,"candle",0,0,0,0,0,0,0,0,0,0,0,0,0,0,0,0,0,0,0,0.1,0,0,0,0,0,0,0,0,0,"carrets","meets"]
[{"$f":"B1480+C1480","v":1.0476190476190477},{"$f":"D1480/Author1Sections","v":4.7619047619047616E-2},{"$f":"E1480/Author2Sections","v":1},{"$f":"COUNTIF(OFFSET(H1480,0,0,1,Author1Sections),\">0\")","v":1},{"$f":"COUNTIF(OFFSET(H1480,0,Author1Sections,1,Author2Sections),\"=0\")","v":8},2893,"cap",0,0,0,0,0,0,0,0.1,0,0,0,0,0,0,0,0,0,0,0,0,0,0,0,0,0,0,0,0,0,"carue","mellowing"]
[{"$f":"B1481+C1481","v":1.0476190476190477},{"$f":"D1481/Author1Sections","v":4.7619047619047616E-2},{"$f":"E1481/Author2Sections","v":1},{"$f":"COUNTIF(OFFSET(H1481,0,0,1,Author1Sections),\">0\")","v":1},{"$f":"COUNTIF(OFFSET(H1481,0,Author1Sections,1,Author2Sections),\"=0\")","v":8},2895,"captainesse",0,0,0,0,0,0,0,0,0,0,0,0,0,0,0,0,0,0,0.1,0,0,0,0,0,0,0,0,0,0,"castalie","melodious"]
[{"$f":"B1482+C1482","v":1.0476190476190477},{"$f":"D1482/Author1Sections","v":4.7619047619047616E-2},{"$f":"E1482/Author2Sections","v":1},{"$f":"COUNTIF(OFFSET(H1482,0,0,1,Author1Sections),\">0\")","v":1},{"$f":"COUNTIF(OFFSET(H1482,0,Author1Sections,1,Author2Sections),\"=0\")","v":8},2896,"captiu'd",0,0,0,0,0,0,0,0,0,0,0,0.1,0,0,0,0,0,0,0,0,0,0,0,0,0,0,0,0,0,"catch","melt"]
[{"$f":"B1483+C1483","v":1.0476190476190477},{"$f":"D1483/Author1Sections","v":4.7619047619047616E-2},{"$f":"E1483/Author2Sections","v":1},{"$f":"COUNTIF(OFFSET(H1483,0,0,1,Author1Sections),\">0\")","v":1},{"$f":"COUNTIF(OFFSET(H1483,0,Author1Sections,1,Author2Sections),\"=0\")","v":8},2897,"captiues",0,0,0,0,0,0,0,0,0,0,0,0,0,0,0,0.1,0,0,0,0,0,0,0,0,0,0,0,0,0,"catoes","memnon's"]
[{"$f":"B1484+C1484","v":1.0476190476190477},{"$f":"D1484/Author1Sections","v":4.7619047619047616E-2},{"$f":"E1484/Author2Sections","v":1},{"$f":"COUNTIF(OFFSET(H1484,0,0,1,Author1Sections),\">0\")","v":1},{"$f":"COUNTIF(OFFSET(H1484,0,Author1Sections,1,Author2Sections),\"=0\")","v":8},2899,"cared",0,0,0.1,0,0,0,0,0,0,0,0,0,0,0,0,0,0,0,0,0,0,0,0,0,0,0,0,0,0,"causefull","mermaid"]
[{"$f":"B1485+C1485","v":1.0476190476190477},{"$f":"D1485/Author1Sections","v":4.7619047619047616E-2},{"$f":"E1485/Author2Sections","v":1},{"$f":"COUNTIF(OFFSET(H1485,0,0,1,Author1Sections),\">0\")","v":1},{"$f":"COUNTIF(OFFSET(H1485,0,Author1Sections,1,Author2Sections),\"=0\")","v":8},2901,"careleslie",0.1,0,0,0,0,0,0,0,0,0,0,0,0,0,0,0,0,0,0,0,0,0,0,0,0,0,0,0,0,"caustiks","merry"]
[{"$f":"B1486+C1486","v":1.0476190476190477},{"$f":"D1486/Author1Sections","v":4.7619047619047616E-2},{"$f":"E1486/Author2Sections","v":1},{"$f":"COUNTIF(OFFSET(H1486,0,0,1,Author1Sections),\">0\")","v":1},{"$f":"COUNTIF(OFFSET(H1486,0,Author1Sections,1,Author2Sections),\"=0\")","v":8},2902,"carelessenesse",0,0,0,0,0,0,0,0,0,0,0,0,0,0,0,0,0,0,0,0.1,0,0,0,0,0,0,0,0,0,"celestiall","messes"]
[{"$f":"B1487+C1487","v":1.0476190476190477},{"$f":"D1487/Author1Sections","v":4.7619047619047616E-2},{"$f":"E1487/Author2Sections","v":1},{"$f":"COUNTIF(OFFSET(H1487,0,0,1,Author1Sections),\">0\")","v":1},{"$f":"COUNTIF(OFFSET(H1487,0,Author1Sections,1,Author2Sections),\"=0\")","v":8},2903,"carieth",0,0,0,0,0,0,0,0,0.1,0,0,0,0,0,0,0,0,0,0,0,0,0,0,0,0,0,0,0,0,"cerebrosities","metal"]
[{"$f":"B1488+C1488","v":1.0476190476190477},{"$f":"D1488/Author1Sections","v":4.7619047619047616E-2},{"$f":"E1488/Author2Sections","v":1},{"$f":"COUNTIF(OFFSET(H1488,0,0,1,Author1Sections),\">0\")","v":1},{"$f":"COUNTIF(OFFSET(H1488,0,Author1Sections,1,Author2Sections),\"=0\")","v":8},2904,"carrets",0,0,0,0,0,0,0,0,0,0,0.1,0,0,0,0,0,0,0,0,0,0,0,0,0,0,0,0,0,0,"certain","metals"]
[{"$f":"B1489+C1489","v":1.0476190476190477},{"$f":"D1489/Author1Sections","v":4.7619047619047616E-2},{"$f":"E1489/Author2Sections","v":1},{"$f":"COUNTIF(OFFSET(H1489,0,0,1,Author1Sections),\">0\")","v":1},{"$f":"COUNTIF(OFFSET(H1489,0,Author1Sections,1,Author2Sections),\"=0\")","v":8},2906,"carue",0,0,0,0,0,0,0,0,0,0.1,0,0,0,0,0,0,0,0,0,0,0,0,0,0,0,0,0,0,0,"chaine","mettle"]
[{"$f":"B1490+C1490","v":1.0476190476190477},{"$f":"D1490/Author1Sections","v":4.7619047619047616E-2},{"$f":"E1490/Author2Sections","v":1},{"$f":"COUNTIF(OFFSET(H1490,0,0,1,Author1Sections),\">0\")","v":1},{"$f":"COUNTIF(OFFSET(H1490,0,Author1Sections,1,Author2Sections),\"=0\")","v":8},2908,"castalie",0,0,0,0.1,0,0,0,0,0,0,0,0,0,0,0,0,0,0,0,0,0,0,0,0,0,0,0,0,0,"chalenged","middle"]
[{"$f":"B1491+C1491","v":1.0476190476190477},{"$f":"D1491/Author1Sections","v":4.7619047619047616E-2},{"$f":"E1491/Author2Sections","v":1},{"$f":"COUNTIF(OFFSET(H1491,0,0,1,Author1Sections),\">0\")","v":1},{"$f":"COUNTIF(OFFSET(H1491,0,Author1Sections,1,Author2Sections),\"=0\")","v":8},2910,"catch",0,0,0,0,0,0,0,0.1,0,0,0,0,0,0,0,0,0,0,0,0,0,0,0,0,0,0,0,0,0,"chang'd","milkmaid"]
[{"$f":"B1492+C1492","v":1.0476190476190477},{"$f":"D1492/Author1Sections","v":4.7619047619047616E-2},{"$f":"E1492/Author2Sections","v":1},{"$f":"COUNTIF(OFFSET(H1492,0,0,1,Author1Sections),\">0\")","v":1},{"$f":"COUNTIF(OFFSET(H1492,0,Author1Sections,1,Author2Sections),\"=0\")","v":8},2912,"catoes",0,0,0,0,0,0,0,0,0,0.1,0,0,0,0,0,0,0,0,0,0,0,0,0,0,0,0,0,0,0,"changelings","mincius"]
[{"$f":"B1493+C1493","v":1.0476190476190477},{"$f":"D1493/Author1Sections","v":4.7619047619047616E-2},{"$f":"E1493/Author2Sections","v":1},{"$f":"COUNTIF(OFFSET(H1493,0,0,1,Author1Sections),\">0\")","v":1},{"$f":"COUNTIF(OFFSET(H1493,0,Author1Sections,1,Author2Sections),\"=0\")","v":8},2914,"causefull",0,0,0,0,0,0,0,0,0,0,0,0,0,0,0,0,0,0,0,0.1,0,0,0,0,0,0,0,0,0,"channell","minister"]
[{"$f":"B1494+C1494","v":1.0476190476190477},{"$f":"D1494/Author1Sections","v":4.7619047619047616E-2},{"$f":"E1494/Author2Sections","v":1},{"$f":"COUNTIF(OFFSET(H1494,0,0,1,Author1Sections),\">0\")","v":1},{"$f":"COUNTIF(OFFSET(H1494,0,Author1Sections,1,Author2Sections),\"=0\")","v":8},2915,"caustiks",0,0,0,0,0,0,0,0,0,0,0,0.1,0,0,0,0,0,0,0,0,0,0,0,0,0,0,0,0,0,"charmeth","minute"]
[{"$f":"B1495+C1495","v":1.0476190476190477},{"$f":"D1495/Author1Sections","v":4.7619047619047616E-2},{"$f":"E1495/Author2Sections","v":1},{"$f":"COUNTIF(OFFSET(H1495,0,0,1,Author1Sections),\">0\")","v":1},{"$f":"COUNTIF(OFFSET(H1495,0,Author1Sections,1,Author2Sections),\"=0\")","v":8},2918,"celestiall",0,0,0.1,0,0,0,0,0,0,0,0,0,0,0,0,0,0,0,0,0,0,0,0,0,0,0,0,0,0,"chast","minutes"]
[{"$f":"B1496+C1496","v":1.0476190476190477},{"$f":"D1496/Author1Sections","v":4.7619047619047616E-2},{"$f":"E1496/Author2Sections","v":1},{"$f":"COUNTIF(OFFSET(H1496,0,0,1,Author1Sections),\">0\")","v":1},{"$f":"COUNTIF(OFFSET(H1496,0,Author1Sections,1,Author2Sections),\"=0\")","v":8},2920,"cerebrosities",0,0,0,0,0,0,0,0.1,0,0,0,0,0,0,0,0,0,0,0,0,0,0,0,0,0,0,0,0,0,"chasten","mirthful"]
[{"$f":"B1497+C1497","v":1.0476190476190477},{"$f":"D1497/Author1Sections","v":4.7619047619047616E-2},{"$f":"E1497/Author2Sections","v":1},{"$f":"COUNTIF(OFFSET(H1497,0,0,1,Author1Sections),\">0\")","v":1},{"$f":"COUNTIF(OFFSET(H1497,0,Author1Sections,1,Author2Sections),\"=0\")","v":8},2921,"certain",0,0,0,0,0,0.1,0,0,0,0,0,0,0,0,0,0,0,0,0,0,0,0,0,0,0,0,0,0,0,"chasteness","mistress"]
[{"$f":"B1498+C1498","v":1.0476190476190477},{"$f":"D1498/Author1Sections","v":4.7619047619047616E-2},{"$f":"E1498/Author2Sections","v":1},{"$f":"COUNTIF(OFFSET(H1498,0,0,1,Author1Sections),\">0\")","v":1},{"$f":"COUNTIF(OFFSET(H1498,0,Author1Sections,1,Author2Sections),\"=0\")","v":8},2923,"chaine",0,0,0,0,0,0,0,0,0,0,0,0,0,0,0,0.1,0,0,0,0,0,0,0,0,0,0,0,0,0,"chastned","mitred"]
[{"$f":"B1499+C1499","v":1.0476190476190477},{"$f":"D1499/Author1Sections","v":4.7619047619047616E-2},{"$f":"E1499/Author2Sections","v":1},{"$f":"COUNTIF(OFFSET(H1499,0,0,1,Author1Sections),\">0\")","v":1},{"$f":"COUNTIF(OFFSET(H1499,0,Author1Sections,1,Author2Sections),\"=0\")","v":8},2925,"chalenged",0,0,0,0,0,0,0.1,0,0,0,0,0,0,0,0,0,0,0,0,0,0,0,0,0,0,0,0,0,0,"chattering","moan"]
[{"$f":"B1500+C1500","v":1.0476190476190477},{"$f":"D1500/Author1Sections","v":4.7619047619047616E-2},{"$f":"E1500/Author2Sections","v":1},{"$f":"COUNTIF(OFFSET(H1500,0,0,1,Author1Sections),\">0\")","v":1},{"$f":"COUNTIF(OFFSET(H1500,0,Author1Sections,1,Author2Sections),\"=0\")","v":8},2926,"chang'd",0,0,0,0,0,0,0,0,0,0,0,0,0,0,0,0,0,0,0.1,0,0,0,0,0,0,0,0,0,0,"chaunced","moderately"]
[{"$f":"B1501+C1501","v":1.0476190476190477},{"$f":"D1501/Author1Sections","v":4.7619047619047616E-2},{"$f":"E1501/Author2Sections","v":1},{"$f":"COUNTIF(OFFSET(H1501,0,0,1,Author1Sections),\">0\")","v":1},{"$f":"COUNTIF(OFFSET(H1501,0,Author1Sections,1,Author2Sections),\"=0\")","v":8},2927,"changelings",0,0,0,0,0,0,0,0,0,0,0,0.1,0,0,0,0,0,0,0,0,0,0,0,0,0,0,0,0,0,"chaunst","moist"]
[{"$f":"B1502+C1502","v":1.0476190476190477},{"$f":"D1502/Author1Sections","v":4.7619047619047616E-2},{"$f":"E1502/Author2Sections","v":1},{"$f":"COUNTIF(OFFSET(H1502,0,0,1,Author1Sections),\">0\")","v":1},{"$f":"COUNTIF(OFFSET(H1502,0,Author1Sections,1,Author2Sections),\"=0\")","v":8},2929,"channell",0,0.1,0,0,0,0,0,0,0,0,0,0,0,0,0,0,0,0,0,0,0,0,0,0,0,0,0,0,0,"cheare","moment"]
[{"$f":"B1503+C1503","v":1.0476190476190477},{"$f":"D1503/Author1Sections","v":4.7619047619047616E-2},{"$f":"E1503/Author2Sections","v":1},{"$f":"COUNTIF(OFFSET(H1503,0,0,1,Author1Sections),\">0\")","v":1},{"$f":"COUNTIF(OFFSET(H1503,0,Author1Sections,1,Author2Sections),\"=0\")","v":8},2934,"charmeth",0,0,0,0,0,0,0,0,0,0,0,0,0.1,0,0,0,0,0,0,0,0,0,0,0,0,0,0,0,0,"checkes","mona"]
[{"$f":"B1504+C1504","v":1.0476190476190477},{"$f":"D1504/Author1Sections","v":4.7619047619047616E-2},{"$f":"E1504/Author2Sections","v":1},{"$f":"COUNTIF(OFFSET(H1504,0,0,1,Author1Sections),\">0\")","v":1},{"$f":"COUNTIF(OFFSET(H1504,0,Author1Sections,1,Author2Sections),\"=0\")","v":8},2935,"chast",0,0,0,0,0,0,0,0,0,0,0,0,0,0,0,0.1,0,0,0,0,0,0,0,0,0,0,0,0,0,"cheekes","monarch's"]
[{"$f":"B1505+C1505","v":1.0476190476190477},{"$f":"D1505/Author1Sections","v":4.7619047619047616E-2},{"$f":"E1505/Author2Sections","v":1},{"$f":"COUNTIF(OFFSET(H1505,0,0,1,Author1Sections),\">0\")","v":1},{"$f":"COUNTIF(OFFSET(H1505,0,Author1Sections,1,Author2Sections),\"=0\")","v":8},2936,"chasten",0,0,0,0,0,0,0,0,0,0,0,0,0,0,0,0,0,0,0.1,0,0,0,0,0,0,0,0,0,0,"cherefull","monarchy"]
[{"$f":"B1506+C1506","v":1.0476190476190477},{"$f":"D1506/Author1Sections","v":4.7619047619047616E-2},{"$f":"E1506/Author2Sections","v":1},{"$f":"COUNTIF(OFFSET(H1506,0,0,1,Author1Sections),\">0\")","v":1},{"$f":"COUNTIF(OFFSET(H1506,0,Author1Sections,1,Author2Sections),\"=0\")","v":8},2937,"chasteness",0,0,0,0,0,0,0,0,0,0,0,0,0,0,0.1,0,0,0,0,0,0,0,0,0,0,0,0,0,0,"cherishe","money"]
[{"$f":"B1507+C1507","v":1.0476190476190477},{"$f":"D1507/Author1Sections","v":4.7619047619047616E-2},{"$f":"E1507/Author2Sections","v":1},{"$f":"COUNTIF(OFFSET(H1507,0,0,1,Author1Sections),\">0\")","v":1},{"$f":"COUNTIF(OFFSET(H1507,0,Author1Sections,1,Author2Sections),\"=0\")","v":8},2938,"chastned",0,0,0,0,0,0,0,0,0,0,0,0,0,0,0,0.1,0,0,0,0,0,0,0,0,0,0,0,0,0,"cherrie","monstrous"]
[{"$f":"B1508+C1508","v":1.0476190476190477},{"$f":"D1508/Author1Sections","v":4.7619047619047616E-2},{"$f":"E1508/Author2Sections","v":1},{"$f":"COUNTIF(OFFSET(H1508,0,0,1,Author1Sections),\">0\")","v":1},{"$f":"COUNTIF(OFFSET(H1508,0,Author1Sections,1,Author2Sections),\"=0\")","v":8},2940,"chattering",0,0,0,0,0,0,0,0,0,0,0,0,0,0,0.1,0,0,0,0,0,0,0,0,0,0,0,0,0,0,"cherries","monumental"]
[{"$f":"B1509+C1509","v":1.0476190476190477},{"$f":"D1509/Author1Sections","v":4.7619047619047616E-2},{"$f":"E1509/Author2Sections","v":1},{"$f":"COUNTIF(OFFSET(H1509,0,0,1,Author1Sections),\">0\")","v":1},{"$f":"COUNTIF(OFFSET(H1509,0,Author1Sections,1,Author2Sections),\"=0\")","v":8},2941,"chaunced",0.1,0,0,0,0,0,0,0,0,0,0,0,0,0,0,0,0,0,0,0,0,0,0,0,0,0,0,0,0,"chiefst","moon"]
[{"$f":"B1510+C1510","v":1.0476190476190477},{"$f":"D1510/Author1Sections","v":4.7619047619047616E-2},{"$f":"E1510/Author2Sections","v":1},{"$f":"COUNTIF(OFFSET(H1510,0,0,1,Author1Sections),\">0\")","v":1},{"$f":"COUNTIF(OFFSET(H1510,0,Author1Sections,1,Author2Sections),\"=0\")","v":8},2942,"chaunst",0,0.1,0,0,0,0,0,0,0,0,0,0,0,0,0,0,0,0,0,0,0,0,0,0,0,0,0,0,0,"chilling","morpheus'"]
[{"$f":"B1511+C1511","v":1.0476190476190477},{"$f":"D1511/Author1Sections","v":4.7619047619047616E-2},{"$f":"E1511/Author2Sections","v":1},{"$f":"COUNTIF(OFFSET(H1511,0,0,1,Author1Sections),\">0\")","v":1},{"$f":"COUNTIF(OFFSET(H1511,0,Author1Sections,1,Author2Sections),\"=0\")","v":8},2944,"cheare",0,0,0,0,0,0,0,0,0,0,0,0,0,0,0,0,0,0,0,0,7.0372980000000002E-2,0,0,0,0,0,0,0,0,"choicest","mortals"]
[{"$f":"B1512+C1512","v":1.0476190476190477},{"$f":"D1512/Author1Sections","v":4.7619047619047616E-2},{"$f":"E1512/Author2Sections","v":1},{"$f":"COUNTIF(OFFSET(H1512,0,0,1,Author1Sections),\">0\")","v":1},{"$f":"COUNTIF(OFFSET(H1512,0,Author1Sections,1,Author2Sections),\"=0\")","v":8},2945,"checkes",0,0,0,0,0,0,0,0,0,0,0.1,0,0,0,0,0,0,0,0,0,0,0,0,0,0,0,0,0,0,"choyce","mossy"]
[{"$f":"B1513+C1513","v":1.0476190476190477},{"$f":"D1513/Author1Sections","v":4.7619047619047616E-2},{"$f":"E1513/Author2Sections","v":1},{"$f":"COUNTIF(OFFSET(H1513,0,0,1,Author1Sections),\">0\")","v":1},{"$f":"COUNTIF(OFFSET(H1513,0,Author1Sections,1,Author2Sections),\"=0\")","v":8},2947,"cheekes",0,0,0,0,0,0,0,0,0,0,0,0,0,0,0,0,0.1,0,0,0,0,0,0,0,0,0,0,0,0,"choycest","motes"]
[{"$f":"B1514+C1514","v":1.0476190476190477},{"$f":"D1514/Author1Sections","v":4.7619047619047616E-2},{"$f":"E1514/Author2Sections","v":1},{"$f":"COUNTIF(OFFSET(H1514,0,0,1,Author1Sections),\">0\")","v":1},{"$f":"COUNTIF(OFFSET(H1514,0,Author1Sections,1,Author2Sections),\"=0\")","v":8},2951,"cherefull",0,0,0,0,7.4183979999999997E-2,0,0,0,0,0,0,0,0,0,0,0,0,0,0,0,0,0,0,0,0,0,0,0,0,"christall","moth"]
[{"$f":"B1515+C1515","v":1.0476190476190477},{"$f":"D1515/Author1Sections","v":4.7619047619047616E-2},{"$f":"E1515/Author2Sections","v":1},{"$f":"COUNTIF(OFFSET(H1515,0,0,1,Author1Sections),\">0\")","v":1},{"$f":"COUNTIF(OFFSET(H1515,0,Author1Sections,1,Author2Sections),\"=0\")","v":8},2952,"cherishe",0,0,0.1,0,0,0,0,0,0,0,0,0,0,0,0,0,0,0,0,0,0,0,0,0,0,0,0,0,0,"christian","mother's"]
[{"$f":"B1516+C1516","v":1.0476190476190477},{"$f":"D1516/Author1Sections","v":4.7619047619047616E-2},{"$f":"E1516/Author2Sections","v":1},{"$f":"COUNTIF(OFFSET(H1516,0,0,1,Author1Sections),\">0\")","v":1},{"$f":"COUNTIF(OFFSET(H1516,0,Author1Sections,1,Author2Sections),\"=0\")","v":8},2953,"cherrie",0,0,0,0,0,0,0,0,0,0,0,0,0,0,0,0,0,0,0.1,0,0,0,0,0,0,0,0,0,0,"church","motives"]
[{"$f":"B1517+C1517","v":1.0476190476190477},{"$f":"D1517/Author1Sections","v":4.7619047619047616E-2},{"$f":"E1517/Author2Sections","v":1},{"$f":"COUNTIF(OFFSET(H1517,0,0,1,Author1Sections),\">0\")","v":1},{"$f":"COUNTIF(OFFSET(H1517,0,Author1Sections,1,Author2Sections),\"=0\")","v":8},2954,"cherries",0,0,0,0,0,0,0,0,0,0,0,0,0,0,0,0,0,0,0.1,0,0,0,0,0,0,0,0,0,0,"churches","mountains"]
[{"$f":"B1518+C1518","v":1.0476190476190477},{"$f":"D1518/Author1Sections","v":4.7619047619047616E-2},{"$f":"E1518/Author2Sections","v":1},{"$f":"COUNTIF(OFFSET(H1518,0,0,1,Author1Sections),\">0\")","v":1},{"$f":"COUNTIF(OFFSET(H1518,0,Author1Sections,1,Author2Sections),\"=0\")","v":8},2958,"chiefst",0,0,0,0,7.4183979999999997E-2,0,0,0,0,0,0,0,0,0,0,0,0,0,0,0,0,0,0,0,0,0,0,0,0,"churchmen","mourn"]
[{"$f":"B1519+C1519","v":1.0476190476190477},{"$f":"D1519/Author1Sections","v":4.7619047619047616E-2},{"$f":"E1519/Author2Sections","v":1},{"$f":"COUNTIF(OFFSET(H1519,0,0,1,Author1Sections),\">0\")","v":1},{"$f":"COUNTIF(OFFSET(H1519,0,Author1Sections,1,Author2Sections),\"=0\")","v":8},2961,"chilling",0,0,0,0,0,0,0,0,0,0,0,0,0,0,0,0,0,0.1,0,0,0,0,0,0,0,0,0,0,0,"cittadell","mouths"]
[{"$f":"B1520+C1520","v":1.0476190476190477},{"$f":"D1520/Author1Sections","v":4.7619047619047616E-2},{"$f":"E1520/Author2Sections","v":1},{"$f":"COUNTIF(OFFSET(H1520,0,0,1,Author1Sections),\">0\")","v":1},{"$f":"COUNTIF(OFFSET(H1520,0,Author1Sections,1,Author2Sections),\"=0\")","v":8},2965,"choicest",0,0,0,0,0,0,0,0,0,0.1,0,0,0,0,0,0,0,0,0,0,0,0,0,0,0,0,0,0,0,"ciuil","move"]
[{"$f":"B1521+C1521","v":1.0476190476190477},{"$f":"D1521/Author1Sections","v":4.7619047619047616E-2},{"$f":"E1521/Author2Sections","v":1},{"$f":"COUNTIF(OFFSET(H1521,0,0,1,Author1Sections),\">0\")","v":1},{"$f":"COUNTIF(OFFSET(H1521,0,Author1Sections,1,Author2Sections),\"=0\")","v":8},2967,"choyce",0,0,0,0,7.4183979999999997E-2,0,0,0,0,0,0,0,0,0,0,0,0,0,0,0,0,0,0,0,0,0,0,0,0,"claim","moved"]
[{"$f":"B1522+C1522","v":1.0476190476190477},{"$f":"D1522/Author1Sections","v":4.7619047619047616E-2},{"$f":"E1522/Author2Sections","v":1},{"$f":"COUNTIF(OFFSET(H1522,0,0,1,Author1Sections),\">0\")","v":1},{"$f":"COUNTIF(OFFSET(H1522,0,Author1Sections,1,Author2Sections),\"=0\")","v":8},2968,"choycest",0,0,0,0,0,0,0,0,0,0.1,0,0,0,0,0,0,0,0,0,0,0,0,0,0,0,0,0,0,0,"clarkeship","mower"]
[{"$f":"B1523+C1523","v":1.0476190476190477},{"$f":"D1523/Author1Sections","v":4.7619047619047616E-2},{"$f":"E1523/Author2Sections","v":1},{"$f":"COUNTIF(OFFSET(H1523,0,0,1,Author1Sections),\">0\")","v":1},{"$f":"COUNTIF(OFFSET(H1523,0,Author1Sections,1,Author2Sections),\"=0\")","v":8},2969,"christall",0,0.1,0,0,0,0,0,0,0,0,0,0,0,0,0,0,0,0,0,0,0,0,0,0,0,0,0,0,0,"clarks","mud"]
[{"$f":"B1524+C1524","v":1.0476190476190477},{"$f":"D1524/Author1Sections","v":4.7619047619047616E-2},{"$f":"E1524/Author2Sections","v":1},{"$f":"COUNTIF(OFFSET(H1524,0,0,1,Author1Sections),\">0\")","v":1},{"$f":"COUNTIF(OFFSET(H1524,0,Author1Sections,1,Author2Sections),\"=0\")","v":8},2970,"christian",0,0,0,0,0,0,0,0,0,0,0,0,0.1,0,0,0,0,0,0,0,0,0,0,0,0,0,0,0,0,"clay","murmuring"]
[{"$f":"B1525+C1525","v":1.0476190476190477},{"$f":"D1525/Author1Sections","v":4.7619047619047616E-2},{"$f":"E1525/Author2Sections","v":1},{"$f":"COUNTIF(OFFSET(H1525,0,0,1,Author1Sections),\">0\")","v":1},{"$f":"COUNTIF(OFFSET(H1525,0,Author1Sections,1,Author2Sections),\"=0\")","v":8},2971,"church",0,0,0,0,0,0,0,0,0,0.1,0,0,0,0,0,0,0,0,0,0,0,0,0,0,0,0,0,0,0,"cleare","musical"]
[{"$f":"B1526+C1526","v":1.0476190476190477},{"$f":"D1526/Author1Sections","v":4.7619047619047616E-2},{"$f":"E1526/Author2Sections","v":1},{"$f":"COUNTIF(OFFSET(H1526,0,0,1,Author1Sections),\">0\")","v":1},{"$f":"COUNTIF(OFFSET(H1526,0,Author1Sections,1,Author2Sections),\"=0\")","v":8},2972,"churches",0,0,0,0,0,0,0,0,0,0.1,0,0,0,0,0,0,0,0,0,0,0,0,0,0,0,0,0,0,0,"cleere","musing"]
[{"$f":"B1527+C1527","v":1.0476190476190477},{"$f":"D1527/Author1Sections","v":4.7619047619047616E-2},{"$f":"E1527/Author2Sections","v":1},{"$f":"COUNTIF(OFFSET(H1527,0,0,1,Author1Sections),\">0\")","v":1},{"$f":"COUNTIF(OFFSET(H1527,0,Author1Sections,1,Author2Sections),\"=0\")","v":8},2973,"churchmen",0,0,0,0,0,0,0,0,0,0.1,0,0,0,0,0,0,0,0,0,0,0,0,0,0,0,0,0,0,0,"cleerest","musk"]
[{"$f":"B1528+C1528","v":1.0476190476190477},{"$f":"D1528/Author1Sections","v":4.7619047619047616E-2},{"$f":"E1528/Author2Sections","v":1},{"$f":"COUNTIF(OFFSET(H1528,0,0,1,Author1Sections),\">0\")","v":1},{"$f":"COUNTIF(OFFSET(H1528,0,Author1Sections,1,Author2Sections),\"=0\")","v":8},2976,"cittadell",0,0,0,0,0,0,0,0,0,0,0.1,0,0,0,0,0,0,0,0,0,0,0,0,0,0,0,0,0,0,"clere","musæus"]
[{"$f":"B1529+C1529","v":1.0476190476190477},{"$f":"D1529/Author1Sections","v":4.7619047619047616E-2},{"$f":"E1529/Author2Sections","v":1},{"$f":"COUNTIF(OFFSET(H1529,0,0,1,Author1Sections),\">0\")","v":1},{"$f":"COUNTIF(OFFSET(H1529,0,Author1Sections,1,Author2Sections),\"=0\")","v":8},2977,"ciuil",0,0,0,0,0,0,0,0,0,0,0,0,0,0.1,0,0,0,0,0,0,0,0,0,0,0,0,0,0,0,"climbing","mutton"]
[{"$f":"B1530+C1530","v":1.0476190476190477},{"$f":"D1530/Author1Sections","v":4.7619047619047616E-2},{"$f":"E1530/Author2Sections","v":1},{"$f":"COUNTIF(OFFSET(H1530,0,0,1,Author1Sections),\">0\")","v":1},{"$f":"COUNTIF(OFFSET(H1530,0,Author1Sections,1,Author2Sections),\"=0\")","v":8},2978,"claim",0,0,0,0,0,0,0,0,0,0,0,0,0,0.1,0,0,0,0,0,0,0,0,0,0,0,0,0,0,0,"climbst","mutual"]
[{"$f":"B1531+C1531","v":1.0476190476190477},{"$f":"D1531/Author1Sections","v":4.7619047619047616E-2},{"$f":"E1531/Author2Sections","v":1},{"$f":"COUNTIF(OFFSET(H1531,0,0,1,Author1Sections),\">0\")","v":1},{"$f":"COUNTIF(OFFSET(H1531,0,Author1Sections,1,Author2Sections),\"=0\")","v":8},2981,"clarkeship",0,0,0,0,0,0.1,0,0,0,0,0,0,0,0,0,0,0,0,0,0,0,0,0,0,0,0,0,0,0,"clime","myrtles"]
[{"$f":"B1532+C1532","v":1.0476190476190477},{"$f":"D1532/Author1Sections","v":4.7619047619047616E-2},{"$f":"E1532/Author2Sections","v":1},{"$f":"COUNTIF(OFFSET(H1532,0,0,1,Author1Sections),\">0\")","v":1},{"$f":"COUNTIF(OFFSET(H1532,0,Author1Sections,1,Author2Sections),\"=0\")","v":8},2982,"clarks",0,0,0,0,0,0,0,0.1,0,0,0,0,0,0,0,0,0,0,0,0,0,0,0,0,0,0,0,0,0,"clings","mysterious"]
[{"$f":"B1533+C1533","v":1.0476190476190477},{"$f":"D1533/Author1Sections","v":4.7619047619047616E-2},{"$f":"E1533/Author2Sections","v":1},{"$f":"COUNTIF(OFFSET(H1533,0,0,1,Author1Sections),\">0\")","v":1},{"$f":"COUNTIF(OFFSET(H1533,0,Author1Sections,1,Author2Sections),\"=0\")","v":8},2983,"clay",0,0,0,0.1,0,0,0,0,0,0,0,0,0,0,0,0,0,0,0,0,0,0,0,0,0,0,0,0,0,"cloath","namancos"]
[{"$f":"B1534+C1534","v":1.0476190476190477},{"$f":"D1534/Author1Sections","v":4.7619047619047616E-2},{"$f":"E1534/Author2Sections","v":1},{"$f":"COUNTIF(OFFSET(H1534,0,0,1,Author1Sections),\">0\")","v":1},{"$f":"COUNTIF(OFFSET(H1534,0,Author1Sections,1,Author2Sections),\"=0\")","v":8},2984,"cleare",0,0,0,0,0,0,0,0,0,0,0,0,0,0,0,0.1,0,0,0,0,0,0,0,0,0,0,0,0,0,"clog","napkin"]
[{"$f":"B1535+C1535","v":1.0476190476190477},{"$f":"D1535/Author1Sections","v":4.7619047619047616E-2},{"$f":"E1535/Author2Sections","v":1},{"$f":"COUNTIF(OFFSET(H1535,0,0,1,Author1Sections),\">0\")","v":1},{"$f":"COUNTIF(OFFSET(H1535,0,Author1Sections,1,Author2Sections),\"=0\")","v":8},2985,"cleere",0,0,0,0,0,0,0,0,0,0,0,0,0,0,0,0,0,0,0.1,0,0,0,0,0,0,0,0,0,0,"closde","neglect"]
[{"$f":"B1536+C1536","v":1.0476190476190477},{"$f":"D1536/Author1Sections","v":4.7619047619047616E-2},{"$f":"E1536/Author2Sections","v":1},{"$f":"COUNTIF(OFFSET(H1536,0,0,1,Author1Sections),\">0\")","v":1},{"$f":"COUNTIF(OFFSET(H1536,0,Author1Sections,1,Author2Sections),\"=0\")","v":8},2986,"cleerest",0,0,0,0,0,0,0,0,0.1,0,0,0,0,0,0,0,0,0,0,0,0,0,0,0,0,0,0,0,0,"cloth","negligence"]
[{"$f":"B1537+C1537","v":1.0476190476190477},{"$f":"D1537/Author1Sections","v":4.7619047619047616E-2},{"$f":"E1537/Author2Sections","v":1},{"$f":"COUNTIF(OFFSET(H1537,0,0,1,Author1Sections),\">0\")","v":1},{"$f":"COUNTIF(OFFSET(H1537,0,Author1Sections,1,Author2Sections),\"=0\")","v":8},2988,"clere",0,0,0,0,0,0,0,0,0,0,0.1,0,0,0,0,0,0,0,0,0,0,0,0,0,0,0,0,0,0,"cloute","neighbouring"]
[{"$f":"B1538+C1538","v":1.0476190476190477},{"$f":"D1538/Author1Sections","v":4.7619047619047616E-2},{"$f":"E1538/Author2Sections","v":1},{"$f":"COUNTIF(OFFSET(H1538,0,0,1,Author1Sections),\">0\")","v":1},{"$f":"COUNTIF(OFFSET(H1538,0,Author1Sections,1,Author2Sections),\"=0\")","v":8},2992,"climbing",0,0,0,0,0,0,0,0,0,0,0,0.1,0,0,0,0,0,0,0,0,0,0,0,0,0,0,0,0,0,"clymes","neptune's"]
[{"$f":"B1539+C1539","v":1.0476190476190477},{"$f":"D1539/Author1Sections","v":4.7619047619047616E-2},{"$f":"E1539/Author2Sections","v":1},{"$f":"COUNTIF(OFFSET(H1539,0,0,1,Author1Sections),\">0\")","v":1},{"$f":"COUNTIF(OFFSET(H1539,0,Author1Sections,1,Author2Sections),\"=0\")","v":8},2993,"climbst",0,0,0,0,0,0,0,0,0,0,0,0,0.1,0,0,0,0,0,0,0,0,0,0,0,0,0,0,0,0,"coachman","newly"]
[{"$f":"B1540+C1540","v":1.0476190476190477},{"$f":"D1540/Author1Sections","v":4.7619047619047616E-2},{"$f":"E1540/Author2Sections","v":1},{"$f":"COUNTIF(OFFSET(H1540,0,0,1,Author1Sections),\">0\")","v":1},{"$f":"COUNTIF(OFFSET(H1540,0,Author1Sections,1,Author2Sections),\"=0\")","v":8},2994,"clime",0,0,0,0,0,0,0,0,0,0.1,0,0,0,0,0,0,0,0,0,0,0,0,0,0,0,0,0,0,0,"coale","neæra's"]
[{"$f":"B1541+C1541","v":1.0476190476190477},{"$f":"D1541/Author1Sections","v":4.7619047619047616E-2},{"$f":"E1541/Author2Sections","v":1},{"$f":"COUNTIF(OFFSET(H1541,0,0,1,Author1Sections),\">0\")","v":1},{"$f":"COUNTIF(OFFSET(H1541,0,Author1Sections,1,Author2Sections),\"=0\")","v":8},2995,"clings",0,0,0,0,0,0,0,0,0,0,0,0,0,0,0,0,0,0.1,0,0,0,0,0,0,0,0,0,0,0,"coasts","nibbling"]
[{"$f":"B1542+C1542","v":1.0476190476190477},{"$f":"D1542/Author1Sections","v":4.7619047619047616E-2},{"$f":"E1542/Author2Sections","v":1},{"$f":"COUNTIF(OFFSET(H1542,0,0,1,Author1Sections),\">0\")","v":1},{"$f":"COUNTIF(OFFSET(H1542,0,Author1Sections,1,Author2Sections),\"=0\")","v":8},2996,"cloath",0,0,0,0,0,0,0,0,0,0,0,0,0,0,0,0,0,0,0,0,7.0372980000000002E-2,0,0,0,0,0,0,0,0,"coffer","nice"]
[{"$f":"B1543+C1543","v":1.0476190476190477},{"$f":"D1543/Author1Sections","v":4.7619047619047616E-2},{"$f":"E1543/Author2Sections","v":1},{"$f":"COUNTIF(OFFSET(H1543,0,0,1,Author1Sections),\">0\")","v":1},{"$f":"COUNTIF(OFFSET(H1543,0,Author1Sections,1,Author2Sections),\"=0\")","v":8},2998,"clog",0,0,0,0,0,0,0,0,0,0,0,0,0,0,0,0.1,0,0,0,0,0,0,0,0,0,0,0,0,0,"coin'd","niggard"]
[{"$f":"B1544+C1544","v":1.0476190476190477},{"$f":"D1544/Author1Sections","v":4.7619047619047616E-2},{"$f":"E1544/Author2Sections","v":1},{"$f":"COUNTIF(OFFSET(H1544,0,0,1,Author1Sections),\">0\")","v":1},{"$f":"COUNTIF(OFFSET(H1544,0,Author1Sections,1,Author2Sections),\"=0\")","v":8},3001,"closde",0,0,0,0,0,0,0,0,0,0,0,0,0,0.1,0,0,0,0,0,0,0,0,0,0,0,0,0,0,0,"colosses","niggarding"]
[{"$f":"B1545+C1545","v":1.0476190476190477},{"$f":"D1545/Author1Sections","v":4.7619047619047616E-2},{"$f":"E1545/Author2Sections","v":1},{"$f":"COUNTIF(OFFSET(H1545,0,0,1,Author1Sections),\">0\")","v":1},{"$f":"COUNTIF(OFFSET(H1545,0,Author1Sections,1,Author2Sections),\"=0\")","v":8},3002,"cloth",0,0,0,0,7.4183979999999997E-2,0,0,0,0,0,0,0,0,0,0,0,0,0,0,0,0,0,0,0,0,0,0,0,0,"colours","nightly"]
[{"$f":"B1546+C1546","v":1.0476190476190477},{"$f":"D1546/Author1Sections","v":4.7619047619047616E-2},{"$f":"E1546/Author2Sections","v":1},{"$f":"COUNTIF(OFFSET(H1546,0,0,1,Author1Sections),\">0\")","v":1},{"$f":"COUNTIF(OFFSET(H1546,0,Author1Sections,1,Author2Sections),\"=0\")","v":8},3003,"cloute",0,0.1,0,0,0,0,0,0,0,0,0,0,0,0,0,0,0,0,0,0,0,0,0,0,0,0,0,0,0,"coltish","nods"]
[{"$f":"B1547+C1547","v":1.0476190476190477},{"$f":"D1547/Author1Sections","v":4.7619047619047616E-2},{"$f":"E1547/Author2Sections","v":1},{"$f":"COUNTIF(OFFSET(H1547,0,0,1,Author1Sections),\">0\")","v":1},{"$f":"COUNTIF(OFFSET(H1547,0,Author1Sections,1,Author2Sections),\"=0\")","v":8},3005,"clymes",0,0,0,0,0,0,0,0,0,0.1,0,0,0,0,0,0,0,0,0,0,0,0,0,0,0,0,0,0,0,"combred","nook"]
[{"$f":"B1548+C1548","v":1.0476190476190477},{"$f":"D1548/Author1Sections","v":4.7619047619047616E-2},{"$f":"E1548/Author2Sections","v":1},{"$f":"COUNTIF(OFFSET(H1548,0,0,1,Author1Sections),\">0\")","v":1},{"$f":"COUNTIF(OFFSET(H1548,0,Author1Sections,1,Author2Sections),\"=0\")","v":8},3006,"coachman",0,0,0,0,0,0,0,0,0,0,0,0,0,0,0,0,0,0,0,0,7.0372980000000002E-2,0,0,0,0,0,0,0,0,"comedie","nowhere"]
[{"$f":"B1549+C1549","v":1.0476190476190477},{"$f":"D1549/Author1Sections","v":4.7619047619047616E-2},{"$f":"E1549/Author2Sections","v":1},{"$f":"COUNTIF(OFFSET(H1549,0,0,1,Author1Sections),\">0\")","v":1},{"$f":"COUNTIF(OFFSET(H1549,0,Author1Sections,1,Author2Sections),\"=0\")","v":8},3007,"coale",0,0,0,0,0,0,0,0,0,0,0,0,0.1,0,0,0,0,0,0,0,0,0,0,0,0,0,0,0,0,"comforts","numberless"]
[{"$f":"B1550+C1550","v":1.0476190476190477},{"$f":"D1550/Author1Sections","v":4.7619047619047616E-2},{"$f":"E1550/Author2Sections","v":1},{"$f":"COUNTIF(OFFSET(H1550,0,0,1,Author1Sections),\">0\")","v":1},{"$f":"COUNTIF(OFFSET(H1550,0,Author1Sections,1,Author2Sections),\"=0\")","v":8},3008,"coasts",0,0,0,0,0,0,0,0,0,0,0,0.1,0,0,0,0,0,0,0,0,0,0,0,0,0,0,0,0,0,"compaire","numerous"]
[{"$f":"B1551+C1551","v":1.0476190476190477},{"$f":"D1551/Author1Sections","v":4.7619047619047616E-2},{"$f":"E1551/Author2Sections","v":1},{"$f":"COUNTIF(OFFSET(H1551,0,0,1,Author1Sections),\">0\")","v":1},{"$f":"COUNTIF(OFFSET(H1551,0,Author1Sections,1,Author2Sections),\"=0\")","v":8},3010,"coffer",0,0,0,0,7.4183979999999997E-2,0,0,0,0,0,0,0,0,0,0,0,0,0,0,0,0,0,0,0,0,0,0,0,0,"companion","nuptial"]
[{"$f":"B1552+C1552","v":1.0476190476190477},{"$f":"D1552/Author1Sections","v":4.7619047619047616E-2},{"$f":"E1552/Author2Sections","v":1},{"$f":"COUNTIF(OFFSET(H1552,0,0,1,Author1Sections),\">0\")","v":1},{"$f":"COUNTIF(OFFSET(H1552,0,Author1Sections,1,Author2Sections),\"=0\")","v":8},3011,"coin'd",0,0,0,0,0,0,0,0,0,0,0,0,0,0,0,0.1,0,0,0,0,0,0,0,0,0,0,0,0,0,"compar","nurs'd"]
[{"$f":"B1553+C1553","v":1.0476190476190477},{"$f":"D1553/Author1Sections","v":4.7619047619047616E-2},{"$f":"E1553/Author2Sections","v":1},{"$f":"COUNTIF(OFFSET(H1553,0,0,1,Author1Sections),\">0\")","v":1},{"$f":"COUNTIF(OFFSET(H1553,0,Author1Sections,1,Author2Sections),\"=0\")","v":8},3012,"colosses",0,0,0,0.1,0,0,0,0,0,0,0,0,0,0,0,0,0,0,0,0,0,0,0,0,0,0,0,0,0,"compassion","nut"]
[{"$f":"B1554+C1554","v":1.0476190476190477},{"$f":"D1554/Author1Sections","v":4.7619047619047616E-2},{"$f":"E1554/Author2Sections","v":1},{"$f":"COUNTIF(OFFSET(H1554,0,0,1,Author1Sections),\">0\")","v":1},{"$f":"COUNTIF(OFFSET(H1554,0,Author1Sections,1,Author2Sections),\"=0\")","v":8},3013,"colours",0,0,0,0,0,0,0,0,0,0,0,0,0,0,0.1,0,0,0,0,0,0,0,0,0,0,0,0,0,0,"compast","o'ergrown"]
[{"$f":"B1555+C1555","v":1.0476190476190477},{"$f":"D1555/Author1Sections","v":4.7619047619047616E-2},{"$f":"E1555/Author2Sections","v":1},{"$f":"COUNTIF(OFFSET(H1555,0,0,1,Author1Sections),\">0\")","v":1},{"$f":"COUNTIF(OFFSET(H1555,0,Author1Sections,1,Author2Sections),\"=0\")","v":8},3014,"coltish",0,0,0,0,0,0,0,0,0,0,0,0.1,0,0,0,0,0,0,0,0,0,0,0,0,0,0,0,0,0,"compeld","o'ersnow'd"]
[{"$f":"B1556+C1556","v":1.0476190476190477},{"$f":"D1556/Author1Sections","v":4.7619047619047616E-2},{"$f":"E1556/Author2Sections","v":1},{"$f":"COUNTIF(OFFSET(H1556,0,0,1,Author1Sections),\">0\")","v":1},{"$f":"COUNTIF(OFFSET(H1556,0,Author1Sections,1,Author2Sections),\"=0\")","v":8},3016,"combred",0,0,0,0,0,0.1,0,0,0,0,0,0,0,0,0,0,0,0,0,0,0,0,0,0,0,0,0,0,0,"complaine","oaks"]
[{"$f":"B1557+C1557","v":1.0476190476190477},{"$f":"D1557/Author1Sections","v":4.7619047619047616E-2},{"$f":"E1557/Author2Sections","v":1},{"$f":"COUNTIF(OFFSET(H1557,0,0,1,Author1Sections),\">0\")","v":1},{"$f":"COUNTIF(OFFSET(H1557,0,Author1Sections,1,Author2Sections),\"=0\")","v":8},3017,"comedie",0,0,0,0,0,0,0,0,0,0,0,0,0,0,0.1,0,0,0,0,0,0,0,0,0,0,0,0,0,0,"con","oat"]
[{"$f":"B1558+C1558","v":1.0476190476190477},{"$f":"D1558/Author1Sections","v":4.7619047619047616E-2},{"$f":"E1558/Author2Sections","v":1},{"$f":"COUNTIF(OFFSET(H1558,0,0,1,Author1Sections),\">0\")","v":1},{"$f":"COUNTIF(OFFSET(H1558,0,Author1Sections,1,Author2Sections),\"=0\")","v":8},3018,"comforts",0,0,0,0,0,0,0,0,0,0,0,0,0,0,0,0,0,0.1,0,0,0,0,0,0,0,0,0,0,0,"conceipts","oath"]
[{"$f":"B1559+C1559","v":1.0476190476190477},{"$f":"D1559/Author1Sections","v":4.7619047619047616E-2},{"$f":"E1559/Author2Sections","v":1},{"$f":"COUNTIF(OFFSET(H1559,0,0,1,Author1Sections),\">0\")","v":1},{"$f":"COUNTIF(OFFSET(H1559,0,Author1Sections,1,Author2Sections),\"=0\")","v":8},3028,"compaire",0,0,0,0.1,0,0,0,0,0,0,0,0,0,0,0,0,0,0,0,0,0,0,0,0,0,0,0,0,0,"conceiue","obey"]
[{"$f":"B1560+C1560","v":1.0476190476190477},{"$f":"D1560/Author1Sections","v":4.7619047619047616E-2},{"$f":"E1560/Author2Sections","v":1},{"$f":"COUNTIF(OFFSET(H1560,0,0,1,Author1Sections),\">0\")","v":1},{"$f":"COUNTIF(OFFSET(H1560,0,Author1Sections,1,Author2Sections),\"=0\")","v":8},3029,"companion",0,0,0,0,0,0,0,0,0,0,0,0,0,0,0,0,0,0.1,0,0,0,0,0,0,0,0,0,0,0,"conceptions","obeys"]
[{"$f":"B1561+C1561","v":1.0476190476190477},{"$f":"D1561/Author1Sections","v":4.7619047619047616E-2},{"$f":"E1561/Author2Sections","v":1},{"$f":"COUNTIF(OFFSET(H1561,0,0,1,Author1Sections),\">0\")","v":1},{"$f":"COUNTIF(OFFSET(H1561,0,Author1Sections,1,Author2Sections),\"=0\")","v":8},3030,"compar",0,0,0,0.1,0,0,0,0,0,0,0,0,0,0,0,0,0,0,0,0,0,0,0,0,0,0,0,0,0,"condemning","oblations"]
[{"$f":"B1562+C1562","v":1.0476190476190477},{"$f":"D1562/Author1Sections","v":4.7619047619047616E-2},{"$f":"E1562/Author2Sections","v":1},{"$f":"COUNTIF(OFFSET(H1562,0,0,1,Author1Sections),\">0\")","v":1},{"$f":"COUNTIF(OFFSET(H1562,0,Author1Sections,1,Author2Sections),\"=0\")","v":8},3031,"compassion",0,0.1,0,0,0,0,0,0,0,0,0,0,0,0,0,0,0,0,0,0,0,0,0,0,0,0,0,0,0,"conditionly","observed"]
[{"$f":"B1563+C1563","v":1.0476190476190477},{"$f":"D1563/Author1Sections","v":4.7619047619047616E-2},{"$f":"E1563/Author2Sections","v":1},{"$f":"COUNTIF(OFFSET(H1563,0,0,1,Author1Sections),\">0\")","v":1},{"$f":"COUNTIF(OFFSET(H1563,0,Author1Sections,1,Author2Sections),\"=0\")","v":8},3032,"compast",0,0,0,0,7.4183979999999997E-2,0,0,0,0,0,0,0,0,0,0,0,0,0,0,0,0,0,0,0,0,0,0,0,0,"conference","offences"]
[{"$f":"B1564+C1564","v":1.0476190476190477},{"$f":"D1564/Author1Sections","v":4.7619047619047616E-2},{"$f":"E1564/Author2Sections","v":1},{"$f":"COUNTIF(OFFSET(H1564,0,0,1,Author1Sections),\">0\")","v":1},{"$f":"COUNTIF(OFFSET(H1564,0,Author1Sections,1,Author2Sections),\"=0\")","v":8},3033,"compeld",0,0,0,0,0,0,0,0,0,0,0,0,0,0,0,0,0,0,0.1,0,0,0,0,0,0,0,0,0,0,"confers","olive"]
[{"$f":"B1565+C1565","v":1.0476190476190477},{"$f":"D1565/Author1Sections","v":4.7619047619047616E-2},{"$f":"E1565/Author2Sections","v":1},{"$f":"COUNTIF(OFFSET(H1565,0,0,1,Author1Sections),\">0\")","v":1},{"$f":"COUNTIF(OFFSET(H1565,0,Author1Sections,1,Author2Sections),\"=0\")","v":8},3035,"complaine",0,0,0,0,0,0,0,0,0,0,0,0,0,0,0,0,0,0,0,0.1,0,0,0,0,0,0,0,0,0,"confest","oozy"]
[{"$f":"B1566+C1566","v":1.0476190476190477},{"$f":"D1566/Author1Sections","v":4.7619047619047616E-2},{"$f":"E1566/Author2Sections","v":1},{"$f":"COUNTIF(OFFSET(H1566,0,0,1,Author1Sections),\">0\")","v":1},{"$f":"COUNTIF(OFFSET(H1566,0,Author1Sections,1,Author2Sections),\"=0\")","v":8},3037,"con",0,0,0,0,0,0,0,0.1,0,0,0,0,0,0,0,0,0,0,0,0,0,0,0,0,0,0,0,0,0,"confirme","opal"]
[{"$f":"B1567+C1567","v":1.0476190476190477},{"$f":"D1567/Author1Sections","v":4.7619047619047616E-2},{"$f":"E1567/Author2Sections","v":1},{"$f":"COUNTIF(OFFSET(H1567,0,0,1,Author1Sections),\">0\")","v":1},{"$f":"COUNTIF(OFFSET(H1567,0,Author1Sections,1,Author2Sections),\"=0\")","v":8},3040,"conceipts",0,0,0,0,0,0,0.1,0,0,0,0,0,0,0,0,0,0,0,0,0,0,0,0,0,0,0,0,0,0,"confus'd","opes"]
[{"$f":"B1568+C1568","v":1.0476190476190477},{"$f":"D1568/Author1Sections","v":4.7619047619047616E-2},{"$f":"E1568/Author2Sections","v":1},{"$f":"COUNTIF(OFFSET(H1568,0,0,1,Author1Sections),\">0\")","v":1},{"$f":"COUNTIF(OFFSET(H1568,0,Author1Sections,1,Author2Sections),\"=0\")","v":8},3043,"conceiue",0,0,0,0,0,0,0,0.1,0,0,0,0,0,0,0,0,0,0,0,0,0,0,0,0,0,0,0,0,0,"confuse","orb"]
[{"$f":"B1569+C1569","v":1.0476190476190477},{"$f":"D1569/Author1Sections","v":4.7619047619047616E-2},{"$f":"E1569/Author2Sections","v":1},{"$f":"COUNTIF(OFFSET(H1569,0,0,1,Author1Sections),\">0\")","v":1},{"$f":"COUNTIF(OFFSET(H1569,0,Author1Sections,1,Author2Sections),\"=0\")","v":8},3044,"conceptions",0,0,0,0,0,0,0,0.1,0,0,0,0,0,0,0,0,0,0,0,0,0,0,0,0,0,0,0,0,0,"coniugatis","orbed"]
[{"$f":"B1570+C1570","v":1.0476190476190477},{"$f":"D1570/Author1Sections","v":4.7619047619047616E-2},{"$f":"E1570/Author2Sections","v":1},{"$f":"COUNTIF(OFFSET(H1570,0,0,1,Author1Sections),\">0\")","v":1},{"$f":"COUNTIF(OFFSET(H1570,0,Author1Sections,1,Author2Sections),\"=0\")","v":8},3046,"condemning",0,0,0,0,0,0,0,0,0,0,0,0,0,0,0,0,0,0,0.1,0,0,0,0,0,0,0,0,0,0,"conquerd","orchards"]
[{"$f":"B1571+C1571","v":1.0476190476190477},{"$f":"D1571/Author1Sections","v":4.7619047619047616E-2},{"$f":"E1571/Author2Sections","v":1},{"$f":"COUNTIF(OFFSET(H1571,0,0,1,Author1Sections),\">0\")","v":1},{"$f":"COUNTIF(OFFSET(H1571,0,Author1Sections,1,Author2Sections),\"=0\")","v":8},3047,"conditionly",0,0,0,0,0,0,0,0,0,0,0,0,0,0,0,0,0.1,0,0,0,0,0,0,0,0,0,0,0,0,"conquere","ordering"]
[{"$f":"B1572+C1572","v":1.0476190476190477},{"$f":"D1572/Author1Sections","v":4.7619047619047616E-2},{"$f":"E1572/Author2Sections","v":1},{"$f":"COUNTIF(OFFSET(H1572,0,0,1,Author1Sections),\">0\")","v":1},{"$f":"COUNTIF(OFFSET(H1572,0,Author1Sections,1,Author2Sections),\"=0\")","v":8},3048,"conference",0,0,0,0,0,0,0,0.1,0,0,0,0,0,0,0,0,0,0,0,0,0,0,0,0,0,0,0,0,0,"conquered","ore"]
[{"$f":"B1573+C1573","v":1.0476190476190477},{"$f":"D1573/Author1Sections","v":4.7619047619047616E-2},{"$f":"E1573/Author2Sections","v":1},{"$f":"COUNTIF(OFFSET(H1573,0,0,1,Author1Sections),\">0\")","v":1},{"$f":"COUNTIF(OFFSET(H1573,0,Author1Sections,1,Author2Sections),\"=0\")","v":8},3049,"confers",0,0,0,0,0,0,0,0,0,0,0,0,0,0,0.1,0,0,0,0,0,0,0,0,0,0,0,0,0,0,"conqueresse","organ"]
[{"$f":"B1574+C1574","v":1.0476190476190477},{"$f":"D1574/Author1Sections","v":4.7619047619047616E-2},{"$f":"E1574/Author2Sections","v":1},{"$f":"COUNTIF(OFFSET(H1574,0,0,1,Author1Sections),\">0\")","v":1},{"$f":"COUNTIF(OFFSET(H1574,0,Author1Sections,1,Author2Sections),\"=0\")","v":8},3050,"confest",0,0,0,0,0,0,0,0,0,0.1,0,0,0,0,0,0,0,0,0,0,0,0,0,0,0,0,0,0,0,"conquerings","origin"]
[{"$f":"B1575+C1575","v":1.0476190476190477},{"$f":"D1575/Author1Sections","v":4.7619047619047616E-2},{"$f":"E1575/Author2Sections","v":1},{"$f":"COUNTIF(OFFSET(H1575,0,0,1,Author1Sections),\">0\")","v":1},{"$f":"COUNTIF(OFFSET(H1575,0,Author1Sections,1,Author2Sections),\"=0\")","v":8},3052,"confirme",0,0,0,0,0,0,0,0,0,0,0,0,0,0,0,0,0.1,0,0,0,0,0,0,0,0,0,0,0,0,"conquerour","orpheus'"]
[{"$f":"B1576+C1576","v":1.0476190476190477},{"$f":"D1576/Author1Sections","v":4.7619047619047616E-2},{"$f":"E1576/Author2Sections","v":1},{"$f":"COUNTIF(OFFSET(H1576,0,0,1,Author1Sections),\">0\")","v":1},{"$f":"COUNTIF(OFFSET(H1576,0,Author1Sections,1,Author2Sections),\"=0\")","v":8},3053,"confus'd",0,0,0,0,0,0,0,0,0,0,0,0,0,0,0,0,0,0,0,0.1,0,0,0,0,0,0,0,0,0,"conquerours","outwardly"]
[{"$f":"B1577+C1577","v":1.0476190476190477},{"$f":"D1577/Author1Sections","v":4.7619047619047616E-2},{"$f":"E1577/Author2Sections","v":1},{"$f":"COUNTIF(OFFSET(H1577,0,0,1,Author1Sections),\">0\")","v":1},{"$f":"COUNTIF(OFFSET(H1577,0,Author1Sections,1,Author2Sections),\"=0\")","v":8},3054,"confuse",0,0,0,0,0,0,0,0,0,0,0,0,0.1,0,0,0,0,0,0,0,0,0,0,0,0,0,0,0,0,"conseru'd","outwards"]
[{"$f":"B1578+C1578","v":1.0476190476190477},{"$f":"D1578/Author1Sections","v":4.7619047619047616E-2},{"$f":"E1578/Author2Sections","v":1},{"$f":"COUNTIF(OFFSET(H1578,0,0,1,Author1Sections),\">0\")","v":1},{"$f":"COUNTIF(OFFSET(H1578,0,Author1Sections,1,Author2Sections),\"=0\")","v":8},3056,"coniugatis",0,0,0,0,0,0,0,0.1,0,0,0,0,0,0,0,0,0,0,0,0,0,0,0,0,0,0,0,0,0,"considering","overcome"]
[{"$f":"B1579+C1579","v":1.0476190476190477},{"$f":"D1579/Author1Sections","v":4.7619047619047616E-2},{"$f":"E1579/Author2Sections","v":1},{"$f":"COUNTIF(OFFSET(H1579,0,0,1,Author1Sections),\">0\")","v":1},{"$f":"COUNTIF(OFFSET(H1579,0,Author1Sections,1,Author2Sections),\"=0\")","v":8},3057,"conquerd",0,0,0,0,0,0,0,0,0,0,0,0,0.1,0,0,0,0,0,0,0,0,0,0,0,0,0,0,0,0,"consterd","overthrow"]
[{"$f":"B1580+C1580","v":1.0476190476190477},{"$f":"D1580/Author1Sections","v":4.7619047619047616E-2},{"$f":"E1580/Author2Sections","v":1},{"$f":"COUNTIF(OFFSET(H1580,0,0,1,Author1Sections),\">0\")","v":1},{"$f":"COUNTIF(OFFSET(H1580,0,Author1Sections,1,Author2Sections),\"=0\")","v":8},3058,"conquere",0,0,0,0,0,0,0,0.1,0,0,0,0,0,0,0,0,0,0,0,0,0,0,0,0,0,0,0,0,0,"constituted","owed"]
[{"$f":"B1581+C1581","v":1.0476190476190477},{"$f":"D1581/Author1Sections","v":4.7619047619047616E-2},{"$f":"E1581/Author2Sections","v":1},{"$f":"COUNTIF(OFFSET(H1581,0,0,1,Author1Sections),\">0\")","v":1},{"$f":"COUNTIF(OFFSET(H1581,0,Author1Sections,1,Author2Sections),\"=0\")","v":8},3059,"conquered",0.1,0,0,0,0,0,0,0,0,0,0,0,0,0,0,0,0,0,0,0,0,0,0,0,0,0,0,0,0,"constrain'd","own'd"]
[{"$f":"B1582+C1582","v":1.0476190476190477},{"$f":"D1582/Author1Sections","v":4.7619047619047616E-2},{"$f":"E1582/Author2Sections","v":1},{"$f":"COUNTIF(OFFSET(H1582,0,0,1,Author1Sections),\">0\")","v":1},{"$f":"COUNTIF(OFFSET(H1582,0,Author1Sections,1,Author2Sections),\"=0\")","v":8},3060,"conqueresse",0.1,0,0,0,0,0,0,0,0,0,0,0,0,0,0,0,0,0,0,0,0,0,0,0,0,0,0,0,0,"consum","pageantry"]
[{"$f":"B1583+C1583","v":1.0476190476190477},{"$f":"D1583/Author1Sections","v":4.7619047619047616E-2},{"$f":"E1583/Author2Sections","v":1},{"$f":"COUNTIF(OFFSET(H1583,0,0,1,Author1Sections),\">0\")","v":1},{"$f":"COUNTIF(OFFSET(H1583,0,Author1Sections,1,Author2Sections),\"=0\")","v":8},3061,"conquerings",0,0,0,0,0,0,0,0,0,0,0,0,0.1,0,0,0,0,0,0,0,0,0,0,0,0,0,0,0,0,"contaminating","paled"]
[{"$f":"B1584+C1584","v":1.0476190476190477},{"$f":"D1584/Author1Sections","v":4.7619047619047616E-2},{"$f":"E1584/Author2Sections","v":1},{"$f":"COUNTIF(OFFSET(H1584,0,0,1,Author1Sections),\">0\")","v":1},{"$f":"COUNTIF(OFFSET(H1584,0,Author1Sections,1,Author2Sections),\"=0\")","v":8},3062,"conquerour",0,0,0,0.1,0,0,0,0,0,0,0,0,0,0,0,0,0,0,0,0,0,0,0,0,0,0,0,0,0,"contentation","paleness"]
[{"$f":"B1585+C1585","v":1.0476190476190477},{"$f":"D1585/Author1Sections","v":4.7619047619047616E-2},{"$f":"E1585/Author2Sections","v":1},{"$f":"COUNTIF(OFFSET(H1585,0,0,1,Author1Sections),\">0\")","v":1},{"$f":"COUNTIF(OFFSET(H1585,0,Author1Sections,1,Author2Sections),\"=0\")","v":8},3063,"conquerours",0,0,0,0,0,0,0,0,0,0,0,0,0,0.1,0,0,0,0,0,0,0,0,0,0,0,0,0,0,0,"contention","pall"]
[{"$f":"B1586+C1586","v":1.0476190476190477},{"$f":"D1586/Author1Sections","v":4.7619047619047616E-2},{"$f":"E1586/Author2Sections","v":1},{"$f":"COUNTIF(OFFSET(H1586,0,0,1,Author1Sections),\">0\")","v":1},{"$f":"COUNTIF(OFFSET(H1586,0,Author1Sections,1,Author2Sections),\"=0\")","v":8},3067,"conseru'd",0,0,0,0,0,0,0,0,0,0,0,0,0,0,0,0,0,0,0,0,7.0372980000000002E-2,0,0,0,0,0,0,0,0,"contingentibus","pallas"]
[{"$f":"B1587+C1587","v":1.0476190476190477},{"$f":"D1587/Author1Sections","v":4.7619047619047616E-2},{"$f":"E1587/Author2Sections","v":1},{"$f":"COUNTIF(OFFSET(H1587,0,0,1,Author1Sections),\">0\")","v":1},{"$f":"COUNTIF(OFFSET(H1587,0,Author1Sections,1,Author2Sections),\"=0\")","v":8},3068,"considering",0,0,0,0,0,0,0,0.1,0,0,0,0,0,0,0,0,0,0,0,0,0,0,0,0,0,0,0,0,0,"contingentis","pangs"]
[{"$f":"B1588+C1588","v":1.0476190476190477},{"$f":"D1588/Author1Sections","v":4.7619047619047616E-2},{"$f":"E1588/Author2Sections","v":1},{"$f":"COUNTIF(OFFSET(H1588,0,0,1,Author1Sections),\">0\")","v":1},{"$f":"COUNTIF(OFFSET(H1588,0,Author1Sections,1,Author2Sections),\"=0\")","v":8},3070,"consterd",0,0,0,0,0,0,0,0,0,0,0,0,0,0,0,0,0,0.1,0,0,0,0,0,0,0,0,0,0,0,"contrary","panope"]
[{"$f":"B1589+C1589","v":1.0476190476190477},{"$f":"D1589/Author1Sections","v":4.7619047619047616E-2},{"$f":"E1589/Author2Sections","v":1},{"$f":"COUNTIF(OFFSET(H1589,0,0,1,Author1Sections),\">0\")","v":1},{"$f":"COUNTIF(OFFSET(H1589,0,Author1Sections,1,Author2Sections),\"=0\")","v":8},3071,"constituted",0,0,0,0,0,0.1,0,0,0,0,0,0,0,0,0,0,0,0,0,0,0,0,0,0,0,0,0,0,0,"controuersie","pansy"]
[{"$f":"B1590+C1590","v":1.0476190476190477},{"$f":"D1590/Author1Sections","v":4.7619047619047616E-2},{"$f":"E1590/Author2Sections","v":1},{"$f":"COUNTIF(OFFSET(H1590,0,0,1,Author1Sections),\">0\")","v":1},{"$f":"COUNTIF(OFFSET(H1590,0,Author1Sections,1,Author2Sections),\"=0\")","v":8},3072,"constrain'd",0,0,0,0,0,0,0,0,0,0,0,0,0,0,0,0,0,0,0,0,7.0372980000000002E-2,0,0,0,0,0,0,0,0,"conversest","papers"]
[{"$f":"B1591+C1591","v":1.0476190476190477},{"$f":"D1591/Author1Sections","v":4.7619047619047616E-2},{"$f":"E1591/Author2Sections","v":1},{"$f":"COUNTIF(OFFSET(H1591,0,0,1,Author1Sections),\">0\")","v":1},{"$f":"COUNTIF(OFFSET(H1591,0,Author1Sections,1,Author2Sections),\"=0\")","v":8},3073,"consum",0,0,0.1,0,0,0,0,0,0,0,0,0,0,0,0,0,0,0,0,0,0,0,0,0,0,0,0,0,0,"coole","parching"]
[{"$f":"B1592+C1592","v":1.0476190476190477},{"$f":"D1592/Author1Sections","v":4.7619047619047616E-2},{"$f":"E1592/Author2Sections","v":1},{"$f":"COUNTIF(OFFSET(H1592,0,0,1,Author1Sections),\">0\")","v":1},{"$f":"COUNTIF(OFFSET(H1592,0,Author1Sections,1,Author2Sections),\"=0\")","v":8},3077,"contaminating",0,0,0,0,0,0.1,0,0,0,0,0,0,0,0,0,0,0,0,0,0,0,0,0,0,0,0,0,0,0,"copartner","parnassus'"]
[{"$f":"B1593+C1593","v":1.0476190476190477},{"$f":"D1593/Author1Sections","v":4.7619047619047616E-2},{"$f":"E1593/Author2Sections","v":1},{"$f":"COUNTIF(OFFSET(H1593,0,0,1,Author1Sections),\">0\")","v":1},{"$f":"COUNTIF(OFFSET(H1593,0,Author1Sections,1,Author2Sections),\"=0\")","v":8},3079,"contentation",0,0,0,0,0,0,0,0.1,0,0,0,0,0,0,0,0,0,0,0,0,0,0,0,0,0,0,0,0,0,"copying","parrot"]
[{"$f":"B1594+C1594","v":1.0476190476190477},{"$f":"D1594/Author1Sections","v":4.7619047619047616E-2},{"$f":"E1594/Author2Sections","v":1},{"$f":"COUNTIF(OFFSET(H1594,0,0,1,Author1Sections),\">0\")","v":1},{"$f":"COUNTIF(OFFSET(H1594,0,Author1Sections,1,Author2Sections),\"=0\")","v":8},3080,"contention",0,0,0,0,0,0,0.1,0,0,0,0,0,0,0,0,0,0,0,0,0,0,0,0,0,0,0,0,0,0,"corpusculum","parting"]
[{"$f":"B1595+C1595","v":1.0476190476190477},{"$f":"D1595/Author1Sections","v":4.7619047619047616E-2},{"$f":"E1595/Author2Sections","v":1},{"$f":"COUNTIF(OFFSET(H1595,0,0,1,Author1Sections),\">0\")","v":1},{"$f":"COUNTIF(OFFSET(H1595,0,Author1Sections,1,Author2Sections),\"=0\")","v":8},3081,"contingentibus",0,0,0,0,0,0,0,0.1,0,0,0,0,0,0,0,0,0,0,0,0,0,0,0,0,0,0,0,0,0,"correction","partridge"]
[{"$f":"B1596+C1596","v":1.0476190476190477},{"$f":"D1596/Author1Sections","v":4.7619047619047616E-2},{"$f":"E1596/Author2Sections","v":1},{"$f":"COUNTIF(OFFSET(H1596,0,0,1,Author1Sections),\">0\")","v":1},{"$f":"COUNTIF(OFFSET(H1596,0,Author1Sections,1,Author2Sections),\"=0\")","v":8},3082,"contingentis",0,0,0,0,0,0,0,0.1,0,0,0,0,0,0,0,0,0,0,0,0,0,0,0,0,0,0,0,0,0,"costly","party"]
[{"$f":"B1597+C1597","v":1.0476190476190477},{"$f":"D1597/Author1Sections","v":4.7619047619047616E-2},{"$f":"E1597/Author2Sections","v":1},{"$f":"COUNTIF(OFFSET(H1597,0,0,1,Author1Sections),\">0\")","v":1},{"$f":"COUNTIF(OFFSET(H1597,0,Author1Sections,1,Author2Sections),\"=0\")","v":8},3084,"contrary",0,0,0,0,0,0,0,0,0,0.1,0,0,0,0,0,0,0,0,0,0,0,0,0,0,0,0,0,0,0,"couche","passes"]
[{"$f":"B1598+C1598","v":1.0476190476190477},{"$f":"D1598/Author1Sections","v":4.7619047619047616E-2},{"$f":"E1598/Author2Sections","v":1},{"$f":"COUNTIF(OFFSET(H1598,0,0,1,Author1Sections),\">0\")","v":1},{"$f":"COUNTIF(OFFSET(H1598,0,Author1Sections,1,Author2Sections),\"=0\")","v":8},3086,"controuersie",0,0,0,0,0,0.1,0,0,0,0,0,0,0,0,0,0,0,0,0,0,0,0,0,0,0,0,0,0,0,"couenants","pastry"]
[{"$f":"B1599+C1599","v":1.0476190476190477},{"$f":"D1599/Author1Sections","v":4.7619047619047616E-2},{"$f":"E1599/Author2Sections","v":1},{"$f":"COUNTIF(OFFSET(H1599,0,0,1,Author1Sections),\">0\")","v":1},{"$f":"COUNTIF(OFFSET(H1599,0,Author1Sections,1,Author2Sections),\"=0\")","v":8},3088,"conversest",0,0,0.1,0,0,0,0,0,0,0,0,0,0,0,0,0,0,0,0,0,0,0,0,0,0,0,0,0,0,"couering","pastures"]
[{"$f":"B1600+C1600","v":1.0476190476190477},{"$f":"D1600/Author1Sections","v":4.7619047619047616E-2},{"$f":"E1600/Author2Sections","v":1},{"$f":"COUNTIF(OFFSET(H1600,0,0,1,Author1Sections),\">0\")","v":1},{"$f":"COUNTIF(OFFSET(H1600,0,Author1Sections,1,Author2Sections),\"=0\")","v":8},3093,"coole",0,0,0,0,0,0,0,0,0,0,0,0,0,0,0,0,0,0.1,0,0,0,0,0,0,0,0,0,0,0,"coulored","pathless"]
[{"$f":"B1601+C1601","v":1.0476190476190477},{"$f":"D1601/Author1Sections","v":4.7619047619047616E-2},{"$f":"E1601/Author2Sections","v":1},{"$f":"COUNTIF(OFFSET(H1601,0,0,1,Author1Sections),\">0\")","v":1},{"$f":"COUNTIF(OFFSET(H1601,0,Author1Sections,1,Author2Sections),\"=0\")","v":8},3094,"copartner",0,0,0,0,0,0,0,0,0,0,0,0,0,0,0.1,0,0,0,0,0,0,0,0,0,0,0,0,0,0,"counted","patient"]
[{"$f":"B1602+C1602","v":1.0476190476190477},{"$f":"D1602/Author1Sections","v":4.7619047619047616E-2},{"$f":"E1602/Author2Sections","v":1},{"$f":"COUNTIF(OFFSET(H1602,0,0,1,Author1Sections),\">0\")","v":1},{"$f":"COUNTIF(OFFSET(H1602,0,Author1Sections,1,Author2Sections),\"=0\")","v":8},3097,"copying",0,0,0,0,0,0,0,0,0.1,0,0,0,0,0,0,0,0,0,0,0,0,0,0,0,0,0,0,0,0,"countenance","patterns"]
[{"$f":"B1603+C1603","v":1.0476190476190477},{"$f":"D1603/Author1Sections","v":4.7619047619047616E-2},{"$f":"E1603/Author2Sections","v":1},{"$f":"COUNTIF(OFFSET(H1603,0,0,1,Author1Sections),\">0\")","v":1},{"$f":"COUNTIF(OFFSET(H1603,0,Author1Sections,1,Author2Sections),\"=0\")","v":8},3099,"corpusculum",0,0,0,0,0,0,0,0.1,0,0,0,0,0,0,0,0,0,0,0,0,0,0,0,0,0,0,0,0,0,"countenaunce","pause"]
[{"$f":"B1604+C1604","v":1.0476190476190477},{"$f":"D1604/Author1Sections","v":4.7619047619047616E-2},{"$f":"E1604/Author2Sections","v":1},{"$f":"COUNTIF(OFFSET(H1604,0,0,1,Author1Sections),\">0\")","v":1},{"$f":"COUNTIF(OFFSET(H1604,0,Author1Sections,1,Author2Sections),\"=0\")","v":8},3100,"correction",0,0,0,0,0,0.1,0,0,0,0,0,0,0,0,0,0,0,0,0,0,0,0,0,0,0,0,0,0,0,"countest","paw"]
[{"$f":"B1605+C1605","v":1.0476190476190477},{"$f":"D1605/Author1Sections","v":4.7619047619047616E-2},{"$f":"E1605/Author2Sections","v":1},{"$f":"COUNTIF(OFFSET(H1605,0,0,1,Author1Sections),\">0\")","v":1},{"$f":"COUNTIF(OFFSET(H1605,0,Author1Sections,1,Author2Sections),\"=0\")","v":8},3102,"costly",0,0,0,0,7.4183979999999997E-2,0,0,0,0,0,0,0,0,0,0,0,0,0,0,0,0,0,0,0,0,0,0,0,0,"countie","peaceful"]
[{"$f":"B1606+C1606","v":1.0476190476190477},{"$f":"D1606/Author1Sections","v":4.7619047619047616E-2},{"$f":"E1606/Author2Sections","v":1},{"$f":"COUNTIF(OFFSET(H1606,0,0,1,Author1Sections),\">0\")","v":1},{"$f":"COUNTIF(OFFSET(H1606,0,Author1Sections,1,Author2Sections),\"=0\")","v":8},3104,"couche",0,0,0,0,7.4183979999999997E-2,0,0,0,0,0,0,0,0,0,0,0,0,0,0,0,0,0,0,0,0,0,0,0,0,"counting","pealing"]
[{"$f":"B1607+C1607","v":1.0476190476190477},{"$f":"D1607/Author1Sections","v":4.7619047619047616E-2},{"$f":"E1607/Author2Sections","v":1},{"$f":"COUNTIF(OFFSET(H1607,0,0,1,Author1Sections),\">0\")","v":1},{"$f":"COUNTIF(OFFSET(H1607,0,Author1Sections,1,Author2Sections),\"=0\")","v":8},3105,"couenants",0,0,0,0,0,0,0,0,0,0,0,0,0,0,0,0,0.1,0,0,0,0,0,0,0,0,0,0,0,0,"countries","pearls"]
[{"$f":"B1608+C1608","v":1.0476190476190477},{"$f":"D1608/Author1Sections","v":4.7619047619047616E-2},{"$f":"E1608/Author2Sections","v":1},{"$f":"COUNTIF(OFFSET(H1608,0,0,1,Author1Sections),\">0\")","v":1},{"$f":"COUNTIF(OFFSET(H1608,0,Author1Sections,1,Author2Sections),\"=0\")","v":8},3106,"couering",0,0,0,0,0,0,0,0,0,0.1,0,0,0,0,0,0,0,0,0,0,0,0,0,0,0,0,0,0,0,"counts","peep'd"]
[{"$f":"B1609+C1609","v":1.0476190476190477},{"$f":"D1609/Author1Sections","v":4.7619047619047616E-2},{"$f":"E1609/Author2Sections","v":1},{"$f":"COUNTIF(OFFSET(H1609,0,0,1,Author1Sections),\">0\")","v":1},{"$f":"COUNTIF(OFFSET(H1609,0,Author1Sections,1,Author2Sections),\"=0\")","v":8},3107,"coulored",0,0,0,0,7.4183979999999997E-2,0,0,0,0,0,0,0,0,0,0,0,0,0,0,0,0,0,0,0,0,0,0,0,0,"couple","peer"]
[{"$f":"B1610+C1610","v":1.0476190476190477},{"$f":"D1610/Author1Sections","v":4.7619047619047616E-2},{"$f":"E1610/Author2Sections","v":1},{"$f":"COUNTIF(OFFSET(H1610,0,0,1,Author1Sections),\">0\")","v":1},{"$f":"COUNTIF(OFFSET(H1610,0,Author1Sections,1,Author2Sections),\"=0\")","v":8},3109,"counted",0,0.1,0,0,0,0,0,0,0,0,0,0,0,0,0,0,0,0,0,0,0,0,0,0,0,0,0,0,0,"coupling","pelleted"]
[{"$f":"B1611+C1611","v":1.0476190476190477},{"$f":"D1611/Author1Sections","v":4.7619047619047616E-2},{"$f":"E1611/Author2Sections","v":1},{"$f":"COUNTIF(OFFSET(H1611,0,0,1,Author1Sections),\">0\")","v":1},{"$f":"COUNTIF(OFFSET(H1611,0,Author1Sections,1,Author2Sections),\"=0\")","v":8},3110,"countenance",0,0,0,0,0,0.1,0,0,0,0,0,0,0,0,0,0,0,0,0,0,0,0,0,0,0,0,0,0,0,"courage","pelop's"]
[{"$f":"B1612+C1612","v":1.0476190476190477},{"$f":"D1612/Author1Sections","v":4.7619047619047616E-2},{"$f":"E1612/Author2Sections","v":1},{"$f":"COUNTIF(OFFSET(H1612,0,0,1,Author1Sections),\">0\")","v":1},{"$f":"COUNTIF(OFFSET(H1612,0,Author1Sections,1,Author2Sections),\"=0\")","v":8},3111,"countenaunce",0,0,0.1,0,0,0,0,0,0,0,0,0,0,0,0,0,0,0,0,0,0,0,0,0,0,0,0,0,0,"courting","penn'd"]
[{"$f":"B1613+C1613","v":1.0476190476190477},{"$f":"D1613/Author1Sections","v":4.7619047619047616E-2},{"$f":"E1613/Author2Sections","v":1},{"$f":"COUNTIF(OFFSET(H1613,0,0,1,Author1Sections),\">0\")","v":1},{"$f":"COUNTIF(OFFSET(H1613,0,Author1Sections,1,Author2Sections),\"=0\")","v":8},3113,"countest",0,0,0,0,0,0,0,0,0,0,0.1,0,0,0,0,0,0,0,0,0,0,0,0,0,0,0,0,0,0,"covetize","pensioners"]
[{"$f":"B1614+C1614","v":1.0476190476190477},{"$f":"D1614/Author1Sections","v":4.7619047619047616E-2},{"$f":"E1614/Author2Sections","v":1},{"$f":"COUNTIF(OFFSET(H1614,0,0,1,Author1Sections),\">0\")","v":1},{"$f":"COUNTIF(OFFSET(H1614,0,Author1Sections,1,Author2Sections),\"=0\")","v":8},3114,"countie",0,0,0.1,0,0,0,0,0,0,0,0,0,0,0,0,0,0,0,0,0,0,0,0,0,0,0,0,0,0,"craftely","pensived"]
[{"$f":"B1615+C1615","v":1.0476190476190477},{"$f":"D1615/Author1Sections","v":4.7619047619047616E-2},{"$f":"E1615/Author2Sections","v":1},{"$f":"COUNTIF(OFFSET(H1615,0,0,1,Author1Sections),\">0\")","v":1},{"$f":"COUNTIF(OFFSET(H1615,0,Author1Sections,1,Author2Sections),\"=0\")","v":8},3115,"counting",0,0,0,0,0,0,0,0,0,0,0,0,0,0,0,0,0,0,0,0,7.0372980000000002E-2,0,0,0,0,0,0,0,0,"crafty","pent"]
[{"$f":"B1616+C1616","v":1.0476190476190477},{"$f":"D1616/Author1Sections","v":4.7619047619047616E-2},{"$f":"E1616/Author2Sections","v":1},{"$f":"COUNTIF(OFFSET(H1616,0,0,1,Author1Sections),\">0\")","v":1},{"$f":"COUNTIF(OFFSET(H1616,0,Author1Sections,1,Author2Sections),\"=0\")","v":8},3116,"countries",0,0,0.1,0,0,0,0,0,0,0,0,0,0,0,0,0,0,0,0,0,0,0,0,0,0,0,0,0,0,"crau'd","perfidious"]
[{"$f":"B1617+C1617","v":1.0476190476190477},{"$f":"D1617/Author1Sections","v":4.7619047619047616E-2},{"$f":"E1617/Author2Sections","v":1},{"$f":"COUNTIF(OFFSET(H1617,0,0,1,Author1Sections),\">0\")","v":1},{"$f":"COUNTIF(OFFSET(H1617,0,Author1Sections,1,Author2Sections),\"=0\")","v":8},3118,"counts",0,0,0,0,0,0,0,0,0,0,0.1,0,0,0,0,0,0,0,0,0,0,0,0,0,0,0,0,0,0,"craue","perfumed"]
[{"$f":"B1618+C1618","v":1.0476190476190477},{"$f":"D1618/Author1Sections","v":4.7619047619047616E-2},{"$f":"E1618/Author2Sections","v":1},{"$f":"COUNTIF(OFFSET(H1618,0,0,1,Author1Sections),\">0\")","v":1},{"$f":"COUNTIF(OFFSET(H1618,0,Author1Sections,1,Author2Sections),\"=0\")","v":8},3119,"couple",0,0,0,0,0,0.1,0,0,0,0,0,0,0,0,0,0,0,0,0,0,0,0,0,0,0,0,0,0,0,"crave","perilous"]
[{"$f":"B1619+C1619","v":1.0476190476190477},{"$f":"D1619/Author1Sections","v":4.7619047619047616E-2},{"$f":"E1619/Author2Sections","v":1},{"$f":"COUNTIF(OFFSET(H1619,0,0,1,Author1Sections),\">0\")","v":1},{"$f":"COUNTIF(OFFSET(H1619,0,Author1Sections,1,Author2Sections),\"=0\")","v":8},3120,"coupling",0,0,0,0,0,0,0,0,0,0,0,0,0,0,0,0,0,0.1,0,0,0,0,0,0,0,0,0,0,0,"creame","perils"]
[{"$f":"B1620+C1620","v":1.0476190476190477},{"$f":"D1620/Author1Sections","v":4.7619047619047616E-2},{"$f":"E1620/Author2Sections","v":1},{"$f":"COUNTIF(OFFSET(H1620,0,0,1,Author1Sections),\">0\")","v":1},{"$f":"COUNTIF(OFFSET(H1620,0,Author1Sections,1,Author2Sections),\"=0\")","v":8},3121,"courage",0,0,0,0,0,0,0,0,0,0,0,0,0,0,0,0,0.1,0,0,0,0,0,0,0,0,0,0,0,0,"creast","perish"]
[{"$f":"B1621+C1621","v":1.0476190476190477},{"$f":"D1621/Author1Sections","v":4.7619047619047616E-2},{"$f":"E1621/Author2Sections","v":1},{"$f":"COUNTIF(OFFSET(H1621,0,0,1,Author1Sections),\">0\")","v":1},{"$f":"COUNTIF(OFFSET(H1621,0,Author1Sections,1,Author2Sections),\"=0\")","v":8},3122,"courting",0,0.1,0,0,0,0,0,0,0,0,0,0,0,0,0,0,0,0,0,0,0,0,0,0,0,0,0,0,0,"creatour","permit"]
[{"$f":"B1622+C1622","v":1.0476190476190477},{"$f":"D1622/Author1Sections","v":4.7619047619047616E-2},{"$f":"E1622/Author2Sections","v":1},{"$f":"COUNTIF(OFFSET(H1622,0,0,1,Author1Sections),\">0\")","v":1},{"$f":"COUNTIF(OFFSET(H1622,0,Author1Sections,1,Author2Sections),\"=0\")","v":8},3125,"covetize",0,0,0.1,0,0,0,0,0,0,0,0,0,0,0,0,0,0,0,0,0,0,0,0,0,0,0,0,0,0,"crept","personal"]
[{"$f":"B1623+C1623","v":1.0476190476190477},{"$f":"D1623/Author1Sections","v":4.7619047619047616E-2},{"$f":"E1623/Author2Sections","v":1},{"$f":"COUNTIF(OFFSET(H1623,0,0,1,Author1Sections),\">0\")","v":1},{"$f":"COUNTIF(OFFSET(H1623,0,Author1Sections,1,Author2Sections),\"=0\")","v":8},3130,"craftely",0,0,0,0,0,0,0,0,0,0,0,0,0,0,0,0,0,0,0.1,0,0,0,0,0,0,0,0,0,0,"crest","perused"]
[{"$f":"B1624+C1624","v":1.0476190476190477},{"$f":"D1624/Author1Sections","v":4.7619047619047616E-2},{"$f":"E1624/Author2Sections","v":1},{"$f":"COUNTIF(OFFSET(H1624,0,0,1,Author1Sections),\">0\")","v":1},{"$f":"COUNTIF(OFFSET(H1624,0,Author1Sections,1,Author2Sections),\"=0\")","v":8},3131,"crafty",0,0,0,0,0,0.1,0,0,0,0,0,0,0,0,0,0,0,0,0,0,0,0,0,0,0,0,0,0,0,"cride","pervert"]
[{"$f":"B1625+C1625","v":1.0476190476190477},{"$f":"D1625/Author1Sections","v":4.7619047619047616E-2},{"$f":"E1625/Author2Sections","v":1},{"$f":"COUNTIF(OFFSET(H1625,0,0,1,Author1Sections),\">0\")","v":1},{"$f":"COUNTIF(OFFSET(H1625,0,Author1Sections,1,Author2Sections),\"=0\")","v":8},3135,"crau'd",0,0,0,0,0,0,0,0,0,0,0,0,0,0,0,0,0.1,0,0,0,0,0,0,0,0,0,0,0,0,"criew","pheasant"]
[{"$f":"B1626+C1626","v":1.0476190476190477},{"$f":"D1626/Author1Sections","v":4.7619047619047616E-2},{"$f":"E1626/Author2Sections","v":1},{"$f":"COUNTIF(OFFSET(H1626,0,0,1,Author1Sections),\">0\")","v":1},{"$f":"COUNTIF(OFFSET(H1626,0,Author1Sections,1,Author2Sections),\"=0\")","v":8},3136,"craue",0,0,0,0,0,0,0,0,0,0,0,0,0,0,0.1,0,0,0,0,0,0,0,0,0,0,0,0,0,0,"crimson","philomel"]
[{"$f":"B1627+C1627","v":1.0476190476190477},{"$f":"D1627/Author1Sections","v":4.7619047619047616E-2},{"$f":"E1627/Author2Sections","v":1},{"$f":"COUNTIF(OFFSET(H1627,0,0,1,Author1Sections),\">0\")","v":1},{"$f":"COUNTIF(OFFSET(H1627,0,Author1Sections,1,Author2Sections),\"=0\")","v":8},3137,"crave",0,0,0,0,7.4183979999999997E-2,0,0,0,0,0,0,0,0,0,0,0,0,0,0,0,0,0,0,0,0,0,0,0,0,"crookedly","phraseless"]
[{"$f":"B1628+C1628","v":1.0476190476190477},{"$f":"D1628/Author1Sections","v":4.7619047619047616E-2},{"$f":"E1628/Author2Sections","v":1},{"$f":"COUNTIF(OFFSET(H1628,0,0,1,Author1Sections),\">0\")","v":1},{"$f":"COUNTIF(OFFSET(H1628,0,Author1Sections,1,Author2Sections),\"=0\")","v":8},3139,"creame",0,0,0,0,0,0,0,0,0,0,0,0,0,0,0,0,0,0,0,0,7.0372980000000002E-2,0,0,0,0,0,0,0,0,"crouching","phyllis"]
[{"$f":"B1629+C1629","v":1.0476190476190477},{"$f":"D1629/Author1Sections","v":4.7619047619047616E-2},{"$f":"E1629/Author2Sections","v":1},{"$f":"COUNTIF(OFFSET(H1629,0,0,1,Author1Sections),\">0\")","v":1},{"$f":"COUNTIF(OFFSET(H1629,0,Author1Sections,1,Author2Sections),\"=0\")","v":8},3140,"creast",0,0,0,0,0,0,0,0,0,0,0.1,0,0,0,0,0,0,0,0,0,0,0,0,0,0,0,0,0,0,"crowes","physic"]
[{"$f":"B1630+C1630","v":1.0476190476190477},{"$f":"D1630/Author1Sections","v":4.7619047619047616E-2},{"$f":"E1630/Author2Sections","v":1},{"$f":"COUNTIF(OFFSET(H1630,0,0,1,Author1Sections),\">0\")","v":1},{"$f":"COUNTIF(OFFSET(H1630,0,Author1Sections,1,Author2Sections),\"=0\")","v":8},3142,"creatour",0,0,0,0,7.4183979999999997E-2,0,0,0,0,0,0,0,0,0,0,0,0,0,0,0,0,0,0,0,0,0,0,0,0,"crueltie","pieced"]
[{"$f":"B1631+C1631","v":1.0476190476190477},{"$f":"D1631/Author1Sections","v":4.7619047619047616E-2},{"$f":"E1631/Author2Sections","v":1},{"$f":"COUNTIF(OFFSET(H1631,0,0,1,Author1Sections),\">0\")","v":1},{"$f":"COUNTIF(OFFSET(H1631,0,Author1Sections,1,Author2Sections),\"=0\")","v":8},3145,"crept",0,0.1,0,0,0,0,0,0,0,0,0,0,0,0,0,0,0,0,0,0,0,0,0,0,0,0,0,0,0,"cruelty","pies"]
[{"$f":"B1632+C1632","v":1.0476190476190477},{"$f":"D1632/Author1Sections","v":4.7619047619047616E-2},{"$f":"E1632/Author2Sections","v":1},{"$f":"COUNTIF(OFFSET(H1632,0,0,1,Author1Sections),\">0\")","v":1},{"$f":"COUNTIF(OFFSET(H1632,0,Author1Sections,1,Author2Sections),\"=0\")","v":8},3146,"crest",0,0,0,0,0,0,0,0,0,0,0.1,0,0,0,0,0,0,0,0,0,0,0,0,0,0,0,0,0,0,"cumbred","pilgrimage"]
[{"$f":"B1633+C1633","v":1.0476190476190477},{"$f":"D1633/Author1Sections","v":4.7619047619047616E-2},{"$f":"E1633/Author2Sections","v":1},{"$f":"COUNTIF(OFFSET(H1633,0,0,1,Author1Sections),\">0\")","v":1},{"$f":"COUNTIF(OFFSET(H1633,0,Author1Sections,1,Author2Sections),\"=0\")","v":8},3149,"cride",0,0,0,0,0,0,0,0,0,0,0,0,0,0,0,0,0,0,0,0,7.0372980000000002E-2,0,0,0,0,0,0,0,0,"cumbrous","pillars"]
[{"$f":"B1634+C1634","v":1.0476190476190477},{"$f":"D1634/Author1Sections","v":4.7619047619047616E-2},{"$f":"E1634/Author2Sections","v":1},{"$f":"COUNTIF(OFFSET(H1634,0,0,1,Author1Sections),\">0\")","v":1},{"$f":"COUNTIF(OFFSET(H1634,0,Author1Sections,1,Author2Sections),\"=0\")","v":8},3150,"criew",0,0,0,0,7.4183979999999997E-2,0,0,0,0,0,0,0,0,0,0,0,0,0,0,0,0,0,0,0,0,0,0,0,0,"cunningest","pilot"]
[{"$f":"B1635+C1635","v":1.0476190476190477},{"$f":"D1635/Author1Sections","v":4.7619047619047616E-2},{"$f":"E1635/Author2Sections","v":1},{"$f":"COUNTIF(OFFSET(H1635,0,0,1,Author1Sections),\">0\")","v":1},{"$f":"COUNTIF(OFFSET(H1635,0,Author1Sections,1,Author2Sections),\"=0\")","v":8},3151,"crimson",0,0,0,0,0,0,0,0,0,0,0,0,0,0,0,0,0,0,0,0,7.0372980000000002E-2,0,0,0,0,0,0,0,0,"curb'd","pinch'd"]
[{"$f":"B1636+C1636","v":1.0476190476190477},{"$f":"D1636/Author1Sections","v":4.7619047619047616E-2},{"$f":"E1636/Author2Sections","v":1},{"$f":"COUNTIF(OFFSET(H1636,0,0,1,Author1Sections),\">0\")","v":1},{"$f":"COUNTIF(OFFSET(H1636,0,Author1Sections,1,Author2Sections),\"=0\")","v":8},3153,"crookedly",0,0,0,0,0,0,0,0.1,0,0,0,0,0,0,0,0,0,0,0,0,0,0,0,0,0,0,0,0,0,"cureless","pined"]
[{"$f":"B1637+C1637","v":1.0476190476190477},{"$f":"D1637/Author1Sections","v":4.7619047619047616E-2},{"$f":"E1637/Author2Sections","v":1},{"$f":"COUNTIF(OFFSET(H1637,0,0,1,Author1Sections),\">0\")","v":1},{"$f":"COUNTIF(OFFSET(H1637,0,Author1Sections,1,Author2Sections),\"=0\")","v":8},3155,"crouching",0,0,0,0,0,0,0,0,0,0.1,0,0,0,0,0,0,0,0,0,0,0,0,0,0,0,0,0,0,0,"cursed","pink"]
[{"$f":"B1638+C1638","v":1.0476190476190477},{"$f":"D1638/Author1Sections","v":4.7619047619047616E-2},{"$f":"E1638/Author2Sections","v":1},{"$f":"COUNTIF(OFFSET(H1638,0,0,1,Author1Sections),\">0\")","v":1},{"$f":"COUNTIF(OFFSET(H1638,0,Author1Sections,1,Author2Sections),\"=0\")","v":8},3157,"crowes",0,0,0,0,0,0,0,0,0,0,0.1,0,0,0,0,0,0,0,0,0,0,0,0,0,0,0,0,0,0,"curtaines","piping"]
[{"$f":"B1639+C1639","v":1.0476190476190477},{"$f":"D1639/Author1Sections","v":4.7619047619047616E-2},{"$f":"E1639/Author2Sections","v":1},{"$f":"COUNTIF(OFFSET(H1639,0,0,1,Author1Sections),\">0\")","v":1},{"$f":"COUNTIF(OFFSET(H1639,0,Author1Sections,1,Author2Sections),\"=0\")","v":8},3161,"crueltie",0,0,0,0,0,0,0,0.1,0,0,0,0,0,0,0,0,0,0,0,0,0,0,0,0,0,0,0,0,0,"curtesie","pitch"]
[{"$f":"B1640+C1640","v":1.0476190476190477},{"$f":"D1640/Author1Sections","v":4.7619047619047616E-2},{"$f":"E1640/Author2Sections","v":1},{"$f":"COUNTIF(OFFSET(H1640,0,0,1,Author1Sections),\">0\")","v":1},{"$f":"COUNTIF(OFFSET(H1640,0,Author1Sections,1,Author2Sections),\"=0\")","v":8},3162,"cruelty",0,0,0,0,0,0,0,0,0,0,0,0,0,0.1,0,0,0,0,0,0,0,0,0,0,0,0,0,0,0,"curtted","plagues"]
[{"$f":"B1641+C1641","v":1.0476190476190477},{"$f":"D1641/Author1Sections","v":4.7619047619047616E-2},{"$f":"E1641/Author2Sections","v":1},{"$f":"COUNTIF(OFFSET(H1641,0,0,1,Author1Sections),\">0\")","v":1},{"$f":"COUNTIF(OFFSET(H1641,0,Author1Sections,1,Author2Sections),\"=0\")","v":8},3163,"cumbred",0,0,0,0,0,0,0,0,0,0,0,0,0.1,0,0,0,0,0,0,0,0,0,0,0,0,0,0,0,0,"cæsars","plaintful"]
[{"$f":"B1642+C1642","v":1.0476190476190477},{"$f":"D1642/Author1Sections","v":4.7619047619047616E-2},{"$f":"E1642/Author2Sections","v":1},{"$f":"COUNTIF(OFFSET(H1642,0,0,1,Author1Sections),\">0\")","v":1},{"$f":"COUNTIF(OFFSET(H1642,0,Author1Sections,1,Author2Sections),\"=0\")","v":8},3164,"cumbrous",0,0,0.1,0,0,0,0,0,0,0,0,0,0,0,0,0,0,0,0,0,0,0,0,0,0,0,0,0,0,"daignd","plants"]
[{"$f":"B1643+C1643","v":1.0476190476190477},{"$f":"D1643/Author1Sections","v":4.7619047619047616E-2},{"$f":"E1643/Author2Sections","v":1},{"$f":"COUNTIF(OFFSET(H1643,0,0,1,Author1Sections),\">0\")","v":1},{"$f":"COUNTIF(OFFSET(H1643,0,Author1Sections,1,Author2Sections),\"=0\")","v":8},3165,"cunningest",0,0,0,0,0,0,0,0,0,0,0,0,0,0,0.1,0,0,0,0,0,0,0,0,0,0,0,0,0,0,"dailie","platted"]
[{"$f":"B1644+C1644","v":1.0476190476190477},{"$f":"D1644/Author1Sections","v":4.7619047619047616E-2},{"$f":"E1644/Author2Sections","v":1},{"$f":"COUNTIF(OFFSET(H1644,0,0,1,Author1Sections),\">0\")","v":1},{"$f":"COUNTIF(OFFSET(H1644,0,Author1Sections,1,Author2Sections),\"=0\")","v":8},3167,"curb'd",0,0,0,0,0,0,0,0,0,0,0,0,0,0,0.1,0,0,0,0,0,0,0,0,0,0,0,0,0,0,"daintie","play'd"]
[{"$f":"B1645+C1645","v":1.0476190476190477},{"$f":"D1645/Author1Sections","v":4.7619047619047616E-2},{"$f":"E1645/Author2Sections","v":1},{"$f":"COUNTIF(OFFSET(H1645,0,0,1,Author1Sections),\">0\")","v":1},{"$f":"COUNTIF(OFFSET(H1645,0,Author1Sections,1,Author2Sections),\"=0\")","v":8},3168,"cureless",0,0,0,0,0,0,0,0,0,0,0,0,0,0,0.1,0,0,0,0,0,0,0,0,0,0,0,0,0,0,"daintier","plea"]
[{"$f":"B1646+C1646","v":1.0476190476190477},{"$f":"D1646/Author1Sections","v":4.7619047619047616E-2},{"$f":"E1646/Author2Sections","v":1},{"$f":"COUNTIF(OFFSET(H1646,0,0,1,Author1Sections),\">0\")","v":1},{"$f":"COUNTIF(OFFSET(H1646,0,Author1Sections,1,Author2Sections),\"=0\")","v":8},3171,"cursed",0,0,0,0,0,0,0,0,0,0,0,0,0,0,0,0.1,0,0,0,0,0,0,0,0,0,0,0,0,0,"dainties","pledge"]
[{"$f":"B1647+C1647","v":1.0476190476190477},{"$f":"D1647/Author1Sections","v":4.7619047619047616E-2},{"$f":"E1647/Author2Sections","v":1},{"$f":"COUNTIF(OFFSET(H1647,0,0,1,Author1Sections),\">0\")","v":1},{"$f":"COUNTIF(OFFSET(H1647,0,Author1Sections,1,Author2Sections),\"=0\")","v":8},3173,"curtaines",0,0,0,0,0,0,0,0,0,0,0.1,0,0,0,0,0,0,0,0,0,0,0,0,0,0,0,0,0,0,"damning","plenitude"]
[{"$f":"B1648+C1648","v":1.0476190476190477},{"$f":"D1648/Author1Sections","v":4.7619047619047616E-2},{"$f":"E1648/Author2Sections","v":1},{"$f":"COUNTIF(OFFSET(H1648,0,0,1,Author1Sections),\">0\")","v":1},{"$f":"COUNTIF(OFFSET(H1648,0,Author1Sections,1,Author2Sections),\"=0\")","v":8},3174,"curtesie",0,0,0,0,0,0,0,0,0,0,0,0,0,0,0,0,0,0,0.1,0,0,0,0,0,0,0,0,0,0,"dance","plight"]
[{"$f":"B1649+C1649","v":1.0476190476190477},{"$f":"D1649/Author1Sections","v":4.7619047619047616E-2},{"$f":"E1649/Author2Sections","v":1},{"$f":"COUNTIF(OFFSET(H1649,0,0,1,Author1Sections),\">0\")","v":1},{"$f":"COUNTIF(OFFSET(H1649,0,Author1Sections,1,Author2Sections),\"=0\")","v":8},3175,"curtted",0,0,0,0,0,0,0,0,0,0,0,0,0,0,0,0,0,0,0,0.1,0,0,0,0,0,0,0,0,0,"dangerous","ploughman"]
[{"$f":"B1650+C1650","v":1.0476190476190477},{"$f":"D1650/Author1Sections","v":4.7619047619047616E-2},{"$f":"E1650/Author2Sections","v":1},{"$f":"COUNTIF(OFFSET(H1650,0,0,1,Author1Sections),\">0\")","v":1},{"$f":"COUNTIF(OFFSET(H1650,0,Author1Sections,1,Author2Sections),\"=0\")","v":8},3179,"cæsars",0,0,0,0,0,0,0,0,0,0,0,0,0,0,0,0,0.1,0,0,0,0,0,0,0,0,0,0,0,0,"dangers","pluto"]
[{"$f":"B1651+C1651","v":1.0476190476190477},{"$f":"D1651/Author1Sections","v":4.7619047619047616E-2},{"$f":"E1651/Author2Sections","v":1},{"$f":"COUNTIF(OFFSET(H1651,0,0,1,Author1Sections),\">0\")","v":1},{"$f":"COUNTIF(OFFSET(H1651,0,Author1Sections,1,Author2Sections),\"=0\")","v":8},3184,"daignd",0,0,0,0,0,0,0,0,0,0,0,0,0,0,0,0,0,0,0,0.1,0,0,0,0,0,0,0,0,0,"dar'st","pluto's"]
[{"$f":"B1652+C1652","v":1.0476190476190477},{"$f":"D1652/Author1Sections","v":4.7619047619047616E-2},{"$f":"E1652/Author2Sections","v":1},{"$f":"COUNTIF(OFFSET(H1652,0,0,1,Author1Sections),\">0\")","v":1},{"$f":"COUNTIF(OFFSET(H1652,0,Author1Sections,1,Author2Sections),\"=0\")","v":8},3185,"dailie",0,0.1,0,0,0,0,0,0,0,0,0,0,0,0,0,0,0,0,0,0,0,0,0,0,0,0,0,0,0,"dares","poesy"]
[{"$f":"B1653+C1653","v":1.0476190476190477},{"$f":"D1653/Author1Sections","v":4.7619047619047616E-2},{"$f":"E1653/Author2Sections","v":1},{"$f":"COUNTIF(OFFSET(H1653,0,0,1,Author1Sections),\">0\")","v":1},{"$f":"COUNTIF(OFFSET(H1653,0,Author1Sections,1,Author2Sections),\"=0\")","v":8},3186,"daintie",0,0,0,0,7.4183979999999997E-2,0,0,0,0,0,0,0,0,0,0,0,0,0,0,0,0,0,0,0,0,0,0,0,0,"darius","pointing"]
[{"$f":"B1654+C1654","v":1.0476190476190477},{"$f":"D1654/Author1Sections","v":4.7619047619047616E-2},{"$f":"E1654/Author2Sections","v":1},{"$f":"COUNTIF(OFFSET(H1654,0,0,1,Author1Sections),\">0\")","v":1},{"$f":"COUNTIF(OFFSET(H1654,0,Author1Sections,1,Author2Sections),\"=0\")","v":8},3187,"daintier",0,0,0,0,0,0,0,0,0,0,0,0,0,0.1,0,0,0,0,0,0,0,0,0,0,0,0,0,0,0,"darkenesse","poison'd"]
[{"$f":"B1655+C1655","v":1.0476190476190477},{"$f":"D1655/Author1Sections","v":4.7619047619047616E-2},{"$f":"E1655/Author2Sections","v":1},{"$f":"COUNTIF(OFFSET(H1655,0,0,1,Author1Sections),\">0\")","v":1},{"$f":"COUNTIF(OFFSET(H1655,0,Author1Sections,1,Author2Sections),\"=0\")","v":8},3188,"dainties",0,0,0,0,0,0,0,0,0,0,0,0.1,0,0,0,0,0,0,0,0,0,0,0,0,0,0,0,0,0,"darlings","pomp"]
[{"$f":"B1656+C1656","v":1.0476190476190477},{"$f":"D1656/Author1Sections","v":4.7619047619047616E-2},{"$f":"E1656/Author2Sections","v":1},{"$f":"COUNTIF(OFFSET(H1656,0,0,1,Author1Sections),\">0\")","v":1},{"$f":"COUNTIF(OFFSET(H1656,0,Author1Sections,1,Author2Sections),\"=0\")","v":8},3194,"damning",0,0,0,0,0,0,0,0,0,0,0,0.1,0,0,0,0,0,0,0,0,0,0,0,0,0,0,0,0,0,"dashed","pooley"]
[{"$f":"B1657+C1657","v":1.0476190476190477},{"$f":"D1657/Author1Sections","v":4.7619047619047616E-2},{"$f":"E1657/Author2Sections","v":1},{"$f":"COUNTIF(OFFSET(H1657,0,0,1,Author1Sections),\">0\")","v":1},{"$f":"COUNTIF(OFFSET(H1657,0,Author1Sections,1,Author2Sections),\"=0\")","v":8},3197,"dance",0,0,0,0,0,0,0,0,0,0,0,0.1,0,0,0,0,0,0,0,0,0,0,0,0,0,0,0,0,0,"daughters","portraiture"]
[{"$f":"B1658+C1658","v":1.0476190476190477},{"$f":"D1658/Author1Sections","v":4.7619047619047616E-2},{"$f":"E1658/Author2Sections","v":1},{"$f":"COUNTIF(OFFSET(H1658,0,0,1,Author1Sections),\">0\")","v":1},{"$f":"COUNTIF(OFFSET(H1658,0,Author1Sections,1,Author2Sections),\"=0\")","v":8},3199,"dangerous",0,0,0,0,0,0,0,0.1,0,0,0,0,0,0,0,0,0,0,0,0,0,0,0,0,0,0,0,0,0,"dayly","posied"]
[{"$f":"B1659+C1659","v":1.0476190476190477},{"$f":"D1659/Author1Sections","v":4.7619047619047616E-2},{"$f":"E1659/Author2Sections","v":1},{"$f":"COUNTIF(OFFSET(H1659,0,0,1,Author1Sections),\">0\")","v":1},{"$f":"COUNTIF(OFFSET(H1659,0,Author1Sections,1,Author2Sections),\"=0\")","v":8},3200,"dangers",0,0,0,0,0,0,0,0,0,0,0,0.1,0,0,0,0,0,0,0,0,0,0,0,0,0,0,0,0,0,"dazl'd","possess"]
[{"$f":"B1660+C1660","v":1.0476190476190477},{"$f":"D1660/Author1Sections","v":4.7619047619047616E-2},{"$f":"E1660/Author2Sections","v":1},{"$f":"COUNTIF(OFFSET(H1660,0,0,1,Author1Sections),\">0\")","v":1},{"$f":"COUNTIF(OFFSET(H1660,0,Author1Sections,1,Author2Sections),\"=0\")","v":8},3202,"dar'st",0,0,0,0,0,0,0,0,0,0,0,0,0,0,0,0,0,0,0.1,0,0,0,0,0,0,0,0,0,0,"dazle","possess'd"]
[{"$f":"B1661+C1661","v":1.0476190476190477},{"$f":"D1661/Author1Sections","v":4.7619047619047616E-2},{"$f":"E1661/Author2Sections","v":1},{"$f":"COUNTIF(OFFSET(H1661,0,0,1,Author1Sections),\">0\")","v":1},{"$f":"COUNTIF(OFFSET(H1661,0,Author1Sections,1,Author2Sections),\"=0\")","v":8},3203,"dares",0,0,0,0,0,0,0,0,0,0,0,0,0,0,0,0,0,0.1,0,0,0,0,0,0,0,0,0,0,0,"dazling","potential"]
[{"$f":"B1662+C1662","v":1.0476190476190477},{"$f":"D1662/Author1Sections","v":4.7619047619047616E-2},{"$f":"E1662/Author2Sections","v":1},{"$f":"COUNTIF(OFFSET(H1662,0,0,1,Author1Sections),\">0\")","v":1},{"$f":"COUNTIF(OFFSET(H1662,0,Author1Sections,1,Author2Sections),\"=0\")","v":8},3204,"darius",0,0,0,0,0,0,0,0.1,0,0,0,0,0,0,0,0,0,0,0,0,0,0,0,0,0,0,0,0,0,"deadly","pour"]
[{"$f":"B1663+C1663","v":1.0476190476190477},{"$f":"D1663/Author1Sections","v":4.7619047619047616E-2},{"$f":"E1663/Author2Sections","v":1},{"$f":"COUNTIF(OFFSET(H1663,0,0,1,Author1Sections),\">0\")","v":1},{"$f":"COUNTIF(OFFSET(H1663,0,Author1Sections,1,Author2Sections),\"=0\")","v":8},3205,"darkenesse",0,0,0.1,0,0,0,0,0,0,0,0,0,0,0,0,0,0,0,0,0,0,0,0,0,0,0,0,0,0,"deafe","powdered"]
[{"$f":"B1664+C1664","v":1.0476190476190477},{"$f":"D1664/Author1Sections","v":4.7619047619047616E-2},{"$f":"E1664/Author2Sections","v":1},{"$f":"COUNTIF(OFFSET(H1664,0,0,1,Author1Sections),\">0\")","v":1},{"$f":"COUNTIF(OFFSET(H1664,0,Author1Sections,1,Author2Sections),\"=0\")","v":8},3206,"darlings",0,0,0,0,0,0,0,0,0,0,0,0,0,0,0,0,0,0,0,0,7.0372980000000002E-2,0,0,0,0,0,0,0,0,"dearelie","praised"]
[{"$f":"B1665+C1665","v":1.0476190476190477},{"$f":"D1665/Author1Sections","v":4.7619047619047616E-2},{"$f":"E1665/Author2Sections","v":1},{"$f":"COUNTIF(OFFSET(H1665,0,0,1,Author1Sections),\">0\")","v":1},{"$f":"COUNTIF(OFFSET(H1665,0,Author1Sections,1,Author2Sections),\"=0\")","v":8},3207,"dashed",0,0,0,0,0,0,0,0,0,0,0,0,0,0,0.1,0,0,0,0,0,0,0,0,0,0,0,0,0,0,"dearth","preach"]
[{"$f":"B1666+C1666","v":1.0476190476190477},{"$f":"D1666/Author1Sections","v":4.7619047619047616E-2},{"$f":"E1666/Author2Sections","v":1},{"$f":"COUNTIF(OFFSET(H1666,0,0,1,Author1Sections),\">0\")","v":1},{"$f":"COUNTIF(OFFSET(H1666,0,Author1Sections,1,Author2Sections),\"=0\")","v":8},3208,"daughters",0,0,0.1,0,0,0,0,0,0,0,0,0,0,0,0,0,0,0,0,0,0,0,0,0,0,0,0,0,0,"deaw","preach'd"]
[{"$f":"B1667+C1667","v":1.0476190476190477},{"$f":"D1667/Author1Sections","v":4.7619047619047616E-2},{"$f":"E1667/Author2Sections","v":1},{"$f":"COUNTIF(OFFSET(H1667,0,0,1,Author1Sections),\">0\")","v":1},{"$f":"COUNTIF(OFFSET(H1667,0,Author1Sections,1,Author2Sections),\"=0\")","v":8},3213,"dayly",0,0,0,0,0,0,0,0,0,0,0,0,0.1,0,0,0,0,0,0,0,0,0,0,0,0,0,0,0,0,"debellare","precedent"]
[{"$f":"B1668+C1668","v":1.0476190476190477},{"$f":"D1668/Author1Sections","v":4.7619047619047616E-2},{"$f":"E1668/Author2Sections","v":1},{"$f":"COUNTIF(OFFSET(H1668,0,0,1,Author1Sections),\">0\")","v":1},{"$f":"COUNTIF(OFFSET(H1668,0,Author1Sections,1,Author2Sections),\"=0\")","v":8},3214,"dazl'd",0,0,0,0,0,0,0,0,0,0,0,0,0,0,0,0,0,0.1,0,0,0,0,0,0,0,0,0,0,0,"decaid","predict"]
[{"$f":"B1669+C1669","v":1.0476190476190477},{"$f":"D1669/Author1Sections","v":4.7619047619047616E-2},{"$f":"E1669/Author2Sections","v":1},{"$f":"COUNTIF(OFFSET(H1669,0,0,1,Author1Sections),\">0\")","v":1},{"$f":"COUNTIF(OFFSET(H1669,0,Author1Sections,1,Author2Sections),\"=0\")","v":8},3215,"dazle",0,0,0,0,0,0,0,0,0,0.1,0,0,0,0,0,0,0,0,0,0,0,0,0,0,0,0,0,0,0,"deceased","prefer"]
[{"$f":"B1670+C1670","v":1.0476190476190477},{"$f":"D1670/Author1Sections","v":4.7619047619047616E-2},{"$f":"E1670/Author2Sections","v":1},{"$f":"COUNTIF(OFFSET(H1670,0,0,1,Author1Sections),\">0\")","v":1},{"$f":"COUNTIF(OFFSET(H1670,0,Author1Sections,1,Author2Sections),\"=0\")","v":8},3216,"dazling",0,0,0,0,0,0,0,0,0,0,0,0,0,0,0,0,0,0,0,0,7.0372980000000002E-2,0,0,0,0,0,0,0,0,"deceiu'd","presenting"]
[{"$f":"B1671+C1671","v":1.0476190476190477},{"$f":"D1671/Author1Sections","v":4.7619047619047616E-2},{"$f":"E1671/Author2Sections","v":1},{"$f":"COUNTIF(OFFSET(H1671,0,0,1,Author1Sections),\">0\")","v":1},{"$f":"COUNTIF(OFFSET(H1671,0,Author1Sections,1,Author2Sections),\"=0\")","v":8},3217,"deadly",0,0,0,0,0,0,0,0,0,0,0,0,0.1,0,0,0,0,0,0,0,0,0,0,0,0,0,0,0,0,"decieu'd","presumed"]
[{"$f":"B1672+C1672","v":1.0476190476190477},{"$f":"D1672/Author1Sections","v":4.7619047619047616E-2},{"$f":"E1672/Author2Sections","v":1},{"$f":"COUNTIF(OFFSET(H1672,0,0,1,Author1Sections),\">0\")","v":1},{"$f":"COUNTIF(OFFSET(H1672,0,Author1Sections,1,Author2Sections),\"=0\")","v":8},3219,"deafe",0,0,0,0,0,0,0,0,0,0,0,0,0,0.1,0,0,0,0,0,0,0,0,0,0,0,0,0,0,0,"decieued","primrose"]
[{"$f":"B1673+C1673","v":1.0476190476190477},{"$f":"D1673/Author1Sections","v":4.7619047619047616E-2},{"$f":"E1673/Author2Sections","v":1},{"$f":"COUNTIF(OFFSET(H1673,0,0,1,Author1Sections),\">0\")","v":1},{"$f":"COUNTIF(OFFSET(H1673,0,Author1Sections,1,Author2Sections),\"=0\")","v":8},3220,"dearelie",0,0,0,0.1,0,0,0,0,0,0,0,0,0,0,0,0,0,0,0,0,0,0,0,0,0,0,0,0,0,"decke","print"]
[{"$f":"B1674+C1674","v":1.0476190476190477},{"$f":"D1674/Author1Sections","v":4.7619047619047616E-2},{"$f":"E1674/Author2Sections","v":1},{"$f":"COUNTIF(OFFSET(H1674,0,0,1,Author1Sections),\">0\")","v":1},{"$f":"COUNTIF(OFFSET(H1674,0,Author1Sections,1,Author2Sections),\"=0\")","v":8},3221,"dearth",0,0,0,0,0,0,0,0,0,0,0,0.1,0,0,0,0,0,0,0,0,0,0,0,0,0,0,0,0,0,"declare","prisoner"]
[{"$f":"B1675+C1675","v":1.0476190476190477},{"$f":"D1675/Author1Sections","v":4.7619047619047616E-2},{"$f":"E1675/Author2Sections","v":1},{"$f":"COUNTIF(OFFSET(H1675,0,0,1,Author1Sections),\">0\")","v":1},{"$f":"COUNTIF(OFFSET(H1675,0,Author1Sections,1,Author2Sections),\"=0\")","v":8},3223,"deaw",0,0,0,0.1,0,0,0,0,0,0,0,0,0,0,0,0,0,0,0,0,0,0,0,0,0,0,0,0,0,"decreed","private"]
[{"$f":"B1676+C1676","v":1.0476190476190477},{"$f":"D1676/Author1Sections","v":4.7619047619047616E-2},{"$f":"E1676/Author2Sections","v":1},{"$f":"COUNTIF(OFFSET(H1676,0,0,1,Author1Sections),\">0\")","v":1},{"$f":"COUNTIF(OFFSET(H1676,0,Author1Sections,1,Author2Sections),\"=0\")","v":8},3224,"debellare",0,0,0,0,0,0.1,0,0,0,0,0,0,0,0,0,0,0,0,0,0,0,0,0,0,0,0,0,0,0,"decreeing","privileged"]
[{"$f":"B1677+C1677","v":1.0476190476190477},{"$f":"D1677/Author1Sections","v":4.7619047619047616E-2},{"$f":"E1677/Author2Sections","v":1},{"$f":"COUNTIF(OFFSET(H1677,0,0,1,Author1Sections),\">0\")","v":1},{"$f":"COUNTIF(OFFSET(H1677,0,Author1Sections,1,Author2Sections),\"=0\")","v":8},3226,"decaid",0,0,0,0.1,0,0,0,0,0,0,0,0,0,0,0,0,0,0,0,0,0,0,0,0,0,0,0,0,0,"decrees","privy"]
[{"$f":"B1678+C1678","v":1.0476190476190477},{"$f":"D1678/Author1Sections","v":4.7619047619047616E-2},{"$f":"E1678/Author2Sections","v":1},{"$f":"COUNTIF(OFFSET(H1678,0,0,1,Author1Sections),\">0\")","v":1},{"$f":"COUNTIF(OFFSET(H1678,0,Author1Sections,1,Author2Sections),\"=0\")","v":8},3227,"deceased",0,0,0,0,0,0,0,0,0,0,0.1,0,0,0,0,0,0,0,0,0,0,0,0,0,0,0,0,0,0,"deem","proceeds"]
[{"$f":"B1679+C1679","v":1.0476190476190477},{"$f":"D1679/Author1Sections","v":4.7619047619047616E-2},{"$f":"E1679/Author2Sections","v":1},{"$f":"COUNTIF(OFFSET(H1679,0,0,1,Author1Sections),\">0\")","v":1},{"$f":"COUNTIF(OFFSET(H1679,0,Author1Sections,1,Author2Sections),\"=0\")","v":8},3229,"deceiu'd",0,0,0,0,0,0,0,0,0,0.1,0,0,0,0,0,0,0,0,0,0,0,0,0,0,0,0,0,0,0,"deem'd","proclaim'd"]
[{"$f":"B1680+C1680","v":1.0476190476190477},{"$f":"D1680/Author1Sections","v":4.7619047619047616E-2},{"$f":"E1680/Author2Sections","v":1},{"$f":"COUNTIF(OFFSET(H1680,0,0,1,Author1Sections),\">0\")","v":1},{"$f":"COUNTIF(OFFSET(H1680,0,Author1Sections,1,Author2Sections),\"=0\")","v":8},3233,"decieu'd",0,0,0,0,0,0,0,0,0.1,0,0,0,0,0,0,0,0,0,0,0,0,0,0,0,0,0,0,0,0,"deeme","procured"]
[{"$f":"B1681+C1681","v":1.0476190476190477},{"$f":"D1681/Author1Sections","v":4.7619047619047616E-2},{"$f":"E1681/Author2Sections","v":1},{"$f":"COUNTIF(OFFSET(H1681,0,0,1,Author1Sections),\">0\")","v":1},{"$f":"COUNTIF(OFFSET(H1681,0,Author1Sections,1,Author2Sections),\"=0\")","v":8},3234,"decieued",0,0,0,0,0,0,0.1,0,0,0,0,0,0,0,0,0,0,0,0,0,0,0,0,0,0,0,0,0,0,"deepelie","profaner"]
[{"$f":"B1682+C1682","v":1.0476190476190477},{"$f":"D1682/Author1Sections","v":4.7619047619047616E-2},{"$f":"E1682/Author2Sections","v":1},{"$f":"COUNTIF(OFFSET(H1682,0,0,1,Author1Sections),\">0\")","v":1},{"$f":"COUNTIF(OFFSET(H1682,0,Author1Sections,1,Author2Sections),\"=0\")","v":8},3235,"decke",0,0,0,0,7.4183979999999997E-2,0,0,0,0,0,0,0,0,0,0,0,0,0,0,0,0,0,0,0,0,0,0,0,0,"deepely","profitless"]
[{"$f":"B1683+C1683","v":1.0476190476190477},{"$f":"D1683/Author1Sections","v":4.7619047619047616E-2},{"$f":"E1683/Author2Sections","v":1},{"$f":"COUNTIF(OFFSET(H1683,0,0,1,Author1Sections),\">0\")","v":1},{"$f":"COUNTIF(OFFSET(H1683,0,Author1Sections,1,Author2Sections),\"=0\")","v":8},3236,"declare",0,0,0,0,0,0,0.1,0,0,0,0,0,0,0,0,0,0,0,0,0,0,0,0,0,0,0,0,0,0,"deeper","prognosticate"]
[{"$f":"B1684+C1684","v":1.0476190476190477},{"$f":"D1684/Author1Sections","v":4.7619047619047616E-2},{"$f":"E1684/Author2Sections","v":1},{"$f":"COUNTIF(OFFSET(H1684,0,0,1,Author1Sections),\">0\")","v":1},{"$f":"COUNTIF(OFFSET(H1684,0,Author1Sections,1,Author2Sections),\"=0\")","v":8},3237,"decreed",0,0,0,0,0,0,0,0,0.1,0,0,0,0,0,0,0,0,0,0,0,0,0,0,0,0,0,0,0,0,"deeply","promised"]
[{"$f":"B1685+C1685","v":1.0476190476190477},{"$f":"D1685/Author1Sections","v":4.7619047619047616E-2},{"$f":"E1685/Author2Sections","v":1},{"$f":"COUNTIF(OFFSET(H1685,0,0,1,Author1Sections),\">0\")","v":1},{"$f":"COUNTIF(OFFSET(H1685,0,Author1Sections,1,Author2Sections),\"=0\")","v":8},3238,"decreeing",0.1,0,0,0,0,0,0,0,0,0,0,0,0,0,0,0,0,0,0,0,0,0,0,0,0,0,0,0,0,"defaced","promontory"]
[{"$f":"B1686+C1686","v":1.0476190476190477},{"$f":"D1686/Author1Sections","v":4.7619047619047616E-2},{"$f":"E1686/Author2Sections","v":1},{"$f":"COUNTIF(OFFSET(H1686,0,0,1,Author1Sections),\">0\")","v":1},{"$f":"COUNTIF(OFFSET(H1686,0,Author1Sections,1,Author2Sections),\"=0\")","v":8},3239,"decrees",0,0,0,0,0,0,0,0,0.1,0,0,0,0,0,0,0,0,0,0,0,0,0,0,0,0,0,0,0,0,"defende","prompt"]
[{"$f":"B1687+C1687","v":1.0476190476190477},{"$f":"D1687/Author1Sections","v":4.7619047619047616E-2},{"$f":"E1687/Author2Sections","v":1},{"$f":"COUNTIF(OFFSET(H1687,0,0,1,Author1Sections),\">0\")","v":1},{"$f":"COUNTIF(OFFSET(H1687,0,Author1Sections,1,Author2Sections),\"=0\")","v":8},3240,"deem",0,0,0,0,0,0,0,0,0,0,0,0.1,0,0,0,0,0,0,0,0,0,0,0,0,0,0,0,0,0,"defied","pronounces"]
[{"$f":"B1688+C1688","v":1.0476190476190477},{"$f":"D1688/Author1Sections","v":4.7619047619047616E-2},{"$f":"E1688/Author2Sections","v":1},{"$f":"COUNTIF(OFFSET(H1688,0,0,1,Author1Sections),\">0\")","v":1},{"$f":"COUNTIF(OFFSET(H1688,0,Author1Sections,1,Author2Sections),\"=0\")","v":8},3241,"deem'd",0,0,0,0,0,0,0,0,0,0,0,0,0.1,0,0,0,0,0,0,0,0,0,0,0,0,0,0,0,0,"definiendum","proofs"]
[{"$f":"B1689+C1689","v":1.0476190476190477},{"$f":"D1689/Author1Sections","v":4.7619047619047616E-2},{"$f":"E1689/Author2Sections","v":1},{"$f":"COUNTIF(OFFSET(H1689,0,0,1,Author1Sections),\">0\")","v":1},{"$f":"COUNTIF(OFFSET(H1689,0,Author1Sections,1,Author2Sections),\"=0\")","v":8},3242,"deeme",0,0,0,0,0,0,0,0,0,0,0,0.1,0,0,0,0,0,0,0,0,0,0,0,0,0,0,0,0,0,"degree","proper"]
[{"$f":"B1690+C1690","v":1.0476190476190477},{"$f":"D1690/Author1Sections","v":4.7619047619047616E-2},{"$f":"E1690/Author2Sections","v":1},{"$f":"COUNTIF(OFFSET(H1690,0,0,1,Author1Sections),\">0\")","v":1},{"$f":"COUNTIF(OFFSET(H1690,0,Author1Sections,1,Author2Sections),\"=0\")","v":8},3243,"deepelie",0,0,0,0.1,0,0,0,0,0,0,0,0,0,0,0,0,0,0,0,0,0,0,0,0,0,0,0,0,0,"degrees","properties"]
[{"$f":"B1691+C1691","v":1.0476190476190477},{"$f":"D1691/Author1Sections","v":4.7619047619047616E-2},{"$f":"E1691/Author2Sections","v":1},{"$f":"COUNTIF(OFFSET(H1691,0,0,1,Author1Sections),\">0\")","v":1},{"$f":"COUNTIF(OFFSET(H1691,0,Author1Sections,1,Author2Sections),\"=0\")","v":8},3244,"deepely",0,0,0,0,0,0,0,0.1,0,0,0,0,0,0,0,0,0,0,0,0,0,0,0,0,0,0,0,0,0,"deignd","prophetic"]
[{"$f":"B1692+C1692","v":1.0476190476190477},{"$f":"D1692/Author1Sections","v":4.7619047619047616E-2},{"$f":"E1692/Author2Sections","v":1},{"$f":"COUNTIF(OFFSET(H1692,0,0,1,Author1Sections),\">0\")","v":1},{"$f":"COUNTIF(OFFSET(H1692,0,Author1Sections,1,Author2Sections),\"=0\")","v":8},3245,"deeper",0,0,0,0.1,0,0,0,0,0,0,0,0,0,0,0,0,0,0,0,0,0,0,0,0,0,0,0,0,0,"deitie","propping"]
[{"$f":"B1693+C1693","v":1.0476190476190477},{"$f":"D1693/Author1Sections","v":4.7619047619047616E-2},{"$f":"E1693/Author2Sections","v":1},{"$f":"COUNTIF(OFFSET(H1693,0,0,1,Author1Sections),\">0\")","v":1},{"$f":"COUNTIF(OFFSET(H1693,0,Author1Sections,1,Author2Sections),\"=0\")","v":8},3246,"deeply",0,0,0,0,0,0.1,0,0,0,0,0,0,0,0,0,0,0,0,0,0,0,0,0,0,0,0,0,0,0,"deliuer","protection"]
[{"$f":"B1694+C1694","v":1.0476190476190477},{"$f":"D1694/Author1Sections","v":4.7619047619047616E-2},{"$f":"E1694/Author2Sections","v":1},{"$f":"COUNTIF(OFFSET(H1694,0,0,1,Author1Sections),\">0\")","v":1},{"$f":"COUNTIF(OFFSET(H1694,0,Author1Sections,1,Author2Sections),\"=0\")","v":8},3249,"defaced",0,0.1,0,0,0,0,0,0,0,0,0,0,0,0,0,0,0,0,0,0,0,0,0,0,0,0,0,0,0,"deliuered","proving"]
[{"$f":"B1695+C1695","v":1.0476190476190477},{"$f":"D1695/Author1Sections","v":4.7619047619047616E-2},{"$f":"E1695/Author2Sections","v":1},{"$f":"COUNTIF(OFFSET(H1695,0,0,1,Author1Sections),\">0\")","v":1},{"$f":"COUNTIF(OFFSET(H1695,0,Author1Sections,1,Author2Sections),\"=0\")","v":8},3250,"defende",0,0,0,0,0,0,0,0,0,0,0.1,0,0,0,0,0,0,0,0,0,0,0,0,0,0,0,0,0,0,"delivered","pull'd"]
[{"$f":"B1696+C1696","v":1.0476190476190477},{"$f":"D1696/Author1Sections","v":4.7619047619047616E-2},{"$f":"E1696/Author2Sections","v":1},{"$f":"COUNTIF(OFFSET(H1696,0,0,1,Author1Sections),\">0\")","v":1},{"$f":"COUNTIF(OFFSET(H1696,0,Author1Sections,1,Author2Sections),\"=0\")","v":8},3251,"defied",0,0,0,0,7.4183979999999997E-2,0,0,0,0,0,0,0,0,0,0,0,0,0,0,0,0,0,0,0,0,0,0,0,0,"demaund","purple"]
[{"$f":"B1697+C1697","v":1.0476190476190477},{"$f":"D1697/Author1Sections","v":4.7619047619047616E-2},{"$f":"E1697/Author2Sections","v":1},{"$f":"COUNTIF(OFFSET(H1697,0,0,1,Author1Sections),\">0\")","v":1},{"$f":"COUNTIF(OFFSET(H1697,0,Author1Sections,1,Author2Sections),\"=0\")","v":8},3253,"definiendum",0,0,0,0,0,0,0,0.1,0,0,0,0,0,0,0,0,0,0,0,0,0,0,0,0,0,0,0,0,0,"demonstration","purposed"]
[{"$f":"B1698+C1698","v":1.0476190476190477},{"$f":"D1698/Author1Sections","v":4.7619047619047616E-2},{"$f":"E1698/Author2Sections","v":1},{"$f":"COUNTIF(OFFSET(H1698,0,0,1,Author1Sections),\">0\")","v":1},{"$f":"COUNTIF(OFFSET(H1698,0,Author1Sections,1,Author2Sections),\"=0\")","v":8},3254,"degree",0,0,0,0,0,0,0,0,0,0,0,0,0,0,0,0,0,0,0,0.1,0,0,0,0,0,0,0,0,0,"demurre","quaint"]
[{"$f":"B1699+C1699","v":1.0476190476190477},{"$f":"D1699/Author1Sections","v":4.7619047619047616E-2},{"$f":"E1699/Author2Sections","v":1},{"$f":"COUNTIF(OFFSET(H1699,0,0,1,Author1Sections),\">0\")","v":1},{"$f":"COUNTIF(OFFSET(H1699,0,Author1Sections,1,Author2Sections),\"=0\")","v":8},3255,"degrees",0,0,0,0,0,0,0,0,0.1,0,0,0,0,0,0,0,0,0,0,0,0,0,0,0,0,0,0,0,0,"denie","qualities"]
[{"$f":"B1700+C1700","v":1.0476190476190477},{"$f":"D1700/Author1Sections","v":4.7619047619047616E-2},{"$f":"E1700/Author2Sections","v":1},{"$f":"COUNTIF(OFFSET(H1700,0,0,1,Author1Sections),\">0\")","v":1},{"$f":"COUNTIF(OFFSET(H1700,0,Author1Sections,1,Author2Sections),\"=0\")","v":8},3258,"deignd",0.1,0,0,0,0,0,0,0,0,0,0,0,0,0,0,0,0,0,0,0,0,0,0,0,0,0,0,0,0,"denisen'd","question'd"]
[{"$f":"B1701+C1701","v":1.0476190476190477},{"$f":"D1701/Author1Sections","v":4.7619047619047616E-2},{"$f":"E1701/Author2Sections","v":1},{"$f":"COUNTIF(OFFSET(H1701,0,0,1,Author1Sections),\">0\")","v":1},{"$f":"COUNTIF(OFFSET(H1701,0,Author1Sections,1,Author2Sections),\"=0\")","v":8},3259,"deitie",0,0,0,0,0,0,0,0,0,0.1,0,0,0,0,0,0,0,0,0,0,0,0,0,0,0,0,0,0,0,"departure","quicken"]
[{"$f":"B1702+C1702","v":1.0476190476190477},{"$f":"D1702/Author1Sections","v":4.7619047619047616E-2},{"$f":"E1702/Author2Sections","v":1},{"$f":"COUNTIF(OFFSET(H1702,0,0,1,Author1Sections),\">0\")","v":1},{"$f":"COUNTIF(OFFSET(H1702,0,Author1Sections,1,Author2Sections),\"=0\")","v":8},3260,"deliuer",0,0,0,0,0,0.1,0,0,0,0,0,0,0,0,0,0,0,0,0,0,0,0,0,0,0,0,0,0,0,"depriu'd","quills"]
[{"$f":"B1703+C1703","v":1.0476190476190477},{"$f":"D1703/Author1Sections","v":4.7619047619047616E-2},{"$f":"E1703/Author2Sections","v":1},{"$f":"COUNTIF(OFFSET(H1703,0,0,1,Author1Sections),\">0\")","v":1},{"$f":"COUNTIF(OFFSET(H1703,0,Author1Sections,1,Author2Sections),\"=0\")","v":8},3261,"deliuered",0,0,0,0,0,0.1,0,0,0,0,0,0,0,0,0,0,0,0,0,0,0,0,0,0,0,0,0,0,0,"deriu'd","quips"]
[{"$f":"B1704+C1704","v":1.0476190476190477},{"$f":"D1704/Author1Sections","v":4.7619047619047616E-2},{"$f":"E1704/Author2Sections","v":1},{"$f":"COUNTIF(OFFSET(H1704,0,0,1,Author1Sections),\">0\")","v":1},{"$f":"COUNTIF(OFFSET(H1704,0,Author1Sections,1,Author2Sections),\"=0\")","v":8},3262,"delivered",0.1,0,0,0,0,0,0,0,0,0,0,0,0,0,0,0,0,0,0,0,0,0,0,0,0,0,0,0,0,"desart","quire"]
[{"$f":"B1705+C1705","v":1.0476190476190477},{"$f":"D1705/Author1Sections","v":4.7619047619047616E-2},{"$f":"E1705/Author2Sections","v":1},{"$f":"COUNTIF(OFFSET(H1705,0,0,1,Author1Sections),\">0\")","v":1},{"$f":"COUNTIF(OFFSET(H1705,0,Author1Sections,1,Author2Sections),\"=0\")","v":8},3265,"demaund",0,0,0,0,0,0,0,0,0,0,0,0,0,0,0,0,0,0,0,0.1,0,0,0,0,0,0,0,0,0,"described","quit"]
[{"$f":"B1706+C1706","v":1.0476190476190477},{"$f":"D1706/Author1Sections","v":4.7619047619047616E-2},{"$f":"E1706/Author2Sections","v":1},{"$f":"COUNTIF(OFFSET(H1706,0,0,1,Author1Sections),\">0\")","v":1},{"$f":"COUNTIF(OFFSET(H1706,0,Author1Sections,1,Author2Sections),\"=0\")","v":8},3266,"demonstration",0,0,0,0.1,0,0,0,0,0,0,0,0,0,0,0,0,0,0,0,0,0,0,0,0,0,0,0,0,0,"descride","quiver"]
[{"$f":"B1707+C1707","v":1.0476190476190477},{"$f":"D1707/Author1Sections","v":4.7619047619047616E-2},{"$f":"E1707/Author2Sections","v":1},{"$f":"COUNTIF(OFFSET(H1707,0,0,1,Author1Sections),\">0\")","v":1},{"$f":"COUNTIF(OFFSET(H1707,0,Author1Sections,1,Author2Sections),\"=0\")","v":8},3268,"demurre",0,0,0,0,0,0,0,0,0,0,0,0,0,0,0.1,0,0,0,0,0,0,0,0,0,0,0,0,0,0,"descried","rack"]
[{"$f":"B1708+C1708","v":1.0476190476190477},{"$f":"D1708/Author1Sections","v":4.7619047619047616E-2},{"$f":"E1708/Author2Sections","v":1},{"$f":"COUNTIF(OFFSET(H1708,0,0,1,Author1Sections),\">0\")","v":1},{"$f":"COUNTIF(OFFSET(H1708,0,Author1Sections,1,Author2Sections),\"=0\")","v":8},3270,"denie",0,0.1,0,0,0,0,0,0,0,0,0,0,0,0,0,0,0,0,0,0,0,0,0,0,0,0,0,0,0,"descries","radiance"]
[{"$f":"B1709+C1709","v":1.0476190476190477},{"$f":"D1709/Author1Sections","v":4.7619047619047616E-2},{"$f":"E1709/Author2Sections","v":1},{"$f":"COUNTIF(OFFSET(H1709,0,0,1,Author1Sections),\">0\")","v":1},{"$f":"COUNTIF(OFFSET(H1709,0,Author1Sections,1,Author2Sections),\"=0\")","v":8},3272,"denisen'd",0,0,0,0,0,0,0,0,0,0,0.1,0,0,0,0,0,0,0,0,0,0,0,0,0,0,0,0,0,0,"deseru'd","rail"]
[{"$f":"B1710+C1710","v":1.0476190476190477},{"$f":"D1710/Author1Sections","v":4.7619047619047616E-2},{"$f":"E1710/Author2Sections","v":1},{"$f":"COUNTIF(OFFSET(H1710,0,0,1,Author1Sections),\">0\")","v":1},{"$f":"COUNTIF(OFFSET(H1710,0,Author1Sections,1,Author2Sections),\"=0\")","v":8},3274,"departure",0,0,0,0.1,0,0,0,0,0,0,0,0,0,0,0,0,0,0,0,0,0,0,0,0,0,0,0,0,0,"deserued","rapt"]
[{"$f":"B1711+C1711","v":1.0476190476190477},{"$f":"D1711/Author1Sections","v":4.7619047619047616E-2},{"$f":"E1711/Author2Sections","v":1},{"$f":"COUNTIF(OFFSET(H1711,0,0,1,Author1Sections),\">0\")","v":1},{"$f":"COUNTIF(OFFSET(H1711,0,Author1Sections,1,Author2Sections),\"=0\")","v":8},3276,"depriu'd",0,0,0,0,0,0,0,0,0,0,0,0.1,0,0,0,0,0,0,0,0,0,0,0,0,0,0,0,0,0,"deseruing","rathe"]
[{"$f":"B1712+C1712","v":1.0476190476190477},{"$f":"D1712/Author1Sections","v":4.7619047619047616E-2},{"$f":"E1712/Author2Sections","v":1},{"$f":"COUNTIF(OFFSET(H1712,0,0,1,Author1Sections),\">0\")","v":1},{"$f":"COUNTIF(OFFSET(H1712,0,Author1Sections,1,Author2Sections),\"=0\")","v":8},3278,"deriu'd",0,0,0,0,0,0,0,0,0,0,0,0,0,0.1,0,0,0,0,0,0,0,0,0,0,0,0,0,0,0,"desier","raven"]
[{"$f":"B1713+C1713","v":1.0476190476190477},{"$f":"D1713/Author1Sections","v":4.7619047619047616E-2},{"$f":"E1713/Author2Sections","v":1},{"$f":"COUNTIF(OFFSET(H1713,0,0,1,Author1Sections),\">0\")","v":1},{"$f":"COUNTIF(OFFSET(H1713,0,Author1Sections,1,Author2Sections),\"=0\")","v":8},3280,"desart",0,0,0.1,0,0,0,0,0,0,0,0,0,0,0,0,0,0,0,0,0,0,0,0,0,0,0,0,0,0,"desiring","readers"]
[{"$f":"B1714+C1714","v":1.0476190476190477},{"$f":"D1714/Author1Sections","v":4.7619047619047616E-2},{"$f":"E1714/Author2Sections","v":1},{"$f":"COUNTIF(OFFSET(H1714,0,0,1,Author1Sections),\">0\")","v":1},{"$f":"COUNTIF(OFFSET(H1714,0,Author1Sections,1,Author2Sections),\"=0\")","v":8},3282,"described",0,0,0,0,0,0.1,0,0,0,0,0,0,0,0,0,0,0,0,0,0,0,0,0,0,0,0,0,0,0,"despight","real"]
[{"$f":"B1715+C1715","v":1.0476190476190477},{"$f":"D1715/Author1Sections","v":4.7619047619047616E-2},{"$f":"E1715/Author2Sections","v":1},{"$f":"COUNTIF(OFFSET(H1715,0,0,1,Author1Sections),\">0\")","v":1},{"$f":"COUNTIF(OFFSET(H1715,0,Author1Sections,1,Author2Sections),\"=0\")","v":8},3283,"descride",0,0,0,0,0,0,0,0,0,0,0,0,0,0,0.1,0,0,0,0,0,0,0,0,0,0,0,0,0,0,"despisde","rear"]
[{"$f":"B1716+C1716","v":1.0476190476190477},{"$f":"D1716/Author1Sections","v":4.7619047619047616E-2},{"$f":"E1716/Author2Sections","v":1},{"$f":"COUNTIF(OFFSET(H1716,0,0,1,Author1Sections),\">0\")","v":1},{"$f":"COUNTIF(OFFSET(H1716,0,Author1Sections,1,Author2Sections),\"=0\")","v":8},3284,"descried",0,0,0,0,0,0,0,0,0,0,0,0.1,0,0,0,0,0,0,0,0,0,0,0,0,0,0,0,0,0,"despise","rearing"]
[{"$f":"B1717+C1717","v":1.0476190476190477},{"$f":"D1717/Author1Sections","v":4.7619047619047616E-2},{"$f":"E1717/Author2Sections","v":1},{"$f":"COUNTIF(OFFSET(H1717,0,0,1,Author1Sections),\">0\")","v":1},{"$f":"COUNTIF(OFFSET(H1717,0,Author1Sections,1,Author2Sections),\"=0\")","v":8},3285,"descries",0,0,0,0,0,0,0,0,0,0,0,0.1,0,0,0,0,0,0,0,0,0,0,0,0,0,0,0,0,0,"destroyd","rebecks"]
[{"$f":"B1718+C1718","v":1.0476190476190477},{"$f":"D1718/Author1Sections","v":4.7619047619047616E-2},{"$f":"E1718/Author2Sections","v":1},{"$f":"COUNTIF(OFFSET(H1718,0,0,1,Author1Sections),\">0\")","v":1},{"$f":"COUNTIF(OFFSET(H1718,0,Author1Sections,1,Author2Sections),\"=0\")","v":8},3286,"deseru'd",0,0,0,0,0,0,0,0,0,0,0,0,0.1,0,0,0,0,0,0,0,0,0,0,0,0,0,0,0,0,"detest","receive"]
[{"$f":"B1719+C1719","v":1.0476190476190477},{"$f":"D1719/Author1Sections","v":4.7619047619047616E-2},{"$f":"E1719/Author2Sections","v":1},{"$f":"COUNTIF(OFFSET(H1719,0,0,1,Author1Sections),\">0\")","v":1},{"$f":"COUNTIF(OFFSET(H1719,0,Author1Sections,1,Author2Sections),\"=0\")","v":8},3287,"deserued",0,0,0,0,0,0,0,0.1,0,0,0,0,0,0,0,0,0,0,0,0,0,0,0,0,0,0,0,0,0,"deuil","received"]
[{"$f":"B1720+C1720","v":1.0476190476190477},{"$f":"D1720/Author1Sections","v":4.7619047619047616E-2},{"$f":"E1720/Author2Sections","v":1},{"$f":"COUNTIF(OFFSET(H1720,0,0,1,Author1Sections),\">0\")","v":1},{"$f":"COUNTIF(OFFSET(H1720,0,Author1Sections,1,Author2Sections),\"=0\")","v":8},3288,"deseruing",0,0,0,0,0,0,0,0,0.1,0,0,0,0,0,0,0,0,0,0,0,0,0,0,0,0,0,0,0,0,"deuise","receives"]
[{"$f":"B1721+C1721","v":1.0476190476190477},{"$f":"D1721/Author1Sections","v":4.7619047619047616E-2},{"$f":"E1721/Author2Sections","v":1},{"$f":"COUNTIF(OFFSET(H1721,0,0,1,Author1Sections),\">0\")","v":1},{"$f":"COUNTIF(OFFSET(H1721,0,Author1Sections,1,Author2Sections),\"=0\")","v":8},3290,"desier",0,0,0,0,0,0,0,0,0,0,0,0,0,0,0,0,0.1,0,0,0,0,0,0,0,0,0,0,0,0,"deuoutly","reck'ning"]
[{"$f":"B1722+C1722","v":1.0476190476190477},{"$f":"D1722/Author1Sections","v":4.7619047619047616E-2},{"$f":"E1722/Author2Sections","v":1},{"$f":"COUNTIF(OFFSET(H1722,0,0,1,Author1Sections),\">0\")","v":1},{"$f":"COUNTIF(OFFSET(H1722,0,Author1Sections,1,Author2Sections),\"=0\")","v":8},3292,"desiring",0,0,0,0,0,0.1,0,0,0,0,0,0,0,0,0,0,0,0,0,0,0,0,0,0,0,0,0,0,0,"devise","recks"]
[{"$f":"B1723+C1723","v":1.0476190476190477},{"$f":"D1723/Author1Sections","v":4.7619047619047616E-2},{"$f":"E1723/Author2Sections","v":1},{"$f":"COUNTIF(OFFSET(H1723,0,0,1,Author1Sections),\">0\")","v":1},{"$f":"COUNTIF(OFFSET(H1723,0,Author1Sections,1,Author2Sections),\"=0\")","v":8},3294,"despight",0,0,0,0,7.4183979999999997E-2,0,0,0,0,0,0,0,0,0,0,0,0,0,0,0,0,0,0,0,0,0,0,0,0,"devize","recompense"]
[{"$f":"B1724+C1724","v":1.0476190476190477},{"$f":"D1724/Author1Sections","v":4.7619047619047616E-2},{"$f":"E1724/Author2Sections","v":1},{"$f":"COUNTIF(OFFSET(H1724,0,0,1,Author1Sections),\">0\")","v":1},{"$f":"COUNTIF(OFFSET(H1724,0,Author1Sections,1,Author2Sections),\"=0\")","v":8},3295,"despisde",0,0,0,0,0,0,0,0,0,0,0,0,0,0,0,0.1,0,0,0,0,0,0,0,0,0,0,0,0,0,"devour","reconciled"]
[{"$f":"B1725+C1725","v":1.0476190476190477},{"$f":"D1725/Author1Sections","v":4.7619047619047616E-2},{"$f":"E1725/Author2Sections","v":1},{"$f":"COUNTIF(OFFSET(H1725,0,0,1,Author1Sections),\">0\")","v":1},{"$f":"COUNTIF(OFFSET(H1725,0,Author1Sections,1,Author2Sections),\"=0\")","v":8},3296,"despise",0,0,0,0,0,0,0,0,0,0,0,0.1,0,0,0,0,0,0,0,0,0,0,0,0,0,0,0,0,0,"devoure","rectify"]
[{"$f":"B1726+C1726","v":1.0476190476190477},{"$f":"D1726/Author1Sections","v":4.7619047619047616E-2},{"$f":"E1726/Author2Sections","v":1},{"$f":"COUNTIF(OFFSET(H1726,0,0,1,Author1Sections),\">0\")","v":1},{"$f":"COUNTIF(OFFSET(H1726,0,Author1Sections,1,Author2Sections),\"=0\")","v":8},3300,"destroyd",0,0,0,0,0,0,0,0,0,0,0,0,0,0.1,0,0,0,0,0,0,0,0,0,0,0,0,0,0,0,"devouring","reeds"]
[{"$f":"B1727+C1727","v":1.0476190476190477},{"$f":"D1727/Author1Sections","v":4.7619047619047616E-2},{"$f":"E1727/Author2Sections","v":1},{"$f":"COUNTIF(OFFSET(H1727,0,0,1,Author1Sections),\">0\")","v":1},{"$f":"COUNTIF(OFFSET(H1727,0,Author1Sections,1,Author2Sections),\"=0\")","v":8},3301,"detest",0,0,0,0,0,0,0,0,0,0,0,0,0,0,0,0,0,0,0,0,7.0372980000000002E-2,0,0,0,0,0,0,0,0,"dian","reeleth"]
[{"$f":"B1728+C1728","v":1.0476190476190477},{"$f":"D1728/Author1Sections","v":4.7619047619047616E-2},{"$f":"E1728/Author2Sections","v":1},{"$f":"COUNTIF(OFFSET(H1728,0,0,1,Author1Sections),\">0\")","v":1},{"$f":"COUNTIF(OFFSET(H1728,0,Author1Sections,1,Author2Sections),\"=0\")","v":8},3302,"deuil",0,0,0,0,0,0,0,0,0,0,0,0,0,0,0,0,0,0.1,0,0,0,0,0,0,0,0,0,0,0,"dictionaries","refigured"]
[{"$f":"B1729+C1729","v":1.0476190476190477},{"$f":"D1729/Author1Sections","v":4.7619047619047616E-2},{"$f":"E1729/Author2Sections","v":1},{"$f":"COUNTIF(OFFSET(H1729,0,0,1,Author1Sections),\">0\")","v":1},{"$f":"COUNTIF(OFFSET(H1729,0,Author1Sections,1,Author2Sections),\"=0\")","v":8},3303,"deuise",0,0,0,0,0,0,0,0,0,0.1,0,0,0,0,0,0,0,0,0,0,0,0,0,0,0,0,0,0,0,"diets","reft"]
[{"$f":"B1730+C1730","v":1.0476190476190477},{"$f":"D1730/Author1Sections","v":4.7619047619047616E-2},{"$f":"E1730/Author2Sections","v":1},{"$f":"COUNTIF(OFFSET(H1730,0,0,1,Author1Sections),\">0\")","v":1},{"$f":"COUNTIF(OFFSET(H1730,0,Author1Sections,1,Author2Sections),\"=0\")","v":8},3304,"deuoutly",0,0,0,0,0,0,0,0,0,0,0.1,0,0,0,0,0,0,0,0,0,0,0,0,0,0,0,0,0,0,"difficulties","refuse"]
[{"$f":"B1731+C1731","v":1.0476190476190477},{"$f":"D1731/Author1Sections","v":4.7619047619047616E-2},{"$f":"E1731/Author2Sections","v":1},{"$f":"COUNTIF(OFFSET(H1731,0,0,1,Author1Sections),\">0\")","v":1},{"$f":"COUNTIF(OFFSET(H1731,0,Author1Sections,1,Author2Sections),\"=0\")","v":8},3307,"devise",0,0,0.1,0,0,0,0,0,0,0,0,0,0,0,0,0,0,0,0,0,0,0,0,0,0,0,0,0,0,"dilucidate","refused"]
[{"$f":"B1732+C1732","v":1.0476190476190477},{"$f":"D1732/Author1Sections","v":4.7619047619047616E-2},{"$f":"E1732/Author2Sections","v":1},{"$f":"COUNTIF(OFFSET(H1732,0,0,1,Author1Sections),\">0\")","v":1},{"$f":"COUNTIF(OFFSET(H1732,0,Author1Sections,1,Author2Sections),\"=0\")","v":8},3308,"devize",0,0,0,0,7.4183979999999997E-2,0,0,0,0,0,0,0,0,0,0,0,0,0,0,0,0,0,0,0,0,0,0,0,0,"diminish","regain'd"]
[{"$f":"B1733+C1733","v":1.0476190476190477},{"$f":"D1733/Author1Sections","v":4.7619047619047616E-2},{"$f":"E1733/Author2Sections","v":1},{"$f":"COUNTIF(OFFSET(H1733,0,0,1,Author1Sections),\">0\")","v":1},{"$f":"COUNTIF(OFFSET(H1733,0,Author1Sections,1,Author2Sections),\"=0\")","v":8},3309,"devour",0,0,0,0.1,0,0,0,0,0,0,0,0,0,0,0,0,0,0,0,0,0,0,0,0,0,0,0,0,0,"dire","regions"]
[{"$f":"B1734+C1734","v":1.0476190476190477},{"$f":"D1734/Author1Sections","v":4.7619047619047616E-2},{"$f":"E1734/Author2Sections","v":1},{"$f":"COUNTIF(OFFSET(H1734,0,0,1,Author1Sections),\">0\")","v":1},{"$f":"COUNTIF(OFFSET(H1734,0,Author1Sections,1,Author2Sections),\"=0\")","v":8},3310,"devoure",0.1,0,0,0,0,0,0,0,0,0,0,0,0,0,0,0,0,0,0,0,0,0,0,0,0,0,0,0,0,"directed","register"]
[{"$f":"B1735+C1735","v":1.0476190476190477},{"$f":"D1735/Author1Sections","v":4.7619047619047616E-2},{"$f":"E1735/Author2Sections","v":1},{"$f":"COUNTIF(OFFSET(H1735,0,0,1,Author1Sections),\">0\")","v":1},{"$f":"COUNTIF(OFFSET(H1735,0,Author1Sections,1,Author2Sections),\"=0\")","v":8},3311,"devouring",0.1,0,0,0,0,0,0,0,0,0,0,0,0,0,0,0,0,0,0,0,0,0,0,0,0,0,0,0,0,"disagree","reign'd"]
[{"$f":"B1736+C1736","v":1.0476190476190477},{"$f":"D1736/Author1Sections","v":4.7619047619047616E-2},{"$f":"E1736/Author2Sections","v":1},{"$f":"COUNTIF(OFFSET(H1736,0,0,1,Author1Sections),\">0\")","v":1},{"$f":"COUNTIF(OFFSET(H1736,0,Author1Sections,1,Author2Sections),\"=0\")","v":8},3319,"dian",0,0,0,0,0,0,0,0,0,0,0,0,0,0,0,0,0,0,0,0,7.0372980000000002E-2,0,0,0,0,0,0,0,0,"disanulled","religion's"]
[{"$f":"B1737+C1737","v":1.0476190476190477},{"$f":"D1737/Author1Sections","v":4.7619047619047616E-2},{"$f":"E1737/Author2Sections","v":1},{"$f":"COUNTIF(OFFSET(H1737,0,0,1,Author1Sections),\">0\")","v":1},{"$f":"COUNTIF(OFFSET(H1737,0,Author1Sections,1,Author2Sections),\"=0\")","v":8},3320,"dictionaries",0,0,0,0,0,0,0,0,0,0,0.1,0,0,0,0,0,0,0,0,0,0,0,0,0,0,0,0,0,0,"discerne","remain"]
[{"$f":"B1738+C1738","v":1.0476190476190477},{"$f":"D1738/Author1Sections","v":4.7619047619047616E-2},{"$f":"E1738/Author2Sections","v":1},{"$f":"COUNTIF(OFFSET(H1738,0,0,1,Author1Sections),\">0\")","v":1},{"$f":"COUNTIF(OFFSET(H1738,0,Author1Sections,1,Author2Sections),\"=0\")","v":8},3323,"diets",0,0,0,0,0,0,0,0,0,0,0,0,0.1,0,0,0,0,0,0,0,0,0,0,0,0,0,0,0,0,"discharge","remain'd"]
[{"$f":"B1739+C1739","v":1.0476190476190477},{"$f":"D1739/Author1Sections","v":4.7619047619047616E-2},{"$f":"E1739/Author2Sections","v":1},{"$f":"COUNTIF(OFFSET(H1739,0,0,1,Author1Sections),\">0\")","v":1},{"$f":"COUNTIF(OFFSET(H1739,0,Author1Sections,1,Author2Sections),\"=0\")","v":8},3326,"difficulties",0,0,0,0,0,0,0,0,0.1,0,0,0,0,0,0,0,0,0,0,0,0,0,0,0,0,0,0,0,0,"disciplinating","remember'd"]
[{"$f":"B1740+C1740","v":1.0476190476190477},{"$f":"D1740/Author1Sections","v":4.7619047619047616E-2},{"$f":"E1740/Author2Sections","v":1},{"$f":"COUNTIF(OFFSET(H1740,0,0,1,Author1Sections),\">0\")","v":1},{"$f":"COUNTIF(OFFSET(H1740,0,Author1Sections,1,Author2Sections),\"=0\")","v":8},3329,"dilucidate",0,0,0,0,0,0,0,0.1,0,0,0,0,0,0,0,0,0,0,0,0,0,0,0,0,0,0,0,0,0,"discourse","remorseless"]
[{"$f":"B1741+C1741","v":1.0476190476190477},{"$f":"D1741/Author1Sections","v":4.7619047619047616E-2},{"$f":"E1741/Author2Sections","v":1},{"$f":"COUNTIF(OFFSET(H1741,0,0,1,Author1Sections),\">0\")","v":1},{"$f":"COUNTIF(OFFSET(H1741,0,Author1Sections,1,Author2Sections),\"=0\")","v":8},3330,"diminish",0,0,0,0,0,0,0,0,0.1,0,0,0,0,0,0,0,0,0,0,0,0,0,0,0,0,0,0,0,0,"discrie","removed"]
[{"$f":"B1742+C1742","v":1.0476190476190477},{"$f":"D1742/Author1Sections","v":4.7619047619047616E-2},{"$f":"E1742/Author2Sections","v":1},{"$f":"COUNTIF(OFFSET(H1742,0,0,1,Author1Sections),\">0\")","v":1},{"$f":"COUNTIF(OFFSET(H1742,0,Author1Sections,1,Author2Sections),\"=0\")","v":8},3334,"dire",0,0,0,0,0,0.1,0,0,0,0,0,0,0,0,0,0,0,0,0,0,0,0,0,0,0,0,0,0,0,"discries","render"]
[{"$f":"B1743+C1743","v":1.0476190476190477},{"$f":"D1743/Author1Sections","v":4.7619047619047616E-2},{"$f":"E1743/Author2Sections","v":1},{"$f":"COUNTIF(OFFSET(H1743,0,0,1,Author1Sections),\">0\")","v":1},{"$f":"COUNTIF(OFFSET(H1743,0,Author1Sections,1,Author2Sections),\"=0\")","v":8},3335,"directed",0,0,0,0,0,0,0.1,0,0,0,0,0,0,0,0,0,0,0,0,0,0,0,0,0,0,0,0,0,0,"disdaines","renewest"]
[{"$f":"B1744+C1744","v":1.0476190476190477},{"$f":"D1744/Author1Sections","v":4.7619047619047616E-2},{"$f":"E1744/Author2Sections","v":1},{"$f":"COUNTIF(OFFSET(H1744,0,0,1,Author1Sections),\">0\")","v":1},{"$f":"COUNTIF(OFFSET(H1744,0,Author1Sections,1,Author2Sections),\"=0\")","v":8},3336,"disagree",0,0,0,0,7.4183979999999997E-2,0,0,0,0,0,0,0,0,0,0,0,0,0,0,0,0,0,0,0,0,0,0,0,0,"disease","rents"]
[{"$f":"B1745+C1745","v":1.0476190476190477},{"$f":"D1745/Author1Sections","v":4.7619047619047616E-2},{"$f":"E1745/Author2Sections","v":1},{"$f":"COUNTIF(OFFSET(H1745,0,0,1,Author1Sections),\">0\")","v":1},{"$f":"COUNTIF(OFFSET(H1745,0,Author1Sections,1,Author2Sections),\"=0\")","v":8},3337,"disanulled",0,0,0,0,0,0.1,0,0,0,0,0,0,0,0,0,0,0,0,0,0,0,0,0,0,0,0,0,0,0,"disguise","repairs"]
[{"$f":"B1746+C1746","v":1.0476190476190477},{"$f":"D1746/Author1Sections","v":4.7619047619047616E-2},{"$f":"E1746/Author2Sections","v":1},{"$f":"COUNTIF(OFFSET(H1746,0,0,1,Author1Sections),\">0\")","v":1},{"$f":"COUNTIF(OFFSET(H1746,0,Author1Sections,1,Author2Sections),\"=0\")","v":8},3338,"discerne",0,0,0,0,0,0,0,0,0,0,0,0,0,0,0,0,0,0,0,0.1,0,0,0,0,0,0,0,0,0,"disheuld","repeat"]
[{"$f":"B1747+C1747","v":1.0476190476190477},{"$f":"D1747/Author1Sections","v":4.7619047619047616E-2},{"$f":"E1747/Author2Sections","v":1},{"$f":"COUNTIF(OFFSET(H1747,0,0,1,Author1Sections),\">0\")","v":1},{"$f":"COUNTIF(OFFSET(H1747,0,Author1Sections,1,Author2Sections),\"=0\")","v":8},3339,"discharge",0,0,0,0,0,0,0,0,0,0,0,0,0,0,0,0,0,0,0.1,0,0,0,0,0,0,0,0,0,0,"dismay","replication"]
[{"$f":"B1748+C1748","v":1.0476190476190477},{"$f":"D1748/Author1Sections","v":4.7619047619047616E-2},{"$f":"E1748/Author2Sections","v":1},{"$f":"COUNTIF(OFFSET(H1748,0,0,1,Author1Sections),\">0\")","v":1},{"$f":"COUNTIF(OFFSET(H1748,0,Author1Sections,1,Author2Sections),\"=0\")","v":8},3340,"disciplinating",0,0,0,0,0,0.1,0,0,0,0,0,0,0,0,0,0,0,0,0,0,0,0,0,0,0,0,0,0,0,"dismisse","replied"]
[{"$f":"B1749+C1749","v":1.0476190476190477},{"$f":"D1749/Author1Sections","v":4.7619047619047616E-2},{"$f":"E1749/Author2Sections","v":1},{"$f":"COUNTIF(OFFSET(H1749,0,0,1,Author1Sections),\">0\")","v":1},{"$f":"COUNTIF(OFFSET(H1749,0,Author1Sections,1,Author2Sections),\"=0\")","v":8},3343,"discourse",0,0,0,0,0,0,0,0,0,0,0,0,0,0,0.1,0,0,0,0,0,0,0,0,0,0,0,0,0,0,"disnounce","reproach"]
[{"$f":"B1750+C1750","v":1.0476190476190477},{"$f":"D1750/Author1Sections","v":4.7619047619047616E-2},{"$f":"E1750/Author2Sections","v":1},{"$f":"COUNTIF(OFFSET(H1750,0,0,1,Author1Sections),\">0\")","v":1},{"$f":"COUNTIF(OFFSET(H1750,0,Author1Sections,1,Author2Sections),\"=0\")","v":8},3344,"discrie",0,0,0,0,0,0,0,0,0,0,0,0,0,0,0,0,0,0.1,0,0,0,0,0,0,0,0,0,0,0,"dispaire","reproof"]
[{"$f":"B1751+C1751","v":1.0476190476190477},{"$f":"D1751/Author1Sections","v":4.7619047619047616E-2},{"$f":"E1751/Author2Sections","v":1},{"$f":"COUNTIF(OFFSET(H1751,0,0,1,Author1Sections),\">0\")","v":1},{"$f":"COUNTIF(OFFSET(H1751,0,Author1Sections,1,Author2Sections),\"=0\")","v":8},3345,"discries",0,0,0,0,0,0,0,0,0,0,0,0,0.1,0,0,0,0,0,0,0,0,0,0,0,0,0,0,0,0,"dispairing","reserved"]
[{"$f":"B1752+C1752","v":1.0476190476190477},{"$f":"D1752/Author1Sections","v":4.7619047619047616E-2},{"$f":"E1752/Author2Sections","v":1},{"$f":"COUNTIF(OFFSET(H1752,0,0,1,Author1Sections),\">0\")","v":1},{"$f":"COUNTIF(OFFSET(H1752,0,Author1Sections,1,Author2Sections),\"=0\")","v":8},3346,"disdaines",0,0,0,0,0,0,0,0,0,0,0,0,0,0,0,0.1,0,0,0,0,0,0,0,0,0,0,0,0,0,"dispised","resolved"]
[{"$f":"B1753+C1753","v":1.0476190476190477},{"$f":"D1753/Author1Sections","v":4.7619047619047616E-2},{"$f":"E1753/Author2Sections","v":1},{"$f":"COUNTIF(OFFSET(H1753,0,0,1,Author1Sections),\">0\")","v":1},{"$f":"COUNTIF(OFFSET(H1753,0,Author1Sections,1,Author2Sections),\"=0\")","v":8},3348,"disease",0,0,0,0,0,0,0,0,0,0,0,0,0.1,0,0,0,0,0,0,0,0,0,0,0,0,0,0,0,0,"displaid","rests"]
[{"$f":"B1754+C1754","v":1.0476190476190477},{"$f":"D1754/Author1Sections","v":4.7619047619047616E-2},{"$f":"E1754/Author2Sections","v":1},{"$f":"COUNTIF(OFFSET(H1754,0,0,1,Author1Sections),\">0\")","v":1},{"$f":"COUNTIF(OFFSET(H1754,0,Author1Sections,1,Author2Sections),\"=0\")","v":8},3350,"disguise",0,0,0,0,0,0,0,0,0,0.1,0,0,0,0,0,0,0,0,0,0,0,0,0,0,0,0,0,0,0,"displayes","retired"]
[{"$f":"B1755+C1755","v":1.0476190476190477},{"$f":"D1755/Author1Sections","v":4.7619047619047616E-2},{"$f":"E1755/Author2Sections","v":1},{"$f":"COUNTIF(OFFSET(H1755,0,0,1,Author1Sections),\">0\")","v":1},{"$f":"COUNTIF(OFFSET(H1755,0,Author1Sections,1,Author2Sections),\"=0\")","v":8},3351,"disheuld",0,0,0,0,0,0,0,0,0,0,0,0,0,0,0,0,0,0,0,0,7.0372980000000002E-2,0,0,0,0,0,0,0,0,"displaying","revelry"]
[{"$f":"B1756+C1756","v":1.0476190476190477},{"$f":"D1756/Author1Sections","v":4.7619047619047616E-2},{"$f":"E1756/Author2Sections","v":1},{"$f":"COUNTIF(OFFSET(H1756,0,0,1,Author1Sections),\">0\")","v":1},{"$f":"COUNTIF(OFFSET(H1756,0,Author1Sections,1,Author2Sections),\"=0\")","v":8},3352,"dismay",0,0,0,0.1,0,0,0,0,0,0,0,0,0,0,0,0,0,0,0,0,0,0,0,0,0,0,0,0,0,"displease","reworded"]
[{"$f":"B1757+C1757","v":1.0476190476190477},{"$f":"D1757/Author1Sections","v":4.7619047619047616E-2},{"$f":"E1757/Author2Sections","v":1},{"$f":"COUNTIF(OFFSET(H1757,0,0,1,Author1Sections),\">0\")","v":1},{"$f":"COUNTIF(OFFSET(H1757,0,Author1Sections,1,Author2Sections),\"=0\")","v":8},3353,"dismisse",0,0,0,0,0,0,0,0,0,0,0,0,0,0,0,0,0,0,0,0,7.0372980000000002E-2,0,0,0,0,0,0,0,0,"disposition","rhymes"]
[{"$f":"B1758+C1758","v":1.0476190476190477},{"$f":"D1758/Author1Sections","v":4.7619047619047616E-2},{"$f":"E1758/Author2Sections","v":1},{"$f":"COUNTIF(OFFSET(H1758,0,0,1,Author1Sections),\">0\")","v":1},{"$f":"COUNTIF(OFFSET(H1758,0,Author1Sections,1,Author2Sections),\"=0\")","v":8},3355,"disnounce",0,0,0,0,0,0.1,0,0,0,0,0,0,0,0,0,0,0,0,0,0,0,0,0,0,0,0,0,0,0,"disprooved","richly"]
[{"$f":"B1759+C1759","v":1.0476190476190477},{"$f":"D1759/Author1Sections","v":4.7619047619047616E-2},{"$f":"E1759/Author2Sections","v":1},{"$f":"COUNTIF(OFFSET(H1759,0,0,1,Author1Sections),\">0\")","v":1},{"$f":"COUNTIF(OFFSET(H1759,0,Author1Sections,1,Author2Sections),\"=0\")","v":8},3356,"dispaire",0,0,0,0,0,0,0,0.1,0,0,0,0,0,0,0,0,0,0,0,0,0,0,0,0,0,0,0,0,0,"disproue","riding"]
[{"$f":"B1760+C1760","v":1.0476190476190477},{"$f":"D1760/Author1Sections","v":4.7619047619047616E-2},{"$f":"E1760/Author2Sections","v":1},{"$f":"COUNTIF(OFFSET(H1760,0,0,1,Author1Sections),\">0\")","v":1},{"$f":"COUNTIF(OFFSET(H1760,0,Author1Sections,1,Author2Sections),\"=0\")","v":8},3357,"dispairing",0,0,0,0,0,0,0,0,0,0,0,0,0,0,0,0,0,0,0,0,7.0372980000000002E-2,0,0,0,0,0,0,0,0,"distraught","rigg'd"]
[{"$f":"B1761+C1761","v":1.0476190476190477},{"$f":"D1761/Author1Sections","v":4.7619047619047616E-2},{"$f":"E1761/Author2Sections","v":1},{"$f":"COUNTIF(OFFSET(H1761,0,0,1,Author1Sections),\">0\")","v":1},{"$f":"COUNTIF(OFFSET(H1761,0,Author1Sections,1,Author2Sections),\"=0\")","v":8},3358,"dispised",0,0,0,0.1,0,0,0,0,0,0,0,0,0,0,0,0,0,0,0,0,0,0,0,0,0,0,0,0,0,"distressed","rightly"]
[{"$f":"B1762+C1762","v":1.0476190476190477},{"$f":"D1762/Author1Sections","v":4.7619047619047616E-2},{"$f":"E1762/Author2Sections","v":1},{"$f":"COUNTIF(OFFSET(H1762,0,0,1,Author1Sections),\">0\")","v":1},{"$f":"COUNTIF(OFFSET(H1762,0,Author1Sections,1,Author2Sections),\"=0\")","v":8},3359,"displaid",0,0,0,0,0,0,0,0,0,0,0,0,0,0,0,0.1,0,0,0,0,0,0,0,0,0,0,0,0,0,"ditch","rill"]
[{"$f":"B1763+C1763","v":1.0476190476190477},{"$f":"D1763/Author1Sections","v":4.7619047619047616E-2},{"$f":"E1763/Author2Sections","v":1},{"$f":"COUNTIF(OFFSET(H1763,0,0,1,Author1Sections),\">0\")","v":1},{"$f":"COUNTIF(OFFSET(H1763,0,Author1Sections,1,Author2Sections),\"=0\")","v":8},3361,"displayes",0,0,0,0,0,0,0,0,0,0.1,0,0,0,0,0,0,0,0,0,0,0,0,0,0,0,0,0,0,0,"diuerse","rills"]
[{"$f":"B1764+C1764","v":1.0476190476190477},{"$f":"D1764/Author1Sections","v":4.7619047619047616E-2},{"$f":"E1764/Author2Sections","v":1},{"$f":"COUNTIF(OFFSET(H1764,0,0,1,Author1Sections),\">0\")","v":1},{"$f":"COUNTIF(OFFSET(H1764,0,Author1Sections,1,Author2Sections),\"=0\")","v":8},3362,"displaying",0,0,0,0,0,0,0,0,0,0,0,0,0,0,0,0,0.1,0,0,0,0,0,0,0,0,0,0,0,0,"diuine","riper"]
[{"$f":"B1765+C1765","v":1.0476190476190477},{"$f":"D1765/Author1Sections","v":4.7619047619047616E-2},{"$f":"E1765/Author2Sections","v":1},{"$f":"COUNTIF(OFFSET(H1765,0,0,1,Author1Sections),\">0\")","v":1},{"$f":"COUNTIF(OFFSET(H1765,0,Author1Sections,1,Author2Sections),\"=0\")","v":8},3363,"displease",0,0,0,0,0,0,0,0,0,0,0,0,0.1,0,0,0,0,0,0,0,0,0,0,0,0,0,0,0,0,"dividendum","rising"]
[{"$f":"B1766+C1766","v":1.0476190476190477},{"$f":"D1766/Author1Sections","v":4.7619047619047616E-2},{"$f":"E1766/Author2Sections","v":1},{"$f":"COUNTIF(OFFSET(H1766,0,0,1,Author1Sections),\">0\")","v":1},{"$f":"COUNTIF(OFFSET(H1766,0,Author1Sections,1,Author2Sections),\"=0\")","v":8},3364,"disposition",0,0,0,0,0,0,0.1,0,0,0,0,0,0,0,0,0,0,0,0,0,0,0,0,0,0,0,0,0,0,"divin","rithmes"]
[{"$f":"B1767+C1767","v":1.0476190476190477},{"$f":"D1767/Author1Sections","v":4.7619047619047616E-2},{"$f":"E1767/Author2Sections","v":1},{"$f":"COUNTIF(OFFSET(H1767,0,0,1,Author1Sections),\">0\")","v":1},{"$f":"COUNTIF(OFFSET(H1767,0,Author1Sections,1,Author2Sections),\"=0\")","v":8},3365,"disprooved",0,0,0,0.1,0,0,0,0,0,0,0,0,0,0,0,0,0,0,0,0,0,0,0,0,0,0,0,0,0,"divisionate","rob'd"]
[{"$f":"B1768+C1768","v":1.0476190476190477},{"$f":"D1768/Author1Sections","v":4.7619047619047616E-2},{"$f":"E1768/Author2Sections","v":1},{"$f":"COUNTIF(OFFSET(H1768,0,0,1,Author1Sections),\">0\")","v":1},{"$f":"COUNTIF(OFFSET(H1768,0,Author1Sections,1,Author2Sections),\"=0\")","v":8},3366,"disproue",0,0,0,0,0,0,0,0,0,0,0,0,0,0,0.1,0,0,0,0,0,0,0,0,0,0,0,0,0,0,"dixi","robes"]
[{"$f":"B1769+C1769","v":1.0476190476190477},{"$f":"D1769/Author1Sections","v":4.7619047619047616E-2},{"$f":"E1769/Author2Sections","v":1},{"$f":"COUNTIF(OFFSET(H1769,0,0,1,Author1Sections),\">0\")","v":1},{"$f":"COUNTIF(OFFSET(H1769,0,Author1Sections,1,Author2Sections),\"=0\")","v":8},3372,"distraught",0,0,0,0,7.4183979999999997E-2,0,0,0,0,0,0,0,0,0,0,0,0,0,0,0,0,0,0,0,0,0,0,0,0,"doctor","rocking"]
[{"$f":"B1770+C1770","v":1.0476190476190477},{"$f":"D1770/Author1Sections","v":4.7619047619047616E-2},{"$f":"E1770/Author2Sections","v":1},{"$f":"COUNTIF(OFFSET(H1770,0,0,1,Author1Sections),\">0\")","v":1},{"$f":"COUNTIF(OFFSET(H1770,0,Author1Sections,1,Author2Sections),\"=0\")","v":8},3373,"distressed",0,0,0.1,0,0,0,0,0,0,0,0,0,0,0,0,0,0,0,0,0,0,0,0,0,0,0,0,0,0,"doctrine","rocks"]
[{"$f":"B1771+C1771","v":1.0476190476190477},{"$f":"D1771/Author1Sections","v":4.7619047619047616E-2},{"$f":"E1771/Author2Sections","v":1},{"$f":"COUNTIF(OFFSET(H1771,0,0,1,Author1Sections),\">0\")","v":1},{"$f":"COUNTIF(OFFSET(H1771,0,Author1Sections,1,Author2Sections),\"=0\")","v":8},3375,"ditch",0,0,0,0,0,0,0,0,0,0,0.1,0,0,0,0,0,0,0,0,0,0,0,0,0,0,0,0,0,0,"does","room"]
[{"$f":"B1772+C1772","v":1.0476190476190477},{"$f":"D1772/Author1Sections","v":4.7619047619047616E-2},{"$f":"E1772/Author2Sections","v":1},{"$f":"COUNTIF(OFFSET(H1772,0,0,1,Author1Sections),\">0\")","v":1},{"$f":"COUNTIF(OFFSET(H1772,0,Author1Sections,1,Author2Sections),\"=0\")","v":8},3376,"diuerse",0,0,0,0,0,0.1,0,0,0,0,0,0,0,0,0,0,0,0,0,0,0,0,0,0,0,0,0,0,0,"dole","rough"]
[{"$f":"B1773+C1773","v":1.0476190476190477},{"$f":"D1773/Author1Sections","v":4.7619047619047616E-2},{"$f":"E1773/Author2Sections","v":1},{"$f":"COUNTIF(OFFSET(H1773,0,0,1,Author1Sections),\">0\")","v":1},{"$f":"COUNTIF(OFFSET(H1773,0,Author1Sections,1,Author2Sections),\"=0\")","v":8},3377,"diuine",0,0,0,0,0,0,0,0,0,0,0,0,0,0,0,0,0,0,0,0,7.0372980000000002E-2,0,0,0,0,0,0,0,0,"doleful","rounds"]
[{"$f":"B1774+C1774","v":1.0476190476190477},{"$f":"D1774/Author1Sections","v":4.7619047619047616E-2},{"$f":"E1774/Author2Sections","v":1},{"$f":"COUNTIF(OFFSET(H1774,0,0,1,Author1Sections),\">0\")","v":1},{"$f":"COUNTIF(OFFSET(H1774,0,Author1Sections,1,Author2Sections),\"=0\")","v":8},3380,"dividendum",0,0,0,0,0,0,0,0.1,0,0,0,0,0,0,0,0,0,0,0,0,0,0,0,0,0,0,0,0,0,"dolorous","rouse"]
[{"$f":"B1775+C1775","v":1.0476190476190477},{"$f":"D1775/Author1Sections","v":4.7619047619047616E-2},{"$f":"E1775/Author2Sections","v":1},{"$f":"COUNTIF(OFFSET(H1775,0,0,1,Author1Sections),\">0\")","v":1},{"$f":"COUNTIF(OFFSET(H1775,0,Author1Sections,1,Author2Sections),\"=0\")","v":8},3381,"divin",0,0,0,0,7.4183979999999997E-2,0,0,0,0,0,0,0,0,0,0,0,0,0,0,0,0,0,0,0,0,0,0,0,0,"dolt","row"]
[{"$f":"B1776+C1776","v":1.0476190476190477},{"$f":"D1776/Author1Sections","v":4.7619047619047616E-2},{"$f":"E1776/Author2Sections","v":1},{"$f":"COUNTIF(OFFSET(H1776,0,0,1,Author1Sections),\">0\")","v":1},{"$f":"COUNTIF(OFFSET(H1776,0,Author1Sections,1,Author2Sections),\"=0\")","v":8},3384,"divisionate",0,0,0,0,0,0,0,0.1,0,0,0,0,0,0,0,0,0,0,0,0,0,0,0,0,0,0,0,0,0,"domina","rudeness"]
[{"$f":"B1777+C1777","v":1.0476190476190477},{"$f":"D1777/Author1Sections","v":4.7619047619047616E-2},{"$f":"E1777/Author2Sections","v":1},{"$f":"COUNTIF(OFFSET(H1777,0,0,1,Author1Sections),\">0\")","v":1},{"$f":"COUNTIF(OFFSET(H1777,0,Author1Sections,1,Author2Sections),\"=0\")","v":8},3385,"dixi",0,0,0,0,0,0.1,0,0,0,0,0,0,0,0,0,0,0,0,0,0,0,0,0,0,0,0,0,0,0,"doores","ruff"]
[{"$f":"B1778+C1778","v":1.0476190476190477},{"$f":"D1778/Author1Sections","v":4.7619047619047616E-2},{"$f":"E1778/Author2Sections","v":1},{"$f":"COUNTIF(OFFSET(H1778,0,0,1,Author1Sections),\">0\")","v":1},{"$f":"COUNTIF(OFFSET(H1778,0,Author1Sections,1,Author2Sections),\"=0\")","v":8},3386,"doctor",0,0,0,0,0,0,0,0,0,0,0,0,0,0,0,0.1,0,0,0,0,0,0,0,0,0,0,0,0,0,"dooth","ruffle"]
[{"$f":"B1779+C1779","v":1.0476190476190477},{"$f":"D1779/Author1Sections","v":4.7619047619047616E-2},{"$f":"E1779/Author2Sections","v":1},{"$f":"COUNTIF(OFFSET(H1779,0,0,1,Author1Sections),\">0\")","v":1},{"$f":"COUNTIF(OFFSET(H1779,0,Author1Sections,1,Author2Sections),\"=0\")","v":8},3387,"doctrine",0,0,0,0,0,0,0.1,0,0,0,0,0,0,0,0,0,0,0,0,0,0,0,0,0,0,0,0,0,0,"dotes","ruinate"]
[{"$f":"B1780+C1780","v":1.0476190476190477},{"$f":"D1780/Author1Sections","v":4.7619047619047616E-2},{"$f":"E1780/Author2Sections","v":1},{"$f":"COUNTIF(OFFSET(H1780,0,0,1,Author1Sections),\">0\")","v":1},{"$f":"COUNTIF(OFFSET(H1780,0,Author1Sections,1,Author2Sections),\"=0\")","v":8},3388,"does",0,0,0,0.1,0,0,0,0,0,0,0,0,0,0,0,0,0,0,0,0,0,0,0,0,0,0,0,0,0,"doubtfull","rumour"]
[{"$f":"B1781+C1781","v":1.0476190476190477},{"$f":"D1781/Author1Sections","v":4.7619047619047616E-2},{"$f":"E1781/Author2Sections","v":1},{"$f":"COUNTIF(OFFSET(H1781,0,0,1,Author1Sections),\">0\")","v":1},{"$f":"COUNTIF(OFFSET(H1781,0,Author1Sections,1,Author2Sections),\"=0\")","v":8},3389,"dole",0,0,0,0,7.4183979999999997E-2,0,0,0,0,0,0,0,0,0,0,0,0,0,0,0,0,0,0,0,0,0,0,0,0,"doubting","rural"]
[{"$f":"B1782+C1782","v":1.0476190476190477},{"$f":"D1782/Author1Sections","v":4.7619047619047616E-2},{"$f":"E1782/Author2Sections","v":1},{"$f":"COUNTIF(OFFSET(H1782,0,0,1,Author1Sections),\">0\")","v":1},{"$f":"COUNTIF(OFFSET(H1782,0,Author1Sections,1,Author2Sections),\"=0\")","v":8},3390,"doleful",0,0,0,0,0,0,0,0.1,0,0,0,0,0,0,0,0,0,0,0,0,0,0,0,0,0,0,0,0,0,"doue","russet"]
[{"$f":"B1783+C1783","v":1.0476190476190477},{"$f":"D1783/Author1Sections","v":4.7619047619047616E-2},{"$f":"E1783/Author2Sections","v":1},{"$f":"COUNTIF(OFFSET(H1783,0,0,1,Author1Sections),\">0\")","v":1},{"$f":"COUNTIF(OFFSET(H1783,0,Author1Sections,1,Author2Sections),\"=0\")","v":8},3391,"dolorous",0,0,0,0,0,0.1,0,0,0,0,0,0,0,0,0,0,0,0,0,0,0,0,0,0,0,0,0,0,0,"doues","rustling"]
[{"$f":"B1784+C1784","v":1.0476190476190477},{"$f":"D1784/Author1Sections","v":4.7619047619047616E-2},{"$f":"E1784/Author2Sections","v":1},{"$f":"COUNTIF(OFFSET(H1784,0,0,1,Author1Sections),\">0\")","v":1},{"$f":"COUNTIF(OFFSET(H1784,0,Author1Sections,1,Author2Sections),\"=0\")","v":8},3393,"dolt",0,0,0,0,0,0,0,0.1,0,0,0,0,0,0,0,0,0,0,0,0,0,0,0,0,0,0,0,0,0,"dranke","safest"]
[{"$f":"B1785+C1785","v":1.0476190476190477},{"$f":"D1785/Author1Sections","v":4.7619047619047616E-2},{"$f":"E1785/Author2Sections","v":1},{"$f":"COUNTIF(OFFSET(H1785,0,0,1,Author1Sections),\">0\")","v":1},{"$f":"COUNTIF(OFFSET(H1785,0,Author1Sections,1,Author2Sections),\"=0\")","v":8},3394,"domina",0,0,0,0,0,0.1,0,0,0,0,0,0,0,0,0,0,0,0,0,0,0,0,0,0,0,0,0,0,0,"drave","saffron"]
[{"$f":"B1786+C1786","v":1.0476190476190477},{"$f":"D1786/Author1Sections","v":4.7619047619047616E-2},{"$f":"E1786/Author2Sections","v":1},{"$f":"COUNTIF(OFFSET(H1786,0,0,1,Author1Sections),\">0\")","v":1},{"$f":"COUNTIF(OFFSET(H1786,0,Author1Sections,1,Author2Sections),\"=0\")","v":8},3396,"doores",0,0,0,0,0,0,0,0,0,0,0,0,0,0,0,0,0,0,0,0,7.0372980000000002E-2,0,0,0,0,0,0,0,0,"drawes","sager"]
[{"$f":"B1787+C1787","v":1.0476190476190477},{"$f":"D1787/Author1Sections","v":4.7619047619047616E-2},{"$f":"E1787/Author2Sections","v":1},{"$f":"COUNTIF(OFFSET(H1787,0,0,1,Author1Sections),\">0\")","v":1},{"$f":"COUNTIF(OFFSET(H1787,0,Author1Sections,1,Author2Sections),\"=0\")","v":8},3397,"dooth",0.1,0,0,0,0,0,0,0,0,0,0,0,0,0,0,0,0,0,0,0,0,0,0,0,0,0,0,0,0,"drawne","saintly"]
[{"$f":"B1788+C1788","v":1.0476190476190477},{"$f":"D1788/Author1Sections","v":4.7619047619047616E-2},{"$f":"E1788/Author2Sections","v":1},{"$f":"COUNTIF(OFFSET(H1788,0,0,1,Author1Sections),\">0\")","v":1},{"$f":"COUNTIF(OFFSET(H1788,0,Author1Sections,1,Author2Sections),\"=0\")","v":8},3400,"dotes",0,0,0,0,0,0.1,0,0,0,0,0,0,0,0,0,0,0,0,0,0,0,0,0,0,0,0,0,0,0,"dredfull","saints"]
[{"$f":"B1789+C1789","v":1.0476190476190477},{"$f":"D1789/Author1Sections","v":4.7619047619047616E-2},{"$f":"E1789/Author2Sections","v":1},{"$f":"COUNTIF(OFFSET(H1789,0,0,1,Author1Sections),\">0\")","v":1},{"$f":"COUNTIF(OFFSET(H1789,0,Author1Sections,1,Author2Sections),\"=0\")","v":8},3401,"doubtfull",0,0,0,0.1,0,0,0,0,0,0,0,0,0,0,0,0,0,0,0,0,0,0,0,0,0,0,0,0,0,"dreriment","salad"]
[{"$f":"B1790+C1790","v":1.0476190476190477},{"$f":"D1790/Author1Sections","v":4.7619047619047616E-2},{"$f":"E1790/Author2Sections","v":1},{"$f":"COUNTIF(OFFSET(H1790,0,0,1,Author1Sections),\">0\")","v":1},{"$f":"COUNTIF(OFFSET(H1790,0,Author1Sections,1,Author2Sections),\"=0\")","v":8},3402,"doubting",0,0,0,0,0,0,0,0,0,0,0,0,0,0,0,0,0,0,0.1,0,0,0,0,0,0,0,0,0,0,"dribbed","salt"]
[{"$f":"B1791+C1791","v":1.0476190476190477},{"$f":"D1791/Author1Sections","v":4.7619047619047616E-2},{"$f":"E1791/Author2Sections","v":1},{"$f":"COUNTIF(OFFSET(H1791,0,0,1,Author1Sections),\">0\")","v":1},{"$f":"COUNTIF(OFFSET(H1791,0,Author1Sections,1,Author2Sections),\"=0\")","v":8},3403,"doue",0,0,0,0,0,0,0,0,0,0,0,0,0,0,0,0.1,0,0,0,0,0,0,0,0,0,0,0,0,0,"drinke","sanctified"]
[{"$f":"B1792+C1792","v":1.0476190476190477},{"$f":"D1792/Author1Sections","v":4.7619047619047616E-2},{"$f":"E1792/Author2Sections","v":1},{"$f":"COUNTIF(OFFSET(H1792,0,0,1,Author1Sections),\">0\")","v":1},{"$f":"COUNTIF(OFFSET(H1792,0,Author1Sections,1,Author2Sections),\"=0\")","v":8},3404,"doues",0,0,0,0,0,0,0,0,0,0,0,0,0,0,0,0,0,0.1,0,0,0,0,0,0,0,0,0,0,0,"drivle","sandals"]
[{"$f":"B1793+C1793","v":1.0476190476190477},{"$f":"D1793/Author1Sections","v":4.7619047619047616E-2},{"$f":"E1793/Author2Sections","v":1},{"$f":"COUNTIF(OFFSET(H1793,0,0,1,Author1Sections),\">0\")","v":1},{"$f":"COUNTIF(OFFSET(H1793,0,Author1Sections,1,Author2Sections),\"=0\")","v":8},3406,"dranke",0,0,0,0,0,0,0,0,0,0,0,0,0,0,0,0,0,0.1,0,0,0,0,0,0,0,0,0,0,0,"dropping","sang"]
[{"$f":"B1794+C1794","v":1.0476190476190477},{"$f":"D1794/Author1Sections","v":4.7619047619047616E-2},{"$f":"E1794/Author2Sections","v":1},{"$f":"COUNTIF(OFFSET(H1794,0,0,1,Author1Sections),\">0\")","v":1},{"$f":"COUNTIF(OFFSET(H1794,0,Author1Sections,1,Author2Sections),\"=0\")","v":8},3407,"drave",0.1,0,0,0,0,0,0,0,0,0,0,0,0,0,0,0,0,0,0,0,0,0,0,0,0,0,0,0,0,"drosse","sanguine"]
[{"$f":"B1795+C1795","v":1.0476190476190477},{"$f":"D1795/Author1Sections","v":4.7619047619047616E-2},{"$f":"E1795/Author2Sections","v":1},{"$f":"COUNTIF(OFFSET(H1795,0,0,1,Author1Sections),\">0\")","v":1},{"$f":"COUNTIF(OFFSET(H1795,0,Author1Sections,1,Author2Sections),\"=0\")","v":8},3408,"drawes",0,0,0,0,0,0,0,0,0,0,0,0,0,0,0,0,0,0.1,0,0,0,0,0,0,0,0,0,0,0,"drought","sap"]
[{"$f":"B1796+C1796","v":1.0476190476190477},{"$f":"D1796/Author1Sections","v":4.7619047619047616E-2},{"$f":"E1796/Author2Sections","v":1},{"$f":"COUNTIF(OFFSET(H1796,0,0,1,Author1Sections),\">0\")","v":1},{"$f":"COUNTIF(OFFSET(H1796,0,Author1Sections,1,Author2Sections),\"=0\")","v":8},3409,"drawne",0,0,0,0,0,0,0,0,0,0,0,0,0,0.1,0,0,0,0,0,0,0,0,0,0,0,0,0,0,0,"drownd","sapphire"]
[{"$f":"B1797+C1797","v":1.0476190476190477},{"$f":"D1797/Author1Sections","v":4.7619047619047616E-2},{"$f":"E1797/Author2Sections","v":1},{"$f":"COUNTIF(OFFSET(H1797,0,0,1,Author1Sections),\">0\")","v":1},{"$f":"COUNTIF(OFFSET(H1797,0,Author1Sections,1,Author2Sections),\"=0\")","v":8},3412,"dredfull",0,0,0,0,0,0,0,0.1,0,0,0,0,0,0,0,0,0,0,0,0,0,0,0,0,0,0,0,0,0,"drowne","sat"]
[{"$f":"B1798+C1798","v":1.0476190476190477},{"$f":"D1798/Author1Sections","v":4.7619047619047616E-2},{"$f":"E1798/Author2Sections","v":1},{"$f":"COUNTIF(OFFSET(H1798,0,0,1,Author1Sections),\">0\")","v":1},{"$f":"COUNTIF(OFFSET(H1798,0,Author1Sections,1,Author2Sections),\"=0\")","v":8},3413,"dreriment",0,0.1,0,0,0,0,0,0,0,0,0,0,0,0,0,0,0,0,0,0,0,0,0,0,0,0,0,0,0,"drowned","satisfaction"]
[{"$f":"B1799+C1799","v":1.0476190476190477},{"$f":"D1799/Author1Sections","v":4.7619047619047616E-2},{"$f":"E1799/Author2Sections","v":1},{"$f":"COUNTIF(OFFSET(H1799,0,0,1,Author1Sections),\">0\")","v":1},{"$f":"COUNTIF(OFFSET(H1799,0,Author1Sections,1,Author2Sections),\"=0\")","v":8},3416,"dribbed",0,0,0,0,0,0,0,0,0.1,0,0,0,0,0,0,0,0,0,0,0,0,0,0,0,0,0,0,0,0,"drunk","saturn"]
[{"$f":"B1800+C1800","v":1.0476190476190477},{"$f":"D1800/Author1Sections","v":4.7619047619047616E-2},{"$f":"E1800/Author2Sections","v":1},{"$f":"COUNTIF(OFFSET(H1800,0,0,1,Author1Sections),\">0\")","v":1},{"$f":"COUNTIF(OFFSET(H1800,0,Author1Sections,1,Author2Sections),\"=0\")","v":8},3418,"drinke",0,0,0,0,0,0,0,0,0,0,0,0,0,0,0,0,0,0,0.1,0,0,0,0,0,0,0,0,0,0,"duetie","saturn's"]
[{"$f":"B1801+C1801","v":1.0476190476190477},{"$f":"D1801/Author1Sections","v":4.7619047619047616E-2},{"$f":"E1801/Author2Sections","v":1},{"$f":"COUNTIF(OFFSET(H1801,0,0,1,Author1Sections),\">0\")","v":1},{"$f":"COUNTIF(OFFSET(H1801,0,Author1Sections,1,Author2Sections),\"=0\")","v":8},3419,"drivle",0,0,0,0,0,0,0,0.1,0,0,0,0,0,0,0,0,0,0,0,0,0,0,0,0,0,0,0,0,0,"dustie","satyrs"]
[{"$f":"B1802+C1802","v":1.0476190476190477},{"$f":"D1802/Author1Sections","v":4.7619047619047616E-2},{"$f":"E1802/Author2Sections","v":1},{"$f":"COUNTIF(OFFSET(H1802,0,0,1,Author1Sections),\">0\")","v":1},{"$f":"COUNTIF(OFFSET(H1802,0,Author1Sections,1,Author2Sections),\"=0\")","v":8},3422,"dropping",0,0,0,0,7.4183979999999997E-2,0,0,0,0,0,0,0,0,0,0,0,0,0,0,0,0,0,0,0,0,0,0,0,0,"dusty","sauce"]
[{"$f":"B1803+C1803","v":1.0476190476190477},{"$f":"D1803/Author1Sections","v":4.7619047619047616E-2},{"$f":"E1803/Author2Sections","v":1},{"$f":"COUNTIF(OFFSET(H1803,0,0,1,Author1Sections),\">0\")","v":1},{"$f":"COUNTIF(OFFSET(H1803,0,Author1Sections,1,Author2Sections),\"=0\")","v":8},3423,"drosse",0,0,0,0,7.4183979999999997E-2,0,0,0,0,0,0,0,0,0,0,0,0,0,0,0,0,0,0,0,0,0,0,0,0,"dutch","savoury"]
[{"$f":"B1804+C1804","v":1.0476190476190477},{"$f":"D1804/Author1Sections","v":4.7619047619047616E-2},{"$f":"E1804/Author2Sections","v":1},{"$f":"COUNTIF(OFFSET(H1804,0,0,1,Author1Sections),\">0\")","v":1},{"$f":"COUNTIF(OFFSET(H1804,0,Author1Sections,1,Author2Sections),\"=0\")","v":8},3424,"drought",0,0,0,0,0,0,0,0,0,0,0,0,0,0.1,0,0,0,0,0,0,0,0,0,0,0,0,0,0,0,"dutie","sawn"]
[{"$f":"B1805+C1805","v":1.0476190476190477},{"$f":"D1805/Author1Sections","v":4.7619047619047616E-2},{"$f":"E1805/Author2Sections","v":1},{"$f":"COUNTIF(OFFSET(H1805,0,0,1,Author1Sections),\">0\")","v":1},{"$f":"COUNTIF(OFFSET(H1805,0,Author1Sections,1,Author2Sections),\"=0\")","v":8},3426,"drownd",0,0,0,0,7.4183979999999997E-2,0,0,0,0,0,0,0,0,0,0,0,0,0,0,0,0,0,0,0,0,0,0,0,0,"duties","scale"]
[{"$f":"B1806+C1806","v":1.0476190476190477},{"$f":"D1806/Author1Sections","v":4.7619047619047616E-2},{"$f":"E1806/Author2Sections","v":1},{"$f":"COUNTIF(OFFSET(H1806,0,0,1,Author1Sections),\">0\")","v":1},{"$f":"COUNTIF(OFFSET(H1806,0,Author1Sections,1,Author2Sections),\"=0\")","v":8},3427,"drowne",0,0,0,0,0,0,0,0,0,0,0,0,0,0,0,0,0,0,0.1,0,0,0,0,0,0,0,0,0,0,"dutious","scant"]
[{"$f":"B1807+C1807","v":1.0476190476190477},{"$f":"D1807/Author1Sections","v":4.7619047619047616E-2},{"$f":"E1807/Author2Sections","v":1},{"$f":"COUNTIF(OFFSET(H1807,0,0,1,Author1Sections),\">0\")","v":1},{"$f":"COUNTIF(OFFSET(H1807,0,Author1Sections,1,Author2Sections),\"=0\")","v":8},3428,"drowned",0,0,0,0,7.4183979999999997E-2,0,0,0,0,0,0,0,0,0,0,0,0,0,0,0,0,0,0,0,0,0,0,0,0,"dwelt","scars"]
[{"$f":"B1808+C1808","v":1.0476190476190477},{"$f":"D1808/Author1Sections","v":4.7619047619047616E-2},{"$f":"E1808/Author2Sections","v":1},{"$f":"COUNTIF(OFFSET(H1808,0,0,1,Author1Sections),\">0\")","v":1},{"$f":"COUNTIF(OFFSET(H1808,0,Author1Sections,1,Author2Sections),\"=0\")","v":8},3433,"drunk",0,0,0,0,0,0,0,0,0,0,0,0,0,0,0,0,0.1,0,0,0,0,0,0,0,0,0,0,0,0,"dye","scatters"]
[{"$f":"B1809+C1809","v":1.0476190476190477},{"$f":"D1809/Author1Sections","v":4.7619047619047616E-2},{"$f":"E1809/Author2Sections","v":1},{"$f":"COUNTIF(OFFSET(H1809,0,0,1,Author1Sections),\">0\")","v":1},{"$f":"COUNTIF(OFFSET(H1809,0,Author1Sections,1,Author2Sections),\"=0\")","v":8},3434,"duetie",0,0,0,0,0,0,0,0,0,0,0,0,0,0,0,0,0,0,0.1,0,0,0,0,0,0,0,0,0,0,"dying","sceptr'd"]
[{"$f":"B1810+C1810","v":1.0476190476190477},{"$f":"D1810/Author1Sections","v":4.7619047619047616E-2},{"$f":"E1810/Author2Sections","v":1},{"$f":"COUNTIF(OFFSET(H1810,0,0,1,Author1Sections),\">0\")","v":1},{"$f":"COUNTIF(OFFSET(H1810,0,Author1Sections,1,Author2Sections),\"=0\")","v":8},3437,"dustie",0,0,0,0,0,0,0,0,0,0,0,0.1,0,0,0,0,0,0,0,0,0,0,0,0,0,0,0,0,0,"e'en","schedules"]
[{"$f":"B1811+C1811","v":1.0476190476190477},{"$f":"D1811/Author1Sections","v":4.7619047619047616E-2},{"$f":"E1811/Author2Sections","v":1},{"$f":"COUNTIF(OFFSET(H1811,0,0,1,Author1Sections),\">0\")","v":1},{"$f":"COUNTIF(OFFSET(H1811,0,Author1Sections,1,Author2Sections),\"=0\")","v":8},3438,"dusty",0,0,0,0,0,0,0,0,0,0,0,0,0,0,0,0,0,0,0,0.1,0,0,0,0,0,0,0,0,0,"eagles","school"]
[{"$f":"B1812+C1812","v":1.0476190476190477},{"$f":"D1812/Author1Sections","v":4.7619047619047616E-2},{"$f":"E1812/Author2Sections","v":1},{"$f":"COUNTIF(OFFSET(H1812,0,0,1,Author1Sections),\">0\")","v":1},{"$f":"COUNTIF(OFFSET(H1812,0,Author1Sections,1,Author2Sections),\"=0\")","v":8},3439,"dutch",0,0,0,0,0,0,0,0,0,0,0,0,0.1,0,0,0,0,0,0,0,0,0,0,0,0,0,0,0,0,"eare","scramble"]
[{"$f":"B1813+C1813","v":1.0476190476190477},{"$f":"D1813/Author1Sections","v":4.7619047619047616E-2},{"$f":"E1813/Author2Sections","v":1},{"$f":"COUNTIF(OFFSET(H1813,0,0,1,Author1Sections),\">0\")","v":1},{"$f":"COUNTIF(OFFSET(H1813,0,Author1Sections,1,Author2Sections),\"=0\")","v":8},3441,"dutie",0,0,0,0,0,0,0,0,0,0,0,0,0,0,0,0,0,0,0.1,0,0,0,0,0,0,0,0,0,0,"earle","scrannel"]
[{"$f":"B1814+C1814","v":1.0476190476190477},{"$f":"D1814/Author1Sections","v":4.7619047619047616E-2},{"$f":"E1814/Author2Sections","v":1},{"$f":"COUNTIF(OFFSET(H1814,0,0,1,Author1Sections),\">0\")","v":1},{"$f":"COUNTIF(OFFSET(H1814,0,Author1Sections,1,Author2Sections),\"=0\")","v":8},3442,"duties",0,0,0,0,7.4183979999999997E-2,0,0,0,0,0,0,0,0,0,0,0,0,0,0,0,0,0,0,0,0,0,0,0,0,"eased","scythed"]
[{"$f":"B1815+C1815","v":1.0476190476190477},{"$f":"D1815/Author1Sections","v":4.7619047619047616E-2},{"$f":"E1815/Author2Sections","v":1},{"$f":"COUNTIF(OFFSET(H1815,0,0,1,Author1Sections),\">0\")","v":1},{"$f":"COUNTIF(OFFSET(H1815,0,Author1Sections,1,Author2Sections),\"=0\")","v":8},3443,"dutious",0,0,0,0,0,0.1,0,0,0,0,0,0,0,0,0,0,0,0,0,0,0,0,0,0,0,0,0,0,0,"easefull","seal"]
[{"$f":"B1816+C1816","v":1.0476190476190477},{"$f":"D1816/Author1Sections","v":4.7619047619047616E-2},{"$f":"E1816/Author2Sections","v":1},{"$f":"COUNTIF(OFFSET(H1816,0,0,1,Author1Sections),\">0\")","v":1},{"$f":"COUNTIF(OFFSET(H1816,0,Author1Sections,1,Author2Sections),\"=0\")","v":8},3445,"dwelt",0.1,0,0,0,0,0,0,0,0,0,0,0,0,0,0,0,0,0,0,0,0,0,0,0,0,0,0,0,0,"easily","seal'd"]
[{"$f":"B1817+C1817","v":1.0476190476190477},{"$f":"D1817/Author1Sections","v":4.7619047619047616E-2},{"$f":"E1817/Author2Sections","v":1},{"$f":"COUNTIF(OFFSET(H1817,0,0,1,Author1Sections),\">0\")","v":1},{"$f":"COUNTIF(OFFSET(H1817,0,Author1Sections,1,Author2Sections),\"=0\")","v":8},3446,"dye",0,0,0,0,0,0,0.1,0,0,0,0,0,0,0,0,0,0,0,0,0,0,0,0,0,0,0,0,0,0,"east","sear'd"]
[{"$f":"B1818+C1818","v":1.0476190476190477},{"$f":"D1818/Author1Sections","v":4.7619047619047616E-2},{"$f":"E1818/Author2Sections","v":1},{"$f":"COUNTIF(OFFSET(H1818,0,0,1,Author1Sections),\">0\")","v":1},{"$f":"COUNTIF(OFFSET(H1818,0,Author1Sections,1,Author2Sections),\"=0\")","v":8},3447,"dying",0,0,0.1,0,0,0,0,0,0,0,0,0,0,0,0,0,0,0,0,0,0,0,0,0,0,0,0,0,0,"easterne","season'd"]
[{"$f":"B1819+C1819","v":1.0476190476190477},{"$f":"D1819/Author1Sections","v":4.7619047619047616E-2},{"$f":"E1819/Author2Sections","v":1},{"$f":"COUNTIF(OFFSET(H1819,0,0,1,Author1Sections),\">0\")","v":1},{"$f":"COUNTIF(OFFSET(H1819,0,Author1Sections,1,Author2Sections),\"=0\")","v":8},3449,"e'en",0,0,0,0,0,0,0,0,0,0,0,0,0,0,0.1,0,0,0,0,0,0,0,0,0,0,0,0,0,0,"ecce","seasons'"]
[{"$f":"B1820+C1820","v":1.0476190476190477},{"$f":"D1820/Author1Sections","v":4.7619047619047616E-2},{"$f":"E1820/Author2Sections","v":1},{"$f":"COUNTIF(OFFSET(H1820,0,0,1,Author1Sections),\">0\")","v":1},{"$f":"COUNTIF(OFFSET(H1820,0,Author1Sections,1,Author2Sections),\"=0\")","v":8},3450,"eagles",0,0,0,0,0,0,0,0,0,0,0.1,0,0,0,0,0,0,0,0,0,0,0,0,0,0,0,0,0,0,"eclipse","seats"]
[{"$f":"B1821+C1821","v":1.0476190476190477},{"$f":"D1821/Author1Sections","v":4.7619047619047616E-2},{"$f":"E1821/Author2Sections","v":1},{"$f":"COUNTIF(OFFSET(H1821,0,0,1,Author1Sections),\">0\")","v":1},{"$f":"COUNTIF(OFFSET(H1821,0,Author1Sections,1,Author2Sections),\"=0\")","v":8},3451,"eare",0,0,0,0,0,0,0,0,0,0,0,0,0,0,0,0.1,0,0,0,0,0,0,0,0,0,0,0,0,0,"edefie","secrecy"]
[{"$f":"B1822+C1822","v":1.0476190476190477},{"$f":"D1822/Author1Sections","v":4.7619047619047616E-2},{"$f":"E1822/Author2Sections","v":1},{"$f":"COUNTIF(OFFSET(H1822,0,0,1,Author1Sections),\">0\")","v":1},{"$f":"COUNTIF(OFFSET(H1822,0,Author1Sections,1,Author2Sections),\"=0\")","v":8},3452,"earle",0,0,0.1,0,0,0,0,0,0,0,0,0,0,0,0,0,0,0,0,0,0,0,0,0,0,0,0,0,0,"edifide","secure"]
[{"$f":"B1823+C1823","v":1.0476190476190477},{"$f":"D1823/Author1Sections","v":4.7619047619047616E-2},{"$f":"E1823/Author2Sections","v":1},{"$f":"COUNTIF(OFFSET(H1823,0,0,1,Author1Sections),\">0\")","v":1},{"$f":"COUNTIF(OFFSET(H1823,0,Author1Sections,1,Author2Sections),\"=0\")","v":8},3455,"eased",0,0,0,0,0,0,0,0,0,0,0,0,0,0,0,0,0,0,0,0.1,0,0,0,0,0,0,0,0,0,"edmond","security"]
[{"$f":"B1824+C1824","v":1.0476190476190477},{"$f":"D1824/Author1Sections","v":4.7619047619047616E-2},{"$f":"E1824/Author2Sections","v":1},{"$f":"COUNTIF(OFFSET(H1824,0,0,1,Author1Sections),\">0\")","v":1},{"$f":"COUNTIF(OFFSET(H1824,0,Author1Sections,1,Author2Sections),\"=0\")","v":8},3456,"easefull",0,0,0,0,0,0,0,0,0,0,0,0,0,0.1,0,0,0,0,0,0,0,0,0,0,0,0,0,0,0,"edward","sedge"]
[{"$f":"B1825+C1825","v":1.0476190476190477},{"$f":"D1825/Author1Sections","v":4.7619047619047616E-2},{"$f":"E1825/Author2Sections","v":1},{"$f":"COUNTIF(OFFSET(H1825,0,0,1,Author1Sections),\">0\")","v":1},{"$f":"COUNTIF(OFFSET(H1825,0,Author1Sections,1,Author2Sections),\"=0\")","v":8},3457,"easily",0,0,0,0,0,0,0,0,0,0,0,0.1,0,0,0,0,0,0,0,0,0,0,0,0,0,0,0,0,0,"ehem","semblance"]
[{"$f":"B1826+C1826","v":1.0476190476190477},{"$f":"D1826/Author1Sections","v":4.7619047619047616E-2},{"$f":"E1826/Author2Sections","v":1},{"$f":"COUNTIF(OFFSET(H1826,0,0,1,Author1Sections),\">0\")","v":1},{"$f":"COUNTIF(OFFSET(H1826,0,Author1Sections,1,Author2Sections),\"=0\")","v":8},3459,"east",0.1,0,0,0,0,0,0,0,0,0,0,0,0,0,0,0,0,0,0,0,0,0,0,0,0,0,0,0,0,"eie","sepulchres"]
[{"$f":"B1827+C1827","v":1.0476190476190477},{"$f":"D1827/Author1Sections","v":4.7619047619047616E-2},{"$f":"E1827/Author2Sections","v":1},{"$f":"COUNTIF(OFFSET(H1827,0,0,1,Author1Sections),\">0\")","v":1},{"$f":"COUNTIF(OFFSET(H1827,0,Author1Sections,1,Author2Sections),\"=0\")","v":8},3461,"easterne",0,0,0,0.1,0,0,0,0,0,0,0,0,0,0,0,0,0,0,0,0,0,0,0,0,0,0,0,0,0,"elder","sere"]
[{"$f":"B1828+C1828","v":1.0476190476190477},{"$f":"D1828/Author1Sections","v":4.7619047619047616E-2},{"$f":"E1828/Author2Sections","v":1},{"$f":"COUNTIF(OFFSET(H1828,0,0,1,Author1Sections),\">0\")","v":1},{"$f":"COUNTIF(OFFSET(H1828,0,Author1Sections,1,Author2Sections),\"=0\")","v":8},3465,"ecce",0,0,0,0,0,0,0,0.1,0,0,0,0,0,0,0,0,0,0,0,0,0,0,0,0,0,0,0,0,0,"elected","serve"]
[{"$f":"B1829+C1829","v":1.0476190476190477},{"$f":"D1829/Author1Sections","v":4.7619047619047616E-2},{"$f":"E1829/Author2Sections","v":1},{"$f":"COUNTIF(OFFSET(H1829,0,0,1,Author1Sections),\">0\")","v":1},{"$f":"COUNTIF(OFFSET(H1829,0,Author1Sections,1,Author2Sections),\"=0\")","v":8},3468,"eclipse",0,0,0,0,0,0,0,0,0,0,0,0,0,0,0,0,0,0,0,0.1,0,0,0,0,0,0,0,0,0,"elegie","service"]
[{"$f":"B1830+C1830","v":1.0476190476190477},{"$f":"D1830/Author1Sections","v":4.7619047619047616E-2},{"$f":"E1830/Author2Sections","v":1},{"$f":"COUNTIF(OFFSET(H1830,0,0,1,Author1Sections),\">0\")","v":1},{"$f":"COUNTIF(OFFSET(H1830,0,Author1Sections,1,Author2Sections),\"=0\")","v":8},3471,"edefie",0,0,0,0,0,0,0,0.1,0,0,0,0,0,0,0,0,0,0,0,0,0,0,0,0,0,0,0,0,0,"elements","serving"]
[{"$f":"B1831+C1831","v":1.0476190476190477},{"$f":"D1831/Author1Sections","v":4.7619047619047616E-2},{"$f":"E1831/Author2Sections","v":1},{"$f":"COUNTIF(OFFSET(H1831,0,0,1,Author1Sections),\">0\")","v":1},{"$f":"COUNTIF(OFFSET(H1831,0,Author1Sections,1,Author2Sections),\"=0\")","v":8},3473,"edifide",0,0,0,0,7.4183979999999997E-2,0,0,0,0,0,0,0,0,0,0,0,0,0,0,0,0,0,0,0,0,0,0,0,0,"elisian","sexes"]
[{"$f":"B1832+C1832","v":1.0476190476190477},{"$f":"D1832/Author1Sections","v":4.7619047619047616E-2},{"$f":"E1832/Author2Sections","v":1},{"$f":"COUNTIF(OFFSET(H1832,0,0,1,Author1Sections),\">0\")","v":1},{"$f":"COUNTIF(OFFSET(H1832,0,Author1Sections,1,Author2Sections),\"=0\")","v":8},3474,"edmond",0,0,0,0.1,0,0,0,0,0,0,0,0,0,0,0,0,0,0,0,0,0,0,0,0,0,0,0,0,0,"elswhere","shadows"]
[{"$f":"B1833+C1833","v":1.0476190476190477},{"$f":"D1833/Author1Sections","v":4.7619047619047616E-2},{"$f":"E1833/Author2Sections","v":1},{"$f":"COUNTIF(OFFSET(H1833,0,0,1,Author1Sections),\">0\")","v":1},{"$f":"COUNTIF(OFFSET(H1833,0,Author1Sections,1,Author2Sections),\"=0\")","v":8},3475,"edward",0,0,0,0,0,0,0,0,0,0,0,0,0,0,0,0,0,0.1,0,0,0,0,0,0,0,0,0,0,0,"employ","shadowy"]
[{"$f":"B1834+C1834","v":1.0476190476190477},{"$f":"D1834/Author1Sections","v":4.7619047619047616E-2},{"$f":"E1834/Author2Sections","v":1},{"$f":"COUNTIF(OFFSET(H1834,0,0,1,Author1Sections),\">0\")","v":1},{"$f":"COUNTIF(OFFSET(H1834,0,Author1Sections,1,Author2Sections),\"=0\")","v":8},3478,"ehem",0,0,0,0,0,0,0,0.1,0,0,0,0,0,0,0,0,0,0,0,0,0,0,0,0,0,0,0,0,0,"employes","shaft"]
[{"$f":"B1835+C1835","v":1.0476190476190477},{"$f":"D1835/Author1Sections","v":4.7619047619047616E-2},{"$f":"E1835/Author2Sections","v":1},{"$f":"COUNTIF(OFFSET(H1835,0,0,1,Author1Sections),\">0\")","v":1},{"$f":"COUNTIF(OFFSET(H1835,0,Author1Sections,1,Author2Sections),\"=0\")","v":8},3479,"eie",0,0.1,0,0,0,0,0,0,0,0,0,0,0,0,0,0,0,0,0,0,0,0,0,0,0,0,0,0,0,"empresse","shaggy"]
[{"$f":"B1836+C1836","v":1.0476190476190477},{"$f":"D1836/Author1Sections","v":4.7619047619047616E-2},{"$f":"E1836/Author2Sections","v":1},{"$f":"COUNTIF(OFFSET(H1836,0,0,1,Author1Sections),\">0\")","v":1},{"$f":"COUNTIF(OFFSET(H1836,0,Author1Sections,1,Author2Sections),\"=0\")","v":8},3481,"elder",0.1,0,0,0,0,0,0,0,0,0,0,0,0,0,0,0,0,0,0,0,0,0,0,0,0,0,0,0,0,"enam'ling","shakespeare"]
[{"$f":"B1837+C1837","v":1.0476190476190477},{"$f":"D1837/Author1Sections","v":4.7619047619047616E-2},{"$f":"E1837/Author2Sections","v":1},{"$f":"COUNTIF(OFFSET(H1837,0,0,1,Author1Sections),\">0\")","v":1},{"$f":"COUNTIF(OFFSET(H1837,0,Author1Sections,1,Author2Sections),\"=0\")","v":8},3482,"elected",0,0,0,0,0,0.1,0,0,0,0,0,0,0,0,0,0,0,0,0,0,0,0,0,0,0,0,0,0,0,"enameld","shatter"]
[{"$f":"B1838+C1838","v":1.0476190476190477},{"$f":"D1838/Author1Sections","v":4.7619047619047616E-2},{"$f":"E1838/Author2Sections","v":1},{"$f":"COUNTIF(OFFSET(H1838,0,0,1,Author1Sections),\">0\")","v":1},{"$f":"COUNTIF(OFFSET(H1838,0,Author1Sections,1,Author2Sections),\"=0\")","v":8},3483,"elegie",0,0,0,0,7.4183979999999997E-2,0,0,0,0,0,0,0,0,0,0,0,0,0,0,0,0,0,0,0,0,0,0,0,0,"encline","shaven"]
[{"$f":"B1839+C1839","v":1.0476190476190477},{"$f":"D1839/Author1Sections","v":4.7619047619047616E-2},{"$f":"E1839/Author2Sections","v":1},{"$f":"COUNTIF(OFFSET(H1839,0,0,1,Author1Sections),\">0\")","v":1},{"$f":"COUNTIF(OFFSET(H1839,0,Author1Sections,1,Author2Sections),\"=0\")","v":8},3485,"elements",0,0,0,0,0,0,0,0,0,0.1,0,0,0,0,0,0,0,0,0,0,0,0,0,0,0,0,0,0,0,"enclosde","shearers'"]
[{"$f":"B1840+C1840","v":1.0476190476190477},{"$f":"D1840/Author1Sections","v":4.7619047619047616E-2},{"$f":"E1840/Author2Sections","v":1},{"$f":"COUNTIF(OFFSET(H1840,0,0,1,Author1Sections),\">0\")","v":1},{"$f":"COUNTIF(OFFSET(H1840,0,Author1Sections,1,Author2Sections),\"=0\")","v":8},3486,"elisian",0,0,0.1,0,0,0,0,0,0,0,0,0,0,0,0,0,0,0,0,0,0,0,0,0,0,0,0,0,0,"encrease","shears"]
[{"$f":"B1841+C1841","v":1.0476190476190477},{"$f":"D1841/Author1Sections","v":4.7619047619047616E-2},{"$f":"E1841/Author2Sections","v":1},{"$f":"COUNTIF(OFFSET(H1841,0,0,1,Author1Sections),\">0\")","v":1},{"$f":"COUNTIF(OFFSET(H1841,0,Author1Sections,1,Author2Sections),\"=0\")","v":8},3488,"elswhere",0,0,0,0,7.4183979999999997E-2,0,0,0,0,0,0,0,0,0,0,0,0,0,0,0,0,0,0,0,0,0,0,0,0,"encroachment","sheaved"]
[{"$f":"B1842+C1842","v":1.0476190476190477},{"$f":"D1842/Author1Sections","v":4.7619047619047616E-2},{"$f":"E1842/Author2Sections","v":1},{"$f":"COUNTIF(OFFSET(H1842,0,0,1,Author1Sections),\">0\")","v":1},{"$f":"COUNTIF(OFFSET(H1842,0,Author1Sections,1,Author2Sections),\"=0\")","v":8},3494,"employ",0,0,0,0,0,0,0,0,0,0.1,0,0,0,0,0,0,0,0,0,0,0,0,0,0,0,0,0,0,0,"endles","shed"]
[{"$f":"B1843+C1843","v":1.0476190476190477},{"$f":"D1843/Author1Sections","v":4.7619047619047616E-2},{"$f":"E1843/Author2Sections","v":1},{"$f":"COUNTIF(OFFSET(H1843,0,0,1,Author1Sections),\">0\")","v":1},{"$f":"COUNTIF(OFFSET(H1843,0,Author1Sections,1,Author2Sections),\"=0\")","v":8},3495,"employes",0,0,0,0,0,0,0,0,0,0,0,0,0,0,0,0,0,0,0,0,7.0372980000000002E-2,0,0,0,0,0,0,0,0,"endlesly","shielded"]
[{"$f":"B1844+C1844","v":1.0476190476190477},{"$f":"D1844/Author1Sections","v":4.7619047619047616E-2},{"$f":"E1844/Author2Sections","v":1},{"$f":"COUNTIF(OFFSET(H1844,0,0,1,Author1Sections),\">0\")","v":1},{"$f":"COUNTIF(OFFSET(H1844,0,Author1Sections,1,Author2Sections),\"=0\")","v":8},3496,"empresse",0.1,0,0,0,0,0,0,0,0,0,0,0,0,0,0,0,0,0,0,0,0,0,0,0,0,0,0,0,0,"endoctrinated","shifts"]
[{"$f":"B1845+C1845","v":1.0476190476190477},{"$f":"D1845/Author1Sections","v":4.7619047619047616E-2},{"$f":"E1845/Author2Sections","v":1},{"$f":"COUNTIF(OFFSET(H1845,0,0,1,Author1Sections),\">0\")","v":1},{"$f":"COUNTIF(OFFSET(H1845,0,Author1Sections,1,Author2Sections),\"=0\")","v":8},3498,"enam'ling",0,0,0,0,0,0,0,0,0.1,0,0,0,0,0,0,0,0,0,0,0,0,0,0,0,0,0,0,0,0,"endowments","shocks"]
[{"$f":"B1846+C1846","v":1.0476190476190477},{"$f":"D1846/Author1Sections","v":4.7619047619047616E-2},{"$f":"E1846/Author2Sections","v":1},{"$f":"COUNTIF(OFFSET(H1846,0,0,1,Author1Sections),\">0\")","v":1},{"$f":"COUNTIF(OFFSET(H1846,0,Author1Sections,1,Author2Sections),\"=0\")","v":8},3500,"enameld",0,0,0,0,0,0,0,0,0,0,0,0,0,0,0,0,0,0,0,0,7.0372980000000002E-2,0,0,0,0,0,0,0,0,"enemy","shove"]
[{"$f":"B1847+C1847","v":1.0476190476190477},{"$f":"D1847/Author1Sections","v":4.7619047619047616E-2},{"$f":"E1847/Author2Sections","v":1},{"$f":"COUNTIF(OFFSET(H1847,0,0,1,Author1Sections),\">0\")","v":1},{"$f":"COUNTIF(OFFSET(H1847,0,Author1Sections,1,Author2Sections),\"=0\")","v":8},3505,"encline",0,0,0,0,0,0.1,0,0,0,0,0,0,0,0,0,0,0,0,0,0,0,0,0,0,0,0,0,0,0,"engarland","show'd"]
[{"$f":"B1848+C1848","v":1.0476190476190477},{"$f":"D1848/Author1Sections","v":4.7619047619047616E-2},{"$f":"E1848/Author2Sections","v":1},{"$f":"COUNTIF(OFFSET(H1848,0,0,1,Author1Sections),\">0\")","v":1},{"$f":"COUNTIF(OFFSET(H1848,0,Author1Sections,1,Author2Sections),\"=0\")","v":8},3506,"enclosde",0,0,0,0,7.4183979999999997E-2,0,0,0,0,0,0,0,0,0,0,0,0,0,0,0,0,0,0,0,0,0,0,0,0,"england","showing"]
[{"$f":"B1849+C1849","v":1.0476190476190477},{"$f":"D1849/Author1Sections","v":4.7619047619047616E-2},{"$f":"E1849/Author2Sections","v":1},{"$f":"COUNTIF(OFFSET(H1849,0,0,1,Author1Sections),\">0\")","v":1},{"$f":"COUNTIF(OFFSET(H1849,0,Author1Sections,1,Author2Sections),\"=0\")","v":8},3508,"encrease",0,0,0,0,0,0,0,0,0,0,0,0,0,0,0,0,0,0,0,0,7.0372980000000002E-2,0,0,0,0,0,0,0,0,"english","shows"]
[{"$f":"B1850+C1850","v":1.0476190476190477},{"$f":"D1850/Author1Sections","v":4.7619047619047616E-2},{"$f":"E1850/Author2Sections","v":1},{"$f":"COUNTIF(OFFSET(H1850,0,0,1,Author1Sections),\">0\")","v":1},{"$f":"COUNTIF(OFFSET(H1850,0,Author1Sections,1,Author2Sections),\"=0\")","v":8},3510,"encroachment",0,0,0,0,0,0,0,0,0,0,0,0,0,0,0,0,0,0,0.1,0,0,0,0,0,0,0,0,0,0,"engraue","shrieking"]
[{"$f":"B1851+C1851","v":1.0476190476190477},{"$f":"D1851/Author1Sections","v":4.7619047619047616E-2},{"$f":"E1851/Author2Sections","v":1},{"$f":"COUNTIF(OFFSET(H1851,0,0,1,Author1Sections),\">0\")","v":1},{"$f":"COUNTIF(OFFSET(H1851,0,Author1Sections,1,Author2Sections),\"=0\")","v":8},3513,"endles",0,0,0,0,7.4183979999999997E-2,0,0,0,0,0,0,0,0,0,0,0,0,0,0,0,0,0,0,0,0,0,0,0,0,"enioys","shrieks"]
[{"$f":"B1852+C1852","v":1.0476190476190477},{"$f":"D1852/Author1Sections","v":4.7619047619047616E-2},{"$f":"E1852/Author2Sections","v":1},{"$f":"COUNTIF(OFFSET(H1852,0,0,1,Author1Sections),\">0\")","v":1},{"$f":"COUNTIF(OFFSET(H1852,0,Author1Sections,1,Author2Sections),\"=0\")","v":8},3514,"endlesly",0,0,0,0,0,0,0,0,0,0,0,0,0,0,0,0,0,0,0,0,7.0372980000000002E-2,0,0,0,0,0,0,0,0,"enlarge","shroud"]
[{"$f":"B1853+C1853","v":1.0476190476190477},{"$f":"D1853/Author1Sections","v":4.7619047619047616E-2},{"$f":"E1853/Author2Sections","v":1},{"$f":"COUNTIF(OFFSET(H1853,0,0,1,Author1Sections),\">0\")","v":1},{"$f":"COUNTIF(OFFSET(H1853,0,Author1Sections,1,Author2Sections),\"=0\")","v":8},3515,"endoctrinated",0,0,0,0,0,0,0,0.1,0,0,0,0,0,0,0,0,0,0,0,0,0,0,0,0,0,0,0,0,0,"enmitie","shrunk"]
[{"$f":"B1854+C1854","v":1.0476190476190477},{"$f":"D1854/Author1Sections","v":4.7619047619047616E-2},{"$f":"E1854/Author2Sections","v":1},{"$f":"COUNTIF(OFFSET(H1854,0,0,1,Author1Sections),\">0\")","v":1},{"$f":"COUNTIF(OFFSET(H1854,0,Author1Sections,1,Author2Sections),\"=0\")","v":8},3517,"endowments",0.1,0,0,0,0,0,0,0,0,0,0,0,0,0,0,0,0,0,0,0,0,0,0,0,0,0,0,0,0,"ennobling","shun"]
[{"$f":"B1855+C1855","v":1.0476190476190477},{"$f":"D1855/Author1Sections","v":4.7619047619047616E-2},{"$f":"E1855/Author2Sections","v":1},{"$f":"COUNTIF(OFFSET(H1855,0,0,1,Author1Sections),\">0\")","v":1},{"$f":"COUNTIF(OFFSET(H1855,0,Author1Sections,1,Author2Sections),\"=0\")","v":8},3518,"enemy",0,0,0,0,0,0,0,0,0,0,0,0,0,0.1,0,0,0,0,0,0,0,0,0,0,0,0,0,0,0,"ensamples","shunn'd"]
[{"$f":"B1856+C1856","v":1.0476190476190477},{"$f":"D1856/Author1Sections","v":4.7619047619047616E-2},{"$f":"E1856/Author2Sections","v":1},{"$f":"COUNTIF(OFFSET(H1856,0,0,1,Author1Sections),\">0\")","v":1},{"$f":"COUNTIF(OFFSET(H1856,0,Author1Sections,1,Author2Sections),\"=0\")","v":8},3519,"engarland",0,0,0,0,0,0,0,0,0,0,0,0,0,0,0,0.1,0,0,0,0,0,0,0,0,0,0,0,0,0,"ensuing","shunn'st"]
[{"$f":"B1857+C1857","v":1.0476190476190477},{"$f":"D1857/Author1Sections","v":4.7619047619047616E-2},{"$f":"E1857/Author2Sections","v":1},{"$f":"COUNTIF(OFFSET(H1857,0,0,1,Author1Sections),\">0\")","v":1},{"$f":"COUNTIF(OFFSET(H1857,0,Author1Sections,1,Author2Sections),\"=0\")","v":8},3521,"england",0,0.1,0,0,0,0,0,0,0,0,0,0,0,0,0,0,0,0,0,0,0,0,0,0,0,0,0,0,0,"enter","shuts"]
[{"$f":"B1858+C1858","v":1.0476190476190477},{"$f":"D1858/Author1Sections","v":4.7619047619047616E-2},{"$f":"E1858/Author2Sections","v":1},{"$f":"COUNTIF(OFFSET(H1858,0,0,1,Author1Sections),\">0\")","v":1},{"$f":"COUNTIF(OFFSET(H1858,0,Author1Sections,1,Author2Sections),\"=0\")","v":8},3522,"english",0,0,0,0,0,0,0,0,0,0,0,0,0,0.1,0,0,0,0,0,0,0,0,0,0,0,0,0,0,0,"enthymeme","sicilian"]
[{"$f":"B1859+C1859","v":1.0476190476190477},{"$f":"D1859/Author1Sections","v":4.7619047619047616E-2},{"$f":"E1859/Author2Sections","v":1},{"$f":"COUNTIF(OFFSET(H1859,0,0,1,Author1Sections),\">0\")","v":1},{"$f":"COUNTIF(OFFSET(H1859,0,Author1Sections,1,Author2Sections),\"=0\")","v":8},3523,"engraue",0,0,0,0,0,0,0,0,0,0,0,0,0,0,0.1,0,0,0,0,0,0,0,0,0,0,0,0,0,0,"entire","sickly"]
[{"$f":"B1860+C1860","v":1.0476190476190477},{"$f":"D1860/Author1Sections","v":4.7619047619047616E-2},{"$f":"E1860/Author2Sections","v":1},{"$f":"COUNTIF(OFFSET(H1860,0,0,1,Author1Sections),\">0\")","v":1},{"$f":"COUNTIF(OFFSET(H1860,0,Author1Sections,1,Author2Sections),\"=0\")","v":8},3524,"enioys",0,0,0,0,0,0,0,0,0,0,0,0.1,0,0,0,0,0,0,0,0,0,0,0,0,0,0,0,0,0,"entred","silk"]
[{"$f":"B1861+C1861","v":1.0476190476190477},{"$f":"D1861/Author1Sections","v":4.7619047619047616E-2},{"$f":"E1861/Author2Sections","v":1},{"$f":"COUNTIF(OFFSET(H1861,0,0,1,Author1Sections),\">0\")","v":1},{"$f":"COUNTIF(OFFSET(H1861,0,Author1Sections,1,Author2Sections),\"=0\")","v":8},3526,"enlarge",0,0,0,0,0,0,0,0,0,0,0,0,0,0,0,0,0,0,0.1,0,0,0,0,0,0,0,0,0,0,"enuies","silver'd"]
[{"$f":"B1862+C1862","v":1.0476190476190477},{"$f":"D1862/Author1Sections","v":4.7619047619047616E-2},{"$f":"E1862/Author2Sections","v":1},{"$f":"COUNTIF(OFFSET(H1862,0,0,1,Author1Sections),\">0\")","v":1},{"$f":"COUNTIF(OFFSET(H1862,0,Author1Sections,1,Author2Sections),\"=0\")","v":8},3527,"enmitie",0,0,0,0,0,0.1,0,0,0,0,0,0,0,0,0,0,0,0,0,0,0,0,0,0,0,0,0,0,0,"enuious","simplicity"]
[{"$f":"B1863+C1863","v":1.0476190476190477},{"$f":"D1863/Author1Sections","v":4.7619047619047616E-2},{"$f":"E1863/Author2Sections","v":1},{"$f":"COUNTIF(OFFSET(H1863,0,0,1,Author1Sections),\">0\")","v":1},{"$f":"COUNTIF(OFFSET(H1863,0,Author1Sections,1,Author2Sections),\"=0\")","v":8},3529,"ennobling",0,0,0,0,0,0,0,0,0.1,0,0,0,0,0,0,0,0,0,0,0,0,0,0,0,0,0,0,0,0,"enuiously","singeth"]
[{"$f":"B1864+C1864","v":1.0476190476190477},{"$f":"D1864/Author1Sections","v":4.7619047619047616E-2},{"$f":"E1864/Author2Sections","v":1},{"$f":"COUNTIF(OFFSET(H1864,0,0,1,Author1Sections),\">0\")","v":1},{"$f":"COUNTIF(OFFSET(H1864,0,Author1Sections,1,Author2Sections),\"=0\")","v":8},3533,"ensamples",0,0,0,0,0,0,0,0,0.1,0,0,0,0,0,0,0,0,0,0,0,0,0,0,0,0,0,0,0,0,"envies","singleness"]
[{"$f":"B1865+C1865","v":1.0476190476190477},{"$f":"D1865/Author1Sections","v":4.7619047619047616E-2},{"$f":"E1865/Author2Sections","v":1},{"$f":"COUNTIF(OFFSET(H1865,0,0,1,Author1Sections),\">0\")","v":1},{"$f":"COUNTIF(OFFSET(H1865,0,Author1Sections,1,Author2Sections),\"=0\")","v":8},3534,"ensuing",0,0,0,0,7.4183979999999997E-2,0,0,0,0,0,0,0,0,0,0,0,0,0,0,0,0,0,0,0,0,0,0,0,0,"envoy","sinks"]
[{"$f":"B1866+C1866","v":1.0476190476190477},{"$f":"D1866/Author1Sections","v":4.7619047619047616E-2},{"$f":"E1866/Author2Sections","v":1},{"$f":"COUNTIF(OFFSET(H1866,0,0,1,Author1Sections),\">0\")","v":1},{"$f":"COUNTIF(OFFSET(H1866,0,Author1Sections,1,Author2Sections),\"=0\")","v":8},3536,"enter",0,0,0,0,0,0,0,0,0.1,0,0,0,0,0,0,0,0,0,0,0,0,0,0,0,0,0,0,0,0,"envyde","sips"]
[{"$f":"B1867+C1867","v":1.0476190476190477},{"$f":"D1867/Author1Sections","v":4.7619047619047616E-2},{"$f":"E1867/Author2Sections","v":1},{"$f":"COUNTIF(OFFSET(H1867,0,0,1,Author1Sections),\">0\")","v":1},{"$f":"COUNTIF(OFFSET(H1867,0,Author1Sections,1,Author2Sections),\"=0\")","v":8},3538,"enthymeme",0,0,0,0,0,0,0,0.1,0,0,0,0,0,0,0,0,0,0,0,0,0,0,0,0,0,0,0,0,0,"envying","sistering"]
[{"$f":"B1868+C1868","v":1.0476190476190477},{"$f":"D1868/Author1Sections","v":4.7619047619047616E-2},{"$f":"E1868/Author2Sections","v":1},{"$f":"COUNTIF(OFFSET(H1868,0,0,1,Author1Sections),\">0\")","v":1},{"$f":"COUNTIF(OFFSET(H1868,0,Author1Sections,1,Author2Sections),\"=0\")","v":8},3540,"entire",0,0,0.1,0,0,0,0,0,0,0,0,0,0,0,0,0,0,0,0,0,0,0,0,0,0,0,0,0,0,"epitaph","size"]
[{"$f":"B1869+C1869","v":1.0476190476190477},{"$f":"D1869/Author1Sections","v":4.7619047619047616E-2},{"$f":"E1869/Author2Sections","v":1},{"$f":"COUNTIF(OFFSET(H1869,0,0,1,Author1Sections),\">0\")","v":1},{"$f":"COUNTIF(OFFSET(H1869,0,Author1Sections,1,Author2Sections),\"=0\")","v":8},3541,"entred",0,0,0,0,0,0,0,0,0,0,0,0,0.1,0,0,0,0,0,0,0,0,0,0,0,0,0,0,0,0,"equal","slackly"]
[{"$f":"B1870+C1870","v":1.0476190476190477},{"$f":"D1870/Author1Sections","v":4.7619047619047616E-2},{"$f":"E1870/Author2Sections","v":1},{"$f":"COUNTIF(OFFSET(H1870,0,0,1,Author1Sections),\">0\")","v":1},{"$f":"COUNTIF(OFFSET(H1870,0,Author1Sections,1,Author2Sections),\"=0\")","v":8},3542,"enuies",0,0,0,0,0,0,0,0,0,0,0,0,0,0,0,0,0,0,0,0,7.0372980000000002E-2,0,0,0,0,0,0,0,0,"equitate","sleep'st"]
[{"$f":"B1871+C1871","v":1.0476190476190477},{"$f":"D1871/Author1Sections","v":4.7619047619047616E-2},{"$f":"E1871/Author2Sections","v":1},{"$f":"COUNTIF(OFFSET(H1871,0,0,1,Author1Sections),\">0\")","v":1},{"$f":"COUNTIF(OFFSET(H1871,0,Author1Sections,1,Author2Sections),\"=0\")","v":8},3543,"enuious",0,0,0,0,0,0,0,0,0,0,0,0,0,0,0,0,0,0,0,0,7.0372980000000002E-2,0,0,0,0,0,0,0,0,"ermine","sleided"]
[{"$f":"B1872+C1872","v":1.0476190476190477},{"$f":"D1872/Author1Sections","v":4.7619047619047616E-2},{"$f":"E1872/Author2Sections","v":1},{"$f":"COUNTIF(OFFSET(H1872,0,0,1,Author1Sections),\">0\")","v":1},{"$f":"COUNTIF(OFFSET(H1872,0,Author1Sections,1,Author2Sections),\"=0\")","v":8},3544,"enuiously",0,0,0,0,0,0,0,0.1,0,0,0,0,0,0,0,0,0,0,0,0,0,0,0,0,0,0,0,0,0,"errours","slides"]
[{"$f":"B1873+C1873","v":1.0476190476190477},{"$f":"D1873/Author1Sections","v":4.7619047619047616E-2},{"$f":"E1873/Author2Sections","v":1},{"$f":"COUNTIF(OFFSET(H1873,0,0,1,Author1Sections),\">0\")","v":1},{"$f":"COUNTIF(OFFSET(H1873,0,Author1Sections,1,Author2Sections),\"=0\")","v":8},3545,"envies",0,0.1,0,0,0,0,0,0,0,0,0,0,0,0,0,0,0,0,0,0,0,0,0,0,0,0,0,0,0,"escapes","sliding"]
[{"$f":"B1874+C1874","v":1.0476190476190477},{"$f":"D1874/Author1Sections","v":4.7619047619047616E-2},{"$f":"E1874/Author2Sections","v":1},{"$f":"COUNTIF(OFFSET(H1874,0,0,1,Author1Sections),\">0\")","v":1},{"$f":"COUNTIF(OFFSET(H1874,0,Author1Sections,1,Author2Sections),\"=0\")","v":8},3546,"envoy",0,0,0,0,7.4183979999999997E-2,0,0,0,0,0,0,0,0,0,0,0,0,0,0,0,0,0,0,0,0,0,0,0,0,"espie","slight"]
[{"$f":"B1875+C1875","v":1.0476190476190477},{"$f":"D1875/Author1Sections","v":4.7619047619047616E-2},{"$f":"E1875/Author2Sections","v":1},{"$f":"COUNTIF(OFFSET(H1875,0,0,1,Author1Sections),\">0\")","v":1},{"$f":"COUNTIF(OFFSET(H1875,0,Author1Sections,1,Author2Sections),\"=0\")","v":8},3548,"envyde",0,0.1,0,0,0,0,0,0,0,0,0,0,0,0,0,0,0,0,0,0,0,0,0,0,0,0,0,0,0,"est","slighted"]
[{"$f":"B1876+C1876","v":1.0476190476190477},{"$f":"D1876/Author1Sections","v":4.7619047619047616E-2},{"$f":"E1876/Author2Sections","v":1},{"$f":"COUNTIF(OFFSET(H1876,0,0,1,Author1Sections),\">0\")","v":1},{"$f":"COUNTIF(OFFSET(H1876,0,Author1Sections,1,Author2Sections),\"=0\")","v":8},3549,"envying",0.1,0,0,0,0,0,0,0,0,0,0,0,0,0,0,0,0,0,0,0,0,0,0,0,0,0,0,0,0,"et","slits"]
[{"$f":"B1877+C1877","v":1.0476190476190477},{"$f":"D1877/Author1Sections","v":4.7619047619047616E-2},{"$f":"E1877/Author2Sections","v":1},{"$f":"COUNTIF(OFFSET(H1877,0,0,1,Author1Sections),\">0\")","v":1},{"$f":"COUNTIF(OFFSET(H1877,0,Author1Sections,1,Author2Sections),\"=0\")","v":8},3550,"epitaph",0,0,0,0,0,0,0,0,0,0,0,0,0,0,0,0,0,0,0,0.1,0,0,0,0,0,0,0,0,0,"eternity","slop'd"]
[{"$f":"B1878+C1878","v":1.0476190476190477},{"$f":"D1878/Author1Sections","v":4.7619047619047616E-2},{"$f":"E1878/Author2Sections","v":1},{"$f":"COUNTIF(OFFSET(H1878,0,0,1,Author1Sections),\">0\")","v":1},{"$f":"COUNTIF(OFFSET(H1878,0,Author1Sections,1,Author2Sections),\"=0\")","v":8},3551,"equal",0,0,0,0,0,0,0,0.1,0,0,0,0,0,0,0,0,0,0,0,0,0,0,0,0,0,0,0,0,0,"eu'n","sloth"]
[{"$f":"B1879+C1879","v":1.0476190476190477},{"$f":"D1879/Author1Sections","v":4.7619047619047616E-2},{"$f":"E1879/Author2Sections","v":1},{"$f":"COUNTIF(OFFSET(H1879,0,0,1,Author1Sections),\">0\")","v":1},{"$f":"COUNTIF(OFFSET(H1879,0,Author1Sections,1,Author2Sections),\"=0\")","v":8},3553,"equitate",0,0,0,0,0,0,0,0.1,0,0,0,0,0,0,0,0,0,0,0,0,0,0,0,0,0,0,0,0,0,"eu'ry","slower"]
[{"$f":"B1880+C1880","v":1.0476190476190477},{"$f":"D1880/Author1Sections","v":4.7619047619047616E-2},{"$f":"E1880/Author2Sections","v":1},{"$f":"COUNTIF(OFFSET(H1880,0,0,1,Author1Sections),\">0\")","v":1},{"$f":"COUNTIF(OFFSET(H1880,0,Author1Sections,1,Author2Sections),\"=0\")","v":8},3555,"ermine",0,0,0,0,0,0,0,0,0,0,0,0,0,0,0,0,0,0,0.1,0,0,0,0,0,0,0,0,0,0,"euill","slumb'ring"]
[{"$f":"B1881+C1881","v":1.0476190476190477},{"$f":"D1881/Author1Sections","v":4.7619047619047616E-2},{"$f":"E1881/Author2Sections","v":1},{"$f":"COUNTIF(OFFSET(H1881,0,0,1,Author1Sections),\">0\")","v":1},{"$f":"COUNTIF(OFFSET(H1881,0,Author1Sections,1,Author2Sections),\"=0\")","v":8},3557,"errours",0,0,0,0,0,0,0,0,0,0,0,0.1,0,0,0,0,0,0,0,0,0,0,0,0,0,0,0,0,0,"euils","slumber"]
[{"$f":"B1882+C1882","v":1.0476190476190477},{"$f":"D1882/Author1Sections","v":4.7619047619047616E-2},{"$f":"E1882/Author2Sections","v":1},{"$f":"COUNTIF(OFFSET(H1882,0,0,1,Author1Sections),\">0\")","v":1},{"$f":"COUNTIF(OFFSET(H1882,0,Author1Sections,1,Author2Sections),\"=0\")","v":8},3559,"escapes",0,0,0,0,0,0,0,0,0,0,0,0,0.1,0,0,0,0,0,0,0,0,0,0,0,0,0,0,0,0,"ev","smallest"]
[{"$f":"B1883+C1883","v":1.0476190476190477},{"$f":"D1883/Author1Sections","v":4.7619047619047616E-2},{"$f":"E1883/Author2Sections","v":1},{"$f":"COUNTIF(OFFSET(H1883,0,0,1,Author1Sections),\">0\")","v":1},{"$f":"COUNTIF(OFFSET(H1883,0,Author1Sections,1,Author2Sections),\"=0\")","v":8},3560,"espie",0,0,0,0,0,0,0,0,0,0,0,0,0,0,0,0,0.1,0,0,0,0,0,0,0,0,0,0,0,0,"evermore","smiled"]
[{"$f":"B1884+C1884","v":1.0476190476190477},{"$f":"D1884/Author1Sections","v":4.7619047619047616E-2},{"$f":"E1884/Author2Sections","v":1},{"$f":"COUNTIF(OFFSET(H1884,0,0,1,Author1Sections),\">0\")","v":1},{"$f":"COUNTIF(OFFSET(H1884,0,Author1Sections,1,Author2Sections),\"=0\")","v":8},3562,"est",0,0,0,0,0,0.1,0,0,0,0,0,0,0,0,0,0,0,0,0,0,0,0,0,0,0,0,0,0,0,"evill","smokes"]
[{"$f":"B1885+C1885","v":1.0476190476190477},{"$f":"D1885/Author1Sections","v":4.7619047619047616E-2},{"$f":"E1885/Author2Sections","v":1},{"$f":"COUNTIF(OFFSET(H1885,0,0,1,Author1Sections),\">0\")","v":1},{"$f":"COUNTIF(OFFSET(H1885,0,Author1Sections,1,Author2Sections),\"=0\")","v":8},3563,"et",0,0,0,0,0,0,0,0.1,0,0,0,0,0,0,0,0,0,0,0,0,0,0,0,0,0,0,0,0,0,"exceedingly","smoothing"]
[{"$f":"B1886+C1886","v":1.0476190476190477},{"$f":"D1886/Author1Sections","v":4.7619047619047616E-2},{"$f":"E1886/Author2Sections","v":1},{"$f":"COUNTIF(OFFSET(H1886,0,0,1,Author1Sections),\">0\")","v":1},{"$f":"COUNTIF(OFFSET(H1886,0,Author1Sections,1,Author2Sections),\"=0\")","v":8},3564,"eternity",0,0,0,0,0,0,0,0,0,0,0,0.1,0,0,0,0,0,0,0,0,0,0,0,0,0,0,0,0,0,"excellencie","soars"]
[{"$f":"B1887+C1887","v":1.0476190476190477},{"$f":"D1887/Author1Sections","v":4.7619047619047616E-2},{"$f":"E1887/Author2Sections","v":1},{"$f":"COUNTIF(OFFSET(H1887,0,0,1,Author1Sections),\">0\")","v":1},{"$f":"COUNTIF(OFFSET(H1887,0,Author1Sections,1,Author2Sections),\"=0\")","v":8},3566,"eu'n",0,0,0,0,0,0,0,0,0,0,0,0,0.1,0,0,0,0,0,0,0,0,0,0,0,0,0,0,0,0,"excellently","societies"]
[{"$f":"B1888+C1888","v":1.0476190476190477},{"$f":"D1888/Author1Sections","v":4.7619047619047616E-2},{"$f":"E1888/Author2Sections","v":1},{"$f":"COUNTIF(OFFSET(H1888,0,0,1,Author1Sections),\">0\")","v":1},{"$f":"COUNTIF(OFFSET(H1888,0,Author1Sections,1,Author2Sections),\"=0\")","v":8},3567,"eu'ry",0,0,0,0,0,0,0,0,0,0,0,0,0.1,0,0,0,0,0,0,0,0,0,0,0,0,0,0,0,0,"exchanging","sock"]
[{"$f":"B1889+C1889","v":1.0476190476190477},{"$f":"D1889/Author1Sections","v":4.7619047619047616E-2},{"$f":"E1889/Author2Sections","v":1},{"$f":"COUNTIF(OFFSET(H1889,0,0,1,Author1Sections),\">0\")","v":1},{"$f":"COUNTIF(OFFSET(H1889,0,Author1Sections,1,Author2Sections),\"=0\")","v":8},3568,"euill",0,0,0,0,0,0,0,0,0,0,0,0,0,0,0,0,0,0.1,0,0,0,0,0,0,0,0,0,0,0,"exclaims","softly"]
[{"$f":"B1890+C1890","v":1.0476190476190477},{"$f":"D1890/Author1Sections","v":4.7619047619047616E-2},{"$f":"E1890/Author2Sections","v":1},{"$f":"COUNTIF(OFFSET(H1890,0,0,1,Author1Sections),\">0\")","v":1},{"$f":"COUNTIF(OFFSET(H1890,0,Author1Sections,1,Author2Sections),\"=0\")","v":8},3569,"euils",0,0,0,0,0,0,0,0,0,0,0,0,0,0,0,0,0,0,0,0.1,0,0,0,0,0,0,0,0,0,"exemplum","soil"]
[{"$f":"B1891+C1891","v":1.0476190476190477},{"$f":"D1891/Author1Sections","v":4.7619047619047616E-2},{"$f":"E1891/Author2Sections","v":1},{"$f":"COUNTIF(OFFSET(H1891,0,0,1,Author1Sections),\">0\")","v":1},{"$f":"COUNTIF(OFFSET(H1891,0,Author1Sections,1,Author2Sections),\"=0\")","v":8},3571,"ev",0.1,0,0,0,0,0,0,0,0,0,0,0,0,0,0,0,0,0,0,0,0,0,0,0,0,0,0,0,0,"exercise","sol's"]
[{"$f":"B1892+C1892","v":1.0476190476190477},{"$f":"D1892/Author1Sections","v":4.7619047619047616E-2},{"$f":"E1892/Author2Sections","v":1},{"$f":"COUNTIF(OFFSET(H1892,0,0,1,Author1Sections),\">0\")","v":1},{"$f":"COUNTIF(OFFSET(H1892,0,Author1Sections,1,Author2Sections),\"=0\")","v":8},3574,"evermore",0,0,0.1,0,0,0,0,0,0,0,0,0,0,0,0,0,0,0,0,0,0,0,0,0,0,0,0,0,0,"exhortation","solitary"]
[{"$f":"B1893+C1893","v":1.0476190476190477},{"$f":"D1893/Author1Sections","v":4.7619047619047616E-2},{"$f":"E1893/Author2Sections","v":1},{"$f":"COUNTIF(OFFSET(H1893,0,0,1,Author1Sections),\">0\")","v":1},{"$f":"COUNTIF(OFFSET(H1893,0,Author1Sections,1,Author2Sections),\"=0\")","v":8},3578,"evill",0,0.1,0,0,0,0,0,0,0,0,0,0,0,0,0,0,0,0,0,0,0,0,0,0,0,0,0,0,0,"exild","sorrow's"]
[{"$f":"B1894+C1894","v":1.0476190476190477},{"$f":"D1894/Author1Sections","v":4.7619047619047616E-2},{"$f":"E1894/Author2Sections","v":1},{"$f":"COUNTIF(OFFSET(H1894,0,0,1,Author1Sections),\">0\")","v":1},{"$f":"COUNTIF(OFFSET(H1894,0,Author1Sections,1,Author2Sections),\"=0\")","v":8},3581,"exceedingly",0,0,0,0,7.4183979999999997E-2,0,0,0,0,0,0,0,0,0,0,0,0,0,0,0,0,0,0,0,0,0,0,0,0,"exile","sounding"]
[{"$f":"B1895+C1895","v":1.0476190476190477},{"$f":"D1895/Author1Sections","v":4.7619047619047616E-2},{"$f":"E1895/Author2Sections","v":1},{"$f":"COUNTIF(OFFSET(H1895,0,0,1,Author1Sections),\">0\")","v":1},{"$f":"COUNTIF(OFFSET(H1895,0,Author1Sections,1,Author2Sections),\"=0\")","v":8},3583,"excellencie",0,0,0,0,0,0,0,0,0,0,0,0,0,0,0,0,0,0,0.1,0,0,0,0,0,0,0,0,0,0,"expectation","space"]
[{"$f":"B1896+C1896","v":1.0476190476190477},{"$f":"D1896/Author1Sections","v":4.7619047619047616E-2},{"$f":"E1896/Author2Sections","v":1},{"$f":"COUNTIF(OFFSET(H1896,0,0,1,Author1Sections),\">0\")","v":1},{"$f":"COUNTIF(OFFSET(H1896,0,Author1Sections,1,Author2Sections),\"=0\")","v":8},3584,"excellently",0,0,0,0,0,0,0,0,0.1,0,0,0,0,0,0,0,0,0,0,0,0,0,0,0,0,0,0,0,0,"exprest","spangled"]
[{"$f":"B1897+C1897","v":1.0476190476190477},{"$f":"D1897/Author1Sections","v":4.7619047619047616E-2},{"$f":"E1897/Author2Sections","v":1},{"$f":"COUNTIF(OFFSET(H1897,0,0,1,Author1Sections),\">0\")","v":1},{"$f":"COUNTIF(OFFSET(H1897,0,Author1Sections,1,Author2Sections),\"=0\")","v":8},3587,"exchanging",0,0,0.1,0,0,0,0,0,0,0,0,0,0,0,0,0,0,0,0,0,0,0,0,0,0,0,0,0,0,"extent","spar'd"]
[{"$f":"B1898+C1898","v":1.0476190476190477},{"$f":"D1898/Author1Sections","v":4.7619047619047616E-2},{"$f":"E1898/Author2Sections","v":1},{"$f":"COUNTIF(OFFSET(H1898,0,0,1,Author1Sections),\">0\")","v":1},{"$f":"COUNTIF(OFFSET(H1898,0,Author1Sections,1,Author2Sections),\"=0\")","v":8},3589,"exclaims",0,0,0,0,0,0,0,0,0,0,0,0,0,0,0,0,0,0,0,0.1,0,0,0,0,0,0,0,0,0,"extinguish","sparely"]
[{"$f":"B1899+C1899","v":1.0476190476190477},{"$f":"D1899/Author1Sections","v":4.7619047619047616E-2},{"$f":"E1899/Author2Sections","v":1},{"$f":"COUNTIF(OFFSET(H1899,0,0,1,Author1Sections),\">0\")","v":1},{"$f":"COUNTIF(OFFSET(H1899,0,Author1Sections,1,Author2Sections),\"=0\")","v":8},3591,"exemplum",0,0,0,0,0,0,0,0.1,0,0,0,0,0,0,0,0,0,0,0,0,0,0,0,0,0,0,0,0,0,"extreame","sped"]
[{"$f":"B1900+C1900","v":1.0476190476190477},{"$f":"D1900/Author1Sections","v":4.7619047619047616E-2},{"$f":"E1900/Author2Sections","v":1},{"$f":"COUNTIF(OFFSET(H1900,0,0,1,Author1Sections),\">0\")","v":1},{"$f":"COUNTIF(OFFSET(H1900,0,Author1Sections,1,Author2Sections),\"=0\")","v":8},3592,"exercise",0,0,0,0,0,0,0,0,0,0,0,0,0,0,0,0,0,0,0.1,0,0,0,0,0,0,0,0,0,0,"extremitie","speechless"]
[{"$f":"B1901+C1901","v":1.0476190476190477},{"$f":"D1901/Author1Sections","v":4.7619047619047616E-2},{"$f":"E1901/Author2Sections","v":1},{"$f":"COUNTIF(OFFSET(H1901,0,0,1,Author1Sections),\">0\")","v":1},{"$f":"COUNTIF(OFFSET(H1901,0,Author1Sections,1,Author2Sections),\"=0\")","v":8},3593,"exhortation",0,0,0,0,0,0,0,0.1,0,0,0,0,0,0,0,0,0,0,0,0,0,0,0,0,0,0,0,0,0,"eylids","spicy"]
[{"$f":"B1902+C1902","v":1.0476190476190477},{"$f":"D1902/Author1Sections","v":4.7619047619047616E-2},{"$f":"E1902/Author2Sections","v":1},{"$f":"COUNTIF(OFFSET(H1902,0,0,1,Author1Sections),\">0\")","v":1},{"$f":"COUNTIF(OFFSET(H1902,0,Author1Sections,1,Author2Sections),\"=0\")","v":8},3594,"exild",0,0,0,0,0,0,0,0,0,0,0,0.1,0,0,0,0,0,0,0,0,0,0,0,0,0,0,0,0,0,"faces","spoiled"]
[{"$f":"B1903+C1903","v":1.0476190476190477},{"$f":"D1903/Author1Sections","v":4.7619047619047616E-2},{"$f":"E1903/Author2Sections","v":1},{"$f":"COUNTIF(OFFSET(H1903,0,0,1,Author1Sections),\">0\")","v":1},{"$f":"COUNTIF(OFFSET(H1903,0,Author1Sections,1,Author2Sections),\"=0\")","v":8},3595,"exile",0,0,0,0,0,0,0,0,0,0,0,0,0,0,0,0,0,0,0,0,7.0372980000000002E-2,0,0,0,0,0,0,0,0,"fade","spoiling"]
[{"$f":"B1904+C1904","v":1.0476190476190477},{"$f":"D1904/Author1Sections","v":4.7619047619047616E-2},{"$f":"E1904/Author2Sections","v":1},{"$f":"COUNTIF(OFFSET(H1904,0,0,1,Author1Sections),\">0\")","v":1},{"$f":"COUNTIF(OFFSET(H1904,0,Author1Sections,1,Author2Sections),\"=0\")","v":8},3597,"expectation",0,0,0,0,0,0,0,0,0,0,0,0.1,0,0,0,0,0,0,0,0,0,0,0,0,0,0,0,0,0,"faild","spongy"]
[{"$f":"B1905+C1905","v":1.0476190476190477},{"$f":"D1905/Author1Sections","v":4.7619047619047616E-2},{"$f":"E1905/Author2Sections","v":1},{"$f":"COUNTIF(OFFSET(H1905,0,0,1,Author1Sections),\">0\")","v":1},{"$f":"COUNTIF(OFFSET(H1905,0,Author1Sections,1,Author2Sections),\"=0\")","v":8},3599,"exprest",0,0,0,0,0,0,0,0,0,0,0,0,0,0,0.1,0,0,0,0,0,0,0,0,0,0,0,0,0,0,"failst","spun"]
[{"$f":"B1906+C1906","v":1.0476190476190477},{"$f":"D1906/Author1Sections","v":4.7619047619047616E-2},{"$f":"E1906/Author2Sections","v":1},{"$f":"COUNTIF(OFFSET(H1906,0,0,1,Author1Sections),\">0\")","v":1},{"$f":"COUNTIF(OFFSET(H1906,0,Author1Sections,1,Author2Sections),\"=0\")","v":8},3601,"extent",0.1,0,0,0,0,0,0,0,0,0,0,0,0,0,0,0,0,0,0,0,0,0,0,0,0,0,0,0,0,"fained","stack"]
[{"$f":"B1907+C1907","v":1.0476190476190477},{"$f":"D1907/Author1Sections","v":4.7619047619047616E-2},{"$f":"E1907/Author2Sections","v":1},{"$f":"COUNTIF(OFFSET(H1907,0,0,1,Author1Sections),\">0\")","v":1},{"$f":"COUNTIF(OFFSET(H1907,0,Author1Sections,1,Author2Sections),\"=0\")","v":8},3603,"extinguish",0,0,0,0,0,0,0,0.1,0,0,0,0,0,0,0,0,0,0,0,0,0,0,0,0,0,0,0,0,0,"fainting","stain"]
[{"$f":"B1908+C1908","v":1.0476190476190477},{"$f":"D1908/Author1Sections","v":4.7619047619047616E-2},{"$f":"E1908/Author2Sections","v":1},{"$f":"COUNTIF(OFFSET(H1908,0,0,1,Author1Sections),\">0\")","v":1},{"$f":"COUNTIF(OFFSET(H1908,0,Author1Sections,1,Author2Sections),\"=0\")","v":8},3604,"extreame",0,0,0,0,0,0,0,0.1,0,0,0,0,0,0,0,0,0,0,0,0,0,0,0,0,0,0,0,0,0,"fairenesse","stalk"]
[{"$f":"B1909+C1909","v":1.0476190476190477},{"$f":"D1909/Author1Sections","v":4.7619047619047616E-2},{"$f":"E1909/Author2Sections","v":1},{"$f":"COUNTIF(OFFSET(H1909,0,0,1,Author1Sections),\">0\")","v":1},{"$f":"COUNTIF(OFFSET(H1909,0,Author1Sections,1,Author2Sections),\"=0\")","v":8},3606,"extremitie",0,0,0,0,0,0,0,0.1,0,0,0,0,0,0,0,0,0,0,0,0,0,0,0,0,0,0,0,0,0,"faithfull","stands"]
[{"$f":"B1910+C1910","v":1.0476190476190477},{"$f":"D1910/Author1Sections","v":4.7619047619047616E-2},{"$f":"E1910/Author2Sections","v":1},{"$f":"COUNTIF(OFFSET(H1910,0,0,1,Author1Sections),\">0\")","v":1},{"$f":"COUNTIF(OFFSET(H1910,0,Author1Sections,1,Author2Sections),\"=0\")","v":8},3608,"eylids",0,0.1,0,0,0,0,0,0,0,0,0,0,0,0,0,0,0,0,0,0,0,0,0,0,0,0,0,0,0,"fal'n","starr'd"]
[{"$f":"B1911+C1911","v":1.0476190476190477},{"$f":"D1911/Author1Sections","v":4.7619047619047616E-2},{"$f":"E1911/Author2Sections","v":1},{"$f":"COUNTIF(OFFSET(H1911,0,0,1,Author1Sections),\">0\")","v":1},{"$f":"COUNTIF(OFFSET(H1911,0,Author1Sections,1,Author2Sections),\"=0\")","v":8},3610,"faces",0,0.1,0,0,0,0,0,0,0,0,0,0,0,0,0,0,0,0,0,0,0,0,0,0,0,0,0,0,0,"falles","starveling"]
[{"$f":"B1912+C1912","v":1.0476190476190477},{"$f":"D1912/Author1Sections","v":4.7619047619047616E-2},{"$f":"E1912/Author2Sections","v":1},{"$f":"COUNTIF(OFFSET(H1912,0,0,1,Author1Sections),\">0\")","v":1},{"$f":"COUNTIF(OFFSET(H1912,0,Author1Sections,1,Author2Sections),\"=0\")","v":8},3611,"fade",0.1,0,0,0,0,0,0,0,0,0,0,0,0,0,0,0,0,0,0,0,0,0,0,0,0,0,0,0,0,"falls","stern"]
[{"$f":"B1913+C1913","v":1.0476190476190477},{"$f":"D1913/Author1Sections","v":4.7619047619047616E-2},{"$f":"E1913/Author2Sections","v":1},{"$f":"COUNTIF(OFFSET(H1913,0,0,1,Author1Sections),\">0\")","v":1},{"$f":"COUNTIF(OFFSET(H1913,0,Author1Sections,1,Author2Sections),\"=0\")","v":8},3613,"faild",0,0.1,0,0,0,0,0,0,0,0,0,0,0,0,0,0,0,0,0,0,0,0,0,0,0,0,0,0,0,"falslie","stick'st"]
[{"$f":"B1914+C1914","v":1.0476190476190477},{"$f":"D1914/Author1Sections","v":4.7619047619047616E-2},{"$f":"E1914/Author2Sections","v":1},{"$f":"COUNTIF(OFFSET(H1914,0,0,1,Author1Sections),\">0\")","v":1},{"$f":"COUNTIF(OFFSET(H1914,0,Author1Sections,1,Author2Sections),\"=0\")","v":8},3615,"failst",0,0,0,0,0,0,0,0,0,0,0,0,0,0,0,0,0.1,0,0,0,0,0,0,0,0,0,0,0,0,"familie","sting"]
[{"$f":"B1915+C1915","v":1.0476190476190477},{"$f":"D1915/Author1Sections","v":4.7619047619047616E-2},{"$f":"E1915/Author2Sections","v":1},{"$f":"COUNTIF(OFFSET(H1915,0,0,1,Author1Sections),\">0\")","v":1},{"$f":"COUNTIF(OFFSET(H1915,0,Author1Sections,1,Author2Sections),\"=0\")","v":8},3616,"fained",0,0.1,0,0,0,0,0,0,0,0,0,0,0,0,0,0,0,0,0,0,0,0,0,0,0,0,0,0,0,"famisht","stone's"]
[{"$f":"B1916+C1916","v":1.0476190476190477},{"$f":"D1916/Author1Sections","v":4.7619047619047616E-2},{"$f":"E1916/Author2Sections","v":1},{"$f":"COUNTIF(OFFSET(H1916,0,0,1,Author1Sections),\">0\")","v":1},{"$f":"COUNTIF(OFFSET(H1916,0,Author1Sections,1,Author2Sections),\"=0\")","v":8},3617,"fainting",0,0,0,0,7.4183979999999997E-2,0,0,0,0,0,0,0,0,0,0,0,0,0,0,0,0,0,0,0,0,0,0,0,0,"famouslie","stooping"]
[{"$f":"B1917+C1917","v":1.0476190476190477},{"$f":"D1917/Author1Sections","v":4.7619047619047616E-2},{"$f":"E1917/Author2Sections","v":1},{"$f":"COUNTIF(OFFSET(H1917,0,0,1,Author1Sections),\">0\")","v":1},{"$f":"COUNTIF(OFFSET(H1917,0,Author1Sections,1,Author2Sections),\"=0\")","v":8},3619,"fairenesse",0,0,0,0,0,0,0,0.1,0,0,0,0,0,0,0,0,0,0,0,0,0,0,0,0,0,0,0,0,0,"fancys","stopp'd"]
[{"$f":"B1918+C1918","v":1.0476190476190477},{"$f":"D1918/Author1Sections","v":4.7619047619047616E-2},{"$f":"E1918/Author2Sections","v":1},{"$f":"COUNTIF(OFFSET(H1918,0,0,1,Author1Sections),\">0\")","v":1},{"$f":"COUNTIF(OFFSET(H1918,0,Author1Sections,1,Author2Sections),\"=0\")","v":8},3622,"faithfull",0,0,0,0,0,0,0,0,0,0,0,0,0,0,0,0,0,0,0,0,7.0372980000000002E-2,0,0,0,0,0,0,0,0,"fannes","stops"]
[{"$f":"B1919+C1919","v":1.0476190476190477},{"$f":"D1919/Author1Sections","v":4.7619047619047616E-2},{"$f":"E1919/Author2Sections","v":1},{"$f":"COUNTIF(OFFSET(H1919,0,0,1,Author1Sections),\">0\")","v":1},{"$f":"COUNTIF(OFFSET(H1919,0,Author1Sections,1,Author2Sections),\"=0\")","v":8},3623,"fal'n",0,0,0,0,0,0,0.1,0,0,0,0,0,0,0,0,0,0,0,0,0,0,0,0,0,0,0,0,0,0,"fare","storied"]
[{"$f":"B1920+C1920","v":1.0476190476190477},{"$f":"D1920/Author1Sections","v":4.7619047619047616E-2},{"$f":"E1920/Author2Sections","v":1},{"$f":"COUNTIF(OFFSET(H1920,0,0,1,Author1Sections),\">0\")","v":1},{"$f":"COUNTIF(OFFSET(H1920,0,Author1Sections,1,Author2Sections),\"=0\")","v":8},3624,"falles",0,0,0,0,0,0,0,0,0,0,0,0,0,0,0,0,0,0.1,0,0,0,0,0,0,0,0,0,0,0,"fares","stories"]
[{"$f":"B1921+C1921","v":1.0476190476190477},{"$f":"D1921/Author1Sections","v":4.7619047619047616E-2},{"$f":"E1921/Author2Sections","v":1},{"$f":"COUNTIF(OFFSET(H1921,0,0,1,Author1Sections),\">0\")","v":1},{"$f":"COUNTIF(OFFSET(H1921,0,Author1Sections,1,Author2Sections),\"=0\")","v":8},3626,"falls",0,0,0,0,0,0,0,0,0,0,0.1,0,0,0,0,0,0,0,0,0,0,0,0,0,0,0,0,0,0,"fastned","storm"]
[{"$f":"B1922+C1922","v":1.0476190476190477},{"$f":"D1922/Author1Sections","v":4.7619047619047616E-2},{"$f":"E1922/Author2Sections","v":1},{"$f":"COUNTIF(OFFSET(H1922,0,0,1,Author1Sections),\">0\")","v":1},{"$f":"COUNTIF(OFFSET(H1922,0,Author1Sections,1,Author2Sections),\"=0\")","v":8},3628,"falslie",0,0,0,0.1,0,0,0,0,0,0,0,0,0,0,0,0,0,0,0,0,0,0,0,0,0,0,0,0,0,"fastner","stoutly"]
[{"$f":"B1923+C1923","v":1.0476190476190477},{"$f":"D1923/Author1Sections","v":4.7619047619047616E-2},{"$f":"E1923/Author2Sections","v":1},{"$f":"COUNTIF(OFFSET(H1923,0,0,1,Author1Sections),\">0\")","v":1},{"$f":"COUNTIF(OFFSET(H1923,0,Author1Sections,1,Author2Sections),\"=0\")","v":8},3629,"familie",0,0,0.1,0,0,0,0,0,0,0,0,0,0,0,0,0,0,0,0,0,0,0,0,0,0,0,0,0,0,"fat","strains"]
[{"$f":"B1924+C1924","v":1.0476190476190477},{"$f":"D1924/Author1Sections","v":4.7619047619047616E-2},{"$f":"E1924/Author2Sections","v":1},{"$f":"COUNTIF(OFFSET(H1924,0,0,1,Author1Sections),\">0\")","v":1},{"$f":"COUNTIF(OFFSET(H1924,0,Author1Sections,1,Author2Sections),\"=0\")","v":8},3631,"famisht",0,0,0,0,0,0,0,0,0,0,0,0,0,0,0,0,0,0,0,0,7.0372980000000002E-2,0,0,0,0,0,0,0,0,"faulcon","stray'd"]
[{"$f":"B1925+C1925","v":1.0476190476190477},{"$f":"D1925/Author1Sections","v":4.7619047619047616E-2},{"$f":"E1925/Author2Sections","v":1},{"$f":"COUNTIF(OFFSET(H1925,0,0,1,Author1Sections),\">0\")","v":1},{"$f":"COUNTIF(OFFSET(H1925,0,Author1Sections,1,Author2Sections),\"=0\")","v":8},3632,"famouslie",0,0,0.1,0,0,0,0,0,0,0,0,0,0,0,0,0,0,0,0,0,0,0,0,0,0,0,0,0,0,"fauor","strew"]
[{"$f":"B1926+C1926","v":1.0476190476190477},{"$f":"D1926/Author1Sections","v":4.7619047619047616E-2},{"$f":"E1926/Author2Sections","v":1},{"$f":"COUNTIF(OFFSET(H1926,0,0,1,Author1Sections),\">0\")","v":1},{"$f":"COUNTIF(OFFSET(H1926,0,Author1Sections,1,Author2Sections),\"=0\")","v":8},3635,"fancys",0,0,0,0,0,0,0,0,0,0,0,0,0,0.1,0,0,0,0,0,0,0,0,0,0,0,0,0,0,0,"fauour","strictly"]
[{"$f":"B1927+C1927","v":1.0476190476190477},{"$f":"D1927/Author1Sections","v":4.7619047619047616E-2},{"$f":"E1927/Author2Sections","v":1},{"$f":"COUNTIF(OFFSET(H1927,0,0,1,Author1Sections),\">0\")","v":1},{"$f":"COUNTIF(OFFSET(H1927,0,Author1Sections,1,Author2Sections),\"=0\")","v":8},3636,"fannes",0,0,0,0,0,0,0,0,0,0,0,0.1,0,0,0,0,0,0,0,0,0,0,0,0,0,0,0,0,0,"fayne","strives"]
[{"$f":"B1928+C1928","v":1.0476190476190477},{"$f":"D1928/Author1Sections","v":4.7619047619047616E-2},{"$f":"E1928/Author2Sections","v":1},{"$f":"COUNTIF(OFFSET(H1928,0,0,1,Author1Sections),\">0\")","v":1},{"$f":"COUNTIF(OFFSET(H1928,0,Author1Sections,1,Author2Sections),\"=0\")","v":8},3639,"fare",0,0,0,0,0,0,0,0,0,0,0.1,0,0,0,0,0,0,0,0,0,0,0,0,0,0,0,0,0,0,"feares","stroke"]
[{"$f":"B1929+C1929","v":1.0476190476190477},{"$f":"D1929/Author1Sections","v":4.7619047619047616E-2},{"$f":"E1929/Author2Sections","v":1},{"$f":"COUNTIF(OFFSET(H1929,0,0,1,Author1Sections),\">0\")","v":1},{"$f":"COUNTIF(OFFSET(H1929,0,Author1Sections,1,Author2Sections),\"=0\")","v":8},3640,"fares",0.1,0,0,0,0,0,0,0,0,0,0,0,0,0,0,0,0,0,0,0,0,0,0,0,0,0,0,0,0,"feareth","strove"]
[{"$f":"B1930+C1930","v":1.0476190476190477},{"$f":"D1930/Author1Sections","v":4.7619047619047616E-2},{"$f":"E1930/Author2Sections","v":1},{"$f":"COUNTIF(OFFSET(H1930,0,0,1,Author1Sections),\">0\")","v":1},{"$f":"COUNTIF(OFFSET(H1930,0,Author1Sections,1,Author2Sections),\"=0\")","v":8},3643,"fastned",0,0,0,0,7.4183979999999997E-2,0,0,0,0,0,0,0,0,0,0,0,0,0,0,0,0,0,0,0,0,0,0,0,0,"fearfull","strumpet"]
[{"$f":"B1931+C1931","v":1.0476190476190477},{"$f":"D1931/Author1Sections","v":4.7619047619047616E-2},{"$f":"E1931/Author2Sections","v":1},{"$f":"COUNTIF(OFFSET(H1931,0,0,1,Author1Sections),\">0\")","v":1},{"$f":"COUNTIF(OFFSET(H1931,0,Author1Sections,1,Author2Sections),\"=0\")","v":8},3644,"fastner",0,0,0,0,0,0,0,0,0,0,0,0,0,0,0,0,0,0,0.1,0,0,0,0,0,0,0,0,0,0,"fearing","struts"]
[{"$f":"B1932+C1932","v":1.0476190476190477},{"$f":"D1932/Author1Sections","v":4.7619047619047616E-2},{"$f":"E1932/Author2Sections","v":1},{"$f":"COUNTIF(OFFSET(H1932,0,0,1,Author1Sections),\">0\")","v":1},{"$f":"COUNTIF(OFFSET(H1932,0,Author1Sections,1,Author2Sections),\"=0\")","v":8},3645,"fat",0,0,0,0,0,0,0,0.1,0,0,0,0,0,0,0,0,0,0,0,0,0,0,0,0,0,0,0,0,0,"feathers","stuck"]
[{"$f":"B1933+C1933","v":1.0476190476190477},{"$f":"D1933/Author1Sections","v":4.7619047619047616E-2},{"$f":"E1933/Author2Sections","v":1},{"$f":"COUNTIF(OFFSET(H1933,0,0,1,Author1Sections),\">0\")","v":1},{"$f":"COUNTIF(OFFSET(H1933,0,Author1Sections,1,Author2Sections),\"=0\")","v":8},3647,"faulcon",0,0.1,0,0,0,0,0,0,0,0,0,0,0,0,0,0,0,0,0,0,0,0,0,0,0,0,0,0,0,"featioust","studious"]
[{"$f":"B1934+C1934","v":1.0476190476190477},{"$f":"D1934/Author1Sections","v":4.7619047619047616E-2},{"$f":"E1934/Author2Sections","v":1},{"$f":"COUNTIF(OFFSET(H1934,0,0,1,Author1Sections),\">0\")","v":1},{"$f":"COUNTIF(OFFSET(H1934,0,Author1Sections,1,Author2Sections),\"=0\")","v":8},3649,"fauor",0,0,0,0,0,0,0,0,0.1,0,0,0,0,0,0,0,0,0,0,0,0,0,0,0,0,0,0,0,0,"feeding","stygian"]
[{"$f":"B1935+C1935","v":1.0476190476190477},{"$f":"D1935/Author1Sections","v":4.7619047619047616E-2},{"$f":"E1935/Author2Sections","v":1},{"$f":"COUNTIF(OFFSET(H1935,0,0,1,Author1Sections),\">0\")","v":1},{"$f":"COUNTIF(OFFSET(H1935,0,Author1Sections,1,Author2Sections),\"=0\")","v":8},3650,"fauour",0,0,0,0,0,0,0,0,0,0,0,0,0,0,0,0,0,0,0.1,0,0,0,0,0,0,0,0,0,0,"feel","subduing"]
[{"$f":"B1936+C1936","v":1.0476190476190477},{"$f":"D1936/Author1Sections","v":4.7619047619047616E-2},{"$f":"E1936/Author2Sections","v":1},{"$f":"COUNTIF(OFFSET(H1936,0,0,1,Author1Sections),\">0\")","v":1},{"$f":"COUNTIF(OFFSET(H1936,0,Author1Sections,1,Author2Sections),\"=0\")","v":8},3653,"fayne",0,0,0,0,0,0,0,0,0.1,0,0,0,0,0,0,0,0,0,0,0,0,0,0,0,0,0,0,0,0,"fellow","subjection"]
[{"$f":"B1937+C1937","v":1.0476190476190477},{"$f":"D1937/Author1Sections","v":4.7619047619047616E-2},{"$f":"E1937/Author2Sections","v":1},{"$f":"COUNTIF(OFFSET(H1937,0,0,1,Author1Sections),\">0\")","v":1},{"$f":"COUNTIF(OFFSET(H1937,0,Author1Sections,1,Author2Sections),\"=0\")","v":8},3654,"feares",0,0,0,0,0,0,0,0,0,0,0,0,0,0,0,0,0.1,0,0,0,0,0,0,0,0,0,0,0,0,"fence","substance"]
[{"$f":"B1938+C1938","v":1.0476190476190477},{"$f":"D1938/Author1Sections","v":4.7619047619047616E-2},{"$f":"E1938/Author2Sections","v":1},{"$f":"COUNTIF(OFFSET(H1938,0,0,1,Author1Sections),\">0\")","v":1},{"$f":"COUNTIF(OFFSET(H1938,0,Author1Sections,1,Author2Sections),\"=0\")","v":8},3655,"feareth",0,0,0,0.1,0,0,0,0,0,0,0,0,0,0,0,0,0,0,0,0,0,0,0,0,0,0,0,0,0,"fennes","substantial"]
[{"$f":"B1939+C1939","v":1.0476190476190477},{"$f":"D1939/Author1Sections","v":4.7619047619047616E-2},{"$f":"E1939/Author2Sections","v":1},{"$f":"COUNTIF(OFFSET(H1939,0,0,1,Author1Sections),\">0\")","v":1},{"$f":"COUNTIF(OFFSET(H1939,0,Author1Sections,1,Author2Sections),\"=0\")","v":8},3656,"fearfull",0.1,0,0,0,0,0,0,0,0,0,0,0,0,0,0,0,0,0,0,0,0,0,0,0,0,0,0,0,0,"fet","succession"]
[{"$f":"B1940+C1940","v":1.0476190476190477},{"$f":"D1940/Author1Sections","v":4.7619047619047616E-2},{"$f":"E1940/Author2Sections","v":1},{"$f":"COUNTIF(OFFSET(H1940,0,0,1,Author1Sections),\">0\")","v":1},{"$f":"COUNTIF(OFFSET(H1940,0,Author1Sections,1,Author2Sections),\"=0\")","v":8},3657,"fearing",0,0,0,0,0,0,0,0,0,0,0.1,0,0,0,0,0,0,0,0,0,0,0,0,0,0,0,0,0,0,"fetch","suck"]
[{"$f":"B1941+C1941","v":1.0476190476190477},{"$f":"D1941/Author1Sections","v":4.7619047619047616E-2},{"$f":"E1941/Author2Sections","v":1},{"$f":"COUNTIF(OFFSET(H1941,0,0,1,Author1Sections),\">0\")","v":1},{"$f":"COUNTIF(OFFSET(H1941,0,Author1Sections,1,Author2Sections),\"=0\")","v":8},3660,"feathers",0,0,0,0,0,0,0,0,0,0,0,0,0,0,0,0,0,0.1,0,0,0,0,0,0,0,0,0,0,0,"fetched","suited"]
[{"$f":"B1942+C1942","v":1.0476190476190477},{"$f":"D1942/Author1Sections","v":4.7619047619047616E-2},{"$f":"E1942/Author2Sections","v":1},{"$f":"COUNTIF(OFFSET(H1942,0,0,1,Author1Sections),\">0\")","v":1},{"$f":"COUNTIF(OFFSET(H1942,0,Author1Sections,1,Author2Sections),\"=0\")","v":8},3661,"featioust",0,0,0,0,0,0.1,0,0,0,0,0,0,0,0,0,0,0,0,0,0,0,0,0,0,0,0,0,0,0,"fewell","sultry"]
[{"$f":"B1943+C1943","v":1.0476190476190477},{"$f":"D1943/Author1Sections","v":4.7619047619047616E-2},{"$f":"E1943/Author2Sections","v":1},{"$f":"COUNTIF(OFFSET(H1943,0,0,1,Author1Sections),\">0\")","v":1},{"$f":"COUNTIF(OFFSET(H1943,0,Author1Sections,1,Author2Sections),\"=0\")","v":8},3665,"feeding",0,0,0,0,0,0,0.1,0,0,0,0,0,0,0,0,0,0,0,0,0,0,0,0,0,0,0,0,0,0,"fie","sunbeams"]
[{"$f":"B1944+C1944","v":1.0476190476190477},{"$f":"D1944/Author1Sections","v":4.7619047619047616E-2},{"$f":"E1944/Author2Sections","v":1},{"$f":"COUNTIF(OFFSET(H1944,0,0,1,Author1Sections),\">0\")","v":1},{"$f":"COUNTIF(OFFSET(H1944,0,Author1Sections,1,Author2Sections),\"=0\")","v":8},3666,"feel",0,0,0,0,0,0,0,0,0,0,0,0,0,0,0.1,0,0,0,0,0,0,0,0,0,0,0,0,0,0,"fiecer","sunken"]
[{"$f":"B1945+C1945","v":1.0476190476190477},{"$f":"D1945/Author1Sections","v":4.7619047619047616E-2},{"$f":"E1945/Author2Sections","v":1},{"$f":"COUNTIF(OFFSET(H1945,0,0,1,Author1Sections),\">0\")","v":1},{"$f":"COUNTIF(OFFSET(H1945,0,Author1Sections,1,Author2Sections),\"=0\")","v":8},3667,"fellow",0,0,0,0,0,0,0.1,0,0,0,0,0,0,0,0,0,0,0,0,0,0,0,0,0,0,0,0,0,0,"fiends","sunshine"]
[{"$f":"B1946+C1946","v":1.0476190476190477},{"$f":"D1946/Author1Sections","v":4.7619047619047616E-2},{"$f":"E1946/Author2Sections","v":1},{"$f":"COUNTIF(OFFSET(H1946,0,0,1,Author1Sections),\">0\")","v":1},{"$f":"COUNTIF(OFFSET(H1946,0,Author1Sections,1,Author2Sections),\"=0\")","v":8},3669,"fence",0,0,0,0,0,0,0,0,0,0.1,0,0,0,0,0,0,0,0,0,0,0,0,0,0,0,0,0,0,0,"fier","sup"]
[{"$f":"B1947+C1947","v":1.0476190476190477},{"$f":"D1947/Author1Sections","v":4.7619047619047616E-2},{"$f":"E1947/Author2Sections","v":1},{"$f":"COUNTIF(OFFSET(H1947,0,0,1,Author1Sections),\">0\")","v":1},{"$f":"COUNTIF(OFFSET(H1947,0,Author1Sections,1,Author2Sections),\"=0\")","v":8},3670,"fennes",0,0.1,0,0,0,0,0,0,0,0,0,0,0,0,0,0,0,0,0,0,0,0,0,0,0,0,0,0,0,"fiers","supplicant"]
[{"$f":"B1948+C1948","v":1.0476190476190477},{"$f":"D1948/Author1Sections","v":4.7619047619047616E-2},{"$f":"E1948/Author2Sections","v":1},{"$f":"COUNTIF(OFFSET(H1948,0,0,1,Author1Sections),\">0\")","v":1},{"$f":"COUNTIF(OFFSET(H1948,0,Author1Sections,1,Author2Sections),\"=0\")","v":8},3671,"fet",0,0,0,0,0,0,0,0,0,0,0.1,0,0,0,0,0,0,0,0,0,0,0,0,0,0,0,0,0,0,"figure","supposed"]
[{"$f":"B1949+C1949","v":1.0476190476190477},{"$f":"D1949/Author1Sections","v":4.7619047619047616E-2},{"$f":"E1949/Author2Sections","v":1},{"$f":"COUNTIF(OFFSET(H1949,0,0,1,Author1Sections),\">0\")","v":1},{"$f":"COUNTIF(OFFSET(H1949,0,Author1Sections,1,Author2Sections),\"=0\")","v":8},3672,"fetch",0,0,0,0,0,0,0,0,0,0,0,0,0,0,0,0.1,0,0,0,0,0,0,0,0,0,0,0,0,0,"fil'd","surmise"]
[{"$f":"B1950+C1950","v":1.0476190476190477},{"$f":"D1950/Author1Sections","v":4.7619047619047616E-2},{"$f":"E1950/Author2Sections","v":1},{"$f":"COUNTIF(OFFSET(H1950,0,0,1,Author1Sections),\">0\")","v":1},{"$f":"COUNTIF(OFFSET(H1950,0,Author1Sections,1,Author2Sections),\"=0\")","v":8},3673,"fetched",0,0,0,0,0,0,0,0,0,0,0,0,0,0,0,0.1,0,0,0,0,0,0,0,0,0,0,0,0,0,"finger","swart"]
[{"$f":"B1951+C1951","v":1.0476190476190477},{"$f":"D1951/Author1Sections","v":4.7619047619047616E-2},{"$f":"E1951/Author2Sections","v":1},{"$f":"COUNTIF(OFFSET(H1951,0,0,1,Author1Sections),\">0\")","v":1},{"$f":"COUNTIF(OFFSET(H1951,0,Author1Sections,1,Author2Sections),\"=0\")","v":8},3675,"fewell",0,0,0,0,0,0,0,0,0,0,0,0,0,0,0.1,0,0,0,0,0,0,0,0,0,0,0,0,0,0,"finis","sweat"]
[{"$f":"B1952+C1952","v":1.0476190476190477},{"$f":"D1952/Author1Sections","v":4.7619047619047616E-2},{"$f":"E1952/Author2Sections","v":1},{"$f":"COUNTIF(OFFSET(H1952,0,0,1,Author1Sections),\">0\")","v":1},{"$f":"COUNTIF(OFFSET(H1952,0,Author1Sections,1,Author2Sections),\"=0\")","v":8},3676,"fie",0,0,0,0,0,0,0,0,0,0,0,0,0,0,0,0,0,0.1,0,0,0,0,0,0,0,0,0,0,0,"firebrands","sweep"]
[{"$f":"B1953+C1953","v":1.0476190476190477},{"$f":"D1953/Author1Sections","v":4.7619047619047616E-2},{"$f":"E1953/Author2Sections","v":1},{"$f":"COUNTIF(OFFSET(H1953,0,0,1,Author1Sections),\">0\")","v":1},{"$f":"COUNTIF(OFFSET(H1953,0,Author1Sections,1,Author2Sections),\"=0\")","v":8},3677,"fiecer",0,0,0,0,0,0,0,0,0,0,0.1,0,0,0,0,0,0,0,0,0,0,0,0,0,0,0,0,0,0,"fired","sweeping"]
[{"$f":"B1954+C1954","v":1.0476190476190477},{"$f":"D1954/Author1Sections","v":4.7619047619047616E-2},{"$f":"E1954/Author2Sections","v":1},{"$f":"COUNTIF(OFFSET(H1954,0,0,1,Author1Sections),\">0\")","v":1},{"$f":"COUNTIF(OFFSET(H1954,0,Author1Sections,1,Author2Sections),\"=0\")","v":8},3678,"fiends",0.1,0,0,0,0,0,0,0,0,0,0,0,0,0,0,0,0,0,0,0,0,0,0,0,0,0,0,0,0,"firme","sweetens"]
[{"$f":"B1955+C1955","v":1.0476190476190477},{"$f":"D1955/Author1Sections","v":4.7619047619047616E-2},{"$f":"E1955/Author2Sections","v":1},{"$f":"COUNTIF(OFFSET(H1955,0,0,1,Author1Sections),\">0\")","v":1},{"$f":"COUNTIF(OFFSET(H1955,0,Author1Sections,1,Author2Sections),\"=0\")","v":8},3679,"fier",0,0,0,0,0,0,0,0,0,0,0,0,0,0,0,0,0,0.1,0,0,0,0,0,0,0,0,0,0,0,"fish","swiftest"]
[{"$f":"B1956+C1956","v":1.0476190476190477},{"$f":"D1956/Author1Sections","v":4.7619047619047616E-2},{"$f":"E1956/Author2Sections","v":1},{"$f":"COUNTIF(OFFSET(H1956,0,0,1,Author1Sections),\">0\")","v":1},{"$f":"COUNTIF(OFFSET(H1956,0,Author1Sections,1,Author2Sections),\"=0\")","v":8},3680,"fiers",0,0,0,0,0,0,0,0,0,0,0,0,0,0,0,0,0,0,0,0,7.0372980000000002E-2,0,0,0,0,0,0,0,0,"fitter","swinging"]
[{"$f":"B1957+C1957","v":1.0476190476190477},{"$f":"D1957/Author1Sections","v":4.7619047619047616E-2},{"$f":"E1957/Author2Sections","v":1},{"$f":"COUNTIF(OFFSET(H1957,0,0,1,Author1Sections),\">0\")","v":1},{"$f":"COUNTIF(OFFSET(H1957,0,Author1Sections,1,Author2Sections),\"=0\")","v":8},3682,"figure",0,0,0,0,0,0,0,0,0,0,0,0,0,0,0.1,0,0,0,0,0,0,0,0,0,0,0,0,0,0,"fixt","swoll'n"]
[{"$f":"B1958+C1958","v":1.0476190476190477},{"$f":"D1958/Author1Sections","v":4.7619047619047616E-2},{"$f":"E1958/Author2Sections","v":1},{"$f":"COUNTIF(OFFSET(H1958,0,0,1,Author1Sections),\">0\")","v":1},{"$f":"COUNTIF(OFFSET(H1958,0,Author1Sections,1,Author2Sections),\"=0\")","v":8},3684,"fil'd",0,0,0,0,0,0,0,0,0,0,0,0,0,0,0.1,0,0,0,0,0,0,0,0,0,0,0,0,0,0,"flamie","swoon"]
[{"$f":"B1959+C1959","v":1.0476190476190477},{"$f":"D1959/Author1Sections","v":4.7619047619047616E-2},{"$f":"E1959/Author2Sections","v":1},{"$f":"COUNTIF(OFFSET(H1959,0,0,1,Author1Sections),\">0\")","v":1},{"$f":"COUNTIF(OFFSET(H1959,0,Author1Sections,1,Author2Sections),\"=0\")","v":8},3689,"finger",0,0,0,0,0,0,0,0.1,0,0,0,0,0,0,0,0,0,0,0,0,0,0,0,0,0,0,0,0,0,"flat","swooning"]
[{"$f":"B1960+C1960","v":1.0476190476190477},{"$f":"D1960/Author1Sections","v":4.7619047619047616E-2},{"$f":"E1960/Author2Sections","v":1},{"$f":"COUNTIF(OFFSET(H1960,0,0,1,Author1Sections),\">0\")","v":1},{"$f":"COUNTIF(OFFSET(H1960,0,Author1Sections,1,Author2Sections),\"=0\")","v":8},3691,"finis",0,0,0,0,0,0,0,0,0.1,0,0,0,0,0,0,0,0,0,0,0,0,0,0,0,0,0,0,0,0,"flatt'ring","sylvan"]
[{"$f":"B1961+C1961","v":1.0476190476190477},{"$f":"D1961/Author1Sections","v":4.7619047619047616E-2},{"$f":"E1961/Author2Sections","v":1},{"$f":"COUNTIF(OFFSET(H1961,0,0,1,Author1Sections),\">0\")","v":1},{"$f":"COUNTIF(OFFSET(H1961,0,Author1Sections,1,Author2Sections),\"=0\")","v":8},3692,"firebrands",0,0,0,0,0,0,0,0,0,0.1,0,0,0,0,0,0,0,0,0,0,0,0,0,0,0,0,0,0,0,"flatter","tacitus"]
[{"$f":"B1962+C1962","v":1.0476190476190477},{"$f":"D1962/Author1Sections","v":4.7619047619047616E-2},{"$f":"E1962/Author2Sections","v":1},{"$f":"COUNTIF(OFFSET(H1962,0,0,1,Author1Sections),\">0\")","v":1},{"$f":"COUNTIF(OFFSET(H1962,0,Author1Sections,1,Author2Sections),\"=0\")","v":8},3693,"fired",0,0,0,0.1,0,0,0,0,0,0,0,0,0,0,0,0,0,0,0,0,0,0,0,0,0,0,0,0,0,"flattering","taint"]
[{"$f":"B1963+C1963","v":1.0476190476190477},{"$f":"D1963/Author1Sections","v":4.7619047619047616E-2},{"$f":"E1963/Author2Sections","v":1},{"$f":"COUNTIF(OFFSET(H1963,0,0,1,Author1Sections),\">0\")","v":1},{"$f":"COUNTIF(OFFSET(H1963,0,Author1Sections,1,Author2Sections),\"=0\")","v":8},3694,"firme",0,0,0,0,0,0,0.1,0,0,0,0,0,0,0,0,0,0,0,0,0,0,0,0,0,0,0,0,0,0,"flaunt","taketh"]
[{"$f":"B1964+C1964","v":1.0476190476190477},{"$f":"D1964/Author1Sections","v":4.7619047619047616E-2},{"$f":"E1964/Author2Sections","v":1},{"$f":"COUNTIF(OFFSET(H1964,0,0,1,Author1Sections),\">0\")","v":1},{"$f":"COUNTIF(OFFSET(H1964,0,Author1Sections,1,Author2Sections),\"=0\")","v":8},3695,"fish",0,0.1,0,0,0,0,0,0,0,0,0,0,0,0,0,0,0,0,0,0,0,0,0,0,0,0,0,0,0,"flauntingly","talents"]
[{"$f":"B1965+C1965","v":1.0476190476190477},{"$f":"D1965/Author1Sections","v":4.7619047619047616E-2},{"$f":"E1965/Author2Sections","v":1},{"$f":"COUNTIF(OFFSET(H1965,0,0,1,Author1Sections),\">0\")","v":1},{"$f":"COUNTIF(OFFSET(H1965,0,Author1Sections,1,Author2Sections),\"=0\")","v":8},3697,"fitter",0,0,0,0,0,0,0,0,0,0,0.1,0,0,0,0,0,0,0,0,0,0,0,0,0,0,0,0,0,0,"fledde","tangles"]
[{"$f":"B1966+C1966","v":1.0476190476190477},{"$f":"D1966/Author1Sections","v":4.7619047619047616E-2},{"$f":"E1966/Author2Sections","v":1},{"$f":"COUNTIF(OFFSET(H1966,0,0,1,Author1Sections),\">0\")","v":1},{"$f":"COUNTIF(OFFSET(H1966,0,Author1Sections,1,Author2Sections),\"=0\")","v":8},3701,"fixt",0,0,0,0,0,0,0,0,0,0,0.1,0,0,0,0,0,0,0,0,0,0,0,0,0,0,0,0,0,0,"flegmatike","tann'd"]
[{"$f":"B1967+C1967","v":1.0476190476190477},{"$f":"D1967/Author1Sections","v":4.7619047619047616E-2},{"$f":"E1967/Author2Sections","v":1},{"$f":"COUNTIF(OFFSET(H1967,0,0,1,Author1Sections),\">0\")","v":1},{"$f":"COUNTIF(OFFSET(H1967,0,Author1Sections,1,Author2Sections),\"=0\")","v":8},3703,"flamie",0,0,0,0,0,0,0,0,0,0,0,0,0,0,0,0,0,0.1,0,0,0,0,0,0,0,0,0,0,0,"flinty","taper"]
[{"$f":"B1968+C1968","v":1.0476190476190477},{"$f":"D1968/Author1Sections","v":4.7619047619047616E-2},{"$f":"E1968/Author2Sections","v":1},{"$f":"COUNTIF(OFFSET(H1968,0,0,1,Author1Sections),\">0\")","v":1},{"$f":"COUNTIF(OFFSET(H1968,0,Author1Sections,1,Author2Sections),\"=0\")","v":8},3707,"flat",0,0,0,0,0,0.1,0,0,0,0,0,0,0,0,0,0,0,0,0,0,0,0,0,0,0,0,0,0,0,"flit","tartar"]
[{"$f":"B1969+C1969","v":1.0476190476190477},{"$f":"D1969/Author1Sections","v":4.7619047619047616E-2},{"$f":"E1969/Author2Sections","v":1},{"$f":"COUNTIF(OFFSET(H1969,0,0,1,Author1Sections),\">0\")","v":1},{"$f":"COUNTIF(OFFSET(H1969,0,Author1Sections,1,Author2Sections),\"=0\")","v":8},3708,"flatt'ring",0,0,0,0,0,0,0,0,0,0,0,0,0,0,0,0,0,0,0,0,7.0372980000000002E-2,0,0,0,0,0,0,0,0,"flocke","tasted"]
[{"$f":"B1970+C1970","v":1.0476190476190477},{"$f":"D1970/Author1Sections","v":4.7619047619047616E-2},{"$f":"E1970/Author2Sections","v":1},{"$f":"COUNTIF(OFFSET(H1970,0,0,1,Author1Sections),\">0\")","v":1},{"$f":"COUNTIF(OFFSET(H1970,0,Author1Sections,1,Author2Sections),\"=0\")","v":8},3709,"flatter",0,0,0,0,0,0,0,0,0,0,0,0,0,0,0,0,0.1,0,0,0,0,0,0,0,0,0,0,0,0,"flockes","tatter'd"]
[{"$f":"B1971+C1971","v":1.0476190476190477},{"$f":"D1971/Author1Sections","v":4.7619047619047616E-2},{"$f":"E1971/Author2Sections","v":1},{"$f":"COUNTIF(OFFSET(H1971,0,0,1,Author1Sections),\">0\")","v":1},{"$f":"COUNTIF(OFFSET(H1971,0,Author1Sections,1,Author2Sections),\"=0\")","v":8},3710,"flattering",0,0.1,0,0,0,0,0,0,0,0,0,0,0,0,0,0,0,0,0,0,0,0,0,0,0,0,0,0,0,"florish","tearing"]
[{"$f":"B1972+C1972","v":1.0476190476190477},{"$f":"D1972/Author1Sections","v":4.7619047619047616E-2},{"$f":"E1972/Author2Sections","v":1},{"$f":"COUNTIF(OFFSET(H1972,0,0,1,Author1Sections),\">0\")","v":1},{"$f":"COUNTIF(OFFSET(H1972,0,Author1Sections,1,Author2Sections),\"=0\")","v":8},3711,"flaunt",0,0,0,0,0,0,0,0,0.1,0,0,0,0,0,0,0,0,0,0,0,0,0,0,0,0,0,0,0,0,"flourishing","teen"]
[{"$f":"B1973+C1973","v":1.0476190476190477},{"$f":"D1973/Author1Sections","v":4.7619047619047616E-2},{"$f":"E1973/Author2Sections","v":1},{"$f":"COUNTIF(OFFSET(H1973,0,0,1,Author1Sections),\">0\")","v":1},{"$f":"COUNTIF(OFFSET(H1973,0,Author1Sections,1,Author2Sections),\"=0\")","v":8},3712,"flauntingly",0,0,0,0,0,0,0,0,0,0,0,0,0,0,0.1,0,0,0,0,0,0,0,0,0,0,0,0,0,0,"flowe","temper'd"]
[{"$f":"B1974+C1974","v":1.0476190476190477},{"$f":"D1974/Author1Sections","v":4.7619047619047616E-2},{"$f":"E1974/Author2Sections","v":1},{"$f":"COUNTIF(OFFSET(H1974,0,0,1,Author1Sections),\">0\")","v":1},{"$f":"COUNTIF(OFFSET(H1974,0,Author1Sections,1,Author2Sections),\"=0\")","v":8},3713,"fledde",0,0,0,0,0,0,0,0,0.1,0,0,0,0,0,0,0,0,0,0,0,0,0,0,0,0,0,0,0,0,"flowed","tempt"]
[{"$f":"B1975+C1975","v":1.0476190476190477},{"$f":"D1975/Author1Sections","v":4.7619047619047616E-2},{"$f":"E1975/Author2Sections","v":1},{"$f":"COUNTIF(OFFSET(H1975,0,0,1,Author1Sections),\">0\")","v":1},{"$f":"COUNTIF(OFFSET(H1975,0,Author1Sections,1,Author2Sections),\"=0\")","v":8},3715,"flegmatike",0,0,0,0,0,0,0,0,0,0,0,0,0,0,0,0.1,0,0,0,0,0,0,0,0,0,0,0,0,0,"flowes","tempted"]
[{"$f":"B1976+C1976","v":1.0476190476190477},{"$f":"D1976/Author1Sections","v":4.7619047619047616E-2},{"$f":"E1976/Author2Sections","v":1},{"$f":"COUNTIF(OFFSET(H1976,0,0,1,Author1Sections),\">0\")","v":1},{"$f":"COUNTIF(OFFSET(H1976,0,Author1Sections,1,Author2Sections),\"=0\")","v":8},3721,"flinty",0,0,0,0,0,0,0.1,0,0,0,0,0,0,0,0,0,0,0,0,0,0,0,0,0,0,0,0,0,0,"flowrie","tempter"]
[{"$f":"B1977+C1977","v":1.0476190476190477},{"$f":"D1977/Author1Sections","v":4.7619047619047616E-2},{"$f":"E1977/Author2Sections","v":1},{"$f":"COUNTIF(OFFSET(H1977,0,0,1,Author1Sections),\">0\")","v":1},{"$f":"COUNTIF(OFFSET(H1977,0,Author1Sections,1,Author2Sections),\"=0\")","v":8},3722,"flit",0,0,0,0.1,0,0,0,0,0,0,0,0,0,0,0,0,0,0,0,0,0,0,0,0,0,0,0,0,0,"flutters","termless"]
[{"$f":"B1978+C1978","v":1.0476190476190477},{"$f":"D1978/Author1Sections","v":4.7619047619047616E-2},{"$f":"E1978/Author2Sections","v":1},{"$f":"COUNTIF(OFFSET(H1978,0,0,1,Author1Sections),\">0\")","v":1},{"$f":"COUNTIF(OFFSET(H1978,0,Author1Sections,1,Author2Sections),\"=0\")","v":8},3725,"flocke",0,0,0,0,0,0,0.1,0,0,0,0,0,0,0,0,0,0,0,0,0,0,0,0,0,0,0,0,0,0,"flying","terms"]
[{"$f":"B1979+C1979","v":1.0476190476190477},{"$f":"D1979/Author1Sections","v":4.7619047619047616E-2},{"$f":"E1979/Author2Sections","v":1},{"$f":"COUNTIF(OFFSET(H1979,0,0,1,Author1Sections),\">0\")","v":1},{"$f":"COUNTIF(OFFSET(H1979,0,Author1Sections,1,Author2Sections),\"=0\")","v":8},3726,"flockes",0,0,0.1,0,0,0,0,0,0,0,0,0,0,0,0,0,0,0,0,0,0,0,0,0,0,0,0,0,0,"folke","terror"]
[{"$f":"B1980+C1980","v":1.0476190476190477},{"$f":"D1980/Author1Sections","v":4.7619047619047616E-2},{"$f":"E1980/Author2Sections","v":1},{"$f":"COUNTIF(OFFSET(H1980,0,0,1,Author1Sections),\">0\")","v":1},{"$f":"COUNTIF(OFFSET(H1980,0,Author1Sections,1,Author2Sections),\"=0\")","v":8},3728,"florish",0,0,0.1,0,0,0,0,0,0,0,0,0,0,0,0,0,0,0,0,0,0,0,0,0,0,0,0,0,0,"follies","th'abhorred"]
[{"$f":"B1981+C1981","v":1.0476190476190477},{"$f":"D1981/Author1Sections","v":4.7619047619047616E-2},{"$f":"E1981/Author2Sections","v":1},{"$f":"COUNTIF(OFFSET(H1981,0,0,1,Author1Sections),\">0\")","v":1},{"$f":"COUNTIF(OFFSET(H1981,0,Author1Sections,1,Author2Sections),\"=0\")","v":8},3729,"flourishing",0,0,0,0,0,0,0,0,0.1,0,0,0,0,0,0,0,0,0,0,0,0,0,0,0,0,0,0,0,0,"followed","th'adulteries"]
[{"$f":"B1982+C1982","v":1.0476190476190477},{"$f":"D1982/Author1Sections","v":4.7619047619047616E-2},{"$f":"E1982/Author2Sections","v":1},{"$f":"COUNTIF(OFFSET(H1982,0,0,1,Author1Sections),\">0\")","v":1},{"$f":"COUNTIF(OFFSET(H1982,0,Author1Sections,1,Author2Sections),\"=0\")","v":8},3734,"flowe",0,0,0,0,0,0,0,0,0,0,0,0,0,0,0,0,0.1,0,0,0,0,0,0,0,0,0,0,0,0,"fomie","th'eclipse"]
[{"$f":"B1983+C1983","v":1.0476190476190477},{"$f":"D1983/Author1Sections","v":4.7619047619047616E-2},{"$f":"E1983/Author2Sections","v":1},{"$f":"COUNTIF(OFFSET(H1983,0,0,1,Author1Sections),\">0\")","v":1},{"$f":"COUNTIF(OFFSET(H1983,0,Author1Sections,1,Author2Sections),\"=0\")","v":8},3735,"flowed",0,0,0,0,7.4183979999999997E-2,0,0,0,0,0,0,0,0,0,0,0,0,0,0,0,0,0,0,0,0,0,0,0,0,"foolse","th'oaks"]
[{"$f":"B1984+C1984","v":1.0476190476190477},{"$f":"D1984/Author1Sections","v":4.7619047619047616E-2},{"$f":"E1984/Author2Sections","v":1},{"$f":"COUNTIF(OFFSET(H1984,0,0,1,Author1Sections),\">0\")","v":1},{"$f":"COUNTIF(OFFSET(H1984,0,Author1Sections,1,Author2Sections),\"=0\")","v":8},3736,"flowes",0,0,0,0,0,0,0,0,0,0,0.1,0,0,0,0,0,0,0,0,0,0,0,0,0,0,0,0,0,0,"foot","th'oaten"]
[{"$f":"B1985+C1985","v":1.0476190476190477},{"$f":"D1985/Author1Sections","v":4.7619047619047616E-2},{"$f":"E1985/Author2Sections","v":1},{"$f":"COUNTIF(OFFSET(H1985,0,0,1,Author1Sections),\">0\")","v":1},{"$f":"COUNTIF(OFFSET(H1985,0,Author1Sections,1,Author2Sections),\"=0\")","v":8},3738,"flowrie",0,0.1,0,0,0,0,0,0,0,0,0,0,0,0,0,0,0,0,0,0,0,0,0,0,0,0,0,0,0,"foote","th'world"]
[{"$f":"B1986+C1986","v":1.0476190476190477},{"$f":"D1986/Author1Sections","v":4.7619047619047616E-2},{"$f":"E1986/Author2Sections","v":1},{"$f":"COUNTIF(OFFSET(H1986,0,0,1,Author1Sections),\">0\")","v":1},{"$f":"COUNTIF(OFFSET(H1986,0,Author1Sections,1,Author2Sections),\"=0\")","v":8},3740,"flutters",0,0,0,0,0,0,0,0,0,0,0,0,0,0,0,0,0,0,0,0,7.0372980000000002E-2,0,0,0,0,0,0,0,0,"footed","thankless"]
[{"$f":"B1987+C1987","v":1.0476190476190477},{"$f":"D1987/Author1Sections","v":4.7619047619047616E-2},{"$f":"E1987/Author2Sections","v":1},{"$f":"COUNTIF(OFFSET(H1987,0,0,1,Author1Sections),\">0\")","v":1},{"$f":"COUNTIF(OFFSET(H1987,0,Author1Sections,1,Author2Sections),\"=0\")","v":8},3742,"flying",0,0,0,0,0,0,0,0,0,0.1,0,0,0,0,0,0,0,0,0,0,0,0,0,0,0,0,0,0,0,"footstep","thebes'"]
[{"$f":"B1988+C1988","v":1.0476190476190477},{"$f":"D1988/Author1Sections","v":4.7619047619047616E-2},{"$f":"E1988/Author2Sections","v":1},{"$f":"COUNTIF(OFFSET(H1988,0,0,1,Author1Sections),\">0\")","v":1},{"$f":"COUNTIF(OFFSET(H1988,0,Author1Sections,1,Author2Sections),\"=0\")","v":8},3745,"folke",0,0,0,0,0,0,0,0,0,0,0,0,0,0,0,0,0.1,0,0,0,0,0,0,0,0,0,0,0,0,"foraging","theirs"]
[{"$f":"B1989+C1989","v":1.0476190476190477},{"$f":"D1989/Author1Sections","v":4.7619047619047616E-2},{"$f":"E1989/Author2Sections","v":1},{"$f":"COUNTIF(OFFSET(H1989,0,0,1,Author1Sections),\">0\")","v":1},{"$f":"COUNTIF(OFFSET(H1989,0,Author1Sections,1,Author2Sections),\"=0\")","v":8},3746,"follies",0,0,0,0,0,0,0,0,0.1,0,0,0,0,0,0,0,0,0,0,0,0,0,0,0,0,0,0,0,0,"forbear","there'"]
[{"$f":"B1990+C1990","v":1.0476190476190477},{"$f":"D1990/Author1Sections","v":4.7619047619047616E-2},{"$f":"E1990/Author2Sections","v":1},{"$f":"COUNTIF(OFFSET(H1990,0,0,1,Author1Sections),\">0\")","v":1},{"$f":"COUNTIF(OFFSET(H1990,0,Author1Sections,1,Author2Sections),\"=0\")","v":8},3747,"followed",0,0,0,0,0,0,0,0,0.1,0,0,0,0,0,0,0,0,0,0,0,0,0,0,0,0,0,0,0,0,"forbids","thespia"]
[{"$f":"B1991+C1991","v":1.0476190476190477},{"$f":"D1991/Author1Sections","v":4.7619047619047616E-2},{"$f":"E1991/Author2Sections","v":1},{"$f":"COUNTIF(OFFSET(H1991,0,0,1,Author1Sections),\">0\")","v":1},{"$f":"COUNTIF(OFFSET(H1991,0,Author1Sections,1,Author2Sections),\"=0\")","v":8},3748,"fomie",0,0.1,0,0,0,0,0,0,0,0,0,0,0,0,0,0,0,0,0,0,0,0,0,0,0,0,0,0,0,"forc't","thespian"]
[{"$f":"B1992+C1992","v":1.0476190476190477},{"$f":"D1992/Author1Sections","v":4.7619047619047616E-2},{"$f":"E1992/Author2Sections","v":1},{"$f":"COUNTIF(OFFSET(H1992,0,0,1,Author1Sections),\">0\")","v":1},{"$f":"COUNTIF(OFFSET(H1992,0,Author1Sections,1,Author2Sections),\"=0\")","v":8},3751,"foolse",0,0,0,0,0,0,0,0,0,0.1,0,0,0,0,0,0,0,0,0,0,0,0,0,0,0,0,0,0,0,"forefront","thestylis"]
[{"$f":"B1993+C1993","v":1.0476190476190477},{"$f":"D1993/Author1Sections","v":4.7619047619047616E-2},{"$f":"E1993/Author2Sections","v":1},{"$f":"COUNTIF(OFFSET(H1993,0,0,1,Author1Sections),\">0\")","v":1},{"$f":"COUNTIF(OFFSET(H1993,0,Author1Sections,1,Author2Sections),\"=0\")","v":8},3752,"foot",0,0,0,0,0,0,0,0,0,0,0,0,0.1,0,0,0,0,0,0,0,0,0,0,0,0,0,0,0,0,"forepast","thick"]
[{"$f":"B1994+C1994","v":1.0476190476190477},{"$f":"D1994/Author1Sections","v":4.7619047619047616E-2},{"$f":"E1994/Author2Sections","v":1},{"$f":"COUNTIF(OFFSET(H1994,0,0,1,Author1Sections),\">0\")","v":1},{"$f":"COUNTIF(OFFSET(H1994,0,Author1Sections,1,Author2Sections),\"=0\")","v":8},3753,"foote",0,0,0,0,7.4183979999999997E-2,0,0,0,0,0,0,0,0,0,0,0,0,0,0,0,0,0,0,0,0,0,0,0,0,"forewarnd","thigh"]
[{"$f":"B1995+C1995","v":1.0476190476190477},{"$f":"D1995/Author1Sections","v":4.7619047619047616E-2},{"$f":"E1995/Author2Sections","v":1},{"$f":"COUNTIF(OFFSET(H1995,0,0,1,Author1Sections),\">0\")","v":1},{"$f":"COUNTIF(OFFSET(H1995,0,Author1Sections,1,Author2Sections),\"=0\")","v":8},3754,"footed",0,0,0,0,7.4183979999999997E-2,0,0,0,0,0,0,0,0,0,0,0,0,0,0,0,0,0,0,0,0,0,0,0,0,"forgat","thinks"]
[{"$f":"B1996+C1996","v":1.0476190476190477},{"$f":"D1996/Author1Sections","v":4.7619047619047616E-2},{"$f":"E1996/Author2Sections","v":1},{"$f":"COUNTIF(OFFSET(H1996,0,0,1,Author1Sections),\">0\")","v":1},{"$f":"COUNTIF(OFFSET(H1996,0,Author1Sections,1,Author2Sections),\"=0\")","v":8},3755,"footstep",0,0,0,0,0,0,0,0,0.1,0,0,0,0,0,0,0,0,0,0,0,0,0,0,0,0,0,0,0,0,"forgetfulnesse","thorn"]
[{"$f":"B1997+C1997","v":1.0476190476190477},{"$f":"D1997/Author1Sections","v":4.7619047619047616E-2},{"$f":"E1997/Author2Sections","v":1},{"$f":"COUNTIF(OFFSET(H1997,0,0,1,Author1Sections),\">0\")","v":1},{"$f":"COUNTIF(OFFSET(H1997,0,Author1Sections,1,Author2Sections),\"=0\")","v":8},3756,"foraging",0,0,0,0,0,0,0,0,0,0,0,0,0,0,0,0.1,0,0,0,0,0,0,0,0,0,0,0,0,0,"forgets","threaden"]
[{"$f":"B1998+C1998","v":1.0476190476190477},{"$f":"D1998/Author1Sections","v":4.7619047619047616E-2},{"$f":"E1998/Author2Sections","v":1},{"$f":"COUNTIF(OFFSET(H1998,0,0,1,Author1Sections),\">0\")","v":1},{"$f":"COUNTIF(OFFSET(H1998,0,Author1Sections,1,Author2Sections),\"=0\")","v":8},3757,"forbear",0,0,0,0,0,0,0,0,0,0,0,0,0,0,0,0,0,0,0,0,7.0372980000000002E-2,0,0,0,0,0,0,0,0,"forgiue","threescore"]
[{"$f":"B1999+C1999","v":1.0476190476190477},{"$f":"D1999/Author1Sections","v":4.7619047619047616E-2},{"$f":"E1999/Author2Sections","v":1},{"$f":"COUNTIF(OFFSET(H1999,0,0,1,Author1Sections),\">0\")","v":1},{"$f":"COUNTIF(OFFSET(H1999,0,Author1Sections,1,Author2Sections),\"=0\")","v":8},3760,"forbids",0,0,0,0,0,0,0,0,0,0,0,0,0,0,0,0,0,0,0.1,0,0,0,0,0,0,0,0,0,0,"forgotten","thresh'd"]
[{"$f":"B2000+C2000","v":1.0476190476190477},{"$f":"D2000/Author1Sections","v":4.7619047619047616E-2},{"$f":"E2000/Author2Sections","v":1},{"$f":"COUNTIF(OFFSET(H2000,0,0,1,Author1Sections),\">0\")","v":1},{"$f":"COUNTIF(OFFSET(H2000,0,Author1Sections,1,Author2Sections),\"=0\")","v":8},3762,"forc't",0,0,0,0,0,0,0,0,0,0.1,0,0,0,0,0,0,0,0,0,0,0,0,0,0,0,0,0,0,0,"forlorne","thriftless"]
[{"$f":"B2016+C2016","v":1.0476190476190477},{"$f":"D2016/Author1Sections","v":4.7619047619047616E-2},{"$f":"E2016/Author2Sections","v":1},{"$f":"COUNTIF(OFFSET(H2016,0,0,1,Author1Sections),\">0\")","v":1},{"$f":"COUNTIF(OFFSET(H2016,0,Author1Sections,1,Author2Sections),\"=0\")","v":8},3787,"forsworne",0,0,0,0,0,0,0,0,0,0,0,0,0,0,0,0,0.1,0,0,0,0,0,0,0,0,0,0,0,0,"fransical","tow'r"]
[{"$f":"B2020+C2020","v":1.0476190476190477},{"$f":"D2020/Author1Sections","v":4.7619047619047616E-2},{"$f":"E2020/Author2Sections","v":1},{"$f":"COUNTIF(OFFSET(H2020,0,0,1,Author1Sections),\">0\")","v":1},{"$f":"COUNTIF(OFFSET(H2020,0,Author1Sections,1,Author2Sections),\"=0\")","v":8},3794,"fowle",0,0,0,0,7.4183979999999997E-2,0,0,0,0,0,0,0,0,0,0,0,0,0,0,0,0,0,0,0,0,0,0,0,0,"freedome","trade"]
[{"$f":"B2045+C2045","v":1.0476190476190477},{"$f":"D2045/Author1Sections","v":4.7619047619047616E-2},{"$f":"E2045/Author2Sections","v":1},{"$f":"COUNTIF(OFFSET(H2045,0,0,1,Author1Sections),\">0\")","v":1},{"$f":"COUNTIF(OFFSET(H2045,0,Author1Sections,1,Author2Sections),\"=0\")","v":8},3829,"functions",0,0,0,0,0,0,0,0.1,0,0,0,0,0,0,0,0,0,0,0,0,0,0,0,0,0,0,0,0,0,"gaie","unear'd"]
[{"$f":"B2063+C2063","v":1.0476190476190477},{"$f":"D2063/Author1Sections","v":4.7619047619047616E-2},{"$f":"E2063/Author2Sections","v":1},{"$f":"COUNTIF(OFFSET(H2063,0,0,1,Author1Sections),\">0\")","v":1},{"$f":"COUNTIF(OFFSET(H2063,0,Author1Sections,1,Author2Sections),\"=0\")","v":8},3851,"gard'n",0,0,0,0,0,0,0,0,0,0,0,0,0,0,0,0,0,0,0.1,0,0,0,0,0,0,0,0,0,0,"gentlewoman","untidy"]
[{"$f":"B2092+C2092","v":1.0476190476190477},{"$f":"D2092/Author1Sections","v":4.7619047619047616E-2},{"$f":"E2092/Author2Sections","v":1},{"$f":"COUNTIF(OFFSET(H2092,0,0,1,Author1Sections),\">0\")","v":1},{"$f":"COUNTIF(OFFSET(H2092,0,Author1Sections,1,Author2Sections),\"=0\")","v":8},3897,"goale",0,0,0.1,0,0,0,0,0,0,0,0,0,0,0,0,0,0,0,0,0,0,0,0,0,0,0,0,0,0,"grandam","virgin"]
[{"$f":"B2100+C2100","v":1.0476190476190477},{"$f":"D2100/Author1Sections","v":4.7619047619047616E-2},{"$f":"E2100/Author2Sections","v":1},{"$f":"COUNTIF(OFFSET(H2100,0,0,1,Author1Sections),\">0\")","v":1},{"$f":"COUNTIF(OFFSET(H2100,0,Author1Sections,1,Author2Sections),\"=0\")","v":8},3913,"grammers",0,0,0,0,0,0,0,0,0,0,0,0,0,0,0,0,0.1,0,0,0,0,0,0,0,0,0,0,0,0,"graunted","waft"]
[{"$f":"B2125+C2125","v":1.0476190476190477},{"$f":"D2125/Author1Sections","v":4.7619047619047616E-2},{"$f":"E2125/Author2Sections","v":1},{"$f":"COUNTIF(OFFSET(H2125,0,0,1,Author1Sections),\">0\")","v":1},{"$f":"COUNTIF(OFFSET(H2125,0,Author1Sections,1,Author2Sections),\"=0\")","v":8},3946,"groomes",0,0.1,0,0,0,0,0,0,0,0,0,0,0,0,0,0,0,0,0,0,0,0,0,0,0,0,0,0,0,"gules","weighs"]
[{"$f":"B2143+C2143","v":1.0476190476190477},{"$f":"D2143/Author1Sections","v":4.7619047619047616E-2},{"$f":"E2143/Author2Sections","v":1},{"$f":"COUNTIF(OFFSET(H2143,0,0,1,Author1Sections),\">0\")","v":1},{"$f":"COUNTIF(OFFSET(H2143,0,Author1Sections,1,Author2Sections),\"=0\")","v":8},3981,"hardie",0.1,0,0,0,0,0,0,0,0,0,0,0,0,0,0,0,0,0,0,0,0,0,0,0,0,0,0,0,0,"hatch","willows"]
[{"$f":"B2149+C2149","v":1.0476190476190477},{"$f":"D2149/Author1Sections","v":4.7619047619047616E-2},{"$f":"E2149/Author2Sections","v":1},{"$f":"COUNTIF(OFFSET(H2149,0,0,1,Author1Sections),\">0\")","v":1},{"$f":"COUNTIF(OFFSET(H2149,0,Author1Sections,1,Author2Sections),\"=0\")","v":8},3988,"harmes",0,0,0,0,0,0,0,0,0,0,0,0,0.1,0,0,0,0,0,0,0,0,0,0,0,0,0,0,0,0,"heads","witchcraft"]
[{"$f":"B2172+C2172","v":1.0476190476190477},{"$f":"D2172/Author1Sections","v":4.7619047619047616E-2},{"$f":"E2172/Author2Sections","v":1},{"$f":"COUNTIF(OFFSET(H2172,0,0,1,Author1Sections),\">0\")","v":1},{"$f":"COUNTIF(OFFSET(H2172,0,Author1Sections,1,Author2Sections),\"=0\")","v":8},4031,"heede",0,0,0,0,0,0,0,0,0,0,0,0,0,0,0,0,0,0,0.1,0,0,0,0,0,0,0,0,0,0,"hent","youngly"]
[{"$f":"B2186+C2186","v":1.0476190476190477},{"$f":"D2186/Author1Sections","v":4.7619047619047616E-2},{"$f":"E2186/Author2Sections","v":1},{"$f":"COUNTIF(OFFSET(H2186,0,0,1,Author1Sections),\">0\")","v":1},{"$f":"COUNTIF(OFFSET(H2186,0,Author1Sections,1,Author2Sections),\"=0\")","v":8},4051,"herewith",0,0,0,0,0,0.1,0,0,0,0,0,0,0,0,0,0,0,0,0,0,0,0,0,0,0,0,0,0,0,"hinder","lo"]
[{"$f":"B2211+C2211","v":1.0476190476190477},{"$f":"D2211/Author1Sections","v":4.7619047619047616E-2},{"$f":"E2211/Author2Sections","v":1},{"$f":"COUNTIF(OFFSET(H2211,0,0,1,Author1Sections),\">0\")","v":1},{"$f":"COUNTIF(OFFSET(H2211,0,Author1Sections,1,Author2Sections),\"=0\")","v":8},4092,"honors",0,0,0,0,0,0,0,0,0,0,0,0,0,0,0,0,0,0,0.1,0,0,0,0,0,0,0,0,0,0,"horsebacke","light"]
[{"$f":"B2241+C2241","v":1.0476190476190477},{"$f":"D2241/Author1Sections","v":4.7619047619047616E-2},{"$f":"E2241/Author2Sections","v":1},{"$f":"COUNTIF(OFFSET(H2241,0,0,1,Author1Sections),\">0\")","v":1},{"$f":"COUNTIF(OFFSET(H2241,0,Author1Sections,1,Author2Sections),\"=0\")","v":8},4134,"hunting",0,0,0,0,0,0,0.1,0,0,0,0,0,0,0,0,0,0,0,0,0,0,0,0,0,0,0,0,0,0,"iealousie","contents"]
[{"$f":"B2248+C2248","v":1.0476190476190477},{"$f":"D2248/Author1Sections","v":4.7619047619047616E-2},{"$f":"E2248/Author2Sections","v":1},{"$f":"COUNTIF(OFFSET(H2248,0,0,1,Author1Sections),\">0\")","v":1},{"$f":"COUNTIF(OFFSET(H2248,0,Author1Sections,1,Author2Sections),\"=0\")","v":8},4148,"idly",0,0,0,0,0,0,0,0,0,0,0.1,0,0,0,0,0,0,0,0,0,0,0,0,0,0,0,0,0,0,"imitate","native"]
[{"$f":"B2270+C2270","v":1.0476190476190477},{"$f":"D2270/Author1Sections","v":4.7619047619047616E-2},{"$f":"E2270/Author2Sections","v":1},{"$f":"COUNTIF(OFFSET(H2270,0,0,1,Author1Sections),\">0\")","v":1},{"$f":"COUNTIF(OFFSET(H2270,0,Author1Sections,1,Author2Sections),\"=0\")","v":8},4176,"inde",0,0,0,0,0,0,0,0,0.1,0,0,0,0,0,0,0,0,0,0,0,0,0,0,0,0,0,0,0,0,"infectious","assay"]
[{"$f":"B2291+C2291","v":1.0476190476190477},{"$f":"D2291/Author1Sections","v":4.7619047619047616E-2},{"$f":"E2291/Author2Sections","v":1},{"$f":"COUNTIF(OFFSET(H2291,0,0,1,Author1Sections),\">0\")","v":1},{"$f":"COUNTIF(OFFSET(H2291,0,Author1Sections,1,Author2Sections),\"=0\")","v":8},4201,"iniurie",0,0,0,0,0,0,0,0,0,0,0,0,0,0,0,0,0,0.1,0,0,0,0,0,0,0,0,0,0,0,"inside","breathes"]
[{"$f":"B2316+C2316","v":1.0476190476190477},{"$f":"D2316/Author1Sections","v":4.7619047619047616E-2},{"$f":"E2316/Author2Sections","v":1},{"$f":"COUNTIF(OFFSET(H2316,0,0,1,Author1Sections),\">0\")","v":1},{"$f":"COUNTIF(OFFSET(H2316,0,Author1Sections,1,Author2Sections),\"=0\")","v":8},4234,"inuent",0,0,0,0,0,0,0,0,0,0,0.1,0,0,0,0,0,0,0,0,0,0,0,0,0,0,0,0,0,0,"ioyful","cruel"]
[{"$f":"B2321+C2321","v":1.0476190476190477},{"$f":"D2321/Author1Sections","v":4.7619047619047616E-2},{"$f":"E2321/Author2Sections","v":1},{"$f":"COUNTIF(OFFSET(H2321,0,0,1,Author1Sections),\">0\")","v":1},{"$f":"COUNTIF(OFFSET(H2321,0,Author1Sections,1,Author2Sections),\"=0\")","v":8},4244,"io",0,0,0,0,0,0,0,0,0,0,0,0,0,0,0,0,0.1,0,0,0,0,0,0,0,0,0,0,0,0,"itselfe","deny"]
[{"$f":"B2353+C2353","v":1.0476190476190477},{"$f":"D2353/Author1Sections","v":4.7619047619047616E-2},{"$f":"E2353/Author2Sections","v":1},{"$f":"COUNTIF(OFFSET(H2353,0,0,1,Author1Sections),\">0\")","v":1},{"$f":"COUNTIF(OFFSET(H2353,0,Author1Sections,1,Author2Sections),\"=0\")","v":8},4304,"knaue",0,0,0,0,0,0,0,0.1,0,0,0,0,0,0,0,0,0,0,0,0,0,0,0,0,0,0,0,0,0,"lame","gaze"]
[{"$f":"B2368+C2368","v":1.0476190476190477},{"$f":"D2368/Author1Sections","v":4.7619047619047616E-2},{"$f":"E2368/Author2Sections","v":1},{"$f":"COUNTIF(OFFSET(H2368,0,0,1,Author1Sections),\">0\")","v":1},{"$f":"COUNTIF(OFFSET(H2368,0,Author1Sections,1,Author2Sections),\"=0\")","v":8},4330,"languour",0,0,0,0,7.4183979999999997E-2,0,0,0,0,0,0,0,0,0,0,0,0,0,0,0,0,0,0,0,0,0,0,0,0,"leades","hit"]
[{"$f":"B2377+C2377","v":1.0476190476190477},{"$f":"D2377/Author1Sections","v":4.7619047619047616E-2},{"$f":"E2377/Author2Sections","v":1},{"$f":"COUNTIF(OFFSET(H2377,0,0,1,Author1Sections),\">0\")","v":1},{"$f":"COUNTIF(OFFSET(H2377,0,Author1Sections,1,Author2Sections),\"=0\")","v":8},4357,"leades",0,0,0,0,0,0,0,0,0,0,0,0,0,0,0,0,0,0,0,0,7.0372980000000002E-2,0,0,0,0,0,0,0,0,"ledaes","joyous"]
[{"$f":"B2402+C2402","v":1.0476190476190477},{"$f":"D2402/Author1Sections","v":4.7619047619047616E-2},{"$f":"E2402/Author2Sections","v":1},{"$f":"COUNTIF(OFFSET(H2402,0,0,1,Author1Sections),\">0\")","v":1},{"$f":"COUNTIF(OFFSET(H2402,0,Author1Sections,1,Author2Sections),\"=0\")","v":8},4398,"liking",0,0,0,0,0,0,0,0,0,0,0,0,0.1,0,0,0,0,0,0,0,0,0,0,0,0,0,0,0,0,"lisippus","missing"]
[{"$f":"B2419+C2419","v":1.0476190476190477},{"$f":"D2419/Author1Sections","v":4.7619047619047616E-2},{"$f":"E2419/Author2Sections","v":1},{"$f":"COUNTIF(OFFSET(H2419,0,0,1,Author1Sections),\">0\")","v":1},{"$f":"COUNTIF(OFFSET(H2419,0,Author1Sections,1,Author2Sections),\"=0\")","v":8},4418,"liveth",0,0,0.1,0,0,0,0,0,0,0,0,0,0,0,0,0,0,0,0,0,0,0,0,0,0,0,0,0,0,"loe","planet"]
[{"$f":"B2439+C2439","v":1.0476190476190477},{"$f":"D2439/Author1Sections","v":4.7619047619047616E-2},{"$f":"E2439/Author2Sections","v":1},{"$f":"COUNTIF(OFFSET(H2439,0,0,1,Author1Sections),\">0\")","v":1},{"$f":"COUNTIF(OFFSET(H2439,0,Author1Sections,1,Author2Sections),\"=0\")","v":8},4445,"louteth",0,0.1,0,0,0,0,0,0,0,0,0,0,0,0,0,0,0,0,0,0,0,0,0,0,0,0,0,0,0,"lustre","shadow"]
[{"$f":"B2448+C2448","v":1.0476190476190477},{"$f":"D2448/Author1Sections","v":4.7619047619047616E-2},{"$f":"E2448/Author2Sections","v":1},{"$f":"COUNTIF(OFFSET(H2448,0,0,1,Author1Sections),\">0\")","v":1},{"$f":"COUNTIF(OFFSET(H2448,0,Author1Sections,1,Author2Sections),\"=0\")","v":8},4461,"lustre",0,0,0,0,0,0,0,0,0,0.1,0,0,0,0,0,0,0,0,0,0,0,0,0,0,0,0,0,0,0,"maim'd","spell"]
[{"$f":"B2482+C2482","v":1.0476190476190477},{"$f":"D2482/Author1Sections","v":4.7619047619047616E-2},{"$f":"E2482/Author2Sections","v":1},{"$f":"COUNTIF(OFFSET(H2482,0,0,1,Author1Sections),\">0\")","v":1},{"$f":"COUNTIF(OFFSET(H2482,0,Author1Sections,1,Author2Sections),\"=0\")","v":8},4513,"massie",0,0,0,0.1,0,0,0,0,0,0,0,0,0,0,0,0,0,0,0,0,0,0,0,0,0,0,0,0,0,"means","warbling"]
[{"$f":"B2501+C2501","v":1.0476190476190477},{"$f":"D2501/Author1Sections","v":4.7619047619047616E-2},{"$f":"E2501/Author2Sections","v":1},{"$f":"COUNTIF(OFFSET(H2501,0,0,1,Author1Sections),\">0\")","v":1},{"$f":"COUNTIF(OFFSET(H2501,0,Author1Sections,1,Author2Sections),\"=0\")","v":8},4551,"memonasse",0,0,0,0,0,0.1,0,0,0,0,0,0,0,0,0,0,0,0,0,0,0,0,0,0,0,0,0,0,0,"messenger","though"]
[{"$f":"B2517+C2517","v":1.0476190476190477},{"$f":"D2517/Author1Sections","v":4.7619047619047616E-2},{"$f":"E2517/Author2Sections","v":1},{"$f":"COUNTIF(OFFSET(H2517,0,0,1,Author1Sections),\">0\")","v":1},{"$f":"COUNTIF(OFFSET(H2517,0,Author1Sections,1,Author2Sections),\"=0\")","v":8},4577,"minor",0,0,0,0,0,0,0,0.1,0,0,0,0,0,0,0,0,0,0,0,0,0,0,0,0,0,0,0,0,0,"misled","count"]
[{"$f":"B2525+C2525","v":1.0476190476190477},{"$f":"D2525/Author1Sections","v":4.7619047619047616E-2},{"$f":"E2525/Author2Sections","v":1},{"$f":"COUNTIF(OFFSET(H2525,0,0,1,Author1Sections),\">0\")","v":1},{"$f":"COUNTIF(OFFSET(H2525,0,Author1Sections,1,Author2Sections),\"=0\")","v":8},4588,"misfortune",0,0,0,0,0,0,0,0,0,0,0,0,0,0.1,0,0,0,0,0,0,0,0,0,0,0,0,0,0,0,"mixed","his"]
[{"$f":"B2546+C2546","v":1.0476190476190477},{"$f":"D2546/Author1Sections","v":4.7619047619047616E-2},{"$f":"E2546/Author2Sections","v":1},{"$f":"COUNTIF(OFFSET(H2546,0,0,1,Author1Sections),\">0\")","v":1},{"$f":"COUNTIF(OFFSET(H2546,0,Author1Sections,1,Author2Sections),\"=0\")","v":8},4622,"morpheus",0,0,0,0,0,0,0,0,0,0,0,0,0.1,0,0,0,0,0,0,0,0,0,0,0,0,0,0,0,0,"muzing","winter"]
[{"$f":"B2568+C2568","v":1.0476190476190477},{"$f":"D2568/Author1Sections","v":4.7619047619047616E-2},{"$f":"E2568/Author2Sections","v":1},{"$f":"COUNTIF(OFFSET(H2568,0,0,1,Author1Sections),\">0\")","v":1},{"$f":"COUNTIF(OFFSET(H2568,0,Author1Sections,1,Author2Sections),\"=0\")","v":8},4669,"needfull",0,0,0,0,0,0,0,0,0,0,0,0.1,0,0,0,0,0,0,0,0,0,0,0,0,0,0,0,0,0,"nestors","aurora"]
[{"$f":"B2587+C2587","v":1.0476190476190477},{"$f":"D2587/Author1Sections","v":4.7619047619047616E-2},{"$f":"E2587/Author2Sections","v":1},{"$f":"COUNTIF(OFFSET(H2587,0,0,1,Author1Sections),\">0\")","v":1},{"$f":"COUNTIF(OFFSET(H2587,0,Author1Sections,1,Author2Sections),\"=0\")","v":8},4701,"noone",0,0,0,0,0,0,0,0,0,0,0,0,0,0,0,0,0,0.1,0,0,0,0,0,0,0,0,0,0,0,"numbred","fool"]
[{"$f":"B2597+C2597","v":1.0476190476190477},{"$f":"D2597/Author1Sections","v":4.7619047619047616E-2},{"$f":"E2597/Author2Sections","v":1},{"$f":"COUNTIF(OFFSET(H2597,0,0,1,Author1Sections),\">0\")","v":1},{"$f":"COUNTIF(OFFSET(H2597,0,Author1Sections,1,Author2Sections),\"=0\")","v":8},4716,"nurse",0,0,0,0,0,0,0,0,0,0,0.1,0,0,0,0,0,0,0,0,0,0,0,0,0,0,0,0,0,0,"obtuse","ladies"]
[{"$f":"B2630+C2630","v":1.0476190476190477},{"$f":"D2630/Author1Sections","v":4.7619047619047616E-2},{"$f":"E2630/Author2Sections","v":1},{"$f":"COUNTIF(OFFSET(H2630,0,0,1,Author1Sections),\">0\")","v":1},{"$f":"COUNTIF(OFFSET(H2630,0,Author1Sections,1,Author2Sections),\"=0\")","v":8},4764,"oppression",0,0,0,0,0,0,0,0.1,0,0,0,0,0,0,0,0,0,0,0,0,0,0,0,0,0,0,0,0,0,"ostage","tales"]
[{"$f":"B2640+C2640","v":1.0476190476190477},{"$f":"D2640/Author1Sections","v":4.7619047619047616E-2},{"$f":"E2640/Author2Sections","v":1},{"$f":"COUNTIF(OFFSET(H2640,0,0,1,Author1Sections),\">0\")","v":1},{"$f":"COUNTIF(OFFSET(H2640,0,Author1Sections,1,Author2Sections),\"=0\")","v":8},4782,"ouercame",0,0,0,0,0,0,0,0,0,0,0,0,0,0,0,0,0,0,0,0,7.0372980000000002E-2,0,0,0,0,0,0,0,0,"overflowing","willing"]
[{"$f":"B2654+C2654","v":1.0476190476190477},{"$f":"D2654/Author1Sections","v":4.7619047619047616E-2},{"$f":"E2654/Author2Sections","v":1},{"$f":"COUNTIF(OFFSET(H2654,0,0,1,Author1Sections),\">0\")","v":1},{"$f":"COUNTIF(OFFSET(H2654,0,Author1Sections,1,Author2Sections),\"=0\")","v":8},4800,"overthrowe",0.1,0,0,0,0,0,0,0,0,0,0,0,0,0,0,0,0,0,0,0,0,0,0,0,0,0,0,0,0,"panting","poor"]
[{"$f":"B2687+C2687","v":1.0476190476190477},{"$f":"D2687/Author1Sections","v":4.7619047619047616E-2},{"$f":"E2687/Author2Sections","v":1},{"$f":"COUNTIF(OFFSET(H2687,0,0,1,Author1Sections),\">0\")","v":1},{"$f":"COUNTIF(OFFSET(H2687,0,Author1Sections,1,Author2Sections),\"=0\")","v":8},4865,"penetrancie",0,0,0,0,0,0,0,0.1,0,0,0,0,0,0,0,0,0,0,0,0,0,0,0,0,0,0,0,0,0,"perishe"]
[{"$f":"B2697+C2697","v":1.0476190476190477},{"$f":"D2697/Author1Sections","v":4.7619047619047616E-2},{"$f":"E2697/Author2Sections","v":1},{"$f":"COUNTIF(OFFSET(H2697,0,0,1,Author1Sections),\">0\")","v":1},{"$f":"COUNTIF(OFFSET(H2697,0,Author1Sections,1,Author2Sections),\"=0\")","v":8},4885,"pernassus",0,0,0,0,0,0,0,0,0,0,0,0,0,0,0,0,0,0,0.1,0,0,0,0,0,0,0,0,0,0,"pertakers"]
[{"$f":"B2716+C2716","v":1.0476190476190477},{"$f":"D2716/Author1Sections","v":4.7619047619047616E-2},{"$f":"E2716/Author2Sections","v":1},{"$f":"COUNTIF(OFFSET(H2716,0,0,1,Author1Sections),\">0\")","v":1},{"$f":"COUNTIF(OFFSET(H2716,0,Author1Sections,1,Author2Sections),\"=0\")","v":8},4916,"pillowes",0,0,0,0,0,0,0,0,0,0,0,0,0,0.1,0,0,0,0,0,0,0,0,0,0,0,0,0,0,0,"plained"]
[{"$f":"B2738+C2738","v":1.0476190476190477},{"$f":"D2738/Author1Sections","v":4.7619047619047616E-2},{"$f":"E2738/Author2Sections","v":1},{"$f":"COUNTIF(OFFSET(H2738,0,0,1,Author1Sections),\">0\")","v":1},{"$f":"COUNTIF(OFFSET(H2738,0,Author1Sections,1,Author2Sections),\"=0\")","v":8},4954,"plunged",0,0,0,0,0,0.1,0,0,0,0,0,0,0,0,0,0,0,0,0,0,0,0,0,0,0,0,0,0,0,"populorum"]
[{"$f":"B2759+C2759","v":1.0476190476190477},{"$f":"D2759/Author1Sections","v":4.7619047619047616E-2},{"$f":"E2759/Author2Sections","v":1},{"$f":"COUNTIF(OFFSET(H2759,0,0,1,Author1Sections),\">0\")","v":1},{"$f":"COUNTIF(OFFSET(H2759,0,Author1Sections,1,Author2Sections),\"=0\")","v":8},4989,"poysonous",0,0,0,0,0,0,0,0,0,0,0,0,0,0,0,0,0,0,0,0,7.0372980000000002E-2,0,0,0,0,0,0,0,0,"presented"]
[{"$f":"B2767+C2767","v":1.0476190476190477},{"$f":"D2767/Author1Sections","v":4.7619047619047616E-2},{"$f":"E2767/Author2Sections","v":1},{"$f":"COUNTIF(OFFSET(H2767,0,0,1,Author1Sections),\">0\")","v":1},{"$f":"COUNTIF(OFFSET(H2767,0,Author1Sections,1,Author2Sections),\"=0\")","v":8},5003,"prepositus",0,0,0,0,0,0,0,0,0.1,0,0,0,0,0,0,0,0,0,0,0,0,0,0,0,0,0,0,0,0,"prevailed"]
[{"$f":"B2783+C2783","v":1.0476190476190477},{"$f":"D2783/Author1Sections","v":4.7619047619047616E-2},{"$f":"E2783/Author2Sections","v":1},{"$f":"COUNTIF(OFFSET(H2783,0,0,1,Author1Sections),\">0\")","v":1},{"$f":"COUNTIF(OFFSET(H2783,0,Author1Sections,1,Author2Sections),\"=0\")","v":8},5023,"prison",0,0,0,0,0,0,0,0,0,0,0,0,0,0,0,0,0,0,0,0,7.0372980000000002E-2,0,0,0,0,0,0,0,0,"progressing"]
[{"$f":"B2802+C2802","v":1.0476190476190477},{"$f":"D2802/Author1Sections","v":4.7619047619047616E-2},{"$f":"E2802/Author2Sections","v":1},{"$f":"COUNTIF(OFFSET(H2802,0,0,1,Author1Sections),\">0\")","v":1},{"$f":"COUNTIF(OFFSET(H2802,0,Author1Sections,1,Author2Sections),\"=0\")","v":8},5061,"proserpina",0,0,0.1,0,0,0,0,0,0,0,0,0,0,0,0,0,0,0,0,0,0,0,0,0,0,0,0,0,0,"pulchra"]
[{"$f":"B2836+C2836","v":1.0476190476190477},{"$f":"D2836/Author1Sections","v":4.7619047619047616E-2},{"$f":"E2836/Author2Sections","v":1},{"$f":"COUNTIF(OFFSET(H2836,0,0,1,Author1Sections),\">0\")","v":1},{"$f":"COUNTIF(OFFSET(H2836,0,Author1Sections,1,Author2Sections),\"=0\")","v":8},5104,"quicklie",0,0,0.1,0,0,0,0,0,0,0,0,0,0,0,0,0,0,0,0,0,0,0,0,0,0,0,0,0,0,"rails"]
[{"$f":"B2845+C2845","v":1.0476190476190477},{"$f":"D2845/Author1Sections","v":4.7619047619047616E-2},{"$f":"E2845/Author2Sections","v":1},{"$f":"COUNTIF(OFFSET(H2845,0,0,1,Author1Sections),\">0\")","v":1},{"$f":"COUNTIF(OFFSET(H2845,0,Author1Sections,1,Author2Sections),\"=0\")","v":8},5121,"rails",0,0,0,0,0,0,0.1,0,0,0,0,0,0,0,0,0,0,0,0,0,0,0,0,0,0,0,0,0,0,"ravished"]
[{"$f":"B2865+C2865","v":1.0476190476190477},{"$f":"D2865/Author1Sections","v":4.7619047619047616E-2},{"$f":"E2865/Author2Sections","v":1},{"$f":"COUNTIF(OFFSET(H2865,0,0,1,Author1Sections),\">0\")","v":1},{"$f":"COUNTIF(OFFSET(H2865,0,Author1Sections,1,Author2Sections),\"=0\")","v":8},5156,"record",0,0.1,0,0,0,0,0,0,0,0,0,0,0,0,0,0,0,0,0,0,0,0,0,0,0,0,0,0,0,"refreshing"]
[{"$f":"B2882+C2882","v":1.0476190476190477},{"$f":"D2882/Author1Sections","v":4.7619047619047616E-2},{"$f":"E2882/Author2Sections","v":1},{"$f":"COUNTIF(OFFSET(H2882,0,0,1,Author1Sections),\">0\")","v":1},{"$f":"COUNTIF(OFFSET(H2882,0,Author1Sections,1,Author2Sections),\"=0\")","v":8},5184,"rejoyce",0,0,0.1,0,0,0,0,0,0,0,0,0,0,0,0,0,0,0,0,0,0,0,0,0,0,0,0,0,0,"repent"]
[{"$f":"B2907+C2907","v":1.0476190476190477},{"$f":"D2907/Author1Sections","v":4.7619047619047616E-2},{"$f":"E2907/Author2Sections","v":1},{"$f":"COUNTIF(OFFSET(H2907,0,0,1,Author1Sections),\">0\")","v":1},{"$f":"COUNTIF(OFFSET(H2907,0,Author1Sections,1,Author2Sections),\"=0\")","v":8},5226,"restlesse",0,0,0,0,0,0,0,0,0,0,0.1,0,0,0,0,0,0,0,0,0,0,0,0,0,0,0,0,0,0,"rhubarbe"]
[{"$f":"B2916+C2916","v":1.0476190476190477},{"$f":"D2916/Author1Sections","v":4.7619047619047616E-2},{"$f":"E2916/Author2Sections","v":1},{"$f":"COUNTIF(OFFSET(H2916,0,0,1,Author1Sections),\">0\")","v":1},{"$f":"COUNTIF(OFFSET(H2916,0,Author1Sections,1,Author2Sections),\"=0\")","v":8},5239,"rhubarbe",0,0,0,0,0,0,0,0,0,0,0.1,0,0,0,0,0,0,0,0,0,0,0,0,0,0,0,0,0,0,"riven"]
[{"$f":"B2931+C2931","v":1.0476190476190477},{"$f":"D2931/Author1Sections","v":4.7619047619047616E-2},{"$f":"E2931/Author2Sections","v":1},{"$f":"COUNTIF(OFFSET(H2931,0,0,1,Author1Sections),\">0\")","v":1},{"$f":"COUNTIF(OFFSET(H2931,0,Author1Sections,1,Author2Sections),\"=0\")","v":8},5268,"romane",0.1,0,0,0,0,0,0,0,0,0,0,0,0,0,0,0,0,0,0,0,0,0,0,0,0,0,0,0,0,"runs"]
[{"$f":"B2963+C2963","v":1.0476190476190477},{"$f":"D2963/Author1Sections","v":4.7619047619047616E-2},{"$f":"E2963/Author2Sections","v":1},{"$f":"COUNTIF(OFFSET(H2963,0,0,1,Author1Sections),\">0\")","v":1},{"$f":"COUNTIF(OFFSET(H2963,0,Author1Sections,1,Author2Sections),\"=0\")","v":8},5327,"satis",0,0,0,0,0,0,0,0.1,0,0,0,0,0,0,0,0,0,0,0,0,0,0,0,0,0,0,0,0,0,"scape"]
[{"$f":"B2968+C2968","v":1.0476190476190477},{"$f":"D2968/Author1Sections","v":4.7619047619047616E-2},{"$f":"E2968/Author2Sections","v":1},{"$f":"COUNTIF(OFFSET(H2968,0,0,1,Author1Sections),\">0\")","v":1},{"$f":"COUNTIF(OFFSET(H2968,0,Author1Sections,1,Author2Sections),\"=0\")","v":8},5338,"saw'st",0,0,0,0,0,0,0,0,0,0.1,0,0,0,0,0,0,0,0,0,0,0,0,0,0,0,0,0,0,0,"scholem"]
[{"$f":"B2993+C2993","v":1.0476190476190477},{"$f":"D2993/Author1Sections","v":4.7619047619047616E-2},{"$f":"E2993/Author2Sections","v":1},{"$f":"COUNTIF(OFFSET(H2993,0,0,1,Author1Sections),\">0\")","v":1},{"$f":"COUNTIF(OFFSET(H2993,0,Author1Sections,1,Author2Sections),\"=0\")","v":8},5384,"seekst",0,0,0,0,0,0,0,0,0,0.1,0,0,0,0,0,0,0,0,0,0,0,0,0,0,0,0,0,0,0,"sencelesse"]
[{"$f":"B3014+C3014","v":1.0476190476190477},{"$f":"D3014/Author1Sections","v":4.7619047619047616E-2},{"$f":"E3014/Author2Sections","v":1},{"$f":"COUNTIF(OFFSET(H3014,0,0,1,Author1Sections),\">0\")","v":1},{"$f":"COUNTIF(OFFSET(H3014,0,Author1Sections,1,Author2Sections),\"=0\")","v":8},5411,"sette",0,0,0,0,0,0,0,0,0,0,0,0,0,0,0.1,0,0,0,0,0,0,0,0,0,0,0,0,0,0,"sheddeth"]
[{"$f":"B3036+C3036","v":1.0476190476190477},{"$f":"D3036/Author1Sections","v":4.7619047619047616E-2},{"$f":"E3036/Author2Sections","v":1},{"$f":"COUNTIF(OFFSET(H3036,0,0,1,Author1Sections),\">0\")","v":1},{"$f":"COUNTIF(OFFSET(H3036,0,Author1Sections,1,Author2Sections),\"=0\")","v":8},5448,"shoot",0,0,0,0.1,0,0,0,0,0,0,0,0,0,0,0,0,0,0,0,0,0,0,0,0,0,0,0,0,0,"shrikes"]
[{"$f":"B3043+C3043","v":1.0476190476190477},{"$f":"D3043/Author1Sections","v":4.7619047619047616E-2},{"$f":"E3043/Author2Sections","v":1},{"$f":"COUNTIF(OFFSET(H3043,0,0,1,Author1Sections),\">0\")","v":1},{"$f":"COUNTIF(OFFSET(H3043,0,Author1Sections,1,Author2Sections),\"=0\")","v":8},5459,"shrewd",0,0,0,0,0,0,0,0,0,0,0.1,0,0,0,0,0,0,0,0,0,0,0,0,0,0,0,0,0,0,"sillogisme"]
[{"$f":"B3073+C3073","v":1.0476190476190477},{"$f":"D3073/Author1Sections","v":4.7619047619047616E-2},{"$f":"E3073/Author2Sections","v":1},{"$f":"COUNTIF(OFFSET(H3073,0,0,1,Author1Sections),\">0\")","v":1},{"$f":"COUNTIF(OFFSET(H3073,0,Author1Sections,1,Author2Sections),\"=0\")","v":8},5522,"smilde",0,0,0,0,0,0,0,0,0,0,0,0,0,0,0,0,0,0,0,0.1,0,0,0,0,0,0,0,0,0,"soiorned"]
[{"$f":"B3079+C3079","v":1.0476190476190477},{"$f":"D3079/Author1Sections","v":4.7619047619047616E-2},{"$f":"E3079/Author2Sections","v":1},{"$f":"COUNTIF(OFFSET(H3079,0,0,1,Author1Sections),\">0\")","v":1},{"$f":"COUNTIF(OFFSET(H3079,0,Author1Sections,1,Author2Sections),\"=0\")","v":8},5534,"sodainlie",0,0,0,0,7.4183979999999997E-2,0,0,0,0,0,0,0,0,0,0,0,0,0,0,0,0,0,0,0,0,0,0,0,0,"sommer"]
[{"$f":"B3112+C3112","v":1.0476190476190477},{"$f":"D3112/Author1Sections","v":4.7619047619047616E-2},{"$f":"E3112/Author2Sections","v":1},{"$f":"COUNTIF(OFFSET(H3112,0,0,1,Author1Sections),\">0\")","v":1},{"$f":"COUNTIF(OFFSET(H3112,0,Author1Sections,1,Author2Sections),\"=0\")","v":8},5579,"speld",0,0,0,0,0,0,0,0,0,0,0.1,0,0,0,0,0,0,0,0,0,0,0,0,0,0,0,0,0,0,"sprights"]
[{"$f":"B3116+C3116","v":1.0476190476190477},{"$f":"D3116/Author1Sections","v":4.7619047619047616E-2},{"$f":"E3116/Author2Sections","v":1},{"$f":"COUNTIF(OFFSET(H3116,0,0,1,Author1Sections),\">0\")","v":1},{"$f":"COUNTIF(OFFSET(H3116,0,Author1Sections,1,Author2Sections),\"=0\")","v":8},5587,"spot",0,0,0,0.1,0,0,0,0,0,0,0,0,0,0,0,0,0,0,0,0,0,0,0,0,0,0,0,0,0,"squire"]
[{"$f":"B3141+C3141","v":1.0476190476190477},{"$f":"D3141/Author1Sections","v":4.7619047619047616E-2},{"$f":"E3141/Author2Sections","v":1},{"$f":"COUNTIF(OFFSET(H3141,0,0,1,Author1Sections),\">0\")","v":1},{"$f":"COUNTIF(OFFSET(H3141,0,Author1Sections,1,Author2Sections),\"=0\")","v":8},5619,"stayes",0,0,0,0,0,0,0,0,0,0.1,0,0,0,0,0,0,0,0,0,0,0,0,0,0,0,0,0,0,0,"stirred"]
[{"$f":"B3159+C3159","v":1.0476190476190477},{"$f":"D3159/Author1Sections","v":4.7619047619047616E-2},{"$f":"E3159/Author2Sections","v":1},{"$f":"COUNTIF(OFFSET(H3159,0,0,1,Author1Sections),\">0\")","v":1},{"$f":"COUNTIF(OFFSET(H3159,0,Author1Sections,1,Author2Sections),\"=0\")","v":8},5647,"stormed",0,0,0,0,0,0,0,0,0,0,0,0,0,0,0,0,0,0,0,0,7.0372980000000002E-2,0,0,0,0,0,0,0,0,"stratagems"]
[{"$f":"B3184+C3184","v":1.0476190476190477},{"$f":"D3184/Author1Sections","v":4.7619047619047616E-2},{"$f":"E3184/Author2Sections","v":1},{"$f":"COUNTIF(OFFSET(H3184,0,0,1,Author1Sections),\">0\")","v":1},{"$f":"COUNTIF(OFFSET(H3184,0,Author1Sections,1,Author2Sections),\"=0\")","v":8},5684,"studying",0,0,0,0,0,0,0,0,0.1,0,0,0,0,0,0,0,0,0,0,0,0,0,0,0,0,0,0,0,0,"substantiallest"]
[{"$f":"B3192+C3192","v":1.0476190476190477},{"$f":"D3192/Author1Sections","v":4.7619047619047616E-2},{"$f":"E3192/Author2Sections","v":1},{"$f":"COUNTIF(OFFSET(H3192,0,0,1,Author1Sections),\">0\")","v":1},{"$f":"COUNTIF(OFFSET(H3192,0,Author1Sections,1,Author2Sections),\"=0\")","v":8},5697,"substantiall",0,0,0,0,0,0.1,0,0,0,0,0,0,0,0,0,0,0,0,0,0,0,0,0,0,0,0,0,0,0,"suddeinly"]
[{"$f":"B3221+C3221","v":1.0476190476190477},{"$f":"D3221/Author1Sections","v":4.7619047619047616E-2},{"$f":"E3221/Author2Sections","v":1},{"$f":"COUNTIF(OFFSET(H3221,0,0,1,Author1Sections),\">0\")","v":1},{"$f":"COUNTIF(OFFSET(H3221,0,Author1Sections,1,Author2Sections),\"=0\")","v":8},5734,"superscription",0,0,0,0,0,0,0.1,0,0,0,0,0,0,0,0,0,0,0,0,0,0,0,0,0,0,0,0,0,0,"swam"]
[{"$f":"B3239+C3239","v":1.0476190476190477},{"$f":"D3239/Author1Sections","v":4.7619047619047616E-2},{"$f":"E3239/Author2Sections","v":1},{"$f":"COUNTIF(OFFSET(H3239,0,0,1,Author1Sections),\">0\")","v":1},{"$f":"COUNTIF(OFFSET(H3239,0,Author1Sections,1,Author2Sections),\"=0\")","v":8},5760,"swept",0,0.1,0,0,0,0,0,0,0,0,0,0,0,0,0,0,0,0,0,0,0,0,0,0,0,0,0,0,0,"tantals"]
[{"$f":"B3264+C3264","v":1.0476190476190477},{"$f":"D3264/Author1Sections","v":4.7619047619047616E-2},{"$f":"E3264/Author2Sections","v":1},{"$f":"COUNTIF(OFFSET(H3264,0,0,1,Author1Sections),\">0\")","v":1},{"$f":"COUNTIF(OFFSET(H3264,0,Author1Sections,1,Author2Sections),\"=0\")","v":8},5810,"testifies",0.1,0,0,0,0,0,0,0,0,0,0,0,0,0,0,0,0,0,0,0,0,0,0,0,0,0,0,0,0,"thanke"]
[{"$f":"B3283+C3283","v":1.0476190476190477},{"$f":"D3283/Author1Sections","v":4.7619047619047616E-2},{"$f":"E3283/Author2Sections","v":1},{"$f":"COUNTIF(OFFSET(H3283,0,0,1,Author1Sections),\">0\")","v":1},{"$f":"COUNTIF(OFFSET(H3283,0,Author1Sections,1,Author2Sections),\"=0\")","v":8},5839,"therevpon",0,0,0,0,0,0,0.1,0,0,0,0,0,0,0,0,0,0,0,0,0,0,0,0,0,0,0,0,0,0,"thrall"]
[{"$f":"B3290+C3290","v":1.0476190476190477},{"$f":"D3290/Author1Sections","v":4.7619047619047616E-2},{"$f":"E3290/Author2Sections","v":1},{"$f":"COUNTIF(OFFSET(H3290,0,0,1,Author1Sections),\">0\")","v":1},{"$f":"COUNTIF(OFFSET(H3290,0,Author1Sections,1,Author2Sections),\"=0\")","v":8},5853,"thorowest",0,0,0,0,0,0,0,0,0,0,0,0,0,0,0,0.1,0,0,0,0,0,0,0,0,0,0,0,0,0,"thrones"]
[{"$f":"B3307+C3307","v":1.0476190476190477},{"$f":"D3307/Author1Sections","v":4.7619047619047616E-2},{"$f":"E3307/Author2Sections","v":1},{"$f":"COUNTIF(OFFSET(H3307,0,0,1,Author1Sections),\">0\")","v":1},{"$f":"COUNTIF(OFFSET(H3307,0,Author1Sections,1,Author2Sections),\"=0\")","v":8},5881,"timelie",0,0,0.1,0,0,0,0,0,0,0,0,0,0,0,0,0,0,0,0,0,0,0,0,0,0,0,0,0,0,"toong"]
[{"$f":"B3337+C3337","v":1.0476190476190477},{"$f":"D3337/Author1Sections","v":4.7619047619047616E-2},{"$f":"E3337/Author2Sections","v":1},{"$f":"COUNTIF(OFFSET(H3337,0,0,1,Author1Sections),\">0\")","v":1},{"$f":"COUNTIF(OFFSET(H3337,0,Author1Sections,1,Author2Sections),\"=0\")","v":8},5927,"translated",0,0,0,0,0,0,0,0,0,0,0,0,0,0,0,0,0.1,0,0,0,0,0,0,0,0,0,0,0,0,"triumphing"]
[{"$f":"B3350+C3350","v":1.0476190476190477},{"$f":"D3350/Author1Sections","v":4.7619047619047616E-2},{"$f":"E3350/Author2Sections","v":1},{"$f":"COUNTIF(OFFSET(H3350,0,0,1,Author1Sections),\">0\")","v":1},{"$f":"COUNTIF(OFFSET(H3350,0,Author1Sections,1,Author2Sections),\"=0\")","v":8},5947,"trow",0,0.1,0,0,0,0,0,0,0,0,0,0,0,0,0,0,0,0,0,0,0,0,0,0,0,0,0,0,0,"turning"]
[{"$f":"B3362+C3362","v":1.0476190476190477},{"$f":"D3362/Author1Sections","v":4.7619047619047616E-2},{"$f":"E3362/Author2Sections","v":1},{"$f":"COUNTIF(OFFSET(H3362,0,0,1,Author1Sections),\">0\")","v":1},{"$f":"COUNTIF(OFFSET(H3362,0,Author1Sections,1,Author2Sections),\"=0\")","v":8},5963,"tush",0,0,0,0,0,0,0,0,0,0,0,0,0,0,0,0,0,0,0,0.1,0,0,0,0,0,0,0,0,0,"tyran"]
[{"$f":"B3393+C3393","v":1.0476190476190477},{"$f":"D3393/Author1Sections","v":4.7619047619047616E-2},{"$f":"E3393/Author2Sections","v":1},{"$f":"COUNTIF(OFFSET(H3393,0,0,1,Author1Sections),\">0\")","v":1},{"$f":"COUNTIF(OFFSET(H3393,0,Author1Sections,1,Author2Sections),\"=0\")","v":8},6039,"vapour",0.1,0,0,0,0,0,0,0,0,0,0,0,0,0,0,0,0,0,0,0,0,0,0,0,0,0,0,0,0,"vent"]
[{"$f":"B3412+C3412","v":1.0476190476190477},{"$f":"D3412/Author1Sections","v":4.7619047619047616E-2},{"$f":"E3412/Author2Sections","v":1},{"$f":"COUNTIF(OFFSET(H3412,0,0,1,Author1Sections),\">0\")","v":1},{"$f":"COUNTIF(OFFSET(H3412,0,Author1Sections,1,Author2Sections),\"=0\")","v":8},6066,"victors",0.1,0,0,0,0,0,0,0,0,0,0,0,0,0,0,0,0,0,0,0,0,0,0,0,0,0,0,0,0,"vnarmed"]
[{"$f":"B3417+C3417","v":1.0476190476190477},{"$f":"D3417/Author1Sections","v":4.7619047619047616E-2},{"$f":"E3417/Author2Sections","v":1},{"$f":"COUNTIF(OFFSET(H3417,0,0,1,Author1Sections),\">0\")","v":1},{"$f":"COUNTIF(OFFSET(H3417,0,Author1Sections,1,Author2Sections),\"=0\")","v":8},6076,"virtues",0,0,0,0,0,0,0,0,0,0.1,0,0,0,0,0,0,0,0,0,0,0,0,0,0,0,0,0,0,0,"vnchastitie"]
[{"$f":"B3436+C3436","v":1.0476190476190477},{"$f":"D3436/Author1Sections","v":4.7619047619047616E-2},{"$f":"E3436/Author2Sections","v":1},{"$f":"COUNTIF(OFFSET(H3436,0,0,1,Author1Sections),\">0\")","v":1},{"$f":"COUNTIF(OFFSET(H3436,0,Author1Sections,1,Author2Sections),\"=0\")","v":8},6098,"vnheard",0,0,0,0,0,0,0,0,0,0,0,0.1,0,0,0,0,0,0,0,0,0,0,0,0,0,0,0,0,0,"vntill"]
[{"$f":"B3460+C3460","v":1.0476190476190477},{"$f":"D3460/Author1Sections","v":4.7619047619047616E-2},{"$f":"E3460/Author2Sections","v":1},{"$f":"COUNTIF(OFFSET(H3460,0,0,1,Author1Sections),\">0\")","v":1},{"$f":"COUNTIF(OFFSET(H3460,0,Author1Sections,1,Author2Sections),\"=0\")","v":8},6134,"wansteed",0,0,0,0,0,0.1,0,0,0,0,0,0,0,0,0,0,0,0,0,0,0,0,0,0,0,0,0,0,0,"watrie"]
[{"$f":"B3479+C3479","v":1.0476190476190477},{"$f":"D3479/Author1Sections","v":4.7619047619047616E-2},{"$f":"E3479/Author2Sections","v":1},{"$f":"COUNTIF(OFFSET(H3479,0,0,1,Author1Sections),\">0\")","v":1},{"$f":"COUNTIF(OFFSET(H3479,0,Author1Sections,1,Author2Sections),\"=0\")","v":8},6170,"weigh",0,0,0,0,0,0,0,0,0,0,0,0,0,0.1,0,0,0,0,0,0,0,0,0,0,0,0,0,0,0,"wexen"]
[{"$f":"B3498+C3498","v":1.0476190476190477},{"$f":"D3498/Author1Sections","v":4.7619047619047616E-2},{"$f":"E3498/Author2Sections","v":1},{"$f":"COUNTIF(OFFSET(H3498,0,0,1,Author1Sections),\">0\")","v":1},{"$f":"COUNTIF(OFFSET(H3498,0,Author1Sections,1,Author2Sections),\"=0\")","v":8},6204,"whorthie",0,0,0,0,0,0,0,0,0.1,0,0,0,0,0,0,0,0,0,0,0,0,0,0,0,0,0,0,0,0,"wisedoms"]
[{"$f":"B3511+C3511","v":1.0476190476190477},{"$f":"D3511/Author1Sections","v":4.7619047619047616E-2},{"$f":"E3511/Author2Sections","v":1},{"$f":"COUNTIF(OFFSET(H3511,0,0,1,Author1Sections),\">0\")","v":1},{"$f":"COUNTIF(OFFSET(H3511,0,Author1Sections,1,Author2Sections),\"=0\")","v":8},6226,"wisht",0,0,0,0,0,0,0,0,0,0.1,0,0,0,0,0,0,0,0,0,0,0,0,0,0,0,0,0,0,0,"wolfe"]
[{"$f":"B3541+C3541","v":1.0476190476190477},{"$f":"D3541/Author1Sections","v":4.7619047619047616E-2},{"$f":"E3541/Author2Sections","v":1},{"$f":"COUNTIF(OFFSET(H3541,0,0,1,Author1Sections),\">0\")","v":1},{"$f":"COUNTIF(OFFSET(H3541,0,Author1Sections,1,Author2Sections),\"=0\")","v":8},6271,"wreakes",0,0,0,0.1,0,0,0,0,0,0,0,0,0,0,0,0,0,0,0,0,0,0,0,0,0,0,0,0,0,"wrongfull"]
[{"$f":"B3558+C3558","v":1.0476190476190477},{"$f":"D3558/Author1Sections","v":4.7619047619047616E-2},{"$f":"E3558/Author2Sections","v":1},{"$f":"COUNTIF(OFFSET(H3558,0,0,1,Author1Sections),\">0\")","v":1},{"$f":"COUNTIF(OFFSET(H3558,0,Author1Sections,1,Author2Sections),\"=0\")","v":8},6292,"yeere",0,0,0,0,0,0,0,0,0,0,0,0,0.1,0,0,0,0,0,0,0,0,0,0,0,0,0,0,0,0,"zephires"]
[{"$f":"B3565+C3565","v":1.0476190476190477},{"$f":"D3565/Author1Sections","v":4.7619047619047616E-2},{"$f":"E3565/Author2Sections","v":1},{"$f":"COUNTIF(OFFSET(H3565,0,0,1,Author1Sections),\">0\")","v":1},{"$f":"COUNTIF(OFFSET(H3565,0,Author1Sections,1,Author2Sections),\"=0\")","v":8},6306,"ywounded",0,0,0,0,7.4183979999999997E-2,0,0,0,0,0,0,0,0,0,0,0,0,0,0,0,0,0,0,0,0,0,0,0,0,"skies"]
[{"$f":"B3584+C3584","v":1.0297619047619047},{"$f":"D3584/Author1Sections","v":0.90476190476190477},{"$f":"E3584/Author2Sections","v":0.125},{"$f":"COUNTIF(OFFSET(H3584,0,0,1,Author1Sections),\">0\")","v":19},{"$f":"COUNTIF(OFFSET(H3584,0,Author1Sections,1,Author2Sections),\"=0\")","v":1},62,"who",0.3,0.3,0.2,0.3,0,0.4,0.2,0.1,0,0.3,0.4,0.2,0.1,0.3,0.2,0.3,0.3,0.4,0.1,0.4,0.49261083999999999,0.13175231000000001,0,0.1,0.13531799999999999,0.4,0.1,0.1,0.26595743999999999,"cries"]
[{"$f":"B3609+C3609","v":1.0178571428571428},{"$f":"D3609/Author1Sections","v":0.14285714285714285},{"$f":"E3609/Author2Sections","v":0.875},{"$f":"COUNTIF(OFFSET(H3609,0,0,1,Author1Sections),\">0\")","v":3},{"$f":"COUNTIF(OFFSET(H3609,0,Author1Sections,1,Author2Sections),\"=0\")","v":7},881,"draw",0.1,0,0,0,0,0.1,0,0,0,0.1,0,0,0,0,0,0,0,0,0,0,0,0,0,0,6.7658999999999997E-2,0,0,0,0,"prize"]
[{"$f":"B3627+C3627","v":1.0178571428571428},{"$f":"D3627/Author1Sections","v":0.14285714285714285},{"$f":"E3627/Author2Sections","v":0.875},{"$f":"COUNTIF(OFFSET(H3627,0,0,1,Author1Sections),\">0\")","v":3},{"$f":"COUNTIF(OFFSET(H3627,0,Author1Sections,1,Author2Sections),\"=0\")","v":7},1020,"strife",0,0,0,0,7.4183979999999997E-2,0,0,0,0,0,0,0,0,0,0.1,0,0,0,0,0,7.0372980000000002E-2,6.5876156000000005E-2,0,0,0,0,0,0,0,"men"]
[{"$f":"B3638+C3638","v":1.0059523809523809},{"$f":"D3638/Author1Sections","v":0.38095238095238093},{"$f":"E3638/Author2Sections","v":0.625},{"$f":"COUNTIF(OFFSET(H3638,0,0,1,Author1Sections),\">0\")","v":8},{"$f":"COUNTIF(OFFSET(H3638,0,Author1Sections,1,Author2Sections),\"=0\")","v":5},229,"left",0.1,0.3,0.1,0,0.22255193000000001,0,0,0,0,0.1,0,0,0,0,0,0,0,0.1,0.1,0.1,0,0,0,0.1,6.7658999999999997E-2,0.2,0,0,0]
[{"$f":"B3664+C3664","v":0.25},{"$f":"D3664/Author1Sections","v":0},{"$f":"E3664/Author2Sections","v":0.25},{"$f":"COUNTIF(OFFSET(H3664,0,0,1,Author1Sections),\">0\")","v":0},{"$f":"COUNTIF(OFFSET(H3664,0,Author1Sections,1,Author2Sections),\"=0\")","v":2},515,"green",0,0,0,0,0,0,0,0,0,0,0,0,0,0,0,0,0,0,0,0,0,6.5876156000000005E-2,0.1,0.1,0.13531799999999999,0,0.1,0,8.8652484000000004E-2]
[{"$f":"B3689+C3689","v":0.51785714285714279},{"$f":"D3689/Author1Sections","v":0.14285714285714285},{"$f":"E3689/Author2Sections","v":0.375},{"$f":"COUNTIF(OFFSET(H3689,0,0,1,Author1Sections),\">0\")","v":3},{"$f":"COUNTIF(OFFSET(H3689,0,Author1Sections,1,Author2Sections),\"=0\")","v":3},296,"youth",0,0,0,0,0,0,0,0,0,0,0.1,0,0,0,0.1,0,0,0,0,0,7.0372980000000002E-2,0,0.1,0,6.7658999999999997E-2,0.1,0.3,0.4,0]
[{"$f":"B3707+C3707","v":0.59523809523809523},{"$f":"D3707/Author1Sections","v":9.5238095238095233E-2},{"$f":"E3707/Author2Sections","v":0.5},{"$f":"COUNTIF(OFFSET(H3707,0,0,1,Author1Sections),\">0\")","v":2},{"$f":"COUNTIF(OFFSET(H3707,0,Author1Sections,1,Author2Sections),\"=0\")","v":4},486,"thousand",0,0.2,0,0,0,0,0.2,0,0,0,0,0,0,0,0,0,0,0,0,0,0,6.5876156000000005E-2,0.1,0,6.7658999999999997E-2,0,0.1,0,0]
[{"$f":"B3713+C3713","v":0.61309523809523814},{"$f":"D3713/Author1Sections","v":0.23809523809523808},{"$f":"E3713/Author2Sections","v":0.375},{"$f":"COUNTIF(OFFSET(H3713,0,0,1,Author1Sections),\">0\")","v":5},{"$f":"COUNTIF(OFFSET(H3713,0,Author1Sections,1,Author2Sections),\"=0\")","v":3},186,"age",0,0.1,0.2,0.1,7.4183979999999997E-2,0,0.1,0,0,0,0,0,0,0,0,0,0,0,0,0,0,0.19762845000000001,0,0.2,0,0.3,0.2,0.3,0]
[{"$f":"B3736+C3736","v":0.625},{"$f":"D3736/Author1Sections","v":0},{"$f":"E3736/Author2Sections","v":0.625},{"$f":"COUNTIF(OFFSET(H3736,0,0,1,Author1Sections),\">0\")","v":0},{"$f":"COUNTIF(OFFSET(H3736,0,Author1Sections,1,Author2Sections),\"=0\")","v":5},1143,"dream",0,0,0,0,0,0,0,0,0,0,0,0,0,0,0,0,0,0,0,0,0,0,0.1,0.1,6.7658999999999997E-2,0,0,0,0]
[{"$f":"B3750+C3750","v":0.625},{"$f":"D3750/Author1Sections","v":0},{"$f":"E3750/Author2Sections","v":0.625},{"$f":"COUNTIF(OFFSET(H3750,0,0,1,Author1Sections),\">0\")","v":0},{"$f":"COUNTIF(OFFSET(H3750,0,Author1Sections,1,Author2Sections),\"=0\")","v":5},1399,"tear",0,0,0,0,0,0,0,0,0,0,0,0,0,0,0,0,0,0,0,0,0,0,0,0,6.7658999999999997E-2,0,0.1,0,8.8652484000000004E-2]
[{"$f":"B3775+C3775","v":0.67261904761904767},{"$f":"D3775/Author1Sections","v":4.7619047619047616E-2},{"$f":"E3775/Author2Sections","v":0.625},{"$f":"COUNTIF(OFFSET(H3775,0,0,1,Author1Sections),\">0\")","v":1},{"$f":"COUNTIF(OFFSET(H3775,0,Author1Sections,1,Author2Sections),\"=0\")","v":5},1022,"tale",0,0,0,0,0,0,0,0,0,0,0,0,0,0.1,0,0,0,0,0,0,0,0,0.1,0.1,0,0,0.1,0,0]
[{"$f":"B3787+C3787","v":0.69047619047619047},{"$f":"D3787/Author1Sections","v":0.19047619047619047},{"$f":"E3787/Author2Sections","v":0.5},{"$f":"COUNTIF(OFFSET(H3787,0,0,1,Author1Sections),\">0\")","v":4},{"$f":"COUNTIF(OFFSET(H3787,0,Author1Sections,1,Author2Sections),\"=0\")","v":4},407,"end",0,0,0,0.1,7.4183979999999997E-2,0,0,0,0,0,0.1,0,0.1,0,0,0,0,0,0,0,0,6.5876156000000005E-2,0.1,0,0,0.1,0.2,0,0]
[{"$f":"B3818+C3818","v":0.75},{"$f":"D3818/Author1Sections","v":0},{"$f":"E3818/Author2Sections","v":0.75},{"$f":"COUNTIF(OFFSET(H3818,0,0,1,Author1Sections),\">0\")","v":0},{"$f":"COUNTIF(OFFSET(H3818,0,Author1Sections,1,Author2Sections),\"=0\")","v":6},672,"ten",0,0,0,0,0,0,0,0,0,0,0,0,0,0,0,0,0,0,0,0,0,0,0.1,0,0,0.5,0,0,0]
[{"$f":"B3834+C3834","v":0.75},{"$f":"D3834/Author1Sections","v":0},{"$f":"E3834/Author2Sections","v":0.75},{"$f":"COUNTIF(OFFSET(H3834,0,0,1,Author1Sections),\">0\")","v":0},{"$f":"COUNTIF(OFFSET(H3834,0,Author1Sections,1,Author2Sections),\"=0\")","v":6},1197,"goddess",0,0,0,0,0,0,0,0,0,0,0,0,0,0,0,0,0,0,0,0,0,0,0.2,0.1,0,0,0,0,0]
[{"$f":"B3855+C3855","v":0.75},{"$f":"D3855/Author1Sections","v":0},{"$f":"E3855/Author2Sections","v":0.75},{"$f":"COUNTIF(OFFSET(H3855,0,0,1,Author1Sections),\">0\")","v":0},{"$f":"COUNTIF(OFFSET(H3855,0,Author1Sections,1,Author2Sections),\"=0\")","v":6},1474,"airy",0,0,0,0,0,0,0,0,0,0,0,0,0,0,0,0,0,0,0,0,0,0,0,0.1,0,0,0,0,8.8652484000000004E-2]
[{"$f":"B3861+C3861","v":0.75},{"$f":"D3861/Author1Sections","v":0},{"$f":"E3861/Author2Sections","v":0.75},{"$f":"COUNTIF(OFFSET(H3861,0,0,1,Author1Sections),\">0\")","v":0},{"$f":"COUNTIF(OFFSET(H3861,0,Author1Sections,1,Author2Sections),\"=0\")","v":6},1510,"audit",0,0,0,0,0,0,0,0,0,0,0,0,0,0,0,0,0,0,0,0,0,0,0,0,0,0.1,0,0,8.8652484000000004E-2]
[{"$f":"B3885+C3885","v":0.75},{"$f":"D3885/Author1Sections","v":0},{"$f":"E3885/Author2Sections","v":0.75},{"$f":"COUNTIF(OFFSET(H3885,0,0,1,Author1Sections),\">0\")","v":0},{"$f":"COUNTIF(OFFSET(H3885,0,Author1Sections,1,Author2Sections),\"=0\")","v":6},1686,"death's",0,0,0,0,0,0,0,0,0,0,0,0,0,0,0,0,0,0,0,0,0,0,0,0,0,0.1,0.1,0,0]
[{"$f":"B3898+C3898","v":0.75},{"$f":"D3898/Author1Sections","v":0},{"$f":"E3898/Author2Sections","v":0.75},{"$f":"COUNTIF(OFFSET(H3898,0,0,1,Author1Sections),\">0\")","v":0},{"$f":"COUNTIF(OFFSET(H3898,0,Author1Sections,1,Author2Sections),\"=0\")","v":6},1752,"eternal",0,0,0,0,0,0,0,0,0,0,0,0,0,0,0,0,0,0,0,0,0,0,0,0,0,0,0.1,0,8.8652484000000004E-2]
[{"$f":"B3932+C3932","v":0.75},{"$f":"D3932/Author1Sections","v":0},{"$f":"E3932/Author2Sections","v":0.75},{"$f":"COUNTIF(OFFSET(H3932,0,0,1,Author1Sections),\">0\")","v":0},{"$f":"COUNTIF(OFFSET(H3932,0,Author1Sections,1,Author2Sections),\"=0\")","v":6},1901,"husbandry",0,0,0,0,0,0,0,0,0,0,0,0,0,0,0,0,0,0,0,0,0,0,0,0,0,0.1,0.1,0,0]
[{"$f":"B3941+C3941","v":0.75},{"$f":"D3941/Author1Sections","v":0},{"$f":"E3941/Author2Sections","v":0.75},{"$f":"COUNTIF(OFFSET(H3941,0,0,1,Author1Sections),\">0\")","v":0},{"$f":"COUNTIF(OFFSET(H3941,0,Author1Sections,1,Author2Sections),\"=0\")","v":6},1938,"lawns",0,0,0,0,0,0,0,0,0,0,0,0,0,0,0,0,0,0,0,0,0,0,0.1,0,6.7658999999999997E-2,0,0,0,0]
[{"$f":"B3966+C3966","v":0.75},{"$f":"D3966/Author1Sections","v":0},{"$f":"E3966/Author2Sections","v":0.75},{"$f":"COUNTIF(OFFSET(H3966,0,0,1,Author1Sections),\">0\")","v":0},{"$f":"COUNTIF(OFFSET(H3966,0,Author1Sections,1,Author2Sections),\"=0\")","v":6},2065,"palate",0,0,0,0,0,0,0,0,0,0,0,0,0,0,0,0,0,0,0,0,0,6.5876156000000005E-2,0,0,0,0,0,0.1,0]
[{"$f":"B3983+C3983","v":0.75},{"$f":"D3983/Author1Sections","v":0},{"$f":"E3983/Author2Sections","v":0.75},{"$f":"COUNTIF(OFFSET(H3983,0,0,1,Author1Sections),\">0\")","v":0},{"$f":"COUNTIF(OFFSET(H3983,0,Author1Sections,1,Author2Sections),\"=0\")","v":6},2156,"robe",0,0,0,0,0,0,0,0,0,0,0,0,0,0,0,0,0,0,0,0,0,0,0.1,0.1,0,0,0,0,0]
[{"$f":"B4003+C4003","v":0.75},{"$f":"D4003/Author1Sections","v":0},{"$f":"E4003/Author2Sections","v":0.75},{"$f":"COUNTIF(OFFSET(H4003,0,0,1,Author1Sections),\">0\")","v":0},{"$f":"COUNTIF(OFFSET(H4003,0,Author1Sections,1,Author2Sections),\"=0\")","v":6},2270,"summer's",0,0,0,0,0,0,0,0,0,0,0,0,0,0,0,0,0,0,0,0,0,0,0,0,0,0.1,0.1,0,0]
[{"$f":"B4012+C4012","v":0.75},{"$f":"D4012/Author1Sections","v":0},{"$f":"E4012/Author2Sections","v":0.75},{"$f":"COUNTIF(OFFSET(H4012,0,0,1,Author1Sections),\">0\")","v":0},{"$f":"COUNTIF(OFFSET(H4012,0,Author1Sections,1,Author2Sections),\"=0\")","v":6},2314,"tufted",0,0,0,0,0,0,0,0,0,0,0,0,0,0,0,0,0,0,0,0,0,0,0.1,0,6.7658999999999997E-2,0,0,0,0]
[{"$f":"B4027+C4027","v":0.75},{"$f":"D4027/Author1Sections","v":0},{"$f":"E4027/Author2Sections","v":0.75},{"$f":"COUNTIF(OFFSET(H4027,0,0,1,Author1Sections),\">0\")","v":0},{"$f":"COUNTIF(OFFSET(H4027,0,Author1Sections,1,Author2Sections),\"=0\")","v":6},2391,"woeful",0,0,0,0,0,0,0,0,0,0,0,0,0,0,0,0,0,0,0,0,0,0,0,0,6.7658999999999997E-2,0,0,0.1,0]
[{"$f":"B4059+C4059","v":0.7857142857142857},{"$f":"D4059/Author1Sections","v":0.2857142857142857},{"$f":"E4059/Author2Sections","v":0.5},{"$f":"COUNTIF(OFFSET(H4059,0,0,1,Author1Sections),\">0\")","v":6},{"$f":"COUNTIF(OFFSET(H4059,0,Author1Sections,1,Author2Sections),\"=0\")","v":4},380,"spring",0,0,0.1,0,7.4183979999999997E-2,0,0,0,0,0,0.1,0.1,0,0.1,0,0,0.1,0,0,0,0,6.5876156000000005E-2,0.1,0,6.7658999999999997E-2,0.1,0,0,0]
[{"$f":"B4070+C4070","v":0.79761904761904767},{"$f":"D4070/Author1Sections","v":4.7619047619047616E-2},{"$f":"E4070/Author2Sections","v":0.75},{"$f":"COUNTIF(OFFSET(H4070,0,0,1,Author1Sections),\">0\")","v":1},{"$f":"COUNTIF(OFFSET(H4070,0,Author1Sections,1,Author2Sections),\"=0\")","v":6},910,"grave",0.1,0,0,0,0,0,0,0,0,0,0,0,0,0,0,0,0,0,0,0,0,0.13175231000000001,0,0,0,0.1,0,0,0]
[{"$f":"B4089+C4089","v":0.79761904761904767},{"$f":"D4089/Author1Sections","v":4.7619047619047616E-2},{"$f":"E4089/Author2Sections","v":0.75},{"$f":"COUNTIF(OFFSET(H4089,0,0,1,Author1Sections),\">0\")","v":1},{"$f":"COUNTIF(OFFSET(H4089,0,Author1Sections,1,Author2Sections),\"=0\")","v":6},1117,"creep",0.1,0,0,0,0,0,0,0,0,0,0,0,0,0,0,0,0,0,0,0,0,0,0.1,0,6.7658999999999997E-2,0,0,0,0]
[{"$f":"B4110+C4110","v":0.79761904761904767},{"$f":"D4110/Author1Sections","v":4.7619047619047616E-2},{"$f":"E4110/Author2Sections","v":0.75},{"$f":"COUNTIF(OFFSET(H4110,0,0,1,Author1Sections),\">0\")","v":1},{"$f":"COUNTIF(OFFSET(H4110,0,Author1Sections,1,Author2Sections),\"=0\")","v":6},1274,"next",0,0,0,0.1,0,0,0,0,0,0,0,0,0,0,0,0,0,0,0,0,0,6.5876156000000005E-2,0,0,6.7658999999999997E-2,0,0,0,0]
[{"$f":"B4132+C4132","v":0.79761904761904767},{"$f":"D4132/Author1Sections","v":4.7619047619047616E-2},{"$f":"E4132/Author2Sections","v":0.75},{"$f":"COUNTIF(OFFSET(H4132,0,0,1,Author1Sections),\">0\")","v":1},{"$f":"COUNTIF(OFFSET(H4132,0,Author1Sections,1,Author2Sections),\"=0\")","v":6},1438,"weeping",0,0,0,0,0,0,0,0,0,0,0.1,0,0,0,0,0,0,0,0,0,0,0,0,0,0,0,0.1,0,8.8652484000000004E-2]
[{"$f":"B4153+C4153","v":0.81547619047619047},{"$f":"D4153/Author1Sections","v":0.19047619047619047},{"$f":"E4153/Author2Sections","v":0.625},{"$f":"COUNTIF(OFFSET(H4153,0,0,1,Author1Sections),\">0\")","v":4},{"$f":"COUNTIF(OFFSET(H4153,0,Author1Sections,1,Author2Sections),\"=0\")","v":5},571,"wilt",0,0,0,0,0,0,0.1,0,0,0.1,0,0,0.1,0,0,0.1,0,0,0,0,0,0,0,0,0,0.1,0.1,0,8.8652484000000004E-2]
[{"$f":"B4175+C4175","v":0.84523809523809523},{"$f":"D4175/Author1Sections","v":9.5238095238095233E-2},{"$f":"E4175/Author2Sections","v":0.75},{"$f":"COUNTIF(OFFSET(H4175,0,0,1,Author1Sections),\">0\")","v":2},{"$f":"COUNTIF(OFFSET(H4175,0,Author1Sections,1,Author2Sections),\"=0\")","v":6},631,"over",0,0,0,0,7.4183979999999997E-2,0.1,0,0,0,0,0,0,0,0,0,0,0,0,0,0,0,0,0,0.2,0,0,0,0.2,0]
[{"$f":"B4194+C4194","v":0.84523809523809523},{"$f":"D4194/Author1Sections","v":9.5238095238095233E-2},{"$f":"E4194/Author2Sections","v":0.75},{"$f":"COUNTIF(OFFSET(H4194,0,0,1,Author1Sections),\">0\")","v":2},{"$f":"COUNTIF(OFFSET(H4194,0,Author1Sections,1,Author2Sections),\"=0\")","v":6},840,"along",0,0.1,0,0,0,0,0,0,0,0,0,0,0,0,0,0,0,0,0.1,0,0,0,0,0.1,6.7658999999999997E-2,0,0,0,0]
[{"$f":"B4208+C4208","v":0.84523809523809523},{"$f":"D4208/Author1Sections","v":9.5238095238095233E-2},{"$f":"E4208/Author2Sections","v":0.75},{"$f":"COUNTIF(OFFSET(H4208,0,0,1,Author1Sections),\">0\")","v":2},{"$f":"COUNTIF(OFFSET(H4208,0,Author1Sections,1,Author2Sections),\"=0\")","v":6},929,"higher",0,0,0,0,0,0,0.1,0,0,0,0,0,0,0,0,0,0,0,0.1,0,0,0,0,0.1,6.7658999999999997E-2,0,0,0,0]
[{"$f":"B4218+C4218","v":0.84523809523809523},{"$f":"D4218/Author1Sections","v":9.5238095238095233E-2},{"$f":"E4218/Author2Sections","v":0.75},{"$f":"COUNTIF(OFFSET(H4218,0,0,1,Author1Sections),\">0\")","v":2},{"$f":"COUNTIF(OFFSET(H4218,0,Author1Sections,1,Author2Sections),\"=0\")","v":6},998,"seeming",0,0.1,0,0.1,0,0,0,0,0,0,0,0,0,0,0,0,0,0,0,0,0,0,0,0,0,0.1,0,0,8.8652484000000004E-2]
[{"$f":"B4233+C4233","v":0.86904761904761907},{"$f":"D4233/Author1Sections","v":0.61904761904761907},{"$f":"E4233/Author2Sections","v":0.25},{"$f":"COUNTIF(OFFSET(H4233,0,0,1,Author1Sections),\">0\")","v":13},{"$f":"COUNTIF(OFFSET(H4233,0,Author1Sections,1,Author2Sections),\"=0\")","v":2},96,"were",0.4,0.3,0.2,0.1,0.14836795999999999,0.1,0.2,0,0.1,0,0.3,0.1,0,0,0.1,0,0,0,0,0.1,7.0372980000000002E-2,0.13175231000000001,0,0,0.33829498000000002,0.5,0.3,0.6,8.8652484000000004E-2]
[{"$f":"B4261+C4261","v":0.875},{"$f":"D4261/Author1Sections","v":0},{"$f":"E4261/Author2Sections","v":0.875},{"$f":"COUNTIF(OFFSET(H4261,0,0,1,Author1Sections),\">0\")","v":0},{"$f":"COUNTIF(OFFSET(H4261,0,Author1Sections,1,Author2Sections),\"=0\")","v":7},1714,"distill'd",0,0,0,0,0,0,0,0,0,0,0,0,0,0,0,0,0,0,0,0,0,0,0,0,0,0.2,0,0,0]
[{"$f":"B4280+C4280","v":0.875},{"$f":"D4280/Author1Sections","v":0},{"$f":"E4280/Author2Sections","v":0.875},{"$f":"COUNTIF(OFFSET(H4280,0,0,1,Author1Sections),\">0\")","v":0},{"$f":"COUNTIF(OFFSET(H4280,0,Author1Sections,1,Author2Sections),\"=0\")","v":7},2101,"poetry",0,0,0,0,0,0,0,0,0,0,0,0,0,0,0,0,0,0,0,0,0,0.13175231000000001,0,0,0,0,0,0,0]
[{"$f":"B4302+C4302","v":0.875},{"$f":"D4302/Author1Sections","v":0},{"$f":"E4302/Author2Sections","v":0.875},{"$f":"COUNTIF(OFFSET(H4302,0,0,1,Author1Sections),\">0\")","v":0},{"$f":"COUNTIF(OFFSET(H4302,0,Author1Sections,1,Author2Sections),\"=0\")","v":7},2411,"'among",0,0,0,0,0,0,0,0,0,0,0,0,0,0,0,0,0,0,0,0,0,0,0,0,0,0,0,0,8.8652484000000004E-2]
[{"$f":"B4323+C4323","v":0.875},{"$f":"D4323/Author1Sections","v":0},{"$f":"E4323/Author2Sections","v":0.875},{"$f":"COUNTIF(OFFSET(H4323,0,0,1,Author1Sections),\">0\")","v":0},{"$f":"COUNTIF(OFFSET(H4323,0,Author1Sections,1,Author2Sections),\"=0\")","v":7},2435,"'though",0,0,0,0,0,0,0,0,0,0,0,0,0,0,0,0,0,0,0,0,0,0,0,0,0,0,0,0.1,0]
[{"$f":"B4331+C4331","v":0.875},{"$f":"D4331/Author1Sections","v":0},{"$f":"E4331/Author2Sections","v":0.875},{"$f":"COUNTIF(OFFSET(H4331,0,0,1,Author1Sections),\">0\")","v":0},{"$f":"COUNTIF(OFFSET(H4331,0,Author1Sections,1,Author2Sections),\"=0\")","v":7},2448,"abused",0,0,0,0,0,0,0,0,0,0,0,0,0,0,0,0,0,0,0,0,0,6.5876156000000005E-2,0,0,0,0,0,0,0]
[{"$f":"B4347+C4347","v":0.875},{"$f":"D4347/Author1Sections","v":0},{"$f":"E4347/Author2Sections","v":0.875},{"$f":"COUNTIF(OFFSET(H4347,0,0,1,Author1Sections),\">0\")","v":0},{"$f":"COUNTIF(OFFSET(H4347,0,Author1Sections,1,Author2Sections),\"=0\")","v":7},2490,"afraid",0,0,0,0,0,0,0,0,0,0,0,0,0,0,0,0,0,0,0,0,0,0,0,0,0,0,0,0.1,0]
[{"$f":"B4366+C4366","v":0.875},{"$f":"D4366/Author1Sections","v":0},{"$f":"E4366/Author2Sections","v":0.875},{"$f":"COUNTIF(OFFSET(H4366,0,0,1,Author1Sections),\">0\")","v":0},{"$f":"COUNTIF(OFFSET(H4366,0,Author1Sections,1,Author2Sections),\"=0\")","v":7},2544,"anthems",0,0,0,0,0,0,0,0,0,0,0,0,0,0,0,0,0,0,0,0,0,0,0,0.1,0,0,0,0,0]
[{"$f":"B4382+C4382","v":0.875},{"$f":"D4382/Author1Sections","v":0},{"$f":"E4382/Author2Sections","v":0.875},{"$f":"COUNTIF(OFFSET(H4382,0,0,1,Author1Sections),\">0\")","v":0},{"$f":"COUNTIF(OFFSET(H4382,0,Author1Sections,1,Author2Sections),\"=0\")","v":7},2596,"astray",0,0,0,0,0,0,0,0,0,0,0,0,0,0,0,0,0,0,0,0,0,0,0,0.1,0,0,0,0,0]
[{"$f":"B4409+C4409","v":0.875},{"$f":"D4409/Author1Sections","v":0},{"$f":"E4409/Author2Sections","v":0.875},{"$f":"COUNTIF(OFFSET(H4409,0,0,1,Author1Sections),\">0\")","v":0},{"$f":"COUNTIF(OFFSET(H4409,0,Author1Sections,1,Author2Sections),\"=0\")","v":7},2670,"bay",0,0,0,0,0,0,0,0,0,0,0,0,0,0,0,0,0,0,0,0,0,0,0,0,6.7658999999999997E-2,0,0,0,0]
[{"$f":"B4429+C4429","v":0.875},{"$f":"D4429/Author1Sections","v":0},{"$f":"E4429/Author2Sections","v":0.875},{"$f":"COUNTIF(OFFSET(H4429,0,0,1,Author1Sections),\">0\")","v":0},{"$f":"COUNTIF(OFFSET(H4429,0,Author1Sections,1,Author2Sections),\"=0\")","v":7},2716,"belongs",0,0,0,0,0,0,0,0,0,0,0,0,0,0,0,0,0,0,0,0,0,0,0,0,6.7658999999999997E-2,0,0,0,0]
[{"$f":"B4452+C4452","v":0.875},{"$f":"D4452/Author1Sections","v":0},{"$f":"E4452/Author2Sections","v":0.875},{"$f":"COUNTIF(OFFSET(H4452,0,0,1,Author1Sections),\">0\")","v":0},{"$f":"COUNTIF(OFFSET(H4452,0,Author1Sections,1,Author2Sections),\"=0\")","v":7},2763,"blazon'd",0,0,0,0,0,0,0,0,0,0,0,0,0,0,0,0,0,0,0,0,0,0,0,0,0,0,0,0,8.8652484000000004E-2]
[{"$f":"B4471+C4471","v":0.875},{"$f":"D4471/Author1Sections","v":0},{"$f":"E4471/Author2Sections","v":0.875},{"$f":"COUNTIF(OFFSET(H4471,0,0,1,Author1Sections),\">0\")","v":0},{"$f":"COUNTIF(OFFSET(H4471,0,Author1Sections,1,Author2Sections),\"=0\")","v":7},2799,"bout",0,0,0,0,0,0,0,0,0,0,0,0,0,0,0,0,0,0,0,0,0,0,0.1,0,0,0,0,0,0]
[{"$f":"B4480+C4480","v":0.875},{"$f":"D4480/Author1Sections","v":0},{"$f":"E4480/Author2Sections","v":0.875},{"$f":"COUNTIF(OFFSET(H4480,0,0,1,Author1Sections),\">0\")","v":0},{"$f":"COUNTIF(OFFSET(H4480,0,Author1Sections,1,Author2Sections),\"=0\")","v":7},2816,"brain'd",0,0,0,0,0,0,0,0,0,0,0,0,0,0,0,0,0,0,0,0,0,0,0,0,0,0,0,0,8.8652484000000004E-2]
[{"$f":"B4495+C4495","v":0.875},{"$f":"D4495/Author1Sections","v":0},{"$f":"E4495/Author2Sections","v":0.875},{"$f":"COUNTIF(OFFSET(H4495,0,0,1,Author1Sections),\">0\")","v":0},{"$f":"COUNTIF(OFFSET(H4495,0,Author1Sections,1,Author2Sections),\"=0\")","v":7},2872,"buskin'd",0,0,0,0,0,0,0,0,0,0,0,0,0,0,0,0,0,0,0,0,0,0,0,0.1,0,0,0,0,0]
[{"$f":"B4527+C4527","v":0.875},{"$f":"D4527/Author1Sections","v":0},{"$f":"E4527/Author2Sections","v":0.875},{"$f":"COUNTIF(OFFSET(H4527,0,0,1,Author1Sections),\">0\")","v":0},{"$f":"COUNTIF(OFFSET(H4527,0,Author1Sections,1,Author2Sections),\"=0\")","v":7},2948,"cheerly",0,0,0,0,0,0,0,0,0,0,0,0,0,0,0,0,0,0,0,0,0,0,0.1,0,0,0,0,0,0]
[{"$f":"B4532+C4532","v":0.875},{"$f":"D4532/Author1Sections","v":0},{"$f":"E4532/Author2Sections","v":0.875},{"$f":"COUNTIF(OFFSET(H4532,0,0,1,Author1Sections),\">0\")","v":0},{"$f":"COUNTIF(OFFSET(H4532,0,Author1Sections,1,Author2Sections),\"=0\")","v":7},2957,"chiefest",0,0,0,0,0,0,0,0,0,0,0,0,0,0,0,0,0,0,0,0,0,0,0,0.1,0,0,0,0,0]
[{"$f":"B4557+C4557","v":0.875},{"$f":"D4557/Author1Sections","v":0},{"$f":"E4557/Author2Sections","v":0.875},{"$f":"COUNTIF(OFFSET(H4557,0,0,1,Author1Sections),\">0\")","v":0},{"$f":"COUNTIF(OFFSET(H4557,0,Author1Sections,1,Author2Sections),\"=0\")","v":7},3023,"commended",0,0,0,0,0,0,0,0,0,0,0,0,0,0,0,0,0,0,0,0,0,0,0,0,0,0,0,0.1,0]
[{"$f":"B4578+C4578","v":0.875},{"$f":"D4578/Author1Sections","v":0},{"$f":"E4578/Author2Sections","v":0.875},{"$f":"COUNTIF(OFFSET(H4578,0,0,1,Author1Sections),\">0\")","v":0},{"$f":"COUNTIF(OFFSET(H4578,0,Author1Sections,1,Author2Sections),\"=0\")","v":7},3078,"contemplation",0,0,0,0,0,0,0,0,0,0,0,0,0,0,0,0,0,0,0,0,0,0,0,0.1,0,0,0,0,0]
[{"$f":"B4600+C4600","v":0.875},{"$f":"D4600/Author1Sections","v":0},{"$f":"E4600/Author2Sections","v":0.875},{"$f":"COUNTIF(OFFSET(H4600,0,0,1,Author1Sections),\">0\")","v":0},{"$f":"COUNTIF(OFFSET(H4600,0,Author1Sections,1,Author2Sections),\"=0\")","v":7},3132,"craggy",0,0,0,0,0,0,0,0,0,0,0,0,0,0,0,0,0,0,0,0,0,6.5876156000000005E-2,0,0,0,0,0,0,0]
[{"$f":"B4607+C4607","v":0.875},{"$f":"D4607/Author1Sections","v":0},{"$f":"E4607/Author2Sections","v":0.875},{"$f":"COUNTIF(OFFSET(H4607,0,0,1,Author1Sections),\">0\")","v":0},{"$f":"COUNTIF(OFFSET(H4607,0,Author1Sections,1,Author2Sections),\"=0\")","v":7},3147,"crew",0,0,0,0,0,0,0,0,0,0,0,0,0,0,0,0,0,0,0,0,0,0,0.1,0,0,0,0,0,0]
[{"$f":"B4637+C4637","v":0.875},{"$f":"D4637/Author1Sections","v":0},{"$f":"E4637/Author2Sections","v":0.875},{"$f":"COUNTIF(OFFSET(H4637,0,0,1,Author1Sections),\">0\")","v":0},{"$f":"COUNTIF(OFFSET(H4637,0,Author1Sections,1,Author2Sections),\"=0\")","v":7},3211,"day's",0,0,0,0,0,0,0,0,0,0,0,0,0,0,0,0,0,0,0,0,0,0,0,0.1,0,0,0,0,0]
[{"$f":"B4643+C4643","v":0.875},{"$f":"D4643/Author1Sections","v":0},{"$f":"E4643/Author2Sections","v":0.875},{"$f":"COUNTIF(OFFSET(H4643,0,0,1,Author1Sections),\">0\")","v":0},{"$f":"COUNTIF(OFFSET(H4643,0,Author1Sections,1,Author2Sections),\"=0\")","v":7},3230,"deceive",0,0,0,0,0,0,0,0,0,0,0,0,0,0,0,0,0,0,0,0,0,0,0,0,0,0.1,0,0,0]
[{"$f":"B4676+C4676","v":0.875},{"$f":"D4676/Author1Sections","v":0},{"$f":"E4676/Author2Sections","v":0.875},{"$f":"COUNTIF(OFFSET(H4676,0,0,1,Author1Sections),\">0\")","v":0},{"$f":"COUNTIF(OFFSET(H4676,0,Author1Sections,1,Author2Sections),\"=0\")","v":7},3321,"diet",0,0,0,0,0,0,0,0,0,0,0,0,0,0,0,0,0,0,0,0,0,0,0,0.1,0,0,0,0,0]
[{"$f":"B4686+C4686","v":0.875},{"$f":"D4686/Author1Sections","v":0},{"$f":"E4686/Author2Sections","v":0.875},{"$f":"COUNTIF(OFFSET(H4686,0,0,1,Author1Sections),\">0\")","v":0},{"$f":"COUNTIF(OFFSET(H4686,0,Author1Sections,1,Author2Sections),\"=0\")","v":7},3342,"discontent",0,0,0,0,0,0,0,0,0,0,0,0,0,0,0,0,0,0,0,0,0,0,0,0,0,0,0.1,0,0]
[{"$f":"B4705+C4705","v":0.875},{"$f":"D4705/Author1Sections","v":0},{"$f":"E4705/Author2Sections","v":0.875},{"$f":"COUNTIF(OFFSET(H4705,0,0,1,Author1Sections),\">0\")","v":0},{"$f":"COUNTIF(OFFSET(H4705,0,Author1Sections,1,Author2Sections),\"=0\")","v":7},3405,"dragon",0,0,0,0,0,0,0,0,0,0,0,0,0,0,0,0,0,0,0,0,0,0,0,0.1,0,0,0,0,0]
[{"$f":"B4723+C4723","v":0.875},{"$f":"D4723/Author1Sections","v":0},{"$f":"E4723/Author2Sections","v":0.875},{"$f":"COUNTIF(OFFSET(H4723,0,0,1,Author1Sections),\">0\")","v":0},{"$f":"COUNTIF(OFFSET(H4723,0,Author1Sections,1,Author2Sections),\"=0\")","v":7},3453,"earlier",0,0,0,0,0,0,0,0,0,0,0,0,0,0,0,0,0,0,0,0,0,0,0.1,0,0,0,0,0,0]
[{"$f":"B4734+C4734","v":0.875},{"$f":"D4734/Author1Sections","v":0},{"$f":"E4734/Author2Sections","v":0.875},{"$f":"COUNTIF(OFFSET(H4734,0,0,1,Author1Sections),\">0\")","v":0},{"$f":"COUNTIF(OFFSET(H4734,0,Author1Sections,1,Author2Sections),\"=0\")","v":7},3472,"edge",0,0,0,0,0,0,0,0,0,0,0,0,0,0,0,0,0,0,0,0,0,0,0,0,6.7658999999999997E-2,0,0,0,0]
[{"$f":"B4766+C4766","v":0.875},{"$f":"D4766/Author1Sections","v":0},{"$f":"E4766/Author2Sections","v":0.875},{"$f":"COUNTIF(OFFSET(H4766,0,0,1,Author1Sections),\">0\")","v":0},{"$f":"COUNTIF(OFFSET(H4766,0,Author1Sections,1,Author2Sections),\"=0\")","v":7},3552,"equals",0,0,0,0,0,0,0,0,0,0,0,0,0,0,0,0,0,0,0,0,0,0,0,0,0,0,0,0.1,0]
[{"$f":"B4785+C4785","v":0.875},{"$f":"D4785/Author1Sections","v":0},{"$f":"E4785/Author2Sections","v":0.875},{"$f":"COUNTIF(OFFSET(H4785,0,0,1,Author1Sections),\">0\")","v":0},{"$f":"COUNTIF(OFFSET(H4785,0,Author1Sections,1,Author2Sections),\"=0\")","v":7},3596,"expect",0,0,0,0,0,0,0,0,0,0,0,0,0,0,0,0,0,0,0,0,0,0,0,0,6.7658999999999997E-2,0,0,0,0]
[{"$f":"B4803+C4803","v":0.875},{"$f":"D4803/Author1Sections","v":0},{"$f":"E4803/Author2Sections","v":0.875},{"$f":"COUNTIF(OFFSET(H4803,0,0,1,Author1Sections),\">0\")","v":0},{"$f":"COUNTIF(OFFSET(H4803,0,Author1Sections,1,Author2Sections),\"=0\")","v":7},3638,"fantastic",0,0,0,0,0,0,0,0,0,0,0,0,0,0,0,0,0,0,0,0,0,0,0.1,0,0,0,0,0,0]
[{"$f":"B4809+C4809","v":0.875},{"$f":"D4809/Author1Sections","v":0},{"$f":"E4809/Author2Sections","v":0.875},{"$f":"COUNTIF(OFFSET(H4809,0,0,1,Author1Sections),\">0\")","v":0},{"$f":"COUNTIF(OFFSET(H4809,0,Author1Sections,1,Author2Sections),\"=0\")","v":7},3652,"favours",0,0,0,0,0,0,0,0,0,0,0,0,0,0,0,0,0,0,0,0,0,0,0,0,0,0,0.1,0,0]
[{"$f":"B4832+C4832","v":0.875},{"$f":"D4832/Author1Sections","v":0},{"$f":"E4832/Author2Sections","v":0.875},{"$f":"COUNTIF(OFFSET(H4832,0,0,1,Author1Sections),\">0\")","v":0},{"$f":"COUNTIF(OFFSET(H4832,0,Author1Sections,1,Author2Sections),\"=0\")","v":7},3714,"fleecy",0,0,0,0,0,0,0,0,0,0,0,0,0,0,0,0,0,0,0,0,0,0,0,0.1,0,0,0,0,0]
[{"$f":"B4852+C4852","v":0.875},{"$f":"D4852/Author1Sections","v":0},{"$f":"E4852/Author2Sections","v":0.875},{"$f":"COUNTIF(OFFSET(H4852,0,0,1,Author1Sections),\">0\")","v":0},{"$f":"COUNTIF(OFFSET(H4852,0,Author1Sections,1,Author2Sections),\"=0\")","v":7},3758,"forbid",0,0,0,0,0,0,0,0,0,0,0,0,0,0,0,0,0,0,0,0,0,0,0,0,0,0,0,0.1,0]
[{"$f":"B4871+C4871","v":0.875},{"$f":"D4871/Author1Sections","v":0},{"$f":"E4871/Author2Sections","v":0.875},{"$f":"COUNTIF(OFFSET(H4871,0,0,1,Author1Sections),\">0\")","v":0},{"$f":"COUNTIF(OFFSET(H4871,0,Author1Sections,1,Author2Sections),\"=0\")","v":7},3810,"friar's",0,0,0,0,0,0,0,0,0,0,0,0,0,0,0,0,0,0,0,0,0,0,0.1,0,0,0,0,0,0]
[{"$f":"B4883+C4883","v":0.875},{"$f":"D4883/Author1Sections","v":0},{"$f":"E4883/Author2Sections","v":0.875},{"$f":"COUNTIF(OFFSET(H4883,0,0,1,Author1Sections),\">0\")","v":0},{"$f":"COUNTIF(OFFSET(H4883,0,Author1Sections,1,Author2Sections),\"=0\")","v":7},3858,"gazes",0,0,0,0,0,0,0,0,0,0,0,0,0,0,0,0,0,0,0,0,0,0,0,0,0,0,0.1,0,0]
[{"$f":"B4914+C4914","v":0.875},{"$f":"D4914/Author1Sections","v":0},{"$f":"E4914/Author2Sections","v":0.875},{"$f":"COUNTIF(OFFSET(H4914,0,0,1,Author1Sections),\">0\")","v":0},{"$f":"COUNTIF(OFFSET(H4914,0,Author1Sections,1,Author2Sections),\"=0\")","v":7},3948,"grounds",0,0,0,0,0,0,0,0,0,0,0,0,0,0,0,0,0,0,0,0,0,0,0,0,0,0,0,0.1,0]
[{"$f":"B4926+C4926","v":0.875},{"$f":"D4926/Author1Sections","v":0},{"$f":"E4926/Author2Sections","v":0.875},{"$f":"COUNTIF(OFFSET(H4926,0,0,1,Author1Sections),\">0\")","v":0},{"$f":"COUNTIF(OFFSET(H4926,0,Author1Sections,1,Author2Sections),\"=0\")","v":7},3972,"hairs",0,0,0,0,0,0,0,0,0,0,0,0,0,0,0,0,0,0,0,0,0,6.5876156000000005E-2,0,0,0,0,0,0,0]
[{"$f":"B4938+C4938","v":0.875},{"$f":"D4938/Author1Sections","v":0},{"$f":"E4938/Author2Sections","v":0.875},{"$f":"COUNTIF(OFFSET(H4938,0,0,1,Author1Sections),\">0\")","v":0},{"$f":"COUNTIF(OFFSET(H4938,0,Author1Sections,1,Author2Sections),\"=0\")","v":7},4001,"hazel",0,0,0,0,0,0,0,0,0,0,0,0,0,0,0,0,0,0,0,0,0,0,0,0,6.7658999999999997E-2,0,0,0,0]
[{"$f":"B4957+C4957","v":0.875},{"$f":"D4957/Author1Sections","v":0},{"$f":"E4957/Author2Sections","v":0.875},{"$f":"COUNTIF(OFFSET(H4957,0,0,1,Author1Sections),\">0\")","v":0},{"$f":"COUNTIF(OFFSET(H4957,0,Author1Sections,1,Author2Sections),\"=0\")","v":7},4048,"herds",0,0,0,0,0,0,0,0,0,0,0,0,0,0,0,0,0,0,0,0,0,0,0,0,6.7658999999999997E-2,0,0,0,0]
[{"$f":"B4981+C4981","v":0.875},{"$f":"D4981/Author1Sections","v":0},{"$f":"E4981/Author2Sections","v":0.875},{"$f":"COUNTIF(OFFSET(H4981,0,0,1,Author1Sections),\">0\")","v":0},{"$f":"COUNTIF(OFFSET(H4981,0,Author1Sections,1,Author2Sections),\"=0\")","v":7},4120,"hued",0,0,0,0,0,0,0,0,0,0,0,0,0,0,0,0,0,0,0,0,0,0,0,0,0,0,0,0,8.8652484000000004E-2]
[{"$f":"B5000+C5000","v":0.875},{"$f":"D5000/Author1Sections","v":0},{"$f":"E5000/Author2Sections","v":0.875},{"$f":"COUNTIF(OFFSET(H5000,0,0,1,Author1Sections),\">0\")","v":0},{"$f":"COUNTIF(OFFSET(H5000,0,Author1Sections,1,Author2Sections),\"=0\")","v":7},4193,"infirmity",0,0,0,0,0,0,0,0,0,0,0,0,0,0,0,0,0,0,0,0,0,0,0,0,6.7658999999999997E-2,0,0,0,0]
[{"$f":"B5024+C5024","v":0.875},{"$f":"D5024/Author1Sections","v":0},{"$f":"E5024/Author2Sections","v":0.875},{"$f":"COUNTIF(OFFSET(H5024,0,0,1,Author1Sections),\">0\")","v":0},{"$f":"COUNTIF(OFFSET(H5024,0,Author1Sections,1,Author2Sections),\"=0\")","v":7},4271,"jewel",0,0,0,0,0,0,0,0,0,0,0,0,0,0,0,0,0,0,0,0,0,0,0,0,0,0,0,0.1,0]
[{"$f":"B5043+C5043","v":0.875},{"$f":"D5043/Author1Sections","v":0},{"$f":"E5043/Author2Sections","v":0.875},{"$f":"COUNTIF(OFFSET(H5043,0,0,1,Author1Sections),\">0\")","v":0},{"$f":"COUNTIF(OFFSET(H5043,0,Author1Sections,1,Author2Sections),\"=0\")","v":7},4303,"knat",0,0,0,0,0,0,0,0,0,0,0,0,0,0,0,0,0,0,0,0,0,6.5876156000000005E-2,0,0,0,0,0,0,0]
[{"$f":"B5062+C5062","v":0.875},{"$f":"D5062/Author1Sections","v":0},{"$f":"E5062/Author2Sections","v":0.875},{"$f":"COUNTIF(OFFSET(H5062,0,0,1,Author1Sections),\">0\")","v":0},{"$f":"COUNTIF(OFFSET(H5062,0,Author1Sections,1,Author2Sections),\"=0\")","v":7},4340,"laugh",0,0,0,0,0,0,0,0,0,0,0,0,0,0,0,0,0,0,0,0,0,0,0,0,0,0,0,0.1,0]
[{"$f":"B5079+C5079","v":0.875},{"$f":"D5079/Author1Sections","v":0},{"$f":"E5079/Author2Sections","v":0.875},{"$f":"COUNTIF(OFFSET(H5079,0,0,1,Author1Sections),\">0\")","v":0},{"$f":"COUNTIF(OFFSET(H5079,0,Author1Sections,1,Author2Sections),\"=0\")","v":7},4373,"legacy",0,0,0,0,0,0,0,0,0,0,0,0,0,0,0,0,0,0,0,0,0,0,0,0,0,0.1,0,0,0]
[{"$f":"B5105+C5105","v":0.875},{"$f":"D5105/Author1Sections","v":0},{"$f":"E5105/Author2Sections","v":0.875},{"$f":"COUNTIF(OFFSET(H5105,0,0,1,Author1Sections),\">0\")","v":0},{"$f":"COUNTIF(OFFSET(H5105,0,Author1Sections,1,Author2Sections),\"=0\")","v":7},4460,"lull'd",0,0,0,0,0,0,0,0,0,0,0,0,0,0,0,0,0,0,0,0,0,0,0.1,0,0,0,0,0,0]
[{"$f":"B5122+C5122","v":0.875},{"$f":"D5122/Author1Sections","v":0},{"$f":"E5122/Author2Sections","v":0.875},{"$f":"COUNTIF(OFFSET(H5122,0,0,1,Author1Sections),\">0\")","v":0},{"$f":"COUNTIF(OFFSET(H5122,0,Author1Sections,1,Author2Sections),\"=0\")","v":7},4496,"mansion",0,0,0,0,0,0,0,0,0,0,0,0,0,0,0,0,0,0,0,0,0,0,0,0.1,0,0,0,0,0]
[{"$f":"B5129+C5129","v":0.875},{"$f":"D5129/Author1Sections","v":0},{"$f":"E5129/Author2Sections","v":0.875},{"$f":"COUNTIF(OFFSET(H5129,0,0,1,Author1Sections),\">0\")","v":0},{"$f":"COUNTIF(OFFSET(H5129,0,Author1Sections,1,Author2Sections),\"=0\")","v":7},4525,"mazes",0,0,0,0,0,0,0,0,0,0,0,0,0,0,0,0,0,0,0,0,0,0,0.1,0,0,0,0,0,0]
[{"$f":"B5148+C5148","v":0.875},{"$f":"D5148/Author1Sections","v":0},{"$f":"E5148/Author2Sections","v":0.875},{"$f":"COUNTIF(OFFSET(H5148,0,0,1,Author1Sections),\">0\")","v":0},{"$f":"COUNTIF(OFFSET(H5148,0,Author1Sections,1,Author2Sections),\"=0\")","v":7},4568,"mettle",0,0,0,0,0,0,0,0,0,0,0,0,0,0,0,0,0,0,0,0,0,0,0,0,0,0,0,0.1,0]
[{"$f":"B5173+C5173","v":0.875},{"$f":"D5173/Author1Sections","v":0},{"$f":"E5173/Author2Sections","v":0.875},{"$f":"COUNTIF(OFFSET(H5173,0,0,1,Author1Sections),\">0\")","v":0},{"$f":"COUNTIF(OFFSET(H5173,0,Author1Sections,1,Author2Sections),\"=0\")","v":7},4628,"moth",0,0,0,0,0,0,0,0,0,0,0,0,0,0,0,0,0,0,0,0,0,6.5876156000000005E-2,0,0,0,0,0,0,0]
[{"$f":"B5191+C5191","v":0.875},{"$f":"D5191/Author1Sections","v":0},{"$f":"E5191/Author2Sections","v":0.875},{"$f":"COUNTIF(OFFSET(H5191,0,0,1,Author1Sections),\">0\")","v":0},{"$f":"COUNTIF(OFFSET(H5191,0,Author1Sections,1,Author2Sections),\"=0\")","v":7},4656,"mysterious",0,0,0,0,0,0,0,0,0,0,0,0,0,0,0,0,0,0,0,0,0,0,0,0.1,0,0,0,0,0]
[{"$f":"B5202+C5202","v":0.875},{"$f":"D5202/Author1Sections","v":0},{"$f":"E5202/Author2Sections","v":0.875},{"$f":"COUNTIF(OFFSET(H5202,0,0,1,Author1Sections),\">0\")","v":0},{"$f":"COUNTIF(OFFSET(H5202,0,Author1Sections,1,Author2Sections),\"=0\")","v":7},4689,"niggard",0,0,0,0,0,0,0,0,0,0,0,0,0,0,0,0,0,0,0,0,0,0,0,0,0,0.1,0,0,0]
[{"$f":"B5234+C5234","v":0.875},{"$f":"D5234/Author1Sections","v":0},{"$f":"E5234/Author2Sections","v":0.875},{"$f":"COUNTIF(OFFSET(H5234,0,0,1,Author1Sections),\">0\")","v":0},{"$f":"COUNTIF(OFFSET(H5234,0,Author1Sections,1,Author2Sections),\"=0\")","v":7},4780,"orpheus'",0,0,0,0,0,0,0,0,0,0,0,0,0,0,0,0,0,0,0,0,0,0,0.1,0,0,0,0,0,0]
[{"$f":"B5253+C5253","v":0.875},{"$f":"D5253/Author1Sections","v":0},{"$f":"E5253/Author2Sections","v":0.875},{"$f":"COUNTIF(OFFSET(H5253,0,0,1,Author1Sections),\">0\")","v":0},{"$f":"COUNTIF(OFFSET(H5253,0,Author1Sections,1,Author2Sections),\"=0\")","v":7},4835,"parting",0,0,0,0,0,0,0,0,0,0,0,0,0,0,0,0,0,0,0,0,0,6.5876156000000005E-2,0,0,0,0,0,0,0]
[{"$f":"B5271+C5271","v":0.875},{"$f":"D5271/Author1Sections","v":0},{"$f":"E5271/Author2Sections","v":0.875},{"$f":"COUNTIF(OFFSET(H5271,0,0,1,Author1Sections),\">0\")","v":0},{"$f":"COUNTIF(OFFSET(H5271,0,Author1Sections,1,Author2Sections),\"=0\")","v":7},4866,"penn'd",0,0,0,0,0,0,0,0,0,0,0,0,0,0,0,0,0,0,0,0,0,0,0,0,0,0,0.1,0,0]
[{"$f":"B5277+C5277","v":0.875},{"$f":"D5277/Author1Sections","v":0},{"$f":"E5277/Author2Sections","v":0.875},{"$f":"COUNTIF(OFFSET(H5277,0,0,1,Author1Sections),\">0\")","v":0},{"$f":"COUNTIF(OFFSET(H5277,0,Author1Sections,1,Author2Sections),\"=0\")","v":7},4880,"perilous",0,0,0,0,0,0,0,0,0,0,0,0,0,0,0,0,0,0,0,0,0,0,0,0,6.7658999999999997E-2,0,0,0,0]
[{"$f":"B5300+C5300","v":0.875},{"$f":"D5300/Author1Sections","v":0},{"$f":"E5300/Author2Sections","v":0.875},{"$f":"COUNTIF(OFFSET(H5300,0,0,1,Author1Sections),\">0\")","v":0},{"$f":"COUNTIF(OFFSET(H5300,0,Author1Sections,1,Author2Sections),\"=0\")","v":7},4933,"plaintful",0,0,0,0,0,0,0,0,0,0,0,0,0,0,0,0,0,0,0,0,0,0,0,0,0,0,0.1,0,0]
[{"$f":"B5314+C5314","v":0.875},{"$f":"D5314/Author1Sections","v":0},{"$f":"E5314/Author2Sections","v":0.875},{"$f":"COUNTIF(OFFSET(H5314,0,0,1,Author1Sections),\">0\")","v":0},{"$f":"COUNTIF(OFFSET(H5314,0,Author1Sections,1,Author2Sections),\"=0\")","v":7},4965,"pomp",0,0,0,0,0,0,0,0,0,0,0,0,0,0,0,0,0,0,0,0,0,0,0.1,0,0,0,0,0,0]
[{"$f":"B5339+C5339","v":0.875},{"$f":"D5339/Author1Sections","v":0},{"$f":"E5339/Author2Sections","v":0.875},{"$f":"COUNTIF(OFFSET(H5339,0,0,1,Author1Sections),\">0\")","v":0},{"$f":"COUNTIF(OFFSET(H5339,0,Author1Sections,1,Author2Sections),\"=0\")","v":7},5037,"procured",0,0,0,0,0,0,0,0,0,0,0,0,0,0,0,0,0,0,0,0,0,0,0,0,0,0,0,0,8.8652484000000004E-2]
[{"$f":"B5351+C5351","v":0.875},{"$f":"D5351/Author1Sections","v":0},{"$f":"E5351/Author2Sections","v":0.875},{"$f":"COUNTIF(OFFSET(H5351,0,0,1,Author1Sections),\">0\")","v":0},{"$f":"COUNTIF(OFFSET(H5351,0,Author1Sections,1,Author2Sections),\"=0\")","v":7},5060,"propping",0,0,0,0,0,0,0,0,0,0,0,0,0,0,0,0,0,0,0,0,0,6.5876156000000005E-2,0,0,0,0,0,0,0]
[{"$f":"B5382+C5382","v":0.875},{"$f":"D5382/Author1Sections","v":0},{"$f":"E5382/Author2Sections","v":0.875},{"$f":"COUNTIF(OFFSET(H5382,0,0,1,Author1Sections),\">0\")","v":0},{"$f":"COUNTIF(OFFSET(H5382,0,Author1Sections,1,Author2Sections),\"=0\")","v":7},5154,"recompense",0,0,0,0,0,0,0,0,0,0,0,0,0,0,0,0,0,0,0,0,0,0,0,0,6.7658999999999997E-2,0,0,0,0]
[{"$f":"B5398+C5398","v":0.875},{"$f":"D5398/Author1Sections","v":0},{"$f":"E5398/Author2Sections","v":0.875},{"$f":"COUNTIF(OFFSET(H5398,0,0,1,Author1Sections),\">0\")","v":0},{"$f":"COUNTIF(OFFSET(H5398,0,Author1Sections,1,Author2Sections),\"=0\")","v":7},5190,"remember'd",0,0,0,0,0,0,0,0,0,0,0,0,0,0,0,0,0,0,0,0,0,0,0,0,0,0.1,0,0,0]
[{"$f":"B5419+C5419","v":0.875},{"$f":"D5419/Author1Sections","v":0},{"$f":"E5419/Author2Sections","v":0.875},{"$f":"COUNTIF(OFFSET(H5419,0,0,1,Author1Sections),\">0\")","v":0},{"$f":"COUNTIF(OFFSET(H5419,0,Author1Sections,1,Author2Sections),\"=0\")","v":7},5247,"rigg'd",0,0,0,0,0,0,0,0,0,0,0,0,0,0,0,0,0,0,0,0,0,0,0,0,6.7658999999999997E-2,0,0,0,0]
[{"$f":"B5427+C5427","v":0.875},{"$f":"D5427/Author1Sections","v":0},{"$f":"E5427/Author2Sections","v":0.875},{"$f":"COUNTIF(OFFSET(H5427,0,0,1,Author1Sections),\">0\")","v":0},{"$f":"COUNTIF(OFFSET(H5427,0,Author1Sections,1,Author2Sections),\"=0\")","v":7},5261,"robes",0,0,0,0,0,0,0,0,0,0,0,0,0,0,0,0,0,0,0,0,0,6.5876156000000005E-2,0,0,0,0,0,0,0]
[{"$f":"B5443+C5443","v":0.875},{"$f":"D5443/Author1Sections","v":0},{"$f":"E5443/Author2Sections","v":0.875},{"$f":"COUNTIF(OFFSET(H5443,0,0,1,Author1Sections),\">0\")","v":0},{"$f":"COUNTIF(OFFSET(H5443,0,Author1Sections,1,Author2Sections),\"=0\")","v":7},5298,"safest",0,0,0,0,0,0,0,0,0,0,0,0,0,0,0,0,0,0,0,0,0,0,0,0,0,0,0,0.1,0]
[{"$f":"B5468+C5468","v":0.875},{"$f":"D5468/Author1Sections","v":0},{"$f":"E5468/Author2Sections","v":0.875},{"$f":"COUNTIF(OFFSET(H5468,0,0,1,Author1Sections),\">0\")","v":0},{"$f":"COUNTIF(OFFSET(H5468,0,Author1Sections,1,Author2Sections),\"=0\")","v":7},5352,"sceptr'd",0,0,0,0,0,0,0,0,0,0,0,0,0,0,0,0,0,0,0,0,0,0,0,0.1,0,0,0,0,0]
[{"$f":"B5478+C5478","v":0.875},{"$f":"D5478/Author1Sections","v":0},{"$f":"E5478/Author2Sections","v":0.875},{"$f":"COUNTIF(OFFSET(H5478,0,0,1,Author1Sections),\">0\")","v":0},{"$f":"COUNTIF(OFFSET(H5478,0,Author1Sections,1,Author2Sections),\"=0\")","v":7},5372,"seasons'",0,0,0,0,0,0,0,0,0,0,0,0,0,0,0,0,0,0,0,0,0,0,0,0,0,0,0.1,0,0]
[{"$f":"B5505+C5505","v":0.875},{"$f":"D5505/Author1Sections","v":0},{"$f":"E5505/Author2Sections","v":0.875},{"$f":"COUNTIF(OFFSET(H5505,0,0,1,Author1Sections),\">0\")","v":0},{"$f":"COUNTIF(OFFSET(H5505,0,Author1Sections,1,Author2Sections),\"=0\")","v":7},5453,"shove",0,0,0,0,0,0,0,0,0,0,0,0,0,0,0,0,0,0,0,0,0,0,0,0,6.7658999999999997E-2,0,0,0,0]
[{"$f":"B5525+C5525","v":0.875},{"$f":"D5525/Author1Sections","v":0},{"$f":"E5525/Author2Sections","v":0.875},{"$f":"COUNTIF(OFFSET(H5525,0,0,1,Author1Sections),\">0\")","v":0},{"$f":"COUNTIF(OFFSET(H5525,0,Author1Sections,1,Author2Sections),\"=0\")","v":7},5489,"sips",0,0,0,0,0,0,0,0,0,0,0,0,0,0,0,0,0,0,0,0,0,0,0,0.1,0,0,0,0,0]
[{"$f":"B5548+C5548","v":0.875},{"$f":"D5548/Author1Sections","v":0},{"$f":"E5548/Author2Sections","v":0.875},{"$f":"COUNTIF(OFFSET(H5548,0,0,1,Author1Sections),\">0\")","v":0},{"$f":"COUNTIF(OFFSET(H5548,0,Author1Sections,1,Author2Sections),\"=0\")","v":7},5536,"softly",0,0,0,0,0,0,0,0,0,0,0,0,0,0,0,0,0,0,0,0,0,0,0,0.1,0,0,0,0,0]
[{"$f":"B5567+C5567","v":0.875},{"$f":"D5567/Author1Sections","v":0},{"$f":"E5567/Author2Sections","v":0.875},{"$f":"COUNTIF(OFFSET(H5567,0,0,1,Author1Sections),\">0\")","v":0},{"$f":"COUNTIF(OFFSET(H5567,0,Author1Sections,1,Author2Sections),\"=0\")","v":7},5604,"stalk",0,0,0,0,0,0,0,0,0,0,0,0,0,0,0,0,0,0,0,0,0,0,0,0,0,0,0,0.1,0]
[{"$f":"B5576+C5576","v":0.875},{"$f":"D5576/Author1Sections","v":0},{"$f":"E5576/Author2Sections","v":0.875},{"$f":"COUNTIF(OFFSET(H5576,0,0,1,Author1Sections),\">0\")","v":0},{"$f":"COUNTIF(OFFSET(H5576,0,Author1Sections,1,Author2Sections),\"=0\")","v":7},5637,"stopp'd",0,0,0,0,0,0,0,0,0,0,0,0,0,0,0,0,0,0,0,0,0,6.5876156000000005E-2,0,0,0,0,0,0,0]
[{"$f":"B5591+C5591","v":0.875},{"$f":"D5591/Author1Sections","v":0},{"$f":"E5591/Author2Sections","v":0.875},{"$f":"COUNTIF(OFFSET(H5591,0,0,1,Author1Sections),\">0\")","v":0},{"$f":"COUNTIF(OFFSET(H5591,0,Author1Sections,1,Author2Sections),\"=0\")","v":7},5681,"stuck",0,0,0,0,0,0,0,0,0,0,0,0,0,0,0,0,0,0,0,0,0,0,0,0,0,0,0,0.1,0]
[{"$f":"B5623+C5623","v":0.875},{"$f":"D5623/Author1Sections","v":0},{"$f":"E5623/Author2Sections","v":0.875},{"$f":"COUNTIF(OFFSET(H5623,0,0,1,Author1Sections),\">0\")","v":0},{"$f":"COUNTIF(OFFSET(H5623,0,Author1Sections,1,Author2Sections),\"=0\")","v":7},5776,"talents",0,0,0,0,0,0,0,0,0,0,0,0,0,0,0,0,0,0,0,0,0,0,0,0,0,0,0,0,8.8652484000000004E-2]
[{"$f":"B5634+C5634","v":0.875},{"$f":"D5634/Author1Sections","v":0},{"$f":"E5634/Author2Sections","v":0.875},{"$f":"COUNTIF(OFFSET(H5634,0,0,1,Author1Sections),\">0\")","v":0},{"$f":"COUNTIF(OFFSET(H5634,0,Author1Sections,1,Author2Sections),\"=0\")","v":7},5802,"tempted",0,0,0,0,0,0,0,0,0,0,0,0,0,0,0,0,0,0,0,0,0,0,0,0,0,0,0,0,8.8652484000000004E-2]
[{"$f":"B5653+C5653","v":0.875},{"$f":"D5653/Author1Sections","v":0},{"$f":"E5653/Author2Sections","v":0.875},{"$f":"COUNTIF(OFFSET(H5653,0,0,1,Author1Sections),\">0\")","v":0},{"$f":"COUNTIF(OFFSET(H5653,0,Author1Sections,1,Author2Sections),\"=0\")","v":7},5846,"thigh",0,0,0,0,0,0,0,0,0,0,0,0,0,0,0,0,0,0,0,0,0,0,0,0.1,0,0,0,0,0]
[{"$f":"B5674+C5674","v":0.875},{"$f":"D5674/Author1Sections","v":0},{"$f":"E5674/Author2Sections","v":0.875},{"$f":"COUNTIF(OFFSET(H5674,0,0,1,Author1Sections),\">0\")","v":0},{"$f":"COUNTIF(OFFSET(H5674,0,Author1Sections,1,Author2Sections),\"=0\")","v":7},5905,"tourneys",0,0,0,0,0,0,0,0,0,0,0,0,0,0,0,0,0,0,0,0,0,0,0,0.1,0,0,0,0,0]
[{"$f":"B5696+C5696","v":0.875},{"$f":"D5696/Author1Sections","v":0},{"$f":"E5696/Author2Sections","v":0.875},{"$f":"COUNTIF(OFFSET(H5696,0,0,1,Author1Sections),\">0\")","v":0},{"$f":"COUNTIF(OFFSET(H5696,0,Author1Sections,1,Author2Sections),\"=0\")","v":7},5977,"tyrants",0,0,0,0,0,0,0,0,0,0,0,0,0,0,0,0,0,0,0,0,0,0,0,0,0,0.1,0,0,0]
[{"$f":"B5703+C5703","v":0.875},{"$f":"D5703/Author1Sections","v":0},{"$f":"E5703/Author2Sections","v":0.875},{"$f":"COUNTIF(OFFSET(H5703,0,0,1,Author1Sections),\">0\")","v":0},{"$f":"COUNTIF(OFFSET(H5703,0,Author1Sections,1,Author2Sections),\"=0\")","v":7},5985,"undistinguish'd",0,0,0,0,0,0,0,0,0,0,0,0,0,0,0,0,0,0,0,0,0,0,0,0,0,0,0.1,0,0]
[{"$f":"B5720+C5720","v":0.875},{"$f":"D5720/Author1Sections","v":0},{"$f":"E5720/Author2Sections","v":0.875},{"$f":"COUNTIF(OFFSET(H5720,0,0,1,Author1Sections),\">0\")","v":0},{"$f":"COUNTIF(OFFSET(H5720,0,Author1Sections,1,Author2Sections),\"=0\")","v":7},6007,"unthrifts",0,0,0,0,0,0,0,0,0,0,0,0,0,0,0,0,0,0,0,0,0,0,0,0,0,0,0.1,0,0]
[{"$f":"B5739+C5739","v":0.875},{"$f":"D5739/Author1Sections","v":0},{"$f":"E5739/Author2Sections","v":0.875},{"$f":"COUNTIF(OFFSET(H5739,0,0,1,Author1Sections),\">0\")","v":0},{"$f":"COUNTIF(OFFSET(H5739,0,Author1Sections,1,Author2Sections),\"=0\")","v":7},6043,"various",0,0,0,0,0,0,0,0,0,0,0,0,0,0,0,0,0,0,0,0,0,0,0,0,6.7658999999999997E-2,0,0,0,0]
[{"$f":"B5772+C5772","v":0.875},{"$f":"D5772/Author1Sections","v":0},{"$f":"E5772/Author2Sections","v":0.875},{"$f":"COUNTIF(OFFSET(H5772,0,0,1,Author1Sections),\">0\")","v":0},{"$f":"COUNTIF(OFFSET(H5772,0,Author1Sections,1,Author2Sections),\"=0\")","v":7},6145,"wash'd",0,0,0,0,0,0,0,0,0,0,0,0,0,0,0,0,0,0,0,0,0,0,0.1,0,0,0,0,0,0]
[{"$f":"B5782+C5782","v":0.875},{"$f":"D5782/Author1Sections","v":0},{"$f":"E5782/Author2Sections","v":0.875},{"$f":"COUNTIF(OFFSET(H5782,0,0,1,Author1Sections),\">0\")","v":0},{"$f":"COUNTIF(OFFSET(H5782,0,Author1Sections,1,Author2Sections),\"=0\")","v":7},6168,"weeper",0,0,0,0,0,0,0,0,0,0,0,0,0,0,0,0,0,0,0,0,0,0,0,0,0,0,0,0.1,0]
[{"$f":"B5797+C5797","v":0.875},{"$f":"D5797/Author1Sections","v":0},{"$f":"E5797/Author2Sections","v":0.875},{"$f":"COUNTIF(OFFSET(H5797,0,0,1,Author1Sections),\">0\")","v":0},{"$f":"COUNTIF(OFFSET(H5797,0,Author1Sections,1,Author2Sections),\"=0\")","v":7},6201,"whispers",0,0,0,0,0,0,0,0,0,0,0,0,0,0,0,0,0,0,0,0,0,0,0,0,6.7658999999999997E-2,0,0,0,0]
[{"$f":"B5825+C5825","v":0.875},{"$f":"D5825/Author1Sections","v":0},{"$f":"E5825/Author2Sections","v":0.875},{"$f":"COUNTIF(OFFSET(H5825,0,0,1,Author1Sections),\">0\")","v":0},{"$f":"COUNTIF(OFFSET(H5825,0,Author1Sections,1,Author2Sections),\"=0\")","v":7},6278,"wrinkles",0,0,0,0,0,0,0,0,0,0,0,0,0,0,0,0,0,0,0,0,0,0,0,0,0,0.1,0,0,0]
[{"$f":"B5844+C5844","v":0.89285714285714279},{"$f":"D5844/Author1Sections","v":0.14285714285714285},{"$f":"E5844/Author2Sections","v":0.75},{"$f":"COUNTIF(OFFSET(H5844,0,0,1,Author1Sections),\">0\")","v":3},{"$f":"COUNTIF(OFFSET(H5844,0,Author1Sections,1,Author2Sections),\"=0\")","v":6},461,"kind",0,0,0,0,0,0,0,0,0,0.1,0,0,0,0.1,0,0,0,0,0,0.1,0,0,0,0,0,0,0.2,0,0.26595743999999999]
[{"$f":"B5852+C5852","v":0.89285714285714279},{"$f":"D5852/Author1Sections","v":0.14285714285714285},{"$f":"E5852/Author2Sections","v":0.75},{"$f":"COUNTIF(OFFSET(H5852,0,0,1,Author1Sections),\">0\")","v":3},{"$f":"COUNTIF(OFFSET(H5852,0,Author1Sections,1,Author2Sections),\"=0\")","v":6},656,"shore",0.1,0,0,0,7.4183979999999997E-2,0,0,0,0,0,0,0,0,0,0,0.1,0,0,0,0,0,0,0,0.1,0.13531799999999999,0,0,0,0]
[{"$f":"B5868+C5868","v":0.89880952380952384},{"$f":"D5868/Author1Sections","v":0.52380952380952384},{"$f":"E5868/Author2Sections","v":0.375},{"$f":"COUNTIF(OFFSET(H5868,0,0,1,Author1Sections),\">0\")","v":11},{"$f":"COUNTIF(OFFSET(H5868,0,Author1Sections,1,Author2Sections),\"=0\")","v":3},119,"high",0.3,0.1,0,0.1,0.14836795999999999,0,0.3,0.1,0,0,0,0.2,0,0.1,0,0,0.4,0.1,0.2,0,0,6.5876156000000005E-2,0.3,0.3,0.20297699999999999,0,0.1,0,0]
[{"$f":"B5895+C5895","v":0.92261904761904767},{"$f":"D5895/Author1Sections","v":4.7619047619047616E-2},{"$f":"E5895/Author2Sections","v":0.875},{"$f":"COUNTIF(OFFSET(H5895,0,0,1,Author1Sections),\">0\")","v":1},{"$f":"COUNTIF(OFFSET(H5895,0,Author1Sections,1,Author2Sections),\"=0\")","v":7},1056,"abroad",0,0,0,0,0,0,0,0,0,0,0,0,0,0,0,0.1,0,0,0,0,0,0,0,0,0,0,0,0.2,0]
[{"$f":"B5911+C5911","v":0.92261904761904767},{"$f":"D5911/Author1Sections","v":4.7619047619047616E-2},{"$f":"E5911/Author2Sections","v":0.875},{"$f":"COUNTIF(OFFSET(H5911,0,0,1,Author1Sections),\">0\")","v":1},{"$f":"COUNTIF(OFFSET(H5911,0,Author1Sections,1,Author2Sections),\"=0\")","v":7},1328,"safe",0,0,0,0,0,0,0,0,0,0,0,0,0,0,0,0,0,0,0.2,0,0,6.5876156000000005E-2,0,0,0,0,0,0,0]
[{"$f":"B5930+C5930","v":0.92261904761904767},{"$f":"D5930/Author1Sections","v":4.7619047619047616E-2},{"$f":"E5930/Author2Sections","v":0.875},{"$f":"COUNTIF(OFFSET(H5930,0,0,1,Author1Sections),\">0\")","v":1},{"$f":"COUNTIF(OFFSET(H5930,0,Author1Sections,1,Author2Sections),\"=0\")","v":7},1508,"attend",0,0,0,0,0,0,0,0.1,0,0,0,0,0,0,0,0,0,0,0,0,0,0,0,0,0,0,0.1,0,0]
[{"$f":"B5946+C5946","v":0.92261904761904767},{"$f":"D5946/Author1Sections","v":4.7619047619047616E-2},{"$f":"E5946/Author2Sections","v":0.875},{"$f":"COUNTIF(OFFSET(H5946,0,0,1,Author1Sections),\">0\")","v":1},{"$f":"COUNTIF(OFFSET(H5946,0,Author1Sections,1,Author2Sections),\"=0\")","v":7},1558,"bones",0,0,0,0,0,0,0,0.1,0,0,0,0,0,0,0,0,0,0,0,0,0,0,0,0,6.7658999999999997E-2,0,0,0,0]
[{"$f":"B5973+C5973","v":0.92261904761904767},{"$f":"D5973/Author1Sections","v":4.7619047619047616E-2},{"$f":"E5973/Author2Sections","v":0.875},{"$f":"COUNTIF(OFFSET(H5973,0,0,1,Author1Sections),\">0\")","v":1},{"$f":"COUNTIF(OFFSET(H5973,0,Author1Sections,1,Author2Sections),\"=0\")","v":7},1668,"cried",0,0,0,0,0,0,0.1,0,0,0,0,0,0,0,0,0,0,0,0,0,0,0,0,0,0,0,0.1,0,0]
[{"$f":"B5993+C5993","v":0.92261904761904767},{"$f":"D5993/Author1Sections","v":4.7619047619047616E-2},{"$f":"E5993/Author2Sections","v":0.875},{"$f":"COUNTIF(OFFSET(H5993,0,0,1,Author1Sections),\">0\")","v":1},{"$f":"COUNTIF(OFFSET(H5993,0,Author1Sections,1,Author2Sections),\"=0\")","v":7},1734,"eager",0,0,0,0,0,0,0,0,0,0,0,0,0,0,0,0,0.1,0,0,0,0,0,0,0,6.7658999999999997E-2,0,0,0,0]
[{"$f":"B6016+C6016","v":0.92261904761904767},{"$f":"D6016/Author1Sections","v":4.7619047619047616E-2},{"$f":"E6016/Author2Sections","v":0.875},{"$f":"COUNTIF(OFFSET(H6016,0,0,1,Author1Sections),\">0\")","v":1},{"$f":"COUNTIF(OFFSET(H6016,0,Author1Sections,1,Author2Sections),\"=0\")","v":7},1829,"given",0,0,0,0,0,0,0,0,0,0,0,0,0.1,0,0,0,0,0,0,0,0,0,0,0,0,0.1,0,0,0]
[{"$f":"B6035+C6035","v":0.92261904761904767},{"$f":"D6035/Author1Sections","v":4.7619047619047616E-2},{"$f":"E6035/Author2Sections","v":0.875},{"$f":"COUNTIF(OFFSET(H6035,0,0,1,Author1Sections),\">0\")","v":1},{"$f":"COUNTIF(OFFSET(H6035,0,Author1Sections,1,Author2Sections),\"=0\")","v":7},1906,"infected",0,0,0,0,0,0,0,0,0,0,0,0,0,0,0,0,0,0.1,0,0,0,0,0,0,0,0,0,0,8.8652484000000004E-2]
[{"$f":"B6044+C6044","v":0.92261904761904767},{"$f":"D6044/Author1Sections","v":4.7619047619047616E-2},{"$f":"E6044/Author2Sections","v":0.875},{"$f":"COUNTIF(OFFSET(H6044,0,0,1,Author1Sections),\">0\")","v":1},{"$f":"COUNTIF(OFFSET(H6044,0,Author1Sections,1,Author2Sections),\"=0\")","v":7},1946,"lids",0,0,0,0,0,0,0,0,0,0,0,0,0,0,0,0,0,0,0,0,7.0372980000000002E-2,0,0,0.1,0,0,0,0,0]
[{"$f":"B6059+C6059","v":0.92261904761904767},{"$f":"D6059/Author1Sections","v":4.7619047619047616E-2},{"$f":"E6059/Author2Sections","v":0.875},{"$f":"COUNTIF(OFFSET(H6059,0,0,1,Author1Sections),\">0\")","v":1},{"$f":"COUNTIF(OFFSET(H6059,0,Author1Sections,1,Author2Sections),\"=0\")","v":7},2008,"misery",0,0,0,0,0,0,0,0,0,0,0,0,0,0,0.1,0,0,0,0,0,0,6.5876156000000005E-2,0,0,0,0,0,0,0]
[{"$f":"B6073+C6073","v":0.92261904761904767},{"$f":"D6073/Author1Sections","v":4.7619047619047616E-2},{"$f":"E6073/Author2Sections","v":0.875},{"$f":"COUNTIF(OFFSET(H6073,0,0,1,Author1Sections),\">0\")","v":1},{"$f":"COUNTIF(OFFSET(H6073,0,Author1Sections,1,Author2Sections),\"=0\")","v":7},2077,"pegasus",0,0,0,0.1,0,0,0,0,0,0,0,0,0,0,0,0,0,0,0,0,0,6.5876156000000005E-2,0,0,0,0,0,0,0]
[{"$f":"B6102+C6102","v":0.92261904761904767},{"$f":"D6102/Author1Sections","v":4.7619047619047616E-2},{"$f":"E6102/Author2Sections","v":0.875},{"$f":"COUNTIF(OFFSET(H6102,0,0,1,Author1Sections),\">0\")","v":1},{"$f":"COUNTIF(OFFSET(H6102,0,Author1Sections,1,Author2Sections),\"=0\")","v":7},2209,"similes",0,0,0,0,0,0,0,0,0.1,0,0,0,0,0,0,0,0,0,0,0,0,0,0,0,0,0,0,0,8.8652484000000004E-2]
[{"$f":"B6120+C6120","v":0.92261904761904767},{"$f":"D6120/Author1Sections","v":4.7619047619047616E-2},{"$f":"E6120/Author2Sections","v":0.875},{"$f":"COUNTIF(OFFSET(H6120,0,0,1,Author1Sections),\">0\")","v":1},{"$f":"COUNTIF(OFFSET(H6120,0,Author1Sections,1,Author2Sections),\"=0\")","v":7},2263,"subdue",0,0,0,0,0,0.1,0,0,0,0,0,0,0,0,0,0,0,0,0,0,0,0,0,0,0,0,0,0,8.8652484000000004E-2]
[{"$f":"B6139+C6139","v":0.92261904761904767},{"$f":"D6139/Author1Sections","v":4.7619047619047616E-2},{"$f":"E6139/Author2Sections","v":0.875},{"$f":"COUNTIF(OFFSET(H6139,0,0,1,Author1Sections),\">0\")","v":1},{"$f":"COUNTIF(OFFSET(H6139,0,Author1Sections,1,Author2Sections),\"=0\")","v":7},2356,"walls",0.1,0,0,0,0,0,0,0,0,0,0,0,0,0,0,0,0,0,0,0,0,0,0,0,0,0.1,0,0,0]
[{"$f":"B6164+C6164","v":0.94047619047619047},{"$f":"D6164/Author1Sections","v":0.19047619047619047},{"$f":"E6164/Author2Sections","v":0.75},{"$f":"COUNTIF(OFFSET(H6164,0,0,1,Author1Sections),\">0\")","v":4},{"$f":"COUNTIF(OFFSET(H6164,0,Author1Sections,1,Author2Sections),\"=0\")","v":6},414,"hearts",0,0,0,0,0,0,0,0,0,0,0.1,0,0.1,0,0,0.1,0,0.1,0,0,0,0.13175231000000001,0,0,0,0,0,0,0.26595743999999999]
[{"$f":"B6171+C6171","v":0.94047619047619047},{"$f":"D6171/Author1Sections","v":0.19047619047619047},{"$f":"E6171/Author2Sections","v":0.75},{"$f":"COUNTIF(OFFSET(H6171,0,0,1,Author1Sections),\">0\")","v":4},{"$f":"COUNTIF(OFFSET(H6171,0,Author1Sections,1,Author2Sections),\"=0\")","v":6},539,"play",0,0.1,0,0,0,0,0,0,0,0,0.1,0,0,0.1,0,0,0,0.2,0,0,0,0,0.1,0,0,0.1,0,0,0]
[{"$f":"B6201+C6201","v":0.97023809523809523},{"$f":"D6201/Author1Sections","v":9.5238095238095233E-2},{"$f":"E6201/Author2Sections","v":0.875},{"$f":"COUNTIF(OFFSET(H6201,0,0,1,Author1Sections),\">0\")","v":2},{"$f":"COUNTIF(OFFSET(H6201,0,Author1Sections,1,Author2Sections),\"=0\")","v":7},726,"enough",0,0,0,0,0,0,0,0,0,0,0.1,0,0,0,0,0,0,0,0,0,0.14074595000000001,0.13175231000000001,0,0,0,0,0,0,0]
[{"$f":"B6218+C6218","v":0.97023809523809523},{"$f":"D6218/Author1Sections","v":9.5238095238095233E-2},{"$f":"E6218/Author2Sections","v":0.875},{"$f":"COUNTIF(OFFSET(H6218,0,0,1,Author1Sections),\">0\")","v":2},{"$f":"COUNTIF(OFFSET(H6218,0,Author1Sections,1,Author2Sections),\"=0\")","v":7},1001,"seven",0.1,0,0.1,0,0,0,0,0,0,0,0,0,0,0,0,0,0,0,0,0,0,0.13175231000000001,0,0,0,0,0,0,0]
[{"$f":"B6225+C6225","v":0.97023809523809523},{"$f":"D6225/Author1Sections","v":9.5238095238095233E-2},{"$f":"E6225/Author2Sections","v":0.875},{"$f":"COUNTIF(OFFSET(H6225,0,0,1,Author1Sections),\">0\")","v":2},{"$f":"COUNTIF(OFFSET(H6225,0,Author1Sections,1,Author2Sections),\"=0\")","v":7},1057,"absent",0,0,0,0,0,0,0,0,0,0,0,0,0,0,0,0.1,0,0,0,0,7.0372980000000002E-2,0,0,0,6.7658999999999997E-2,0,0,0,0]
[{"$f":"B6250+C6250","v":0.97023809523809523},{"$f":"D6250/Author1Sections","v":9.5238095238095233E-2},{"$f":"E6250/Author2Sections","v":0.875},{"$f":"COUNTIF(OFFSET(H6250,0,0,1,Author1Sections),\">0\")","v":2},{"$f":"COUNTIF(OFFSET(H6250,0,Author1Sections,1,Author2Sections),\"=0\")","v":7},1190,"gain",0,0,0,0,0,0,0,0,0,0,0,0,0,0.1,0.1,0,0,0,0,0,0,0,0,0,0,0,0,0.1,0]
[{"$f":"B6269+C6269","v":0.97023809523809523},{"$f":"D6269/Author1Sections","v":9.5238095238095233E-2},{"$f":"E6269/Author2Sections","v":0.875},{"$f":"COUNTIF(OFFSET(H6269,0,0,1,Author1Sections),\">0\")","v":2},{"$f":"COUNTIF(OFFSET(H6269,0,Author1Sections,1,Author2Sections),\"=0\")","v":7},1314,"reading",0,0,0,0,0,0,0,0,0.1,0,0,0.1,0,0,0,0,0,0,0,0,0,0,0,0,0,0,0.1,0,0]
[{"$f":"B6287+C6287","v":0.97023809523809523},{"$f":"D6287/Author1Sections","v":9.5238095238095233E-2},{"$f":"E6287/Author2Sections","v":0.875},{"$f":"COUNTIF(OFFSET(H6287,0,0,1,Author1Sections),\">0\")","v":2},{"$f":"COUNTIF(OFFSET(H6287,0,Author1Sections,1,Author2Sections),\"=0\")","v":7},1383,"strings",0,0,0,0,7.4183979999999997E-2,0,0,0,0,0,0.1,0,0,0,0,0,0,0,0,0,0,6.5876156000000005E-2,0,0,0,0,0,0,0]
[{"$f":"B6298+C6298","v":0.97023809523809523},{"$f":"D6298/Author1Sections","v":9.5238095238095233E-2},{"$f":"E6298/Author2Sections","v":0.875},{"$f":"COUNTIF(OFFSET(H6298,0,0,1,Author1Sections),\">0\")","v":2},{"$f":"COUNTIF(OFFSET(H6298,0,Author1Sections,1,Author2Sections),\"=0\")","v":7},1440,"whereof",0,0,0,0,0,0,0,0,0,0.1,0,0,0,0,0,0,0,0,0,0.1,0,6.5876156000000005E-2,0,0,0,0,0,0,0]
[0,0,0,0,0,2819]
[0,0,0,0,0,3414]
[0,0,0,0,0,3629]
[0,0,0,0,0,3796]
[0,0,0,0,0,4101]
[0,0,0,0,0,4334]
[0,0,0,0,0,4780]
[0,0,0,0,0,4897]
[0,0,0,0,0,5306]
[0,0,0,0,0,5764]
[0,0,0,0,0,5854]
[0,0,0,0,0,6064]
[0,0,0,0,0,6275]
[0,0,0,0,0,6383]
[0,0,0,0,0,7056]
[0,0,0,0,0,7351]
[0,0,0,0,0,7489]
[0,0,0,0,0,7561]
[0,0,0,0,0,7599]
[0,0,0,0,0,7703]
[0,0,0,0,0,7892]
[0,0,0,0,0,7979]
[0,0,0,0,0,8185]
[0,0,0,0,0,6707]
[0,0,0,0,0,8350]
[0,0,0,0,0,8593]
[0,0,0,0,0,9555]
[0,0,0,0,0,9715]
[0,0,0,0,0,9908]
[0,0,0,0,0,10023]
[0,0,0,0,0,10115]
[0,0,0,0,0,10143]
[0,0,0,0,0,10253]
[0,0,0,0,0,10344]
[0,0,0,0,0,10419]
[0,0,0,0,0,10525]
[0,0,0,0,0,10538]
[0,0,0,0,0,10603]
[0,0,0,0,0,10726]
[0,0,0,0,0,10792]
[0,0,0,0,0,10910]
[0,0,0,0,0,11018]
[0,0,0,0,0,11112]
[0,0,0,0,0,11132]
[0,0,0,0,0,11279]
[0,0,0,0,0,11337]
[0,0,0,0,0,11489]
[0,0,0,0,0,11534]
[0,0,0,0,0,11599]
[0,0,0,0,0,11709]
[0,0,0,0,0,11797]
[0,0,0,0,0,11831]
[0,0,0,0,0,11951]
[0,0,0,0,0,12042]
[0,0,0,0,0,8402]
[0,0,0,0,0,9014]
[0,0,0,0,0,9962]
[0,0,0,0,0,10916]
[0,0,0,0,0,11283]
[0,0,0,0,0,11669]
[0,0,0,0,0,12118]
[0,0,0,0,0,12455]
[0,0,0,0,0,12631]
[0,0,0,0,0,12792]
[0,0,0,0,0,13293]
[0,0,0,0,0,13616]
[0,0,0,0,0,13949]
[0,0,0,0,0,14074]
[0,0,0,0,0,14330]
[0,0,0,0,0,14468]
[0,0,0,0,0,14734]
[0,0,0,0,0,15130]
[0,0,0,0,0,15402]
[0,0,0,0,0,15686]
[0,0,0,0,0,16041]
[0,0,0,0,0,16141]
[0,0,0,0,0,16249]
[0,0,0,0,0,16269]
[0,0,0,0,0,16304]
[0,0,0,0,0,16311]
[0,0,0,0,0,16340]
[0,0,0,0,0,16364]
[0,0,0,0,0,16385]
[0,0,0,0,0,16400]
[0,0,0,0,0,16440]
[0,0,0,0,0,16454]
[0,0,0,0,0,16517]
[0,0,0,0,0,16542]
[0,0,0,0,0,16582]
[0,0,0,0,0,16622]
[0,0,0,0,0,16649]
[{"$f":"B8011+C8011","v":0},{"$f":"D8011/Author1Sections","v":0},{"$f":"E8011/Author2Sections","v":0},{"$f":"COUNTIF(OFFSET(H8011,0,0,1,Author1Sections),\">0\")","v":0},{"$f":"COUNTIF(OFFSET(H8011,0,Author1Sections,1,Author2Sections),\"=0\")","v":0},16671]
[0,0,0,0,0,16722]
[0,0,0,0,0,16744]
[0,0,0,0,0,16759]
[0,0,0,0,0,16786]
[0,0,0,0,0,16835]
[0,0,0,0,0,16877]
[0,0,0,0,0,16895]
[0,0,0,0,0,16943]
[0,0,0,0,0,16971]
[0,0,0,0,0,16989]
[0,0,0,0,0,17022]
[0,0,0,0,0,17047]
[0,0,0,0,0,17083]
[0,0,0,0,0,17118]
[0,0,0,0,0,17150]
[0,0,0,0,0,17177]
[0,0,0,0,0,17191]
[0,0,0,0,0,17209]
[0,0,0,0,0,17268]
[0,0,0,0,0,17284]
[0,0,0,0,0,17316]
[0,0,0,0,0,17352]
[0,0,0,0,0,17381]
[0,0,0,0,0,17395]
[0,0,0,0,0,17436]
[0,0,0,0,0,17447]
[0,0,0,0,0,17511]
[0,0,0,0,0,17522]
[0,0,0,0,0,17556]
[0,0,0,0,0,17582]
[0,0,0,0,0,17620]
[0,0,0,0,0,17635]
[0,0,0,0,0,17679]
[0,0,0,0,0,17708]
[0,0,0,0,0,17713]
[0,0,0,0,0,17747]
[0,0,0,0,0,17779]
[0,0,0,0,0,17797]
[0,0,0,0,0,17822]
[0,0,0,0,0,17872]
[0,0,0,0,0,17897]
[0,0,0,0,0,17932]
[0,0,0,0,0,17959]
[0,0,0,0,0,17967]
[0,0,0,0,0,17999]
[0,0,0,0,0,18036]
[0,0,0,0,0,18057]
[0,0,0,0,0,18086]
[0,0,0,0,0,18109]
[0,0,0,0,0,18144]
[0,0,0,0,0,18168]
[0,0,0,0,0,18176]
[0,0,0,0,0,18201]
[0,0,0,0,0,18247]
[0,0,0,0,0,18264]
[0,0,0,0,0,18288]
[0,0,0,0,0,18331]
[0,0,0,0,0,18360]
[0,0,0,0,0,18401]
[0,0,0,0,0,18410]
[0,0,0,0,0,18466]
[0,0,0,0,0,18504]
[0,0,0,0,0,18539]
[0,0,0,0,0,18562]
[0,0,0,0,0,18613]
[0,0,0,0,0,18644]
[0,0,0,0,0,18674]
[0,0,0,0,0,18684]
[0,0,0,0,0,18726]
[0,0,0,0,0,18755]
[0,0,0,0,0,18774]
[0,0,0,0,0,18808]
[0,0,0,0,0,18845]
[0,0,0,0,0,18878]
[0,0,0,0,0,18885]
[0,0,0,0,0,18932]
[0,0,0,0,0,18964]
[0,0,0,0,0,19029]
[0,0,0,0,0,19056]
[0,0,0,0,0,19085]
[0,0,0,0,0,19116]
[0,0,0,0,0,19159]
[0,0,0,0,0,19179]
[0,0,0,0,0,19221]
[0,0,0,0,0,19258]
[0,0,0,0,0,19319]
[0,0,0,0,0,19330]
[0,0,0,0,0,19354]
[0,0,0,0,0,19392]
[0,0,0,0,0,19423]
[0,0,0,0,0,19437]
[0,0,0,0,0,19481]
[0,0,0,0,0,19494]
[0,0,0,0,0,19524]
[0,0,0,0,0,19551]
[0,0,0,0,0,19584]
[0,0,0,0,0,19619]
[0,0,0,0,0,19667]
[0,0,0,0,0,19715]
[0,0,0,0,0,19744]
[0,0,0,0,0,19764]
[0,0,0,0,0,19786]
[0,0,0,0,0,19813]
[0,0,0,0,0,19868]
[0,0,0,0,0,19907]
[0,0,0,0,0,19951]
[0,0,0,0,0,19981]
[0,0,0,0,0,19994]
[0,0,0,0,0,20019]
[0,0,0,0,0,20058]
[0,0,0,0,0,20086]
[0,0,0,0,0,20131]
[0,0,0,0,0,20157]
[0,0,0,0,0,20192]
[0,0,0,0,0,20210]
[0,0,0,0,0,20268]
[0,0,0,0,0,20278]
[0,0,0,0,0,20342]
[0,0,0,0,0,20348]
[0,0,0,0,0,20381]
[0,0,0,0,0,20408]
[0,0,0,0,0,20438]
[0,0,0,0,0,20465]
[0,0,0,0,0,20512]
[0,0,0,0,0,20551]
[0,0,0,0,0,20563]
[0,0,0,0,0,20590]
[0,0,0,0,0,20625]
[0,0,0,0,0,20656]
[0,0,0,0,0,20672]
[0,0,0,0,0,20734]
[0,0,0,0,0,20759]
[0,0,0,0,0,20796]
[0,0,0,0,0,20801]
[0,0,0,0,0,20838]
[0,0,0,0,0,20879]
[0,0,0,0,0,20903]
[0,0,0,0,0,20922]
[0,0,0,0,0,20971]
[0,0,0,0,0,20988]
[0,0,0,0,0,21046]
[0,0,0,0,0,21072]
[0,0,0,0,0,21078]
[0,0,0,0,0,21118]
[0,0,0,0,0,21166]
[0,0,0,0,0,21189]
[0,0,0,0,0,21222]
[0,0,0,0,0,21243]
[0,0,0,0,0,21291]
[0,0,0,0,0,21315]
[0,0,0,0,0,21325]
[0,0,0,0,0,21359]
[0,0,0,0,0,21383]
[0,0,0,0,0,21417]
[0,0,0,0,0,21435]
[0,0,0,0,0,21475]
[0,0,0,0,0,21507]
[0,0,0,0,0,21555]
[0,0,0,0,0,21567]
[0,0,0,0,0,21611]
[0,0,0,0,0,21638]
[{"$f":"B11019+C11019","v":0},{"$f":"D11019/Author1Sections","v":0},{"$f":"E11019/Author2Sections","v":0},{"$f":"COUNTIF(OFFSET(H11019,0,0,1,Author1Sections),\">0\")","v":0},{"$f":"COUNTIF(OFFSET(H11019,0,Author1Sections,1,Author2Sections),\"=0\")","v":0},21666]
[0,0,0,0,0,21719]
[0,0,0,0,0,21758]
[0,0,0,0,0,21782]
[0,0,0,0,0,21812]
[0,0,0,0,0,21827]
[0,0,0,0,0,21852]
[0,0,0,0,0,21888]
[0,0,0,0,0,21910]
[0,0,0,0,0,21943]
[0,0,0,0,0,21968]
[0,0,0,0,0,22002]
[0,0,0,0,0,22028]
[0,0,0,0,0,22048]
[0,0,0,0,0,22071]
[0,0,0,0,0,22115]
[0,0,0,0,0,22148]
[0,0,0,0,0,22186]
[0,0,0,0,0,22223]
[0,0,0,0,0,22249]
[0,0,0,0,0,22290]
[0,0,0,0,0,22292]
[0,0,0,0,0,22320]
[0,0,0,0,0,22377]
[0,0,0,0,0,22394]
[0,0,0,0,0,22422]
[0,0,0,0,0,22469]
[0,0,0,0,0,22509]
[0,0,0,0,0,22531]
[0,0,0,0,0,22577]
[0,0,0,0,0,22589]
[0,0,0,0,0,22612]
[0,0,0,0,0,22638]
[0,0,0,0,0,22672]
[0,0,0,0,0,22705]
[0,0,0,0,0,22738]
[0,0,0,0,0,22773]
[0,0,0,0,0,22782]
[0,0,0,0,0,22829]
[0,0,0,0,0,22841]
[0,0,0,0,0,22870]
[0,0,0,0,0,22900]
[0,0,0,0,0,22936]
[0,0,0,0,0,22960]
[0,0,0,0,0,23002]
[0,0,0,0,0,23017]
[0,0,0,0,0,23052]
[0,0,0,0,0,23079]
[0,0,0,0,0,23087]
[0,0,0,0,0,23126]
[0,0,0,0,0,23164]
[0,0,0,0,0,23184]
[0,0,0,0,0,23201]
[0,0,0,0,0,23244]
[0,0,0,0,0,23275]
[0,0,0,0,0,23305]
[0,0,0,0,0,23314]
[0,0,0,0,0,23355]
[0,0,0,0,0,23384]
[0,0,0,0,0,23419]
[0,0,0,0,0,23449]
[0,0,0,0,0,23508]
[0,0,0,0,0,23529]
[0,0,0,0,0,23548]
[0,0,0,0,0,23579]
[0,0,0,0,0,23620]
[0,0,0,0,0,23649]
[0,0,0,0,0,23691]
[0,0,0,0,0,23712]
[0,0,0,0,0,23727]
[0,0,0,0,0,23772]
[0,0,0,0,0,23779]
[0,0,0,0,0,23815]
[0,0,0,0,0,23860]
[0,0,0,0,0,23888]
[0,0,0,0,0,23916]
[0,0,0,0,0,23958]
[0,0,0,0,0,23975]
[0,0,0,0,0,24034]
[0,0,0,0,0,24062]
[0,0,0,0,0,24093]
[0,0,0,0,0,24102]
[0,0,0,0,0,24135]
[0,0,0,0,0,24151]
[0,0,0,0,0,24179]
[0,0,0,0,0,24224]
[0,0,0,0,0,24278]
[0,0,0,0,0,24309]
[0,0,0,0,0,24340]
[0,0,0,0,0,24354]
[0,0,0,0,0,24379]
[0,0,0,0,0,24411]
[0,0,0,0,0,24425]
[0,0,0,0,0,24464]
[0,0,0,0,0,24495]
[0,0,0,0,0,24534]
[0,0,0,0,0,24539]
[0,0,0,0,0,24581]
[0,0,0,0,0,24616]
[0,0,0,0,0,24683]
[0,0,0,0,0,24704]
[0,0,0,0,0,24733]
[0,0,0,0,0,24790]
[0,0,0,0,0,24818]
[0,0,0,0,0,24824]
[0,0,0,0,0,24857]
[0,0,0,0,0,24892]
[0,0,0,0,0,24916]
[0,0,0,0,0,24938]
[0,0,0,0,0,24959]
[0,0,0,0,0,25003]
[0,0,0,0,0,25037]
[0,0,0,0,0,25042]
[0,0,0,0,0,25066]
[0,0,0,0,0,25103]
[0,0,0,0,0,25127]
[0,0,0,0,0,25150]
[0,0,0,0,0,25183]
[0,0,0,0,0,25216]
[0,0,0,0,0,25249]
[0,0,0,0,0,25254]
[0,0,0,0,0,25292]
[0,0,0,0,0,25313]
[0,0,0,0,0,25365]
[0,0,0,0,0,25383]
[0,0,0,0,0,25410]
[0,0,0,0,0,25448]
[0,0,0,0,0,25473]
[0,0,0,0,0,25507]
[0,0,0,0,0,25518]
[0,0,0,0,0,25565]
[0,0,0,0,0,25596]
[0,0,0,0,0,25611]
[0,0,0,0,0,25639]
[0,0,0,0,0,25663]
[0,0,0,0,0,25699]
[0,0,0,0,0,25721]
[0,0,0,0,0,25771]
[0,0,0,0,0,25785]
[0,0,0,0,0,25804]
[0,0,0,0,0,25836]
[0,0,0,0,0,25872]
[0,0,0,0,0,25900]
[0,0,0,0,0,25937]
[0,0,0,0,0,25968]
[0,0,0,0,0,25999]
[0,0,0,0,0,26027]
[0,0,0,0,0,26047]
[0,0,0,0,0,26080]
[0,0,0,0,0,26125]
[0,0,0,0,0,26157]
[0,0,0,0,0,26187]
[0,0,0,0,0,26222]
[0,0,0,0,0,26240]
[0,0,0,0,0,26262]
[0,0,0,0,0,26301]
[0,0,0,0,0,26329]
[0,0,0,0,0,26368]
[0,0,0,0,0,26399]
[0,0,0,0,0,26423]
[0,0,0,0,0,26464]
[0,0,0,0,0,26476]
[0,0,0,0,0,26495]
[0,0,0,0,0,26544]
[0,0,0,0,0,26552]
[0,0,0,0,0,26588]
[0,0,0,0,0,26620]
[0,0,0,0,0,26647]
[0,0,0,0,0,26664]
[0,0,0,0,0,26709]
[0,0,0,0,0,26743]
[0,0,0,0,0,26748]
[0,0,0,0,0,26789]
[0,0,0,0,0,26825]
[0,0,0,0,0,26847]
[0,0,0,0,0,26867]
[0,0,0,0,0,26924]
[0,0,0,0,0,26955]
[0,0,0,0,0,26984]
[0,0,0,0,0,27017]
[0,0,0,0,0,27026]
[0,0,0,0,0,27046]
[0,0,0,0,0,27077]
[0,0,0,0,0,27122]
[0,0,0,0,0,27176]
[0,0,0,0,0,27206]
[0,0,0,0,0,27254]
[0,0,0,0,0,27295]
[0,0,0,0,0,27313]
[0,0,0,0,0,27342]
[0,0,0,0,0,27395]
[0,0,0,0,0,27418]
[0,0,0,0,0,27446]
[0,0,0,0,0,27479]
[0,0,0,0,0,27522]
[0,0,0,0,0,27549]
[0,0,0,0,0,27555]
[0,0,0,0,0,27588]
[0,0,0,0,0,27632]
[0,0,0,0,0,27651]
[0,0,0,0,0,27680]
[0,0,0,0,0,27729]
[0,0,0,0,0,27759]
[0,0,0,0,0,27791]
[0,0,0,0,0,27794]
[0,0,0,0,0,27832]
[0,0,0,0,0,27854]
[0,0,0,0,0,27876]
[0,0,0,0,0,27909]
[0,0,0,0,0,27951]
[0,0,0,0,0,27994]
[0,0,0,0,0,28023]
[0,0,0,0,0,28037]
[0,0,0,0,0,28051]
[0,0,0,0,0,28076]
[0,0,0,0,0,56]
[0,0,0,0,0,1717]
[0,0,0,0,0,2398]
[0,0,0,0,0,2729]
[0,0,0,0,0,3249]
[0,0,0,0,0,2686]
[0,0,0,0,0,3871]
[0,0,0,0,0,4473]
[0,0,0,0,0,4612]
[0,0,0,0,0,4683]
[0,0,0,0,0,5299]
[0,0,0,0,0,5474]
[0,0,0,0,0,4715]
[0,0,0,0,0,5946]
[0,0,0,0,0,6430]
[0,0,0,0,0,6528]
[0,0,0,0,0,6586]
[0,0,0,0,0,6772]
[0,0,0,0,0,6942]
[0,0,0,0,0,7145]
[0,0,0,0,0,7048]
[0,0,0,0,0,8297]
[{"$f":"B15435+C15435","v":0},{"$f":"D15435/Author1Sections","v":0},{"$f":"E15435/Author2Sections","v":0},{"$f":"COUNTIF(OFFSET(H15435,0,0,1,Author1Sections),\">0\")","v":0},{"$f":"COUNTIF(OFFSET(H15435,0,Author1Sections,1,Author2Sections),\"=0\")","v":0},8364]
[0,0,0,0,0,8412]
[0,0,0,0,0,8535]
[0,0,0,0,0,8667]
[0,0,0,0,0,8758]
[0,0,0,0,0,8874]
[0,0,0,0,0,8988]
[0,0,0,0,0,9016]
[0,0,0,0,0,9202]
[0,0,0,0,0,9221]
[0,0,0,0,0,9347]
[0,0,0,0,0,9424]
[0,0,0,0,0,9569]
[0,0,0,0,0,9635]
[0,0,0,0,0,7140]
[0,0,0,0,0,8686]
[0,0,0,0,0,10279]
[0,0,0,0,0,10951]
[0,0,0,0,0,11006]
[0,0,0,0,0,12131]
[0,0,0,0,0,12185]
[0,0,0,0,0,12248]
[0,0,0,0,0,12314]
[0,0,0,0,0,12407]
[0,0,0,0,0,12468]
[0,0,0,0,0,12529]
[0,0,0,0,0,12536]
[0,0,0,0,0,12673]
[0,0,0,0,0,12747]
[0,0,0,0,0,12802]
[0,0,0,0,0,12844]
[0,0,0,0,0,12929]
[0,0,0,0,0,12992]
[0,0,0,0,0,13020]
[0,0,0,0,0,13097]
[0,0,0,0,0,13198]
[0,0,0,0,0,13251]
[0,0,0,0,0,13349]
[0,0,0,0,0,13386]
[0,0,0,0,0,13476]
[0,0,0,0,0,13550]
[0,0,0,0,0,13601]
[0,0,0,0,0,13608]
[0,0,0,0,0,13698]
[0,0,0,0,0,13795]
[{"$f":"B16267+C16267","v":0},{"$f":"D16267/Author1Sections","v":0},{"$f":"E16267/Author2Sections","v":0},{"$f":"COUNTIF(OFFSET(H16267,0,0,1,Author1Sections),\">0\")","v":0},{"$f":"COUNTIF(OFFSET(H16267,0,Author1Sections,1,Author2Sections),\"=0\")","v":0},13826]
[0,0,0,0,0,13937]
[0,0,0,0,0,13980]
[0,0,0,0,0,14110]
[0,0,0,0,0,14184]
[0,0,0,0,0,14264]
[0,0,0,0,0,14301]
[0,0,0,0,0,14399]
[0,0,0,0,0,14466]
[0,0,0,0,0,14515]
[0,0,0,0,0,14610]
[0,0,0,0,0,14701]
[0,0,0,0,0,14753]
[0,0,0,0,0,14812]
[0,0,0,0,0,14840]
[0,0,0,0,0,14901]
[0,0,0,0,0,14987]
[0,0,0,0,0,15023]
[0,0,0,0,0,15091]
[0,0,0,0,0,15186]
[0,0,0,0,0,15263]
[0,0,0,0,0,15334]
[0,0,0,0,0,15370]
[0,0,0,0,0,15405]
[0,0,0,0,0,15448]
[0,0,0,0,0,15537]
[0,0,0,0,0,15583]
[0,0,0,0,0,15657]
[0,0,0,0,0,15723]
[0,0,0,0,0,15745]
[0,0,0,0,0,15797]
[0,0,0,0,0,15857]
[0,0,0,0,0,15909]
[0,0,0,0,0,15977]
[0,0,0,0,0,16029]
[0,0,0,0,0,16087]
[0,0,0,0,0,16152]
[0,0,0,0,0,16157]
[0,0,0,0,0,16218]
[0,0,0,0,0,33]
[0,0,0,0,0,316]
[0,0,0,0,0,646]
[0,0,0,0,0,370]
[0,0,0,0,0,386]
[0,0,0,0,0,702]
[0,0,0,0,0,1701]
[0,0,0,0,0,710]
[0,0,0,0,0,616]
[0,0,0,0,0,912]
[0,0,0,0,0,1035]
[0,0,0,0,0,832]
[0,0,0,0,0,669]
[0,0,0,0,0,1174]
[0,0,0,0,0,1689]
[0,0,0,0,0,1529]
[0,0,0,0,0,139]
[0,0,0,0,0,1836]
[0,0,0,0,0,690]
[0,0,0,0,0,1282]
[0,0,0,0,0,2484]
[0,0,0,0,0,1298]
[0,0,0,0,0,1188]
[0,0,0,0,0,2696]
[0,0,0,0,0,396]
[0,0,0,0,0,1509]
[0,0,0,0,0,3196]
[0,0,0,0,0,155]
[0,0,0,0,0,1996]
[0,0,0,0,0,346]
[0,0,0,0,0,3874]
[0,0,0,0,0,2159]
[0,0,0,0,0,1050]
[0,0,0,0,0,1275]
[0,0,0,0,0,2236]
[0,0,0,0,0,3024]
[0,0,0,0,0,2533]
[0,0,0,0,0,591]
[0,0,0,0,0,1071]
[0,0,0,0,0,4440]
[0,0,0,0,0,3199]
[0,0,0,0,0,2546]
[0,0,0,0,0,2131]
[0,0,0,0,0,109]
[0,0,0,0,0,3747]
[0,0,0,0,0,5048]
[0,0,0,0,0,4417]
[0,0,0,0,0,2754]
[0,0,0,0,0,2104]
[0,0,0,0,0,2515]
[0,0,0,0,0,2029]
[0,0,0,0,0,360]
[0,0,0,0,0,5147]
[0,0,0,0,0,4300]
[0,0,0,0,0,3393]
[0,0,0,0,0,2800]
[0,0,0,0,0,2337]
[0,0,0,0,0,2384]
[0,0,0,0,0,1297]
[0,0,0,0,0,3929]
[0,0,0,0,0,5241]
[0,0,0,0,0,5821]
[0,0,0,0,0,6047]
[0,0,0,0,0,4594]
[0,0,0,0,0,5189]
[0,0,0,0,0,4406]
[0,0,0,0,0,3468]
[0,0,0,0,0,2585]
[0,0,0,0,0,3102]
[0,0,0,0,0,1984]
[0,0,0,0,0,1131]
[0,0,0,0,0,4526]
[0,0,0,0,0,6403]
[0,0,0,0,0,6608]
[0,0,0,0,0,6713]
[0,0,0,0,0,6940]
[0,0,0,0,0,4856]
[0,0,0,0,0,5274]
[0,0,0,0,0,5652]
[0,0,0,0,0,4416]
[0,0,0,0,0,3817]
[0,0,0,0,0,3956]
[0,0,0,0,0,3531]
[0,0,0,0,0,2814]
[0,0,0,0,0,1830]
[0,0,0,0,0,1399]
[0,0,0,0,0,975]
[0,0,0,0,0,6188]
[0,0,0,0,0,6774]
[0,0,0,0,0,6883]
[0,0,0,0,0,7318]
[0,0,0,0,0,7707]
[0,0,0,0,0,7873]
[0,0,0,0,0,8138]
[0,0,0,0,0,4890]
[0,0,0,0,0,5938]
[0,0,0,0,0,6147]
[0,0,0,0,0,6357]
[0,0,0,0,0,4096]
[0,0,0,0,0,5129]
[0,0,0,0,0,3934]
[0,0,0,0,0,4407]
[0,0,0,0,0,2911]
[0,0,0,0,0,2661]
[0,0,0,0,0,1848]
[0,0,0,0,0,1365]
[0,0,0,0,0,4246]
[0,0,0,0,0,7366]
[0,0,0,0,0,7718]
[{"$f":"B19019+C19019","v":0},{"$f":"D19019/Author1Sections","v":0},{"$f":"E19019/Author2Sections","v":0},{"$f":"COUNTIF(OFFSET(H19019,0,0,1,Author1Sections),\">0\")","v":0},{"$f":"COUNTIF(OFFSET(H19019,0,Author1Sections,1,Author2Sections),\"=0\")","v":0},7816]
[0,0,0,0,0,8411]
[0,0,0,0,0,8662]
[0,0,0,0,0,8768]
[0,0,0,0,0,8882]
[0,0,0,0,0,9106]
[0,0,0,0,0,9216]
[0,0,0,0,0,9390]
[0,0,0,0,0,9422]
[0,0,0,0,0,9661]
[0,0,0,0,0,9789]
[0,0,0,0,0,6072]
[0,0,0,0,0,6471]
[0,0,0,0,0,6754]
[0,0,0,0,0,6860]
[0,0,0,0,0,6961]
[0,0,0,0,0,7091]
[0,0,0,0,0,4663]
[0,0,0,0,0,5301]
[0,0,0,0,0,5590]
[0,0,0,0,0,4253]
[0,0,0,0,0,4702]
[0,0,0,0,0,3792]
[0,0,0,0,0,3982]
[0,0,0,0,0,3428]
[0,0,0,0,0,3157]
[0,0,0,0,0,2932]
[0,0,0,0,0,1910]
[0,0,0,0,0,1431]
[0,0,0,0,0,389]
[0,0,0,0,0,5784]
[0,0,0,0,0,8280]
[0,0,0,0,0,8320]
[0,0,0,0,0,8982]
[{"$f":"B19659+C19659","v":0},{"$f":"D19659/Author1Sections","v":0},{"$f":"E19659/Author2Sections","v":0},{"$f":"COUNTIF(OFFSET(H19659,0,0,1,Author1Sections),\">0\")","v":0},{"$f":"COUNTIF(OFFSET(H19659,0,Author1Sections,1,Author2Sections),\"=0\")","v":0},9675]
[0,0,0,0,0,9842]
[0,0,0,0,0,9955]
[0,0,0,0,0,10146]
[0,0,0,0,0,10184]
[0,0,0,0,0,10381]
[0,0,0,0,0,10384]
[0,0,0,0,0,10494]
[0,0,0,0,0,10568]
[0,0,0,0,0,10672]
[0,0,0,0,0,10783]
[0,0,0,0,0,10945]
[0,0,0,0,0,11037]
[0,0,0,0,0,11234]
[0,0,0,0,0,11356]
[0,0,0,0,0,11426]
[0,0,0,0,0,11488]
[0,0,0,0,0,11695]
[0,0,0,0,0,11801]
[0,0,0,0,0,11922]
[0,0,0,0,0,12021]
[0,0,0,0,0,5792]
[0,0,0,0,0,6146]
[0,0,0,0,0,6975]
[0,0,0,0,0,7339]
[0,0,0,0,0,7490]
[0,0,0,0,0,7738]
[0,0,0,0,0,7849]
[0,0,0,0,0,8102]
[0,0,0,0,0,861]
[0,0,0,0,0,3314]
[0,0,0,0,0,5467]
[0,0,0,0,0,6038]
[0,0,0,0,0,6222]
[0,0,0,0,0,196]
[0,0,0,0,0,4880]
[0,0,0,0,0,3530]
[0,0,0,0,0,4287]
[0,0,0,0,0,4344]
[0,0,0,0,0,2767]
[0,0,0,0,0,3262]
[0,0,0,0,0,2479]
[0,0,0,0,0,509]
[0,0,0,0,0,1872]
[0,0,0,0,0,933]
[0,0,0,0,0,7616]
[0,0,0,0,0,8487]
[0,0,0,0,0,10129]
[0,0,0,0,0,10434]
[0,0,0,0,0,10935]
[0,0,0,0,0,11520]
[0,0,0,0,0,12109]
[0,0,0,0,0,12188]
[0,0,0,0,0,12235]
[0,0,0,0,0,12280]
[0,0,0,0,0,12327]
[0,0,0,0,0,12386]
[0,0,0,0,0,12464]
[0,0,0,0,0,12552]
[0,0,0,0,0,12645]
[0,0,0,0,0,12734]
[0,0,0,0,0,12807]
[0,0,0,0,0,12845]
[0,0,0,0,0,12933]
[0,0,0,0,0,12993]
[0,0,0,0,0,13050]
[0,0,0,0,0,13091]
[0,0,0,0,0,13166]
[0,0,0,0,0,13237]
[0,0,0,0,0,13321]
[0,0,0,0,0,13381]
[0,0,0,0,0,13413]
[0,0,0,0,0,13507]
[0,0,0,0,0,13531]
[0,0,0,0,0,13612]
[0,0,0,0,0,13696]
[0,0,0,0,0,13806]
[0,0,0,0,0,13865]
[0,0,0,0,0,13936]
[0,0,0,0,0,13961]
[0,0,0,0,0,14016]
[0,0,0,0,0,14064]
[0,0,0,0,0,14134]
[0,0,0,0,0,14225]
[0,0,0,0,0,14370]
[0,0,0,0,0,14405]
[0,0,0,0,0,14455]
[0,0,0,0,0,14539]
[0,0,0,0,0,14553]
[0,0,0,0,0,14617]
[0,0,0,0,0,14691]
[0,0,0,0,0,14817]
[0,0,0,0,0,14875]
[0,0,0,0,0,14979]
[0,0,0,0,0,15012]
[0,0,0,0,0,15112]
[0,0,0,0,0,15201]
[{"$f":"B21451+C21451","v":0},{"$f":"D21451/Author1Sections","v":0},{"$f":"E21451/Author2Sections","v":0},{"$f":"COUNTIF(OFFSET(H21451,0,0,1,Author1Sections),\">0\")","v":0},{"$f":"COUNTIF(OFFSET(H21451,0,Author1Sections,1,Author2Sections),\"=0\")","v":0},15218]
[0,0,0,0,0,15285]
[0,0,0,0,0,15446]
[0,0,0,0,0,15507]
[0,0,0,0,0,15578]
[0,0,0,0,0,15693]
[0,0,0,0,0,15775]
[0,0,0,0,0,15855]
[0,0,0,0,0,15863]
[0,0,0,0,0,15934]
[0,0,0,0,0,16015]
[0,0,0,0,0,16106]
[0,0,0,0,0,16190]
[0,0,0,0,0,7536]
[0,0,0,0,0,7995]
[0,0,0,0,0,8391]
[0,0,0,0,0,8425]
[{"$f":"B21771+C21771","v":0},{"$f":"D21771/Author1Sections","v":0},{"$f":"E21771/Author2Sections","v":0},{"$f":"COUNTIF(OFFSET(H21771,0,0,1,Author1Sections),\">0\")","v":0},{"$f":"COUNTIF(OFFSET(H21771,0,Author1Sections,1,Author2Sections),\"=0\")","v":0},8569]
[0,0,0,0,0,8754]
[0,0,0,0,0,8890]
[0,0,0,0,0,8991]
[0,0,0,0,0,9120]
[0,0,0,0,0,9332]
[0,0,0,0,0,9450]
[0,0,0,0,0,9486]
[0,0,0,0,0,9643]
[0,0,0,0,0,9791]
[0,0,0,0,0,5718]
[0,0,0,0,0,6369]
[0,0,0,0,0,6585]
[0,0,0,0,0,6768]
[0,0,0,0,0,7016]
[0,0,0,0,0,7177]
[0,0,0,0,0,7216]
[0,0,0,0,0,5207]
[0,0,0,0,0,5333]
[0,0,0,0,0,5485]
[0,0,0,0,0,5710]
[0,0,0,0,0,4541]
[0,0,0,0,0,3365]
[0,0,0,0,0,3928]
[0,0,0,0,0,3081]
[0,0,0,0,0,2258]
[0,0,0,0,0,2878]
[0,0,0,0,0,2381]
[0,0,0,0,0,1773]
[0,0,0,0,0,1017]
[0,0,0,0,0,10112]
[0,0,0,0,0,10897]
[0,0,0,0,0,12649]
[0,0,0,0,0,13433]
[0,0,0,0,0,14069]
[0,0,0,0,0,14769]
[0,0,0,0,0,15161]
[0,0,0,0,0,16232]
[0,0,0,0,0,16365]
[0,0,0,0,0,16411]
[0,0,0,0,0,16459]
[0,0,0,0,0,16515]
[0,0,0,0,0,16534]
[0,0,0,0,0,16569]
[0,0,0,0,0,16615]
[0,0,0,0,0,16677]
[0,0,0,0,0,16737]
[0,0,0,0,0,16767]
[0,0,0,0,0,16827]
[0,0,0,0,0,16854]
[0,0,0,0,0,16872]
[0,0,0,0,0,16922]
[0,0,0,0,0,16960]
[0,0,0,0,0,17023]
[0,0,0,0,0,17097]
[0,0,0,0,0,17155]
[0,0,0,0,0,17197]
[0,0,0,0,0,17262]
[0,0,0,0,0,17279]
[0,0,0,0,0,17319]
[0,0,0,0,0,17378]
[0,0,0,0,0,17452]
[0,0,0,0,0,17492]
[0,0,0,0,0,17552]
[0,0,0,0,0,17580]
[0,0,0,0,0,17657]
[0,0,0,0,0,17660]
[0,0,0,0,0,17733]
[0,0,0,0,0,17819]
[0,0,0,0,0,17859]
[0,0,0,0,0,17914]
[0,0,0,0,0,17969]
[0,0,0,0,0,18055]
[0,0,0,0,0,18114]
[0,0,0,0,0,18141]
[0,0,0,0,0,18211]
[0,0,0,0,0,18287]
[0,0,0,0,0,18342]
[0,0,0,0,0,18399]
[0,0,0,0,0,18425]
[0,0,0,0,0,18460]
[0,0,0,0,0,18495]
[0,0,0,0,0,18509]
[0,0,0,0,0,18558]
[0,0,0,0,0,18608]
[0,0,0,0,0,18658]
[0,0,0,0,0,18727]
[0,0,0,0,0,18762]
[0,0,0,0,0,18815]
[0,0,0,0,0,18844]
[0,0,0,0,0,18888]
[0,0,0,0,0,18935]
[0,0,0,0,0,18969]
[0,0,0,0,0,19026]
[0,0,0,0,0,19047]
[0,0,0,0,0,19108]
[0,0,0,0,0,19147]
[0,0,0,0,0,19196]
[0,0,0,0,0,19197]
[0,0,0,0,0,19256]
[0,0,0,0,0,19287]
[0,0,0,0,0,19313]
[0,0,0,0,0,19377]
[0,0,0,0,0,19425]
[0,0,0,0,0,19505]
[0,0,0,0,0,19563]
[0,0,0,0,0,19622]
[0,0,0,0,0,19655]
[0,0,0,0,0,19678]
[0,0,0,0,0,19699]
[0,0,0,0,0,19741]
[0,0,0,0,0,19800]
[0,0,0,0,0,19851]
[{"$f":"B23883+C23883","v":0},{"$f":"D23883/Author1Sections","v":0},{"$f":"E23883/Author2Sections","v":0},{"$f":"COUNTIF(OFFSET(H23883,0,0,1,Author1Sections),\">0\")","v":0},{"$f":"COUNTIF(OFFSET(H23883,0,Author1Sections,1,Author2Sections),\"=0\")","v":0},19893]
[0,0,0,0,0,19929]
[0,0,0,0,0,19941]
[0,0,0,0,0,19991]
[0,0,0,0,0,20037]
[0,0,0,0,0,20076]
[0,0,0,0,0,20141]
[0,0,0,0,0,20178]
[0,0,0,0,0,20250]
[0,0,0,0,0,20281]
[0,0,0,0,0,20299]
[0,0,0,0,0,20328]
[0,0,0,0,0,20427]
[0,0,0,0,0,20456]
[0,0,0,0,0,20500]
[0,0,0,0,0,20537]
[0,0,0,0,0,20598]
[0,0,0,0,0,20624]
[{"$f":"B24203+C24203","v":0},{"$f":"D24203/Author1Sections","v":0},{"$f":"E24203/Author2Sections","v":0},{"$f":"COUNTIF(OFFSET(H24203,0,0,1,Author1Sections),\">0\")","v":0},{"$f":"COUNTIF(OFFSET(H24203,0,Author1Sections,1,Author2Sections),\"=0\")","v":0},20677]
[0,0,0,0,0,20710]
[0,0,0,0,0,20788]
[0,0,0,0,0,20815]
[0,0,0,0,0,20854]
[0,0,0,0,0,20918]
[0,0,0,0,0,20992]
[0,0,0,0,0,21025]
[0,0,0,0,0,21039]
[0,0,0,0,0,21112]
[0,0,0,0,0,21129]
[0,0,0,0,0,21175]
[0,0,0,0,0,21239]
[0,0,0,0,0,21301]
[0,0,0,0,0,21372]
[0,0,0,0,0,21420]
[0,0,0,0,0,21462]
[0,0,0,0,0,21529]
[0,0,0,0,0,21565]
[0,0,0,0,0,21573]
[0,0,0,0,0,21617]
[0,0,0,0,0,21672]
[0,0,0,0,0,21709]
[0,0,0,0,0,21757]
[0,0,0,0,0,21800]
[0,0,0,0,0,21871]
[0,0,0,0,0,21913]
[0,0,0,0,0,21969]
[0,0,0,0,0,22031]
[0,0,0,0,0,22099]
[0,0,0,0,0,22133]
[{"$f":"B24779+C24779","v":0},{"$f":"D24779/Author1Sections","v":0},{"$f":"E24779/Author2Sections","v":0},{"$f":"COUNTIF(OFFSET(H24779,0,0,1,Author1Sections),\">0\")","v":0},{"$f":"COUNTIF(OFFSET(H24779,0,Author1Sections,1,Author2Sections),\"=0\")","v":0},22145]
[0,0,0,0,0,22220]
[0,0,0,0,0,22273]
[0,0,0,0,0,22337]
[0,0,0,0,0,22351]
[0,0,0,0,0,22389]
[0,0,0,0,0,22443]
[0,0,0,0,0,22486]
[0,0,0,0,0,22505]
[0,0,0,0,0,22593]
[0,0,0,0,0,22629]
[0,0,0,0,0,22647]
[0,0,0,0,0,22726]
[0,0,0,0,0,22771]
[0,0,0,0,0,22840]
[0,0,0,0,0,22915]
[0,0,0,0,0,22975]
[0,0,0,0,0,22998]
[0,0,0,0,0,23082]
[0,0,0,0,0,23101]
[0,0,0,0,0,23148]
[0,0,0,0,0,23212]
[0,0,0,0,0,23301]
[0,0,0,0,0,23327]
[0,0,0,0,0,23393]
[0,0,0,0,0,23421]
[0,0,0,0,0,23471]
[0,0,0,0,0,23515]
[0,0,0,0,0,23517]
[0,0,0,0,0,23568]
[0,0,0,0,0,23647]
[0,0,0,0,0,23673]
[0,0,0,0,0,23733]
[0,0,0,0,0,23803]
[0,0,0,0,0,23841]
[0,0,0,0,0,23906]
[0,0,0,0,0,23952]
[0,0,0,0,0,23980]
[0,0,0,0,0,24007]
[0,0,0,0,0,24055]
[0,0,0,0,0,24105]
[0,0,0,0,0,24181]
[0,0,0,0,0,24226]
[0,0,0,0,0,24272]
[0,0,0,0,0,24318]
[0,0,0,0,0,24350]
[0,0,0,0,0,24382]
[0,0,0,0,0,24490]
[0,0,0,0,0,24517]
[0,0,0,0,0,24549]
[0,0,0,0,0,24609]
[0,0,0,0,0,24644]
[0,0,0,0,0,24655]
[0,0,0,0,0,24695]
[0,0,0,0,0,24751]
[0,0,0,0,0,24767]
[0,0,0,0,0,24834]
[0,0,0,0,0,24885]
[0,0,0,0,0,24980]
[0,0,0,0,0,25036]
[0,0,0,0,0,25104]
[0,0,0,0,0,25120]
[0,0,0,0,0,25210]
[0,0,0,0,0,25236]
[0,0,0,0,0,25296]
[{"$f":"B25995+C25995","v":0},{"$f":"D25995/Author1Sections","v":0},{"$f":"E25995/Author2Sections","v":0},{"$f":"COUNTIF(OFFSET(H25995,0,0,1,Author1Sections),\">0\")","v":0},{"$f":"COUNTIF(OFFSET(H25995,0,Author1Sections,1,Author2Sections),\"=0\")","v":0},25333]
[0,0,0,0,0,25425]
[0,0,0,0,0,25499]
[0,0,0,0,0,25546]
[0,0,0,0,0,25581]
[0,0,0,0,0,25600]
[0,0,0,0,0,25685]
[0,0,0,0,0,25717]
[0,0,0,0,0,25781]
[0,0,0,0,0,25849]
[0,0,0,0,0,25903]
[0,0,0,0,0,25959]
[0,0,0,0,0,25995]
[0,0,0,0,0,26019]
[0,0,0,0,0,26054]
[0,0,0,0,0,26101]
[0,0,0,0,0,26148]
[0,0,0,0,0,26224]
[0,0,0,0,0,26265]
[0,0,0,0,0,26283]
[0,0,0,0,0,26371]
[0,0,0,0,0,26415]
[0,0,0,0,0,26443]
[0,0,0,0,0,26504]
[0,0,0,0,0,26562]
[0,0,0,0,0,26642]
[0,0,0,0,0,26707]
[0,0,0,0,0,26751]
[0,0,0,0,0,26786]
[0,0,0,0,0,26836]
[0,0,0,0,0,26872]
[0,0,0,0,0,26903]
[0,0,0,0,0,26952]
[0,0,0,0,0,27040]
[0,0,0,0,0,27099]
[0,0,0,0,0,27128]
[0,0,0,0,0,27150]
[0,0,0,0,0,27201]
[0,0,0,0,0,27213]
[0,0,0,0,0,27257]
[0,0,0,0,0,27304]
[0,0,0,0,0,27353]
[0,0,0,0,0,27382]
[0,0,0,0,0,27447]
[0,0,0,0,0,27473]
[0,0,0,0,0,27536]
[0,0,0,0,0,27558]
[0,0,0,0,0,27604]
[0,0,0,0,0,27669]
[0,0,0,0,0,27730]
[0,0,0,0,0,27761]
[0,0,0,0,0,27815]
[0,0,0,0,0,27906]
[0,0,0,0,0,27954]
[0,0,0,0,0,27962]
[0,0,0,0,0,27996]
[0,0,0,0,0,7975]
[0,0,0,0,0,8681]
[{"$f":"B27083+C27083","v":0},{"$f":"D27083/Author1Sections","v":0},{"$f":"E27083/Author2Sections","v":0},{"$f":"COUNTIF(OFFSET(H27083,0,0,1,Author1Sections),\">0\")","v":0},{"$f":"COUNTIF(OFFSET(H27083,0,Author1Sections,1,Author2Sections),\"=0\")","v":0},9455]
[0,0,0,0,0,9814]
[0,0,0,0,0,9916]
[0,0,0,0,0,10019]
[0,0,0,0,0,10033]
[0,0,0,0,0,10163]
[0,0,0,0,0,10292]
[0,0,0,0,0,10389]
[0,0,0,0,0,10535]
[0,0,0,0,0,10631]
[0,0,0,0,0,10686]
[0,0,0,0,0,10818]
[0,0,0,0,0,10862]
[0,0,0,0,0,10883]
[0,0,0,0,0,10975]
[0,0,0,0,0,11134]
[0,0,0,0,0,11190]
[0,0,0,0,0,11246]
[0,0,0,0,0,11350]
[0,0,0,0,0,11462]
[0,0,0,0,0,11467]
[0,0,0,0,0,11623]
[0,0,0,0,0,11656]
[0,0,0,0,0,11821]
[0,0,0,0,0,11897]
[0,0,0,0,0,11955]
[0,0,0,0,0,12060]
[0,0,0,0,0,6385]
[0,0,0,0,0,6455]
[0,0,0,0,0,7276]
[0,0,0,0,0,7374]
[0,0,0,0,0,7466]
[0,0,0,0,0,7624]
[0,0,0,0,0,7708]
[0,0,0,0,0,7877]
[0,0,0,0,0,8078]
[0,0,0,0,0,8188]
[0,0,0,0,0,8247]
[0,0,0,0,0,3670]
[0,0,0,0,0,5362]
[0,0,0,0,0,5726]
[0,0,0,0,0,5942]
[0,0,0,0,0,6150]
[0,0,0,0,0,6350]
[0,0,0,0,0,4751]
[0,0,0,0,0,4957]
[0,0,0,0,0,5094]
[0,0,0,0,0,4014]
[0,0,0,0,0,4202]
[0,0,0,0,0,3155]
[0,0,0,0,0,3857]
[0,0,0,0,0,2716]
[0,0,0,0,0,2353]
[0,0,0,0,0,2340]
[0,0,0,0,0,1414]
[0,0,0,0,0,28093]
[0,0,0,0,0,28103]
[0,0,0,0,0,28122]
[0,0,0,0,0,28146]
[0,0,0,0,0,28165]
[0,0,0,0,0,28173]
[0,0,0,0,0,28208]
[0,0,0,0,0,28220]
[0,0,0,0,0,28245]
[0,0,0,0,0,28251]
[0,0,0,0,0,28271]
[0,0,0,0,0,28294]
[0,0,0,0,0,28318]
[0,0,0,0,0,28331]
[0,0,0,0,0,28356]
[0,0,0,0,0,28369]
[0,0,0,0,0,28380]
[0,0,0,0,0,28398]
[{"$f":"IF(E28427-D28427=B$4-1,0,B28427+C28427)","v":0},{"$f":"D28427/Author1Sections","v":0},{"$f":"E28427/Author2Sections","v":0},{"$f":"COUNTIF(OFFSET(H28427,0,0,1,Author1Sections),\">0\")","v":0},{"$f":"COUNTIF(OFFSET(H28427,0,Author1Sections,1,Author2Sections),\"=0\")","v":0},28417]
[0,0,0,0,0,28445]
[0,0,0,0,0,28460]
[0,0,0,0,0,28479]
[0,0,0,0,0,28496]
[0,0,0,0,0,28522]
[0,0,0,0,0,28525]
[0,0,0,0,0,28546]
[0,0,0,0,0,28565]
[0,0,0,0,0,28594]
[0,0,0,0,0,28608]
[0,0,0,0,0,28619]
[0,0,0,0,0,28651]
[0,0,0,0,0,28670]
[0,0,0,0,0,28674]
[0,0,0,0,0,28694]
[0,0,0,0,0,28717]
[{"$f":"IF(E28747-D28747=B$4-1,0,B28747+C28747)","v":0},{"$f":"D28747/Author1Sections","v":0},{"$f":"E28747/Author2Sections","v":0},{"$f":"COUNTIF(OFFSET(H28747,0,0,1,Author1Sections),\">0\")","v":0},{"$f":"COUNTIF(OFFSET(H28747,0,Author1Sections,1,Author2Sections),\"=0\")","v":0},28737]
[0,0,0,0,0,28756]
[0,0,0,0,0,28772]
[0,0,0,0,0,28799]
[0,0,0,0,0,28815]
[0,0,0,0,0,28823]
[0,0,0,0,0,28842]
[0,0,0,0,0,28866]
[0,0,0,0,0,28885]
[0,0,0,0,0,28913]
[0,0,0,0,0,28928]
[0,0,0,0,0,28947]
[0,0,0,0,0,28964]
[0,0,0,0,0,28971]
[{"$f":"IF(E29003-D29003=B$4-1,0,B29003+C29003)","v":0},{"$f":"D29003/Author1Sections","v":0},{"$f":"E29003/Author2Sections","v":0},{"$f":"COUNTIF(OFFSET(H29003,0,0,1,Author1Sections),\">0\")","v":0},{"$f":"COUNTIF(OFFSET(H29003,0,Author1Sections,1,Author2Sections),\"=0\")","v":0},28993]
[0,0,0,0,0,29008]
[0,0,0,0,0,29040]
[0,0,0,0,0,29051]
[0,0,0,0,0,29076]
[0,0,0,0,0,29091]
[0,0,0,0,0,29113]
[0,0,0,0,0,29120]
[0,0,0,0,0,29156]
[0,0,0,0,0,29162]
[0,0,0,0,0,29189]
[0,0,0,0,0,29199]
[0,0,0,0,0,29218]
[0,0,0,0,0,29242]
[0,0,0,0,0,29261]
[0,0,0,0,0,29269]
[0,0,0,0,0,29304]
[0,0,0,0,0,29316]
[0,0,0,0,0,29328]
[0,0,0,0,0,29347]
[0,0,0,0,0,29367]
[0,0,0,0,0,29390]
[0,0,0,0,0,29414]
[0,0,0,0,0,29433]
[0,0,0,0,0,29452]
[0,0,0,0,0,29465]
[0,0,0,0,0,29476]
[0,0,0,0,0,29508]
[0,0,0,0,0,29519]
[0,0,0,0,0,29538]
[0,0,0,0,0,29563]
[0,0,0,0,0,29581]
[0,0,0,0,0,29588]
[0,0,0,0,0,29605]
[0,0,0,0,0,29624]
[0,0,0,0,0,29657]
[0,0,0,0,0,29667]
[0,0,0,0,0,29686]
[0,0,0,0,0,29710]
[0,0,0,0,0,29715]
[0,0,0,0,0,29747]
[0,0,0,0,0,29753]
[0,0,0,0,0,29784]
[0,0,0,0,0,29796]
[0,0,0,0,0,29813]
[0,0,0,0,0,29833]
[0,0,0,0,0,29858]
[0,0,0,0,0,29864]
[0,0,0,0,0,29895]
[0,0,0,0,0,29911]
[0,0,0,0,0,29919]
[0,0,0,0,0,29944]
[0,0,0,0,0,29962]
[0,0,0,0,0,29981]
[0,0,0,0,0,30009]
[0,0,0,0,0,30024]
[0,0,0,0,0,30049]
[0,0,0,0,0,30060]
[0,0,0,0,0,30086]
[0,0,0,0,0,30089]
[0,0,0,0,0,30110]
[0,0,0,0,0,30129]
[0,0,0,0,0,30158]
[0,0,0,0,0,30172]
[0,0,0,0,0,30187]
[0,0,0,0,0,30215]
[0,0,0,0,0,30234]
[0,0,0,0,0,30238]
[0,0,0,0,0,30258]
[0,0,0,0,0,30281]
[0,0,0,0,0,30301]
[0,0,0,0,0,30320]
[0,0,0,0,0,30336]
[0,0,0,0,0,30363]
[0,0,0,0,0,30379]
[0,0,0,0,0,30387]
[0,0,0,0,0,30408]
[0,0,0,0,0,30430]
[0,0,0,0,0,30449]
[0,0,0,0,0,30459]
[0,0,0,0,0,30492]
[0,0,0,0,0,30506]
[{"$f":"IF(E30539-D30539=B$4-1,0,B30539+C30539)","v":0},{"$f":"D30539/Author1Sections","v":0},{"$f":"E30539/Author2Sections","v":0},{"$f":"COUNTIF(OFFSET(H30539,0,0,1,Author1Sections),\">0\")","v":0},{"$f":"COUNTIF(OFFSET(H30539,0,Author1Sections,1,Author2Sections),\"=0\")","v":0},30529]
[0,0,0,0,0,30535]
[0,0,0,0,0,30557]
[0,0,0,0,0,30578]
[0,0,0,0,0,30604]
[0,0,0,0,0,30615]
[0,0,0,0,0,30640]
[0,0,0,0,0,30655]
[0,0,0,0,0,30677]
[0,0,0,0,0,30684]
[0,0,0,0,0,30701]
[0,0,0,0,0,30726]
[0,0,0,0,0,30753]
[0,0,0,0,0,30763]
[0,0,0,0,0,30782]
[0,0,0,0,0,30806]
[0,0,0,0,0,30812]
[0,0,0,0,0,30833]
[{"$f":"IF(E30859-D30859=B$4-1,0,B30859+C30859)","v":0},{"$f":"D30859/Author1Sections","v":0},{"$f":"E30859/Author2Sections","v":0},{"$f":"COUNTIF(OFFSET(H30859,0,0,1,Author1Sections),\">0\")","v":0},{"$f":"COUNTIF(OFFSET(H30859,0,Author1Sections,1,Author2Sections),\"=0\")","v":0},30849]
[0,0,0,0,0,30880]
[0,0,0,0,0,30892]
[0,0,0,0,0,30911]
[0,0,0,0,0,30931]
[0,0,0,0,0,30954]
[0,0,0,0,0,30978]
[0,0,0,0,0,30997]
[0,0,0,0,0,31016]
[0,0,0,0,0,31029]
[0,0,0,0,0,31040]
[0,0,0,0,0,31058]
[0,0,0,0,0,31083]
[0,0,0,0,0,31101]
[0,0,0,0,0,31126]
[0,0,0,0,0,31145]
[0,0,0,0,0,31152]
[{"$f":"IF(E31179-D31179=B$4-1,0,B31179+C31179)","v":0},{"$f":"D31179/Author1Sections","v":0},{"$f":"E31179/Author2Sections","v":0},{"$f":"COUNTIF(OFFSET(H31179,0,0,1,Author1Sections),\">0\")","v":0},{"$f":"COUNTIF(OFFSET(H31179,0,Author1Sections,1,Author2Sections),\"=0\")","v":0},31169]
[0,0,0,0,0,31199]
[0,0,0,0,0,31212]
[0,0,0,0,0,31231]
[0,0,0,0,0,31250]
[0,0,0,0,0,31274]
[0,0,0,0,0,31279]
[0,0,0,0,0,31311]
[0,0,0,0,0,31317]
[0,0,0,0,0,31348]
[0,0,0,0,0,31360]
[0,0,0,0,0,31377]
[0,0,0,0,0,31397]
[0,0,0,0,0,31422]
[0,0,0,0,0,31428]
[0,0,0,0,0,31446]
[0,0,0,0,0,31475]
[0,0,0,0,0,31483]
[0,0,0,0,0,31508]
[0,0,0,0,0,31526]
[0,0,0,0,0,31545]
[0,0,0,0,0,31573]
[0,0,0,0,0,31588]
[0,0,0,0,0,31594]
[0,0,0,0,0,31624]
[0,0,0,0,0,31631]
[0,0,0,0,0,31653]
[0,0,0,0,0,31674]
[0,0,0,0,0,31693]
[0,0,0,0,0,31722]
[0,0,0,0,0,31736]
[0,0,0,0,0,31751]
[0,0,0,0,0,31760]
[0,0,0,0,0,31794]
[0,0,0,0,0,31803]
[0,0,0,0,0,31822]
[0,0,0,0,0,31849]
[0,0,0,0,0,31865]
[0,0,0,0,0,31874]
[0,0,0,0,0,31908]
[0,0,0,0,0,31927]
[0,0,0,0,0,31943]
[0,0,0,0,0,31951]
[0,0,0,0,0,31972]
[0,0,0,0,0,31994]
[0,0,0,0,0,32013]
[0,0,0,0,0,32023]
[0,0,0,0,0,32056]
[0,0,0,0,0,32070]
[0,0,0,0,0,32080]
[0,0,0,0,0,32099]
[0,0,0,0,0,32121]
[0,0,0,0,0,32142]
[0,0,0,0,0,32168]
[0,0,0,0,0,32179]
[0,0,0,0,0,32204]
[0,0,0,0,0,32219]
[0,0,0,0,0,32228]
[0,0,0,0,0,32248]
[0,0,0,0,0,32265]
[0,0,0,0,0,32290]
[0,0,0,0,0,32317]
[0,0,0,0,0,32327]
[0,0,0,0,0,32346]
[0,0,0,0,0,32370]
[0,0,0,0,0,32376]
[0,0,0,0,0,32397]
[0,0,0,0,0,32413]
[0,0,0,0,0,32444]
[0,0,0,0,0,32456]
[0,0,0,0,0,32473]
[0,0,0,0,0,32499]
[0,0,0,0,0,32518]
[0,0,0,0,0,32524]
[0,0,0,0,0,32542]
[0,0,0,0,0,32567]
[0,0,0,0,0,32585]
[0,0,0,0,0,32604]
[0,0,0,0,0,32622]
[0,0,0,0,0,32647]
[0,0,0,0,0,32665]
[0,0,0,0,0,32671]
[0,0,0,0,0,32690]
[0,0,0,0,0,32720]
[0,0,0,0,0,32733]
[0,0,0,0,0,32763]
[0,0,0,0,0,32776]
[0,0,0,0,0,32795]
[0,0,0,0,0,32814]
[0,0,0,0,0,32838]
[0,0,0,0,0,32843]
[0,0,0,0,0,32862]
[0,0,0,0,0,32881]
[0,0,0,0,0,32912]
[0,0,0,0,0,32924]
[0,0,0,0,0,32941]
[{"$f":"IF(E32971-D32971=B$4-1,0,B32971+C32971)","v":0},{"$f":"D32971/Author1Sections","v":0},{"$f":"E32971/Author2Sections","v":0},{"$f":"COUNTIF(OFFSET(H32971,0,0,1,Author1Sections),\">0\")","v":0},{"$f":"COUNTIF(OFFSET(H32971,0,Author1Sections,1,Author2Sections),\"=0\")","v":0},32961]
[0,0,0,0,0,32986]
[0,0,0,0,0,32992]
[0,0,0,0,0,33010]
[0,0,0,0,0,33039]
[0,0,0,0,0,33047]
[0,0,0,0,0,33072]
[0,0,0,0,0,33090]
[0,0,0,0,0,33115]
[0,0,0,0,0,33119]
[0,0,0,0,0,33152]
[0,0,0,0,0,33166]
[0,0,0,0,0,33176]
[0,0,0,0,0,33195]
[{"$f":"IF(E33227-D33227=B$4-1,0,B33227+C33227)","v":0},{"$f":"D33227/Author1Sections","v":0},{"$f":"E33227/Author2Sections","v":0},{"$f":"COUNTIF(OFFSET(H33227,0,0,1,Author1Sections),\">0\")","v":0},{"$f":"COUNTIF(OFFSET(H33227,0,Author1Sections,1,Author2Sections),\"=0\")","v":0},33217]
[0,0,0,0,0,33238]
[0,0,0,0,0,33264]
[{"$f":"IF(E33291-D33291=B$4-1,0,B33291+C33291)","v":0},{"$f":"D33291/Author1Sections","v":0},{"$f":"E33291/Author2Sections","v":0},{"$f":"COUNTIF(OFFSET(H33291,0,0,1,Author1Sections),\">0\")","v":0},{"$f":"COUNTIF(OFFSET(H33291,0,Author1Sections,1,Author2Sections),\"=0\")","v":0},33281]
[0,0,0,0,0,33300]
[0,0,0,0,0,33315]
[0,0,0,0,0,33324]
[0,0,0,0,0,33358]
[0,0,0,0,0,33367]
[0,0,0,0,0,33386]
[0,0,0,0,0,33413]
[0,0,0,0,0,33429]
[0,0,0,0,0,33438]
[0,0,0,0,0,33453]
[0,0,0,0,0,33472]
[0,0,0,0,0,33493]
[0,0,0,0,0,33515]
[0,0,0,0,0,33536]
[0,0,0,0,0,33558]
[0,0,0,0,0,33577]
[0,0,0,0,0,33587]
[{"$f":"IF(E33611-D33611=B$4-1,0,B33611+C33611)","v":0},{"$f":"D33611/Author1Sections","v":0},{"$f":"E33611/Author2Sections","v":0},{"$f":"COUNTIF(OFFSET(H33611,0,0,1,Author1Sections),\">0\")","v":0},{"$f":"COUNTIF(OFFSET(H33611,0,Author1Sections,1,Author2Sections),\"=0\")","v":0},33601]
[0,0,0,0,0,33634]
[0,0,0,0,0,33644]
[0,0,0,0,0,33663]
[0,0,0,0,0,33685]
[0,0,0,0,0,33706]
[0,0,0,0,0,33714]
[0,0,0,0,0,33749]
[0,0,0,0,0,33768]
[0,0,0,0,0,33783]
[0,0,0,0,0,33792]
[0,0,0,0,0,33812]
[0,0,0,0,0,33829]
[0,0,0,0,0,33859]
[0,0,0,0,0,33872]
[0,0,0,0,0,33897]
[0,0,0,0,0,33910]
[0,0,0,0,0,33934]
[0,0,0,0,0,33939]
[0,0,0,0,0,33958]
[0,0,0,0,0,33977]
[0,0,0,0,0,34008]
[0,0,0,0,0,34020]
[0,0,0,0,0,34037]
[0,0,0,0,0,34063]
[0,0,0,0,0,34082]
[0,0,0,0,0,34088]
[0,0,0,0,0,34106]
[0,0,0,0,0,34135]
[0,0,0,0,0,34149]
[0,0,0,0,0,34168]
[0,0,0,0,0,34186]
[0,0,0,0,0,34211]
[0,0,0,0,0,34229]
[0,0,0,0,0,34235]
[0,0,0,0,0,34254]
[0,0,0,0,0,34284]
[0,0,0,0,0,34297]
[0,0,0,0,0,34309]
[0,0,0,0,0,34340]
[0,0,0,0,0,34359]
[0,0,0,0,0,34364]
[0,0,0,0,0,34383]
[0,0,0,0,0,34407]
[0,0,0,0,0,34426]
[0,0,0,0,0,34454]
[0,0,0,0,0,34463]
[0,0,0,0,0,34488]
[0,0,0,0,0,34505]
[0,0,0,0,0,34512]
[0,0,0,0,0,34534]
[0,0,0,0,0,34549]
[0,0,0,0,0,34574]
[0,0,0,0,0,34603]
[0,0,0,0,0,34611]
[0,0,0,0,0,34632]
[0,0,0,0,0,34654]
[0,0,0,0,0,34679]
[0,0,0,0,0,34683]
[0,0,0,0,0,34716]
[0,0,0,0,0,34730]
[0,0,0,0,0,34740]
[0,0,0,0,0,34765]
[0,0,0,0,0,34781]
[0,0,0,0,0,34802]
[0,0,0,0,0,34810]
[0,0,0,0,0,34845]
[0,0,0,0,0,34864]
[0,0,0,0,0,34879]
[0,0,0,0,0,34888]
[0,0,0,0,0,34908]
[0,0,0,0,0,34931]
[0,0,0,0,0,34950]
[0,0,0,0,0,34959]
[0,0,0,0,0,34993]
[0,0,0,0,0,35002]
[0,0,0,0,0,35017]
[0,0,0,0,0,35036]
[0,0,0,0,0,35057]
[0,0,0,0,0,35079]
[0,0,0,0,0,35100]
[0,0,0,0,0,35122]
[0,0,0,0,0,35129]
[0,0,0,0,0,35146]
[0,0,0,0,0,35165]
[0,0,0,0,0,35144]
[0,0,0,0,0,35154]
[0,0,0,0,0,35176]
[0,0,0,0,0,35194]
[0,0,0,0,0,35219]
[0,0,0,0,0,35228]
[0,0,0,0,0,35247]
[0,0,0,0,0,35283]
[0,0,0,0,0,35289]
[0,0,0,0,0,35315]
[0,0,0,0,0,35335]
[0,0,0,0,0,35359]
[0,0,0,0,0,35365]
[0,0,0,0,0,35399]
[0,0,0,0,0,35405]
[0,0,0,0,0,35440]
[0,0,0,0,0,35445]
[0,0,0,0,0,35470]
[0,0,0,0,0,35491]
[0,0,0,0,0,35518]
[0,0,0,0,0,35525]
[0,0,0,0,0,35558]
[0,0,0,0,0,35577]
[0,0,0,0,0,35604]
[0,0,0,0,0,35624]
[0,0,0,0,0,35630]
[0,0,0,0,0,35649]
[0,0,0,0,0,35682]
[{"$f":"IF(E35723-D35723=B$4-1,0,B35723+C35723)","v":0},{"$f":"D35723/Author1Sections","v":0},{"$f":"E35723/Author2Sections","v":0},{"$f":"COUNTIF(OFFSET(H35723,0,0,1,Author1Sections),\">0\")","v":0},{"$f":"COUNTIF(OFFSET(H35723,0,Author1Sections,1,Author2Sections),\"=0\")","v":0},35697]
[0,0,0,0,0,35719]
[0,0,0,0,0,35737]
[0,0,0,0,0,35763]
[0,0,0,0,0,35767]
[0,0,0,0,0,35789]
[0,0,0,0,0,35814]
[0,0,0,0,0,35840]
[0,0,0,0,0,37751]
[0,0,0,0,0,37766]
[0,0,0,0,0,37831]
[0,0,0,0,0,37865]
[0,0,0,0,0,37880]
[0,0,0,0,0,37910]
[0,0,0,0,0,37955]
[0,0,0,0,0,37997]
[0,0,0,0,0,38014]
[0,0,0,0,0,38076]
[0,0,0,0,0,38139]
[0,0,0,0,0,38172]
[0,0,0,0,0,38185]
[0,0,0,0,0,38224]
[0,0,0,0,0,38246]
[0,0,0,0,0,38296]
[0,0,0,0,0,38316]
[0,0,0,0,0,38379]
[0,0,0,0,0,38415]
[0,0,0,0,0,38457]
[0,0,0,0,0,38479]
[0,0,0,0,0,38529]
[0,0,0,0,0,38549]
[0,0,0,0,0,38617]
[0,0,0,0,0,38638]
[0,0,0,0,0,38678]
[0,0,0,0,0,38709]
[0,0,0,0,0,38748]
[0,0,0,0,0,38760]
[0,0,0,0,0,38793]
[0,0,0,0,0,38831]
[0,0,0,0,0,38880]
[0,0,0,0,0,38895]
[0,0,0,0,0,38943]
[0,0,0,0,0,38992]
[0,0,0,0,0,39029]
[0,0,0,0,0,39080]
[0,0,0,0,0,39121]
[0,0,0,0,0,39153]
[0,0,0,0,0,39172]
[0,0,0,0,0,39198]
[0,0,0,0,0,39237]
[0,0,0,0,0,39270]
[0,0,0,0,0,39308]
[0,0,0,0,0,39351]
[0,0,0,0,0,39361]
[0,0,0,0,0,39396]
[0,0,0,0,0,39429]
[0,0,0,0,0,39453]
[0,0,0,0,0,39506]
[0,0,0,0,0,39541]
[0,0,0,0,0,39592]
[0,0,0,0,0,39626]
[0,0,0,0,0,39640]
[0,0,0,0,0,39669]
[0,0,0,0,0,13750]
[0,0,0,0,0,14307]
[0,0,0,0,0,15376]
[0,0,0,0,0,16247]
[0,0,0,0,0,16809]
[0,0,0,0,0,16865]
[0,0,0,0,0,17351]
[0,0,0,0,0,17483]
[0,0,0,0,0,17941]
[0,0,0,0,0,18049]
[0,0,0,0,0,18396]
[0,0,0,0,0,18480]
[0,0,0,0,0,18557]
[0,0,0,0,0,18582]
[0,0,0,0,0,18702]
[0,0,0,0,0,18755]
[0,0,0,0,0,18781]
[0,0,0,0,0,18883]
[0,0,0,0,0,18936]
[0,0,0,0,0,19005]
[0,0,0,0,0,19103]
[0,0,0,0,0,19139]
[0,0,0,0,0,19181]
[0,0,0,0,0,19221]
[0,0,0,0,0,19277]
[0,0,0,0,0,19331]
[0,0,0,0,0,19404]
[0,0,0,0,0,19472]
[0,0,0,0,0,19526]
[0,0,0,0,0,19592]
[{"$f":"B37451+C37451","v":0},{"$f":"D37451/Author1Sections","v":0},{"$f":"E37451/Author2Sections","v":0},{"$f":"COUNTIF(OFFSET(H37451,0,0,1,Author1Sections),\">0\")","v":0},{"$f":"COUNTIF(OFFSET(H37451,0,Author1Sections,1,Author2Sections),\"=0\")","v":0},19627]
[0,0,0,0,0,19746]
[0,0,0,0,0,19787]
[0,0,0,0,0,19813]
[0,0,0,0,0,19874]
[0,0,0,0,0,19977]
[0,0,0,0,0,20052]
[0,0,0,0,0,20081]
[0,0,0,0,0,20162]
[0,0,0,0,0,20207]
[{"$f":"B37643+C37643","v":0},{"$f":"D37643/Author1Sections","v":0},{"$f":"E37643/Author2Sections","v":0},{"$f":"COUNTIF(OFFSET(H37643,0,0,1,Author1Sections),\">0\")","v":0},{"$f":"COUNTIF(OFFSET(H37643,0,Author1Sections,1,Author2Sections),\"=0\")","v":0},20264]
[0,0,0,0,0,20288]
[0,0,0,0,0,20347]
[0,0,0,0,0,20378]
[0,0,0,0,0,20467]
[0,0,0,0,0,20504]
[0,0,0,0,0,20599]
[0,0,0,0,0,20642]
[0,0,0,0,0,20702]
[0,0,0,0,0,20718]
[0,0,0,0,0,20781]
[0,0,0,0,0,20865]
[0,0,0,0,0,20968]
[0,0,0,0,0,21011]
[0,0,0,0,0,21067]
[0,0,0,0,0,21128]
[0,0,0,0,0,21177]
[0,0,0,0,0,21192]
[0,0,0,0,0,21239]
[0,0,0,0,0,6722]
[0,0,0,0,0,10725]
[0,0,0,0,0,12908]
[0,0,0,0,0,13981]
[0,0,0,0,0,14337]
[0,0,0,0,0,14381]
[0,0,0,0,0,14756]
[0,0,0,0,0,15038]
[0,0,0,0,0,15220]
[{"$f":"B38155+C38155","v":0},{"$f":"D38155/Author1Sections","v":0},{"$f":"E38155/Author2Sections","v":0},{"$f":"COUNTIF(OFFSET(H38155,0,0,1,Author1Sections),\">0\")","v":0},{"$f":"COUNTIF(OFFSET(H38155,0,Author1Sections,1,Author2Sections),\"=0\")","v":0},15276]
[0,0,0,0,0,15322]
[0,0,0,0,0,15403]
[0,0,0,0,0,15480]
[0,0,0,0,0,15491]
[0,0,0,0,0,15577]
[0,0,0,0,0,15691]
[0,0,0,0,0,15807]
[0,0,0,0,0,15896]
[0,0,0,0,0,15954]
[0,0,0,0,0,16068]
[0,0,0,0,0,16125]
[0,0,0,0,0,16203]
[0,0,0,0,0,16264]
[0,0,0,0,0,16297]
[0,0,0,0,0,16372]
[0,0,0,0,0,7622]
[{"$f":"B38475+C38475","v":0},{"$f":"D38475/Author1Sections","v":0},{"$f":"E38475/Author2Sections","v":0},{"$f":"COUNTIF(OFFSET(H38475,0,0,1,Author1Sections),\">0\")","v":0},{"$f":"COUNTIF(OFFSET(H38475,0,Author1Sections,1,Author2Sections),\"=0\")","v":0},10227]
[0,0,0,0,0,11958]
[0,0,0,0,0,12504]
[0,0,0,0,0,12793]
[0,0,0,0,0,12819]
[0,0,0,0,0,13065]
[0,0,0,0,0,13194]
[0,0,0,0,0,13251]
[0,0,0,0,0,13379]
[0,0,0,0,0,13491]
[0,0,0,0,0,13553]
[0,0,0,0,0,13592]
[0,0,0,0,0,13809]
[0,0,0,0,0,13833]
[0,0,0,0,0,9772]
[0,0,0,0,0,10260]
[0,0,0,0,0,10978]
[0,0,0,0,0,11303]
[0,0,0,0,0,11468]
[0,0,0,0,0,11546]
[0,0,0,0,0,11762]
[0,0,0,0,0,11922]
[0,0,0,0,0,11987]
[0,0,0,0,0,12100]
[0,0,0,0,0,8303]
[0,0,0,0,0,9652]
[0,0,0,0,0,10142]
[0,0,0,0,0,10394]
[0,0,0,0,0,10562]
[0,0,0,0,0,10673]
[0,0,0,0,0,10732]
[0,0,0,0,0,8606]
[0,0,0,0,0,8828]
[0,0,0,0,0,9282]
[0,0,0,0,0,9661]
[0,0,0,0,0,9808]
[0,0,0,0,0,7443]
[0,0,0,0,0,8068]
[0,0,0,0,0,8718]
[0,0,0,0,0,8912]
[0,0,0,0,0,8920]
[0,0,0,0,0,8921]
[0,0,0,0,0,8928]
[0,0,0,0,0,8954]
[0,0,0,0,0,8960]
[0,0,0,0,0,8963]
[0,0,0,0,0,8966]
[0,0,0,0,0,8982]
[0,0,0,0,0,8985]
[0,0,0,0,0,8991]
[0,0,0,0,0,8999]
[0,0,0,0,0,9006]
[0,0,0,0,0,2217]
[0,0,0,0,0,2632]
[0,0,0,0,0,2658]
[0,0,0,0,0,3044]
[0,0,0,0,0,3847]
[0,0,0,0,0,5206]
[0,0,0,0,0,5275]
[0,0,0,0,0,5523]
[0,0,0,0,0,6393]
[0,0,0,0,0,6579]
[0,0,0,0,0,6867]
[0,0,0,0,0,6891]
[0,0,0,0,0,7137]
[0,0,0,0,0,7209]
[0,0,0,0,0,7305]
[0,0,0,0,0,7346]
[0,0,0,0,0,7362]
[0,0,0,0,0,7364]
[0,0,0,0,0,7367]
[0,0,0,0,0,7396]
[0,0,0,0,0,7463]
[0,0,0,0,0,7484]
[0,0,0,0,0,7496]
[0,0,0,0,0,7513]
[0,0,0,0,0,7515]
[0,0,0,0,0,7518]
[0,0,0,0,0,7542]
[0,0,0,0,0,7612]
[0,0,0,0,0,7635]
[0,0,0,0,0,7680]
[0,0,0,0,0,7746]
[0,0,0,0,0,7764]
[0,0,0,0,0,7769]
[0,0,0,0,0,7782]
[0,0,0,0,0,7783]
[0,0,0,0,0,7790]
[0,0,0,0,0,7791]
[0,0,0,0,0,7815]
[0,0,0,0,0,7819]
[0,0,0,0,0,7820]
[{"$f":"B39243+C39243","v":0},{"$f":"D39243/Author1Sections","v":0},{"$f":"E39243/Author2Sections","v":0},{"$f":"COUNTIF(OFFSET(H39243,0,0,1,Author1Sections),\">0\")","v":0},{"$f":"COUNTIF(OFFSET(H39243,0,Author1Sections,1,Author2Sections),\"=0\")","v":0},7823]
[0,0,0,0,0,7836]
[0,0,0,0,0,7841]
[0,0,0,0,0,7860]
[0,0,0,0,0,7863]
[0,0,0,0,0,7899]
[0,0,0,0,0,7901]
[0,0,0,0,0,7907]
[0,0,0,0,0,7923]
[0,0,0,0,0,7946]
[0,0,0,0,0,7948]
[0,0,0,0,0,7954]
[0,0,0,0,0,7981]
[0,0,0,0,0,7990]
[0,0,0,0,0,7999]
[0,0,0,0,0,8021]
[0,0,0,0,0,8037]
[0,0,0,0,0,8041]
[0,0,0,0,0,8044]
[0,0,0,0,0,8072]
[0,0,0,0,0,8130]
[0,0,0,0,0,8147]
[0,0,0,0,0,8152]
[0,0,0,0,0,8155]
[0,0,0,0,0,8193]
[0,0,0,0,0,8233]
[0,0,0,0,0,8254]
[0,0,0,0,0,8265]
[0,0,0,0,0,8267]
[0,0,0,0,0,8282]
[0,0,0,0,0,8323]
[0,0,0,0,0,8334]
[0,0,0,0,0,8335]
[0,0,0,0,0,1994]
[0,0,0,0,0,3425]
[0,0,0,0,0,3713]
[0,0,0,0,0,4268]
[0,0,0,0,0,5597]
[0,0,0,0,0,6257]
[0,0,0,0,0,6759]
[0,0,0,0,0,6898]
[0,0,0,0,0,6986]
[0,0,0,0,0,7016]
[0,0,0,0,0,7109]
[0,0,0,0,0,7134]
[0,0,0,0,0,7145]
[0,0,0,0,0,7148]
[0,0,0,0,0,7153]
[0,0,0,0,0,7161]
[0,0,0,0,0,7179]
[0,0,0,0,0,7243]
[0,0,0,0,0,7263]
[0,0,0,0,0,7281]
[0,0,0,0,0,7292]
[0,0,0,0,0,7322]
[0,0,0,0,0,7395]
[0,0,0,0,0,7398]
[0,0,0,0,0,7403]
[0,0,0,0,0,7428]
[0,0,0,0,0,7459]
[0,0,0,0,0,7521]
[0,0,0,0,0,7530]
[0,0,0,0,0,7537]
[0,0,0,0,0,7574]
[{"$f":"B39307+C39307","v":0},{"$f":"D39307/Author1Sections","v":0},{"$f":"E39307/Author2Sections","v":0},{"$f":"COUNTIF(OFFSET(H39307,0,0,1,Author1Sections),\">0\")","v":0},{"$f":"COUNTIF(OFFSET(H39307,0,Author1Sections,1,Author2Sections),\"=0\")","v":0},7591]
[0,0,0,0,0,7607]
[0,0,0,0,0,7609]
[0,0,0,0,0,7615]
[0,0,0,0,0,7623]
[0,0,0,0,0,7637]
[0,0,0,0,0,7714]
[0,0,0,0,0,7728]
[0,0,0,0,0,7738]
[0,0,0,0,0,7744]
[0,0,0,0,0,2511]
[0,0,0,0,0,3940]
[0,0,0,0,0,4089]
[0,0,0,0,0,4323]
[0,0,0,0,0,5441]
[0,0,0,0,0,5787]
[0,0,0,0,0,6018]
[0,0,0,0,0,6342]
[0,0,0,0,0,6449]
[0,0,0,0,0,6467]
[0,0,0,0,0,6497]
[0,0,0,0,0,6516]
[0,0,0,0,0,6523]
[0,0,0,0,0,6601]
[0,0,0,0,0,6625]
[0,0,0,0,0,6632]
[0,0,0,0,0,6633]
[0,0,0,0,0,6650]
[0,0,0,0,0,6668]
[0,0,0,0,0,6683]
[0,0,0,0,0,6691]
[0,0,0,0,0,6718]
[0,0,0,0,0,6756]
[0,0,0,0,0,6881]
[0,0,0,0,0,6917]
[0,0,0,0,0,6927]
[0,0,0,0,0,6943]
[0,0,0,0,0,6979]
[0,0,0,0,0,6984]
[0,0,0,0,0,6992]
[0,0,0,0,0,7003]
[0,0,0,0,0,7089]
[0,0,0,0,0,7132]
[0,0,0,0,0,7187]
[0,0,0,0,0,7220]
[0,0,0,0,0,7223]
[0,0,0,0,0,7232]
[0,0,0,0,0,7256]
[0,0,0,0,0,7280]
[0,0,0,0,0,1030]
[0,0,0,0,0,4879]
[0,0,0,0,0,4939]
[0,0,0,0,0,5430]
[0,0,0,0,0,5584]
[0,0,0,0,0,5846]
[0,0,0,0,0,6203]
[0,0,0,0,0,6217]
[0,0,0,0,0,6229]
[0,0,0,0,0,6268]
[0,0,0,0,0,6290]
[0,0,0,0,0,6336]
[0,0,0,0,0,6407]
[0,0,0,0,0,6419]
[0,0,0,0,0,6422]
[{"$f":"B39371+C39371","v":0},{"$f":"D39371/Author1Sections","v":0},{"$f":"E39371/Author2Sections","v":0},{"$f":"COUNTIF(OFFSET(H39371,0,0,1,Author1Sections),\">0\")","v":0},{"$f":"COUNTIF(OFFSET(H39371,0,Author1Sections,1,Author2Sections),\"=0\")","v":0},6466]
[0,0,0,0,0,6480]
[0,0,0,0,0,6486]
[0,0,0,0,0,6494]
[0,0,0,0,0,6502]
[0,0,0,0,0,6527]
[0,0,0,0,0,6552]
[0,0,0,0,0,6558]
[0,0,0,0,0,6577]
[0,0,0,0,0,6586]
[0,0,0,0,0,6671]
[0,0,0,0,0,6680]
[0,0,0,0,0,6688]
[0,0,0,0,0,6737]
[0,0,0,0,0,6770]
[0,0,0,0,0,6835]
[0,0,0,0,0,1238]
[0,0,0,0,0,2532]
[0,0,0,0,0,4326]
[0,0,0,0,0,5554]
[0,0,0,0,0,5603]
[0,0,0,0,0,5612]
[0,0,0,0,0,5620]
[0,0,0,0,0,5716]
[0,0,0,0,0,5871]
[0,0,0,0,0,5911]
[0,0,0,0,0,5928]
[0,0,0,0,0,6059]
[0,0,0,0,0,6087]
[0,0,0,0,0,6112]
[0,0,0,0,0,6126]
[0,0,0,0,0,6135]
[0,0,0,0,0,6168]
[0,0,0,0,0,6189]
[0,0,0,0,0,6222]
[0,0,0,0,0,6349]
[0,0,0,0,0,6409]
[0,0,0,0,0,6453]
[0,0,0,0,0,440]
[0,0,0,0,0,2153]
[0,0,0,0,0,2564]
[0,0,0,0,0,3166]
[0,0,0,0,0,3354]
[0,0,0,0,0,4668]
[0,0,0,0,0,5158]
[0,0,0,0,0,5383]
[0,0,0,0,0,5391]
[0,0,0,0,0,5480]
[0,0,0,0,0,5659]
[0,0,0,0,0,5664]
[0,0,0,0,0,5675]
[0,0,0,0,0,5734]
[0,0,0,0,0,5756]
[0,0,0,0,0,5779]
[0,0,0,0,0,5808]
[0,0,0,0,0,5839]
[0,0,0,0,0,5845]
[0,0,0,0,0,5935]
[0,0,0,0,0,5994]
[0,0,0,0,0,6027]
[0,0,0,0,0,6053]
[0,0,0,0,0,6079]
[0,0,0,0,0,6109]
[0,0,0,0,0,6117]
[{"$f":"B39435+C39435","v":0},{"$f":"D39435/Author1Sections","v":0},{"$f":"E39435/Author2Sections","v":0},{"$f":"COUNTIF(OFFSET(H39435,0,0,1,Author1Sections),\">0\")","v":0},{"$f":"COUNTIF(OFFSET(H39435,0,Author1Sections,1,Author2Sections),\"=0\")","v":0},344]
[0,0,0,0,0,3112]
[0,0,0,0,0,3467]
[0,0,0,0,0,4324]
[0,0,0,0,0,4397]
[0,0,0,0,0,4553]
[0,0,0,0,0,4917]
[0,0,0,0,0,4995]
[0,0,0,0,0,5140]
[0,0,0,0,0,5252]
[0,0,0,0,0,5468]
[0,0,0,0,0,5504]
[0,0,0,0,0,5569]
[0,0,0,0,0,5596]
[0,0,0,0,0,5607]
[0,0,0,0,0,5626]
[0,0,0,0,0,5650]
[0,0,0,0,0,5692]
[0,0,0,0,0,5696]
[0,0,0,0,0,5715]
[0,0,0,0,0,5800]
[0,0,0,0,0,1781]
[0,0,0,0,0,3968]
[0,0,0,0,0,4072]
[0,0,0,0,0,4141]
[0,0,0,0,0,4582]
[0,0,0,0,0,4671]
[0,0,0,0,0,4722]
[0,0,0,0,0,4784]
[0,0,0,0,0,4790]
[0,0,0,0,0,4837]
[0,0,0,0,0,4852]
[0,0,0,0,0,4928]
[0,0,0,0,0,4982]
[0,0,0,0,0,5082]
[0,0,0,0,0,5130]
[0,0,0,0,0,5164]
[0,0,0,0,0,5196]
[0,0,0,0,0,5204]
[0,0,0,0,0,5239]
[0,0,0,0,0,5243]
[0,0,0,0,0,5303]
[0,0,0,0,0,5306]
[0,0,0,0,0,5333]
[0,0,0,0,0,5353]
[0,0,0,0,0,5423]
[0,0,0,0,0,5443]
[0,0,0,0,0,411]
[0,0,0,0,0,846]
[0,0,0,0,0,2830]
[0,0,0,0,0,4280]
[0,0,0,0,0,4632]
[0,0,0,0,0,4741]
[0,0,0,0,0,4955]
[0,0,0,0,0,4980]
[0,0,0,0,0,5036]
[0,0,0,0,0,5078]
[0,0,0,0,0,5120]
[0,0,0,0,0,5180]
[0,0,0,0,0,5233]
[0,0,0,0,0,5256]
[0,0,0,0,0,5331]
[0,0,0,0,0,4129]
[0,0,0,0,0,4137]
[{"$f":"B39499+C39499","v":0},{"$f":"D39499/Author1Sections","v":0},{"$f":"E39499/Author2Sections","v":0},{"$f":"COUNTIF(OFFSET(H39499,0,0,1,Author1Sections),\">0\")","v":0},{"$f":"COUNTIF(OFFSET(H39499,0,Author1Sections,1,Author2Sections),\"=0\")","v":0},4526]
[0,0,0,0,0,4647]
[0,0,0,0,0,4718]
[0,0,0,0,0,4759]
[0,0,0,0,0,4824]
[0,0,0,0,0,4846]
[0,0,0,0,0,4859]
[0,0,0,0,0,2848]
[0,0,0,0,0,4399]
[0,0,0,0,0,4453]
[0,0,0,0,0,4506]
[0,0,0,0,0,4566]
[0,0,0,0,0,4698]
[0,0,0,0,0,4733]
[0,0,0,0,0,4747]
[0,0,0,0,0,4786]
[0,0,0,0,0,4787]
[0,0,0,0,0,4820]
[0,0,0,0,0,750]
[0,0,0,0,0,3638]
[0,0,0,0,0,3776]
[0,0,0,0,0,4110]
[0,0,0,0,0,4354]
[0,0,0,0,0,4432]
[0,0,0,0,0,4467]
[0,0,0,0,0,4475]
[0,0,0,0,0,4514]
[0,0,0,0,0,4610]
[0,0,0,0,0,4627]
[0,0,0,0,0,3897]
[0,0,0,0,0,3986]
[0,0,0,0,0,4226]
[0,0,0,0,0,4383]
[0,0,0,0,0,3622]
[0,0,0,0,0,3823]
[0,0,0,0,0,3889]
[0,0,0,0,0,4176]
[0,0,0,0,0,4230]
[0,0,0,0,0,4318]
[0,0,0,0,0,4338]
[0,0,0,0,0,445]
[0,0,0,0,0,1847]
[0,0,0,0,0,3173]
[0,0,0,0,0,3333]
[0,0,0,0,0,3571]
[0,0,0,0,0,3917]
[0,0,0,0,0,4099]
[0,0,0,0,0,4107]
[0,0,0,0,0,3401]
[0,0,0,0,0,3466]
[0,0,0,0,0,3825]
[0,0,0,0,0,3954]
[0,0,0,0,0,3956]
[0,0,0,0,0,3959]
[0,0,0,0,0,3991]
[0,0,0,0,0,4105]
[0,0,0,0,0,789]
[0,0,0,0,0,2433]
[0,0,0,0,0,2800]
[0,0,0,0,0,3684]
[0,0,0,0,0,3767]
[0,0,0,0,0,3881]
[0,0,0,0,0,2608]
[0,0,0,0,0,2685]
[{"$f":"B39563+C39563","v":0},{"$f":"D39563/Author1Sections","v":0},{"$f":"E39563/Author2Sections","v":0},{"$f":"COUNTIF(OFFSET(H39563,0,0,1,Author1Sections),\">0\")","v":0},{"$f":"COUNTIF(OFFSET(H39563,0,Author1Sections,1,Author2Sections),\"=0\")","v":0},3648]
[0,0,0,0,0,3654]
[0,0,0,0,0,3686]
[0,0,0,0,0,2692]
[0,0,0,0,0,3478]
[0,0,0,0,0,3592]
[0,0,0,0,0,3658]
[0,0,0,0,0,3749]
[0,0,0,0,0,3120]
[0,0,0,0,0,3366]
[0,0,0,0,0,3433]
[0,0,0,0,0,3525]
[0,0,0,0,0,3534]
[0,0,0,0,0,810]
[0,0,0,0,0,3424]
[0,0,0,0,0,2901]
[0,0,0,0,0,3017]
[0,0,0,0,0,3230]
[0,0,0,0,0,3253]
[0,0,0,0,0,3268]
[0,0,0,0,0,2633]
[0,0,0,0,0,3238]
[0,0,0,0,0,2804]
[0,0,0,0,0,2829]
[0,0,0,0,0,3030]
[0,0,0,0,0,3050]
[0,0,0,0,0,643]
[0,0,0,0,0,2742]
[0,0,0,0,0,2937]
[0,0,0,0,0,2992]
[0,0,0,0,0,2665]
[0,0,0,0,0,2695]
[0,0,0,0,0,2769]
[0,0,0,0,0,2895]
[0,0,0,0,0,2954]
[0,0,0,0,0,2461]
[0,0,0,0,0,2601]
[0,0,0,0,0,2874]
[0,0,0,0,0,596]
[0,0,0,0,0,2251]
[0,0,0,0,0,2320]
[0,0,0,0,0,2509]
[0,0,0,0,0,277]
[0,0,0,0,0,235]
[0,0,0,0,0,254]
[0,0,0,0,0,2508]
[0,0,0,0,0,2577]
[0,0,0,0,0,558]
[0,0,0,0,0,606]
[0,0,0,0,0,2219]
[0,0,0,0,0,2275]
[0,0,0,0,0,2347]
[0,0,0,0,0,2406]
[0,0,0,0,0,2523]
[0,0,0,0,0,1488]
[0,0,0,0,0,2403]
[0,0,0,0,0,2257]
[0,0,0,0,0,2290]
[0,0,0,0,0,2326]
[0,0,0,0,0,2143]
[0,0,0,0,0,2300]
[0,0,0,0,0,2478]
[0,0,0,0,0,2066]
[0,0,0,0,0,2134]
[{"$f":"B39627+C39627","v":0},{"$f":"D39627/Author1Sections","v":0},{"$f":"E39627/Author2Sections","v":0},{"$f":"COUNTIF(OFFSET(H39627,0,0,1,Author1Sections),\">0\")","v":0},{"$f":"COUNTIF(OFFSET(H39627,0,Author1Sections,1,Author2Sections),\"=0\")","v":0},2268]
[0,0,0,0,0,2176]
[0,0,0,0,0,1919]
[0,0,0,0,0,1955]
[0,0,0,0,0,2058]
[0,0,0,0,0,1970]
[0,0,0,0,0,1839]
[0,0,0,0,0,519]
[0,0,0,0,0,184]
[0,0,0,0,0,432]
[0,0,0,0,0,1698]
[0,0,0,0,0,1246]
[0,0,0,0,0,1783]
[0,0,0,0,0,1821]
[0,0,0,0,0,535]
[0,0,0,0,0,1759]
[0,0,0,0,0,1817]
[0,0,0,0,0,1460]
[0,0,0,0,0,1675]
[0,0,0,0,0,1743]
[0,0,0,0,0,1683]
[0,0,0,0,0,1439]
[0,0,0,0,0,1624]
[0,0,0,0,0,1245]
[0,0,0,0,0,1659]
[0,0,0,0,0,471]
[0,0,0,0,0,1385]
[0,0,0,0,0,1418]
[0,0,0,0,0,1422]
[0,0,0,0,0,1314]
[0,0,0,0,0,1320]
[0,0,0,0,0,1215]
[0,0,0,0,0,193]
[0,0,0,0,0,1382]
[0,0,0,0,0,412]
[0,0,0,0,0,1223]
[0,0,0,0,0,940]
[0,0,0,0,0,1181]
[0,0,0,0,0,143]
[0,0,0,0,0,816]
[0,0,0,0,0,1118]
[0,0,0,0,0,139]
[0,0,0,0,0,64]
[0,0,0,0,0,1019]
[0,0,0,0,0,930]
[0,0,0,0,0,111]
[0,0,0,0,0,838]
[0,0,0,0,0,105]
[0,0,0,0,0,968]
[0,0,0,0,0,989]
[0,0,0,0,0,114]
[0,0,0,0,0,801]
[0,0,0,0,0,13]
[0,0,0,0,0,84]
[0,0,0,0,0,748]
[0,0,0,0,0,90]
[0,0,0,0,0,53]
[0,0,0,0,0,76]
[0,0,0,0,0,86]
[0,0,0,0,0,12]
[0,0,0,0,0,42]
[0,0,0,0,0,55]
[0,0,0,0,0,63]

{"sheet":"Author1","index":1,"n_rows":6313,"n_cols":22,"rows_kept":4500,"cut":true,"hidden":false,"merged":[],"bounds":{"rows_first":2000,"rows_last":500,"rows_between":2000,"halvings":0}}
["Word","Writingsduring 1550-1600 (1)","Writingsduring 1550-1600 (2)","Writingsduring 1550-1600 (3)","Writingsduring 1550-1600 (4)","Writingsduring 1550-1600 (5)","Writing between 1550-1600 (1)","Writing between 1550-1600 (2)","Writing between 1550-1600 (3)","Writing between 1550-1600 (4)","Writing between 1550-1600 (5)","Writing between 1550-1600 (6)","Writing between 1550-1600 (7)","Writing between 1550-1600 (8)","Writing between 1550-1600 (9)","Writing between 1550-1600 (10)","Writing between 1550-1600 (11)","Writing between 1550-1600 (12)","Writing between 1550-1600 (13)","Writing between 1550-1600 (14)","Writing between 1550-1600 (15)","Writing between 1550-1600 (16)"]
["the",2.8,2.6,2.1,2.6,3.338279,4.7,4.5,4.5,3,1.6,1.6,2.6,1.4,2.8,1.6,0.9,1.6,1.9,1.3,1.6,1.6889514999999999]
["and",3.9,4.5999999999999996,4.9000000000000004,2.4,2.9673590000000001,1.5,1.8,1.8,2.7,2.8,2.2999999999999998,2.1,2.2000000000000002,1.7,2.2000000000000002,1.6,1.4,1.8,1.5,1.2,1.9000703999999999]
["of",4.2,2.2999999999999998,4.2,3.7,3.4124629999999998,3.4,2.4,3.2,2.2999999999999998,2.4,1.8,3,2,2.9,2.4,2.1,2.6,2.2000000000000002,2.5,2.2999999999999998,1.6185784000000001]
["to",2.2999999999999998,3.1,2.5,2.7,2.8189912000000001,2.2000000000000002,2.7,2.6,2.9,2,1.9,1.9,2.2999999999999998,1.8,2.6,2.2999999999999998,3.1,1.5,2.4,1.4,2.0408162999999999]
["that",2.5,1.6,1.5,2.5,2.3738872999999998,1,1,1.2,2.5,2.2000000000000002,2.5,2.2999999999999998,1.8,2.1,2.2999999999999998,2,0.8,2.4,1,2,2.1815622000000001]
["in",1.6,1.2,2.1,1.9,1.7804154000000001,1.2,1.9,1.4,2.2999999999999998,2.6,2.2000000000000002,2.2000000000000002,2.2000000000000002,1.4,1.5,1.7,2.2000000000000002,1.7,1.6,1.9,1.7593243999999999]
["i",1.7,0.8,0.7,0.8,1.6320475000000001,1.7,2.2000000000000002,1.6,2.1,0.9,2.2999999999999998,2.1,1.7,1.7,2.8,3.2,1.9,1.7,2.7,2.2999999999999998,1.0555947000000001]
["my",1.1000000000000001,1,0.4,0.8,0.51928779999999997,1.3,0.8,1,1.8,0.6,1.9,2,2.1,2.2999999999999998,2.5,2.4,3.6,1.6,2,3.7,2.3223083]
["with",1.7,1.5,1.1000000000000001,2.1,1.7804154000000001,1.4,0.8,1,1,1.4,1,1.3,1.1000000000000001,0.7,1,2.2999999999999998,1,1.4,1,1.6,1.6889514999999999]
["a",0.7,0.4,0.2,0.5,1.4094956000000001,2.2000000000000002,1.9,2.5,0.5,0.9,1.1000000000000001,0.2,1.3,1.2,1,1.1000000000000001,0.4,1.5,0.6,0.5,0.98522169999999998]
["but",0.8,0.8,0.9,1.3,0.59347179999999999,0.9,1.4,0.8,1.1000000000000001,0.9,0.8,1.3,1.2,1.1000000000000001,1.3,1.4,1.3,1.2,1,0.8,1.4074595000000001]
["his",0.3,2.6,1.8,0.8,1.4094956000000001,0.7,0.9,0.7,0.4,1.3,1.2,0.6,0.9,0.5,0.7,0.8,0,0.8,0.4,0.3,0.56298380000000003]
["her",1.9,0.3,0.4,0.6,0.51928779999999997,1.7,0.3,0.9,0.7,1.1000000000000001,1,0.5,0.9,0.9,0.7,1.5,0.5,0.4,1.1000000000000001,0.2,0.63335680000000005]
["for",0.4,1,0.7,1.7,0.81602377000000004,1,0.8,0.7,0.8,0.7,1,1.4,0.5,0.6,0.5,0.6,0.9,0.6,0.6,0.9,0.49261083999999999]
["is",0.8,1.7,0.1,0.4,0.44510385000000002,1.5,1.4,1.6,0.9,0.9,0.7,0.2,0.8,0.8,1.2,0.6,0.8,0.8,0.7,0.6,0.91484869999999996]
["me",0.9,0.3,0.5,0.1,0.2967359,0.3,1.2,0.1,0.6,0.3,0.6,0.7,0.9,1.4,1.7,1.9,1.7,0.5,0.9,1.1000000000000001,1.0555947000000001]
["not",0,0.1,0.1,0.5,0.59347179999999999,0.5,0.9,0.8,0.9,0.6,0.5,0.4,1.2,0.7,1.1000000000000001,0.7,0.8,0.5,0.8,0.7,0.56298380000000003]
["so",0.6,0.6,0.6,1,0.2967359,0.7,1,0.5,0.3,0.5,0.6,0.6,1,0.7,1,0.9,0.8,1.2,0.4,0.8,1.2667136000000001]
["be",0.2,0.4,0.7,1,0.59347179999999999,0.2,0.9,1.3,1,0.7,0.7,0.4,0.9,0.6,0.9,0.7,0.7,0.5,0.8,0.8,0.63335680000000005]
["all",1.1000000000000001,1.3,1.1000000000000001,1,1.4094956000000001,0.5,0.7,0.2,0.3,0.3,0.7,0.4,0.3,0.3,0.2,0.3,0.7,0.2,0.9,0.5,0.28149190000000002]
["which",1.1000000000000001,0.8,1.1000000000000001,0.8,0.96439169999999996,0.6,0.4,0.5,0.4,1,1.3,0.6,0.5,0.5,0.5,0.4,0.5,1.2,0.6,0.3,0.91484869999999996]
["as",0.8,0.7,0.4,0.2,0.66765576999999998,1.2,1.5,1.4,0.8,0.3,0.4,0.3,0.4,0.4,0.2,0.3,0.3,0.6,0.2,0.6,0.70372975000000004]
["thy",0.3,0.5,1,0.1,7.4183979999999997E-2,0,0.9,0.1,0.1,0.8,0.4,0,1.7,0.6,0.2,0.2,1,0.6,0.5,1.2,1.0555947000000001]
["thou",0.1,0.3,1.1000000000000001,0,0,0,0.3,0.4,0.1,1.6,0.1,0,0.8,0.7,0.3,0.3,1.5,0.3,0.3,0.9,0.56298380000000003]
["he",0,1.2,0.5,0.2,0.74183977000000001,0.2,0.9,0.7,0.8,0.5,0.6,0.4,0.2,0.9,0.7,1.2,0.1,0.5,0,0.3,7.0372980000000002E-2]
["it",0.5,0.6,0.4,0.5,1.0385755999999999,0.8,0.2,0.8,1.1000000000000001,0.3,0.4,0.6,0.6,0.4,0.3,0.4,0.2,1,0.1,0.1,0.56298380000000003]
["or",0.5,0.3,0.2,0.3,0.22255193000000001,0.2,0.5,0.4,0.8,0.9,0.1,0.4,0.4,0.2,0.3,0.2,0.4,0.1,0.6,1.1000000000000001,7.0372980000000002E-2]
["by",0.6,0.2,0.1,0.3,0.22255193000000001,0.4,0.1,0.1,0.2,0.5,0.4,0.5,0.6,0.8,0.6,0.6,0.7,0.7,0.7,0.6,0.70372975000000004]
["you",0,0.3,0,0,0,1,1.8,1.5,1,0,0.4,0.2,0.1,0.2,0.6,0.4,0.1,0,1.9,1.8,0.21111894]
["did",0.7,0.5,0.7,0.5,0.81602377000000004,0,0.3,0,0.6,0.5,1.1000000000000001,0.6,0.3,0.4,0.1,0.4,0.1,0.4,0.7,0.5,0.56298380000000003]
["this",0.4,0.2,0.6,0.5,1.1127596,0.7,1,0.4,0.8,0.3,0.2,0.5,0.2,0.4,0.5,0.7,0.6,0.6,0.3,0.5,0.35186487]
["their",1.1000000000000001,0.2,0.7,0.4,0.22255193000000001,0.3,0.6,1.3,0.3,0.4,0.3,0.8,0.1,0,0.5,0.2,0.2,0.3,0.1,0,0.42223787000000002]
["from",0.3,0.3,0.2,0.4,0.51928779999999997,0.1,0.1,0.3,0.3,0.6,0.2,0.5,0.3,1,0.4,0.3,0.2,0.3,0.4,0.8,0.91484869999999996]
["now",1.1000000000000001,1.2,0.7,0.4,0.44510385000000002,0.4,0.5,0.2,0.6,0.2,0.2,0.3,0.4,0.2,0.7,0.9,0.4,0.6,0.3,0.5,0.28149190000000002]
["doth",0.3,0.3,0.2,0.3,0.14836795999999999,0.2,0.1,0.4,0.1,0.3,1.1000000000000001,0.5,1.1000000000000001,1,0.8,0.5,0.6,0.8,0.3,0.6,0.56298380000000003]
["do",0,0,0.3,0.3,0,0.1,0.5,0.1,0.4,0.4,0.7,1.1000000000000001,0.7,0.8,1.1000000000000001,0.2,0.8,0.3,0.6,0.9,0.35186487]
["what",0.6,0.2,0.3,0,0.14836795999999999,0.1,0.2,0.2,0.6,0.5,0.4,0.2,1.1000000000000001,0.2,0.4,0.3,0.6,0.7,0.1,0.3,0.56298380000000003]
["loue",0,0,0,0,0,0.1,0.4,0,0.4,1.1000000000000001,0.8,0.9,0.7,0.5,1.2,2,0.5,0.9,0.4,0.7,0.42223787000000002]
["no",0.4,0.5,0.4,0.2,7.4183979999999997E-2,0.2,0.4,0.3,0.6,0.1,0.5,0.4,0.5,0.5,0.5,0.4,1,0.7,0.4,0.5,0.28149190000000002]
["on",0.6,0.6,0,0.7,0.37091987999999998,0.2,0.1,0,0.1,0.3,0.5,0.3,0.1,0.4,0.4,0.3,0.6,0.2,0.2,0.2,0.35186487]
["she",0.8,0,0.1,0,7.4183979999999997E-2,0.7,0.2,0.1,0.4,0.7,0.4,0.1,0.1,0.7,0.1,0.9,0.5,0.6,0.5,0.4,0.35186487]
["o",0.3,0.2,0.4,0.8,7.4183979999999997E-2,0.1,0.4,0.6,0.1,0.1,0.4,0.1,0.4,0.9,0.6,0.5,0.7,0.2,0.3,0.5,0.56298380000000003]
["then",0.1,0.1,0.1,0.4,0.14836795999999999,0.3,0.2,0.4,0.5,0.1,0.6,0.2,0.6,0.9,0.2,0.7,0.5,0.5,0.4,0.5,0.56298380000000003]
["thee",0,0.5,0.6,0,0.14836795999999999,0,0,0.1,0,0.4,0.3,0,0.5,0.6,0.1,0.2,0.9,0,0.5,0.4,0.63335680000000005]
["they",0.1,0.3,0.8,0.4,0,0.7,0.4,0.6,0.2,0.6,0.3,0.3,0.4,0.2,0.7,0.2,0.2,0.2,0,0.5,0.28149190000000002]
["your",0,0.4,0,0.1,0.22255193000000001,1.2,0.7,0.9,0.6,0,0.6,0.2,0,0.2,0.3,0.8,0,0,0.7,0.2,0.35186487]
["where",0.7,0.3,0.4,0.1,0.44510385000000002,0.5,0,0.3,0.1,0.2,0.1,0,0.3,0.6,0.2,0.1,0.1,0.4,0.6,0.2,0.49261083999999999]
["was",1,0.3,0.1,0.5,1.4094956000000001,0.6,0,0.2,0.4,0,0.3,0.1,0.1,0.1,0,0.1,0,0.1,0.4,0,7.0372980000000002E-2]
["yet",0.2,0.4,0.4,0,0.22255193000000001,0.2,0.1,0.3,0.3,0.3,0.6,0.4,0.4,0.7,0.5,0.2,0.2,0.4,0.2,0.8,7.0372980000000002E-2]
["eyes",0.1,0.1,0,0,7.4183979999999997E-2,0.2,0.2,0.1,0.1,0.5,0.2,0.3,0.5,0.7,0.3,0.4,0.8,0.4,0.5,0.5,0.42223787000000002]
["if",0.2,0,0,0.1,7.4183979999999997E-2,0.1,0.4,0.5,0.2,0.3,0.4,0.4,0.3,0.7,0,0.6,0.2,0.1,0.4,0.7,0.21111894]
["him",0,1.5,0.3,0.4,0.66765576999999998,0.1,0.2,0.7,0.1,0.3,0.5,0.3,0.2,0.3,0.1,0.1,0.1,0.1,0,0.1,0.14074595000000001]
["such",0.1,0,0.2,0.7,7.4183979999999997E-2,0.3,0.2,0.3,0.3,0.2,0.2,0.4,0.1,0.4,0.6,0.2,0.3,0.5,0.4,0.5,0.56298380000000003]
["when",0.1,0.3,0.1,0.2,0.2967359,0.2,0,0,0.2,0.5,0.3,0.2,0.1,0.4,0.2,0.5,0.2,0.3,0.3,0.3,0.28149190000000002]
["may",0.1,0,0.3,0.3,0,0.4,0.4,0.1,0.6,0,0,0.2,0.4,0.1,0.6,0.2,0.9,0,0.1,0.2,7.0372980000000002E-2]
["some",0.1,0,0,0,0.22255193000000001,0.2,0.1,0.5,0.1,1,0.1,0.5,0.1,0.3,0.1,0.2,0.3,0.2,0.2,0.2,0.14074595000000001]
["those",0.4,0,0.3,0.2,0.14836795999999999,0,0,0,0.1,0.2,0.8,0.8,0.2,0.4,0.2,0.3,0.2,0.5,0.6,0,0.70372975000000004]
["one",0.4,0.2,0,0.7,0.44510385000000002,0.8,0.2,0.5,0.4,0.2,0,0.1,0.2,0,0.3,0.1,0.2,0.1,0.2,0.2,0]
["at",0.5,0.1,0,0.3,0.59347179999999999,0.2,0.3,0,0.6,0.2,0.2,0.1,0.1,0.3,0.1,0.1,0.2,0.1,0.2,0.2,0.14074595000000001]
["more",0.1,0.2,0.2,0,7.4183979999999997E-2,0.1,0.3,0.4,0.4,0.2,0.2,0.2,0.2,0.2,0.1,0.4,0.6,0.3,0.5,0.4,0.14074595000000001]
["nor",0.2,0.3,0.2,0.5,7.4183979999999997E-2,0.1,0.2,0.2,0.2,0,0.1,0.4,0.2,0,0.5,0.1,0.4,0.7,0.4,0.2,0.14074595000000001]
["who",0.3,0.3,0.2,0.3,0,0.4,0.2,0.1,0,0.3,0.4,0.2,0.1,0.3,0.2,0.3,0.3,0.4,0.1,0.4,0.49261083999999999]
["will",0,0.3,0.3,0.2,7.4183979999999997E-2,0,0.1,0.5,0.5,0.2,0,0.2,0.1,0.4,0.2,0.1,0.3,0.1,0.4,0.1,0.14074595000000001]
["whose",0.3,0.1,0.4,0.4,0,0.3,0,0,0.2,0.3,0.4,0.3,0,0.2,0.3,0.2,0.1,0.5,0.3,0,0.28149190000000002]
["most",0,0.2,0.2,0.1,0.2967359,0.3,0.2,0.1,0.4,0.7,0.3,0.3,0.2,0.1,0.3,0.4,0.1,0.5,0.3,0.1,0.35186487]
["see",0.3,0.2,0.2,0.3,0.37091987999999998,0,0.1,0.2,0.3,0.1,0.5,0.2,0.4,0.3,0.4,0.1,0.4,0.2,0.4,0.1,0.21111894]
["let",0,0,0.1,0.3,7.4183979999999997E-2,0,0.4,0.4,0.3,0.1,0.2,0.1,0.1,0.1,0.7,0.2,0.8,0,0.6,0,0.21111894]
["are",0.2,0.1,0.2,0.1,7.4183979999999997E-2,0.3,0.3,0.6,0.2,0.5,0.3,0,0.3,0.2,0.1,0,0,0.2,0,0.2,7.0372980000000002E-2]
["them",0.2,0.1,0.1,0.3,7.4183979999999997E-2,0.4,0.4,0.3,0.7,0,0.2,0.1,0.1,0.4,0.3,0.3,0,0,0.1,0.3,7.0372980000000002E-2]
["heart",0.1,0.1,0,0.1,0.14836795999999999,0,0,0.3,0.1,0.4,0.3,0.4,0.6,0.5,0.5,0.2,0.3,0.3,0.7,0.1,0]
["sweet",0,0,0,0,0,0,0.4,0.3,0.1,0,0.3,0.1,0.3,0.3,0.2,0.6,0.1,0.5,0.7,0.1,0]
["how",0,0,0.1,0.2,0,0.2,0.1,0.4,0.1,0,0.3,0.1,1.1000000000000001,0.3,0,0.2,0.2,0.4,0.2,0.3,0.21111894]
["mine",0.2,0,0,0.1,0.14836795999999999,0.3,0.3,0,0.1,0.1,0.1,0.1,0,0.2,0.3,0.2,0.5,0.3,0.2,0.4,0.63335680000000005]
["there",0.2,0.5,0.6,0,0.2967359,0.5,0,0.2,0,0.1,0.3,0.1,0.4,0.2,0,0.1,0.2,0,0,0.2,0.14074595000000001]
["hath",0,0.1,0.1,0.2,0,0.3,0.4,0.4,0.2,0.1,0.1,0.2,0,0.4,0.1,0.1,0.4,0.1,0,0.2,0.28149190000000002]
["still",0.1,0,0,0.1,7.4183979999999997E-2,0.1,0.1,0,0.1,0.2,0.1,0.3,0.1,0.4,0.3,0.1,0.3,0.3,0.4,0.1,0.35186487]
["can",0.1,0,0.3,0.1,0.14836795999999999,0.3,0.5,0.3,0,0.3,0.1,0.4,0.8,0.1,0.3,0.3,0.1,0.2,0.2,0.2,7.0372980000000002E-2]
["while",0.1,0,0,0,0,0,0,0,0.2,0.2,0.4,0.2,0.3,0.3,0.6,0.1,0.3,0.5,0.3,0.3,0.49261083999999999]
["oft",0,0.2,0,0,0,0.2,0.1,0,0.1,0.1,0.1,0.4,0.3,0.2,0.1,0.5,0.2,0.3,0.3,0.2,0.35186487]
["well",0,0,0,0,0.14836795999999999,0.3,0.1,0.3,0.5,0.1,0.3,0.1,0.2,0.3,0.1,0.2,0.6,0.2,0.1,0.3,7.0372980000000002E-2]
["out",0.2,0.2,0.7,0,0.22255193000000001,0.2,0.2,0,0,0.2,0,0.1,0,0.1,0.1,0.1,0.3,0.1,0.2,0.1,0.35186487]
["make",0,0,0.1,0.3,0,0,0,0.1,0.2,0.2,0.1,0.2,0.1,0.3,0.2,0.2,0.1,0.1,0.3,0.2,0.35186487]
["made",0.4,0,0.1,0.4,0.37091987999999998,0.2,0,0.2,0.1,0.3,0.1,0.1,0.3,0.2,0.3,0.1,0,0.1,0,0.3,7.0372980000000002E-2]
["good",0,0,0.3,0.2,7.4183979999999997E-2,0.4,0.1,0.6,0.2,0.3,0.1,0,0.3,0.3,0,0.4,0.2,0.2,0.1,0.2,7.0372980000000002E-2]
["great",0.5,0.3,0.4,0.6,0.22255193000000001,0.1,0.6,0.1,0.3,0,0,0.5,0.1,0,0,0,0.1,0,0.1,0,7.0372980000000002E-2]
["have",0.3,0.2,0.2,0.4,0.14836795999999999,0.1,0.2,0.2,0,0,0,0,0,0,0,0,0,0,0,0,0]
["like",0.2,0,0.1,0.3,0.14836795999999999,0.1,0.4,0,0.2,0.3,0.5,0.3,0.2,0,0,0.1,0.1,0.1,0.2,0.1,7.0372980000000002E-2]
["though",0.3,0.1,0.1,0,0,0.1,0.1,0.1,0,0,0.1,0.3,0.1,0.3,0.3,0.1,0.3,0.3,0.2,0.4,0.21111894]
["art",0,0,0.1,0,7.4183979999999997E-2,0,0,0.2,0,0.2,0,0,0.3,0,0.3,0,0.4,0.3,0.1,0,0.35186487]
["both",0.1,0,0.1,0,0.22255193000000001,0.3,0.2,0.3,0,0.2,0.2,0,0.2,0.2,0.1,0.1,0,0.1,0,0.8,7.0372980000000002E-2]
["faire",0.3,0.1,0.1,0.1,0.14836795999999999,0.1,0.2,0.2,0,0.4,0.3,0,0,0.2,0.1,0.3,0.4,0.2,0.4,0.1,0.56298380000000003]
["long",0.3,0.2,0,0.3,0.14836795999999999,0,0.2,0.3,0.4,0,0.1,0.1,0.6,0.1,0.2,0.2,0.1,0.1,0.1,0.2,0]
["might",0.2,0,0.1,0.5,0.2967359,0,0,0.1,0.4,0.1,0.1,0.1,0.2,0,0.1,0.6,0,0.2,0,0.2,0.14074595000000001]
["our",0,0,0,0,0,0.4,0.4,0.3,0.3,0.5,0,0.2,0.1,0,0.3,0,0,0,0,0,7.0372980000000002E-2]
["shall",0,0.9,0.4,0.1,0,0.2,0.1,0.2,0.1,0.1,0.1,0,0.1,0,0.1,0.1,0.2,0.1,0.1,0.2,0]
["were",0.4,0.3,0.2,0.1,0.14836795999999999,0.1,0.2,0,0.1,0,0.3,0.1,0,0,0.1,0,0,0,0,0.1,7.0372980000000002E-2]
["since",0,0.1,0,0.1,7.4183979999999997E-2,0,0.2,0.1,0.4,0,0,0.2,0.5,0.3,0.3,0.2,0.3,0.1,0.3,0.3,7.0372980000000002E-2]
["stella",0,0,0,0,0,0,0,0,0.1,0.3,0.3,0.3,0.2,0.3,0.6,0.2,0.5,0,0.3,0.3,0.56298380000000003]
["would",0.2,0,0.1,0.2,0,0.1,0.1,0.1,0.1,0.2,0,0.2,0.1,0,0.1,0.2,0,0.1,0.2,0.2,0.28149190000000002]
["must",0,0,0,0.1,7.4183979999999997E-2,0,0.2,0.6,0.1,0.2,0.1,0,0.3,0.1,0.5,0.1,0,0.4,0.3,0,7.0372980000000002E-2]
["say",0.1,0,0,0.1,0,0.5,0.2,0.2,0.3,0,0.2,0.2,0.2,0.1,0.3,0.1,0.2,0,0.1,0.2,0.28149190000000002]
["haue",0,0,0,0,0,0.3,0.5,0.7,0.3,0.1,0.5,0.1,0,0,0.4,0,0,0.1,0.4,0.3,0.21111894]
["much",0.2,0.1,0,0.2,0.14836795999999999,0.2,0.2,0.4,0.2,0.1,0,0.1,0.1,0.2,0,0.1,0.1,0.1,0.2,0.1,7.0372980000000002E-2]
["selfe",0,0.1,0.3,0,0,0.2,0.2,0,0.1,0,0.1,0.1,0.3,0.3,0.3,0.2,0.2,0.3,0.4,0.4,0.35186487]
["should",0.1,0,0.1,0.1,7.4183979999999997E-2,0.2,0.2,0.1,0.1,0.3,0,0.1,0.1,0,0.1,0.3,0.2,0,0.2,0.2,0.21111894]
["these",0,0.1,0,0,0.14836795999999999,0.4,0.4,0,0.1,0.2,0.1,0.1,0.4,0.1,0.2,0.1,0.1,0.2,0,0,0]
["words",0,0,0,0,0,0.1,0,0,0.2,0.1,0.3,0.2,0.5,0.1,0.1,0.6,0.3,0.1,0.5,0.4,7.0372980000000002E-2]
["face",0.1,0,0,0,7.4183979999999997E-2,0.2,0.2,0,0.2,0.2,0.1,0.4,0.1,0.5,0,0.3,0.1,0.2,0.1,0,0.35186487]
["grace",0,0.1,0.2,0,0,0,0.1,0,0.1,0.1,0.1,0.3,0.1,0.4,0.3,0.3,0,0.3,0.2,0.1,0.21111894]
["place",0,0.1,0.1,0,7.4183979999999997E-2,0.2,0.1,0,0,0.2,0.2,0.4,0.1,0.4,0.1,0.1,0,0.1,0.3,0.1,0.28149190000000002]
["thus",0,0.1,0,0.1,7.4183979999999997E-2,0.2,0.2,0.3,0.5,0.1,0.2,0,0.3,0.2,0.3,0.1,0.2,0.1,0.2,0.3,0]
["had",0,0,0.1,0.1,7.4183979999999997E-2,0.4,0.3,0.3,0.1,0,0.1,0,0.1,0.1,0.2,0,0,0,0.2,0,0]
["wit",0,0,0,0.1,0,0,0.1,0.1,0.1,0.3,0.5,0.1,0.6,0.1,0,0.2,0.2,0.1,0.4,0.2,7.0372980000000002E-2]
["each",0,0,0,0.1,0,0.1,0.1,0,0.1,0.1,0.1,0.2,0,0.1,0.2,0.3,0,0.3,0.1,0.2,0.35186487]
["night",0,0,0,0,7.4183979999999997E-2,0,0,0,0.1,0,0,0.1,0.1,0.1,0,0,0.2,0,0,1.4,0.49261083999999999]
["other",0.1,0,0,0.2,0.44510385000000002,0.3,0.3,0.2,0.2,0,0,0,0.1,0.1,0,0.1,0.1,0.2,0,0.1,7.0372980000000002E-2]
[true,0,0.3,0.1,0,0,0,0,0,0,0.8,0,0.1,0.1,0.1,0.1,0.3,0.2,0.2,0,0.2,0]
["could",0,0,0,0.1,0.2967359,0,0,0.1,0.2,0,0.1,0.1,0.2,0.1,0,0.2,0,0.2,0.1,0.1,0.14074595000000001]
["high",0.3,0.1,0,0.1,0.14836795999999999,0,0.3,0.1,0,0,0,0.2,0,0.1,0,0,0.4,0.1,0.2,0,0]
["love",0.1,0.1,0.2,0.1,0,0,0,0,0.1,0,0,0,0,0,0,0,0,0,0,0,0]
["praise",0,0.2,0.3,0,7.4183979999999997E-2,0,0,0,0.1,0,0,0,0.5,0.1,0.1,0,0,0.2,0.4,0.3,7.0372980000000002E-2]
["whom",0,0.1,0.3,0.2,7.4183979999999997E-2,0.3,0.5,0.1,0,0,0,0.1,0.1,0,0,0.2,0.1,0,0.1,0.1,0.14074595000000001]
["light",0,0.1,0,0,0,0,0.1,0,0,0.3,0.1,0.1,0,0.1,0.2,0,0.4,0.3,0,0.3,0.28149190000000002]
["mind",0,0,0,0,7.4183979999999997E-2,0.2,0.1,0.1,0.1,0.1,0.1,0.2,0.1,0.3,0.1,0.5,0,0,0,0,0.14074595000000001]
["thine",0,0,0.4,0,0,0,0.1,0.1,0,0,0.1,0,0.1,0.1,0,0.1,0.3,0,0,0.1,0]
["through",0.1,0.2,0.2,0.2,0.22255193000000001,0,0,0,0.1,0.1,0.1,0,0.1,0,0.1,0,0.1,0,0.1,0.1,7.0372980000000002E-2]
["we",0,0,0.1,0,0,0.2,0,0,0.2,0.3,0,0,0.1,0,0,0,0,0.1,0.2,0,7.0372980000000002E-2]
["world",0.7,0,0.1,0,0.2967359,0,0.1,0,0,0.1,0,0.1,0,0.1,0.1,0,0.2,0,0,0,0]
["come",0,0.1,0.1,0,7.4183979999999997E-2,0.3,0.2,0,0,0,0.1,0,0.1,0.3,0,0.1,0.3,0.1,0.1,0,7.0372980000000002E-2]
["nature",0,0,0,0,0.14836795999999999,0,0,0.1,0,0.4,0.3,0.1,0.2,0.2,0,0,0.2,0,0.1,0.1,0.28149190000000002]
["owne",0.2,0.1,0.2,0.2,0.14836795999999999,0.3,0.1,0,0.1,0.1,0,0.2,0,0,0,0.4,0,0.3,0.1,0.3,0.14074595000000001]
["sight",0,0,0,0.1,0.44510385000000002,0.2,0.2,0.1,0.1,0.1,0.1,0.1,0,0,0.1,0.2,0.1,0,0,0.2,0.35186487]
["find",0,0,0,0,0,0,0.1,0.2,0.1,0.3,0,0.1,0.2,0.1,0.3,0.3,0.1,0,0,0.1,7.0372980000000002E-2]
["am",0.2,0,0,0,0,0.3,0.5,0.1,0,0.1,0.1,0,0.1,0.2,0.1,0.1,0.2,0.1,0,0.2,0.14074595000000001]
["best",0,0,0,0,0,0,0,0,0,0.5,0.2,0.1,0,0,0.1,0.1,0.3,0.4,0.2,0.1,7.0372980000000002E-2]
["day",0.1,0,0.1,0,7.4183979999999997E-2,0,0,0,0,0.1,0.1,0,0.3,0.1,0,0,0.1,0.1,0,1,7.0372980000000002E-2]
["life",0,0,0.1,0.2,7.4183979999999997E-2,0,0.1,0.5,0.1,0,0,0.1,0.3,0.1,0,0,0.3,0,0.2,0.2,7.0372980000000002E-2]
["know",0,0,0,0,0,0,0,0,0.2,0,0.2,0.6,0.1,0.2,0.1,0.2,0.1,0.1,0.1,0.2,7.0372980000000002E-2]
["many",0,0,0,0,0,0.3,0.3,0.2,0.2,0,0.1,0,0,0,0,0.1,0,0.1,0,0,7.0372980000000002E-2]
["sing",0,0.1,0.7,0.1,0,0,0.2,0,0.1,0,0.1,0,0,0,0,0.1,0.3,0,0,0,0]
["till",0,0,0,0,0,0.1,0,0.1,0.2,0.3,0.2,0,0.1,0,0.3,0,0,0,0.2,0,0.14074595000000001]
["time",0.1,0.1,0,0.4,7.4183979999999997E-2,0.1,0.1,0.1,0.2,0,0,0.1,0,0,0,0,0.1,0.1,0.1,0,7.0372980000000002E-2]
["delight",0.1,0,0.1,0,0.14836795999999999,0.1,0,0,0,0.1,0,0,0.1,0,0.2,0.3,0.3,0.3,0.2,0.1,0.21111894]
["die",0,0.6,0.4,0.2,0.14836795999999999,0,0,0,0,0,0,0,0.1,0.1,0.1,0,0,0,0,0.1,0]
["euen",0,0,0,0,0,0.1,0.1,0.2,0.3,0.1,0.3,0.1,0.2,0,0.2,0.4,0,0.1,0.2,0.2,7.0372980000000002E-2]
["ever",0.1,0.6,0.7,0.3,7.4183979999999997E-2,0.1,0,0,0,0,0,0,0,0,0,0,0,0,0,0,0]
["giue",0,0,0,0,0,0.2,0.5,0.2,0,0,0,0,0.2,0.1,0.2,0,0.3,0.3,0.1,0.3,0.14074595000000001]
["live",0,0.4,0.4,0.3,7.4183979999999997E-2,0,0.1,0.1,0,0,0,0,0,0,0,0,0,0,0,0,0]
["new",0,0,0.1,0,0,0,0,0.1,0.1,0,0.3,0,0.3,0.1,0.2,0.1,0,0,0.2,0,0.14074595000000001]
["beauties",0,0,0,0,0,0,0.1,0,0,0.3,0.1,0.2,0.4,0,0.1,0,0,0.2,0.4,0.1,0.28149190000000002]
["take",0,0,0,0,0,0.1,0.3,0,0.3,0.2,0.2,0.1,0,0.2,0.1,0.1,0.2,0.1,0.1,0.1,0]
["here",0,0,0.3,0.1,0.14836795999999999,0.4,0.1,0,0,0.1,0,0,0.1,0,0.2,0,0.2,0.1,0,0,7.0372980000000002E-2]
["two",0,0.1,0,0.2,0.22255193000000001,0.4,0.3,0.2,0.2,0,0.1,0.1,0,0,0,0,0.1,0,0,0,0]
["eye",0,0,0,0,7.4183979999999997E-2,0,0,0.2,0,0,0.1,0,0.1,0,0.2,0,0.2,0.1,0.1,0,7.0372980000000002E-2]
["full",0.2,0,0.1,0,0.14836795999999999,0.1,0,0,0.2,0.1,0.2,0,0.1,0,0.1,0,0.1,0,0.2,0.1,0.14074595000000001]
["ioy",0,0,0,0,0,0,0,0,0.2,0,0.1,0.1,0,0,0.1,0,0.4,0.3,0.2,0.1,0.56298380000000003]
["makes",0,0,0,0,0,0.1,0.2,0,0,0.1,0.3,0.2,0,0.1,0.1,0.1,0,0.3,0,0.1,0.28149190000000002]
["sad",0.2,0,0.2,0.2,7.4183979999999997E-2,0,0,0,0,0,0,0,0.1,0.1,0.1,0.2,0.1,0,0.1,0,0.14074595000000001]
["tell",0.3,0.1,0,0,0,0.1,0.1,0.2,0,0,0,0.1,0.3,0,0,0.1,0,0.2,0,0,0]
["alas",0,0,0,0,7.4183979999999997E-2,0.1,0.1,0,0,0.1,0.1,0.1,0,0.3,0.1,0.3,0.1,0.1,0.3,0.1,0.14074595000000001]
["beauty",0,0,0,0,0,0,0,0.1,0,0,0,0.2,0,0.1,0,0,0,0.1,0,0.1,7.0372980000000002E-2]
["lies",0.1,0,0,0.1,0,0,0,0,0,0.1,0.2,0.1,0.2,0,0,0,0,0.2,0.2,0,7.0372980000000002E-2]
["thoughts",0,0,0,0.1,7.4183979999999997E-2,0,0.2,0.1,0.1,0.1,0.1,0.2,0.1,0,0.2,0,0,0.2,0.2,0,0.14074595000000001]
["too",0,0,0.3,0,0,0,0,0.1,0.1,0.2,0,0.1,0.1,0,0,0.1,0.2,0,0,0.1,7.0372980000000002E-2]
["an",0,0.1,0.1,0.3,0.22255193000000001,0.1,0.1,0.2,0,0.1,0,0,0.1,0,0,0,0,0.1,0,0,0]
["being",0.1,0.1,0.2,0.2,0,0.2,0,0,0.3,0,0.1,0,0,0.1,0,0,0.1,0,0,0.1,0]
["desire",0,0,0,0,7.4183979999999997E-2,0,0.3,0,0.1,0,0.1,0,0,0,0.3,0.1,0.1,0.3,0.2,0.1,0]
["forth",0.2,0.1,0.2,0,0,0.2,0,0,0.1,0.2,0.1,0.1,0.1,0.2,0.2,0,0,0,0,0.1,0]
["hand",0.1,0,0,0,7.4183979999999997E-2,0,0,0,0,0,0,0,0,0.1,0.2,0,0.1,0.1,0.2,0.1,0.14074595000000001]
["into",0,0.1,0.1,0,0.22255193000000001,0.2,0,0.3,0,0.1,0.3,0,0,0,0,0.1,0,0,0,0,7.0372980000000002E-2]
["men",0.1,0.2,0.2,0.4,0,0.4,0.1,0.1,0,0,0,0,0.1,0,0,0,0,0,0,0,0]
["muse",0,0,0,0.2,0,0,0,0,0.2,0,0,0.1,0,0,0,0,0.4,0.1,0.2,0,0]
["never",0.1,0.4,0.2,0.2,7.4183979999999997E-2,0,0,0,0.1,0,0,0,0,0,0,0,0,0,0,0,0]
["only",0,0,0,0,0,0,0.1,0.1,0,0,0,0.5,0,0,0,0.1,0.1,0.4,0.2,0.2,0.14074595000000001]
["upon",0,0.2,0.1,0.1,0.2967359,0,0,0,0,0,0,0,0,0,0,0,0,0,0,0,0]
["because",0,0.1,0.1,0,0,0,0.3,0.1,0,0.1,0.1,0.3,0.1,0.1,0.2,0,0,0.2,0.1,0.1,0]
["free",0,0.1,0.1,0,0,0,0,0,0,0,0.1,0.2,0,0.1,0.1,0,0,0,0.1,0,7.0372980000000002E-2]
["heaven",0.1,0.1,0.4,0.4,0.59347179999999999,0,0,0,0,0,0,0,0,0,0,0,0,0,0,0,0]
["hope",0,0.2,0.1,0,7.4183979999999997E-2,0,0,0,0,0,0,0,0.2,0.1,0.1,0.1,0.5,0,0,0.2,7.0372980000000002E-2]
["lips",0,0.1,0,0,0,0,0,0,0,0,0.1,0,0.2,0.2,0.2,0.1,0,0.2,0.5,0.3,0]
["old",0,0,0,0,0,0.1,0.2,0.3,0.1,0.1,0.1,0,0,0,0,0,0.1,0.1,0,0,0]
["right",0.1,0.1,0.1,0,0,0.1,0,0,0,0.1,0.1,0.1,0.2,0.1,0.2,0,0,0.1,0,0.1,0.14074595000000001]
["soule",0,0,0.2,0.1,0,0.1,0.2,0.1,0,0.2,0,0.1,0,0.1,0.1,0.3,0,0.1,0.1,0.1,0.14074595000000001]
["stellas",0,0,0,0,0,0,0,0,0,0.2,0.3,0.1,0.3,0.1,0.3,0.2,0.1,0.1,0.1,0.1,7.0372980000000002E-2]
["thinke",0,0.1,0,0,0,0.1,0.1,0.1,0,0.1,0,0.3,0.2,0.3,0.1,0.2,0.1,0,0.1,0.2,0]
["age",0,0.1,0.2,0.1,7.4183979999999997E-2,0,0.1,0,0,0,0,0,0,0,0,0,0,0,0,0,0]
["away",0,0.2,0,0.5,7.4183979999999997E-2,0.3,0,0,0,0.1,0,0,0,0.1,0,0,0,0,0.1,0.1,0]
["espilus",0,0,0,0,0,0,1.1000000000000001,0.4,0.4,0,0,0,0,0,0,0,0,0,0,0,0]
["fair",0,0,0,0,0,0,0,0,0,0,0,0.3,0.1,0,0.2,0,0,0,0,0,0]
["man",0,0.4,0,0.2,0.14836795999999999,0.1,0,0.3,0,0,0,0.1,0,0.2,0,0,0,0,0,0,0]
["name",0.2,0.2,0,0,0,0,0.1,0.1,0,0.2,0.2,0,0.1,0,0.2,0.2,0,0.2,0,0.2,0]
["saw",0,0.4,0,0.1,0.44510385000000002,0,0,0,0.1,0,0,0.1,0,0,0,0,0.1,0,0.1,0,7.0372980000000002E-2]
["shame",0,0.1,0,0,0,0,0,0,0.2,0,0.2,0.2,0,0,0.1,0,0,0,0.1,0.1,0.14074595000000001]
["thought",0.1,0.1,0,0.1,7.4183979999999997E-2,0,0,0,0,0.1,0.2,0.1,0,0.2,0,0,0.1,0,0,0.1,7.0372980000000002E-2]
["wits",0.1,0,0.1,0,0,0.1,0.1,0,0.2,0,0.1,0.3,0.1,0.1,0,0,0,0.1,0.1,0,7.0372980000000002E-2]
["young",0,0,0,0,0,0.1,0.1,0.3,0,0,0.2,0.2,0,0,0,0.1,0,0.2,0,0.1,0]
["cannot",0,0,0,0,0,0.1,0.1,0.1,0,0.1,0,0,0,0.1,0.4,0.1,0.1,0,0.3,0,0]
["death",0.1,0.1,0.3,0.1,7.4183979999999997E-2,0,0.1,0,0,0,0,0,0,0.1,0.2,0,0,0.1,0.1,0.1,0]
["dost",0,0.2,0.1,0,0,0,0,0,0,0,0,0,0.3,0,0,0.1,0.2,0,0.1,0,7.0372980000000002E-2]
["else",0,0,0,0,0,0,0.1,0,0.1,0.1,0,0.1,0,0.1,0,0.3,0.1,0,0.1,0,0]
["first",0.1,0,0,0.1,0,0,0,0.3,0.1,0,0.3,0,0,0.1,0,0,0,0.2,0,0,0.14074595000000001]
["hart",0,0,0,0,0,0.1,0,0,0.1,0.1,0,0,0.1,0.1,0.2,0,0.2,0.1,0.2,0.3,0.21111894]
["others",0,0,0.1,0,0,0,0.1,0,0.3,0,0.1,0.4,0,0.2,0,0,0,0.1,0,0.1,0]
["rich",0.1,0,0.1,0,7.4183979999999997E-2,0,0.1,0,0,0.1,0,0.4,0.6,0.1,0,0,0,0.1,0,0,0]
["teares",0.2,0.1,0,0,0.14836795999999999,0,0,0,0,0.1,0,0,0,0.1,0,0.1,0.1,0,0.1,0.4,0.28149190000000002]
["than",0,0,0.3,0,0,0,0,0.1,0.1,0,0.2,0,0,0.1,0,0,0,0.1,0,0,0]
["vertue",0,0,0,0.2,0,0,0,0,0,0.1,0,0.3,0.1,0,0.5,0.2,0.3,0.1,0,0,0]
["way",0.1,0,0,0.1,7.4183979999999997E-2,0.1,0.1,0,0.2,0,0.1,0.1,0,0,0,0,0.2,0,0.1,0,0.14074595000000001]
["whether",0.1,0.1,0,0,7.4183979999999997E-2,0.1,0.3,0.1,0.3,0,0,0,0.1,0,0,0.1,0,0,0,0.1,0]
["white",0,0,0,0,0.14836795999999999,0.1,0.2,0,0,0.1,0,0,0,0,0,0,0.1,0.1,0,0,0.14074595000000001]
["better",0,0,0.3,0,0,0.2,0.1,0.1,0.1,0,0.1,0,0,0.1,0,0,0.2,0,0,0,0]
["came",0,0,0,0,7.4183979999999997E-2,0.4,0.1,0.1,0.3,0,0,0,0,0,0.1,0,0,0,0.1,0,0]
["cold",0,0,0,0,0,0,0.1,0,0,0.1,0,0,0.1,0,0,0.1,0,0.1,0.1,0,0]
["dead",0,0.9,0.1,0.2,7.4183979999999997E-2,0,0,0,0,0,0,0,0,0,0,0,0,0,0,0,7.0372980000000002E-2]
["deare",0,0.5,0.1,0,0,0,0,0,0.2,0,0,0,0,0.2,0.1,0,0.2,0.2,0.1,0.1,0]
["doe",0,0,0,0.1,0,0,0.1,0,0,0.1,0.1,0,0.1,0.3,0.1,0.4,0,0.2,0,0,0.14074595000000001]
["doo",0.1,0.5,0.6,0.4,0,0,0,0,0.1,0,0,0,0,0,0,0,0,0,0,0,0]
["fame",0,0.1,0,0.1,0,0,0,0,0,0,0.2,0.1,0.2,0,0,0,0.2,0.1,0.1,0.1,0]
["golden",0,0,0.2,0.1,0,0,0,0,0,0.1,0.2,0.3,0.1,0,0,0.1,0,0,0,0,7.0372980000000002E-2]
["paine",0.1,0,0,0.2,7.4183979999999997E-2,0.1,0,0,0.1,0.1,0.2,0.1,0,0,0.1,0,0.1,0.1,0.1,0.1,0.14074595000000001]
["thyself",0,0,0,0,0,0,0,0,0,0.1,0,0,0.2,0,0,0,0,0,0,0,0]
["ye",0.1,0,0.3,0,0.14836795999999999,0,0,0,0,0,0.2,0,0,0,0,0,0,0,0,0,0]
["call",0.1,0,0,0.1,0,0.3,0,0,0.1,0.2,0,0,0.1,0,0,0,0.1,0,0.1,0.1,0]
["fall",0.2,0.1,0,0.4,7.4183979999999997E-2,0,0,0,0,0,0.1,0,0.1,0.1,0,0.1,0,0,0,0,0]
["gone",0.1,0.4,0,0,7.4183979999999997E-2,0.1,0,0,0.1,0,0,0,0,0,0.1,0,0.1,0,0,0,0.14074595000000001]
["kisse",0,0,0,0,0,0,0,0,0.1,0,0,0.1,0,0.1,0,0,0,0.6,0.6,0,7.0372980000000002E-2]
["lady",0,0,0,0,0,0.4,0.7,0,0.3,0,0,0,0,0,0,0,0,0,0,0,7.0372980000000002E-2]
["last",0.1,0,0,0,0.44510385000000002,0,0,0,0,0,0.1,0,0,0,0,0.1,0.1,0,0,0,0]
["left",0.1,0.3,0.1,0,0.22255193000000001,0,0,0,0,0.1,0,0,0,0,0,0,0,0.1,0.1,0.1,0]
["ne",0.1,0.5,0.4,0.3,0.14836795999999999,0,0,0,0,0,0,0,0,0,0,0,0,0,0,0.1,0]
["once",0.1,0,0,0,7.4183979999999997E-2,0,0,0,0,0,0,0.1,0.2,0.1,0,0,0.2,0.1,0.2,0,0]
["part",0,0.1,0,0.1,0,0.1,0,0.1,0,0.3,0,0,0.1,0,0,0,0,0.2,0.2,0.1,7.0372980000000002E-2]
["poore",0,0,0,0,0,0.2,0.2,0.2,0.1,0.1,0.1,0.1,0,0.1,0,0,0,0.2,0,0.2,7.0372980000000002E-2]
["same",0.1,0,0,0.2,7.4183979999999997E-2,0,0,0,0,0,0.1,0.2,0.1,0,0.1,0.1,0,0,0.1,0.1,7.0372980000000002E-2]
["self",0,0,0,0,0,0,0,0,0,0.1,0,0.1,0.1,0,0,0,0,0,0,0,0.14074595000000001]
["show",0,0,0,0,0,0,0,0,0.1,0.2,0,0.2,0.2,0.1,0,0.1,0.2,0,0,0.1,0]
["th",0.3,0,0.1,0.6,0.44510385000000002,0,0,0,0,0,0,0,0,0,0,0,0,0,0,0,0]
["things",0,0.2,0.1,0.1,7.4183979999999997E-2,0,0,0,0.2,0,0.1,0.2,0,0.3,0,0.1,0,0.1,0,0,0]
["unto",0.2,0.3,0.4,0.4,7.4183979999999997E-2,0.1,0,0,0,0,0,0,0,0,0,0,0,0,0,0,0]
["why",0.1,0,0,0,7.4183979999999997E-2,0,0,0.2,0,0.2,0,0,0,0,0,0.1,0.1,0,0,0.1,0]
["blisse",0,0,0,0,7.4183979999999997E-2,0,0,0,0.1,0,0,0,0.1,0.2,0.1,0.2,0.4,0,0.1,0.1,7.0372980000000002E-2]
["care",0,0.1,0,0,0,0.1,0,0,0,0,0,0.1,0.1,0,0,0,0.2,0.1,0,0.3,0.14074595000000001]
["heard",0,0,0.1,0,0.22255193000000001,0.1,0,0.2,0,0,0,0,0,0,0.1,0.1,0.1,0,0,0,0]
["heau'nly",0,0,0,0,0,0,0,0,0,0.2,0.1,0,0.2,0.2,0.2,0,0.2,0.1,0.1,0,0.14074595000000001]
["late",0,0.2,0.1,0,7.4183979999999997E-2,0,0,0,0,0.1,0.1,0.1,0,0.1,0,0.3,0,0.1,0.1,0.1,0]
["leaue",0,0,0,0,0,0,0.1,0,0.1,0.3,0,0,0.1,0.2,0.1,0.1,0.1,0,0.2,0.2,0]
["lie",0,0,0.2,0,0,0,0,0,0.1,0,0,0.1,0.1,0.1,0.1,0,0,0.1,0,0.1,0.14074595000000001]
["onely",0,0,0,0,0,0.1,0,0.1,0.1,0,0,0.1,0,0.1,0,0.3,0.1,0.4,0,0,0.14074595000000001]
["said",0,0,0,0,7.4183979999999997E-2,0.1,0.1,0,0.2,0,0.2,0,0,0,0.1,0.1,0.1,0,0,0,0]
["sense",0,0,0.1,0,0,0,0,0,0,0.2,0,0,0.1,0.3,0.1,0,0,0,0.1,0.1,0.14074595000000001]
["straight",0,0,0,0,7.4183979999999997E-2,0,0,0.1,0.1,0.2,0.2,0.1,0,0.2,0,0.3,0,0,0,0,7.0372980000000002E-2]
["sure",0.1,0,0,0,0,0,0.2,0,0,0.1,0.1,0.2,0.2,0,0.1,0,0.1,0.1,0,0,7.0372980000000002E-2]
["up",0.1,0.1,0.1,0.1,7.4183979999999997E-2,0,0.1,0,0,0.1,0,0,0,0,0,0,0,0,0,0,0]
["vaine",0.2,0,0,0.5,7.4183979999999997E-2,0,0,0,0.1,0.2,0,0.1,0,0,0,0.1,0.1,0,0,0.1,0]
["wise",0,0,0,0.2,0,0.1,0.1,0.1,0,0.1,0,0.2,0.2,0,0,0.1,0.2,0.2,0,0,0]
["without",0,0,0,0,0,0.1,0,0,0,0.1,0,0,0.1,0,0.2,0.3,0,0.1,0.1,0.1,0]
["borne",0,0.1,0,0.1,0.22255193000000001,0,0,0,0.1,0.1,0.2,0,0,0,0.1,0,0.2,0,0.1,0,0]
["breast",0,0,0.1,0,0,0,0,0,0,0.1,0.2,0.1,0.1,0.1,0.1,0.1,0,0,0,0.1,7.0372980000000002E-2]
["breath",0.1,0,0.3,0,0,0,0,0,0.1,0,0.1,0,0,0.1,0,0.1,0.1,0.1,0.1,0.1,7.0372980000000002E-2]
["cause",0,0,0,0,0,0,0,0.1,0.1,0,0,0.2,0,0.3,0,0,0.1,0.2,0.1,0.1,7.0372980000000002E-2]
["downe",0.1,0.1,0,0.1,0.22255193000000001,0,0.1,0.1,0,0.1,0,0,0,0,0,0.1,0,0.1,0,0,0.21111894]
["happie",0,0.3,0.7,0.2,0,0,0,0,0,0,0,0,0,0,0,0,0,0,0,0,0.14074595000000001]
["honour",0.1,0.1,0.2,0,0,0,0.1,0,0,0.1,0,0,0.1,0.1,0,0,0,0.1,0,0,7.0372980000000002E-2]
["noble",0,0.2,0.4,0.2,0,0,0,0.1,0,0,0,0,0,0.1,0,0,0.1,0,0,0,0]
["none",0.3,0.1,0,0.1,7.4183979999999997E-2,0,0,0,0,0,0.1,0,0.1,0,0,0,0.1,0,0,0,0]
["own",0.1,0,0,0,0,0,0,0,0,0,0.1,0.1,0.1,0.1,0,0,0,0,0,0,0]
["pride",0.3,0,0.1,0,7.4183979999999997E-2,0,0,0,0,0,0,0.3,0,0,0.1,0,0,0,0.1,0.1,0]
["side",0.1,0.1,0,0,0.22255193000000001,0.2,0.1,0,0.1,0,0,0,0,0,0.1,0,0,0,0,0.1,0]
["state",0.1,0.1,0,0,7.4183979999999997E-2,0.3,0,0,0,0.1,0.1,0.1,0.1,0,0,0,0,0,0,0.1,0]
["stellaes",0,0,0,0,0,0,0,0,0.1,0.3,0.1,0.4,0.1,0.1,0.1,0,0,0,0.1,0.1,0]
["sweete",0.1,0.1,0,0.1,7.4183979999999997E-2,0.1,0.1,0,0,0,0,0,0.1,0,0.1,0,0.1,0,0.1,0,0.28149190000000002]
["therion",0,0,0,0,0,0,0.8,0.4,0.2,0,0,0,0,0,0,0,0,0,0,0,0]
["above",0,0,0.1,0.3,0.37091987999999998,0,0,0,0,0,0,0,0,0,0,0,0,0,0,0,0]
["anie",0.2,0.6,0,0,0.37091987999999998,0,0,0,0,0,0,0,0,0,0,0,0,0,0,0,0]
["beames",0,0,0,0,0,0.1,0,0,0,0.2,0,0,0,0.2,0.2,0,0.1,0.3,0.1,0.1,0]
["before",0.1,0,0,0.1,0,0,0.1,0,0.1,0,0,0.1,0,0,0,0.1,0.2,0,0,0.1,0]
["blood",0,0.1,0.1,0,0.22255193000000001,0,0,0,0,0,0,0,0,0.1,0,0,0,0,0,0,0]
["boy",0,0.1,0,0,0,0,0,0.1,0,0.1,0.3,0,0,0.1,0,0,0.2,0.1,0.1,0,0]
["earth",0.3,0,0.1,0,0.37091987999999998,0,0,0,0,0.1,0,0,0,0,0,0,0.1,0,0,0,0]
["ere",0.1,0,0.1,0,0,0,0,0,0,0,0,0.1,0,0,0,0,0,0,0,0,0.14074595000000001]
["every",0,0,0,0,0,0,0,0,0,0,0,0,0,0,0,0,0,0,0,0,0]
["force",0.1,0,0,0,0,0,0.1,0,0,0.1,0,0,0.1,0.1,0,0,0.3,0.1,0.1,0,7.0372980000000002E-2]
["give",0,0,0.2,0.1,7.4183979999999997E-2,0,0,0,0,0,0,0,0,0,0,0,0,0,0,0,0]
["highest",0.1,0.1,0.2,0.1,7.4183979999999997E-2,0.1,0.1,0,0,0,0,0.2,0,0,0,0,0,0,0.1,0,7.0372980000000002E-2]
["hold",0,0,0,0,0.14836795999999999,0,0.1,0.1,0.1,0,0,0.1,0.1,0,0,0,0,0,0,0.1,0]
["iudge",0,0,0,0,0,0,0.3,0,0.3,0,0.1,0.1,0.1,0.2,0,0.1,0,0,0.1,0,0]
["lay",0,0,0,0.1,0.14836795999999999,0,0,0,0,0.1,0,0.2,0,0.1,0.1,0,0.1,0.1,0,0,0.14074595000000001]
["loues",0,0,0,0,0,0,0,0,0.1,0,0.1,0,0,0.3,0.3,0.1,0.1,0,0.2,0,7.0372980000000002E-2]
["neuer",0,0,0,0,0,0,0.2,0.1,0.1,0.1,0,0.1,0.1,0.2,0,0.1,0,0.2,0.1,0,0]
["proue",0,0,0,0,0,0,0,0,0,0.1,0.1,0.1,0,0.1,0.3,0.2,0,0.2,0,0.1,7.0372980000000002E-2]
["set",0,0,0,0,0,0,0.1,0.1,0,0.1,0,0,0,0.2,0,0,0.1,0,0,0,0]
["song",0,0.1,0.1,0,0,0,0.1,0.1,0.2,0.1,0,0,0,0,0,0,0,0,0.1,0,0]
["soone",0,0.2,0.3,0,0.14836795999999999,0,0,0,0.1,0.1,0,0,0,0,0.1,0.2,0,0,0,0,7.0372980000000002E-2]
["vnto",0,0,0,0,0,0,0.2,0,0.1,0,0.2,0.2,0,0.2,0,0,0.1,0,0,0,0.21111894]
["woe",0,0,0,0,0,0,0,0,0.1,0,0,0,0,0.1,0.1,0,0,0.1,0.1,0.1,7.0372980000000002E-2]
["youth",0,0,0,0,0,0,0,0,0,0,0.1,0,0,0,0.1,0,0,0,0,0,7.0372980000000002E-2]
["after",0.2,0.2,0.1,0,0.2967359,0,0.1,0,0,0,0,0.1,0,0,0,0,0,0,0,0,0]
["ah",0.1,0,0,0,7.4183979999999997E-2,0,0,0,0,0,0,0,0.1,0,0,0,0,0.2,0,0,0.28149190000000002]
["beautie",0,0,0,0,7.4183979999999997E-2,0,0.1,0,0.1,0.2,0,0,0,0.1,0.3,0,0.1,0.1,0,0,7.0372980000000002E-2]
["bee",0.3,0.1,0.1,0.4,7.4183979999999997E-2,0.1,0,0,0,0,0,0,0,0,0,0,0,0,0,0,0]
["blacke",0.1,0,0,0,0,0,0,0,0,0.3,0,0,0,0,0.1,0.1,0.1,0,0,0.3,0.14074595000000001]
["case",0,0,0,0.1,0,0.1,0,0,0,0,0,0,0.1,0.2,0,0.2,0.1,0.1,0,0,0.14074595000000001]
["down",0.1,0,0,0,0,0.1,0,0,0,0,0.1,0,0,0.1,0,0,0,0,0,0,0]
["fire",0,0,0,0,0,0,0.1,0,0,0,0.1,0,0.1,0,0.1,0.1,0.1,0,0.1,0,0]
["fresh",0,0,0,0,0,0,0,0,0.1,0,0,0,0,0,0,0,0,0,0,0,7.0372980000000002E-2]
["heare",0,0,0.5,0,0,0,0.1,0,0,0,0,0,0,0,0,0.2,0,0.1,0.2,0.1,0]
["length",0,0.1,0,0.1,0.14836795999999999,0,0,0,0.3,0.1,0.1,0,0,0,0.1,0,0,0,0,0.1,0]
["mee",0.1,0,0,0.2,0,0,0.1,0.1,0,0,0.1,0.1,0.1,0,0.1,0,0,0,0.3,0,0]
["moue",0,0,0,0,0,0,0,0,0,0.2,0.1,0,0,0.2,0.2,0.1,0.2,0.1,0,0.1,0]
["neither",0,0,0.1,0,0,0.2,0.1,0.3,0.1,0,0,0.1,0,0,0,0,0,0,0,0,0]
["peace",0,0,0,0,0,0,0,0.1,0,0.1,0,0,0.1,0.1,0,0,0.1,0,0.1,0,7.0372980000000002E-2]
["power",0.1,0,0.2,0.1,7.4183979999999997E-2,0,0,0,0,0.1,0,0,0.1,0,0,0,0,0,0,0,0]
["quite",0.1,0.4,0,0.1,7.4183979999999997E-2,0,0,0,0,0,0.1,0.1,0,0,0.1,0,0,0,0,0,0]
["sacred",0.1,0.1,0.2,0.1,0,0,0,0,0,0,0,0.1,0,0.1,0,0,0,0.1,0,0,0]
["shee",0.3,0,0,0.1,0,0.2,0,0,0.1,0,0.1,0,0,0,0,0.1,0.1,0,0,0,0.14074595000000001]
["skies",0,0,0,0,0,0,0,0,0,0,0.3,0.1,0.1,0,0,0,0.1,0,0,0.1,0.21111894]
["sorrow",0,0.1,0,0,0.22255193000000001,0,0,0,0,0,0.1,0,0,0,0,0,0,0,0,0.1,0.21111894]
["speech",0,0,0,0,0,0.2,0,0.1,0,0,0,0.2,0,0,0.2,0.2,0.2,0.1,0,0,0]
["th'",0,0,0,0,0,0,0,0,0,0,0,0.1,0,0.1,0,0.1,0,0,0.1,0.1,7.0372980000000002E-2]
["thing",0.1,0.1,0.1,0,7.4183979999999997E-2,0,0,0,0,0,0,0.1,0.2,0,0,0,0.1,0,0,0,0]
["vertues",0,0,0.1,0.1,0,0.1,0,0,0,0,0,0.1,0,0.2,0,0.2,0.1,0.2,0.1,0,0]
["vpon",0,0,0,0,0,0.2,0.1,0.1,0.2,0,0.1,0,0.2,0.1,0,0,0,0,0,0.1,7.0372980000000002E-2]
["want",0,0,0.1,0,0,0,0,0,0,0,0.1,0.1,0.1,0.1,0.1,0.1,0,0,0.1,0,7.0372980000000002E-2]
["worlds",0.2,0,0.2,0.3,0.14836795999999999,0,0,0,0,0,0,0,0,0,0,0,0,0,0,0.1,7.0372980000000002E-2]
["any",0,0,0,0,0,0,0.1,0.1,0.1,0,0,0,0,0.1,0.1,0,0,0.1,0,0.1,7.0372980000000002E-2]
["beare",0,0.2,0,0,0.14836795999999999,0,0,0,0,0,0.1,0,0,0,0.2,0.1,0,0,0.1,0,0.14074595000000001]
["behold",0.2,0,0,0.2,7.4183979999999997E-2,0,0,0,0,0,0.1,0.1,0,0,0,0,0,0,0,0,0]
["bring",0,0,0.2,0,7.4183979999999997E-2,0,0,0,0,0,0.1,0,0,0,0,0.1,0,0,0,0,0]
["comfort",0.1,0.2,0,0,7.4183979999999997E-2,0.1,0,0,0.2,0,0,0,0,0,0,0,0.2,0,0,0,0.14074595000000001]
["d",0,0,0.1,0.4,0.44510385000000002,0,0,0,0,0,0,0,0,0,0,0,0,0,0,0,0]
["eares",0,0,0,0,0,0.2,0.1,0.2,0.1,0,0,0,0,0,0,0.1,0,0.1,0.2,0.1,0]
["farre",0,0.1,0,0.2,7.4183979999999997E-2,0,0,0,0,0,0,0,0.1,0.2,0,0.1,0,0,0.2,0,7.0372980000000002E-2]
["fast",0,0,0.1,0,0,0,0,0,0,0,0,0,0,0,0.2,0.1,0,0.1,0,0,7.0372980000000002E-2]
["fit",0,0,0,0,7.4183979999999997E-2,0,0,0.1,0.1,0.2,0,0,0,0,0,0.2,0.2,0,0.1,0,0]
["foole",0,0,0,0,0,0,0.3,0.3,0,0,0,0.1,0.1,0,0.1,0,0,0.1,0.1,0,0]
["gentle",0,0.1,0.2,0,0.14836795999999999,0,0,0,0,0,0,0,0,0,0,0,0,0.1,0,0,0]
["grow",0,0,0.1,0,0,0,0,0.1,0.1,0.1,0,0.1,0.1,0,0,0,0.1,0,0,0.1,7.0372980000000002E-2]
["head",0,0,0,0,0,0,0,0,0,0,0,0,0.1,0,0,0,0.1,0.1,0,0,0]
["joy",0,0,0.3,0,0.2967359,0,0,0,0,0,0,0,0,0,0,0,0,0,0,0,0]
["little",0.1,0,0,0,0,0.2,0,0,0.1,0.1,0,0,0,0,0,0.2,0,0,0,0,0]
["living",0,0.5,0.2,0.1,7.4183979999999997E-2,0,0,0,0,0,0,0,0,0,0,0,0,0,0,0,0]
["look",0,0,0,0,0,0,0.1,0,0,0,0,0,0,0.1,0.1,0,0,0,0,0,0]
["muses",0,0,0.1,0.1,0,0,0.1,0,0,0.2,0,0,0,0,0,0.2,0,0.1,0.1,0,0]
["needs",0,0,0,0,7.4183979999999997E-2,0,0.1,0,0,0.2,0,0,0,0,0.2,0,0,0.2,0.2,0,0]
["often",0.1,0,0,0,0,0,0,0.1,0,0,0,0,0,0,0,0,0,0,0,0.1,0]
["rest",0.2,0,0,0.1,0.14836795999999999,0.1,0,0,0,0.1,0,0,0,0,0,0,0,0,0,0.1,7.0372980000000002E-2]
["shew",0.1,0,0,0.1,0,0,0.1,0,0,0,0,0,0.1,0,0,0.2,0.2,0,0,0,0.14074595000000001]
["soft",0,0,0,0,7.4183979999999997E-2,0,0.1,0,0,0.1,0,0,0,0,0.1,0,0,0.1,0.1,0,7.0372980000000002E-2]
["stay",0,0,0,0,0,0.1,0,0,0.1,0,0.1,0,0.1,0.1,0.1,0,0.1,0,0.1,0,7.0372980000000002E-2]
["sweetest",0,0,0,0,0,0,0,0,0.1,0.2,0,0,0.1,0.1,0,0,0.1,0.1,0.1,0,7.0372980000000002E-2]
["thence",0,0,0.1,0,0,0,0,0,0.1,0.1,0,0.1,0,0,0,0.2,0,0,0,0,0.21111894]
["therefore",0,0.1,0.1,0.1,0,0,0.1,0,0.3,0,0,0,0,0,0.1,0.1,0,0,0,0.1,0]
["truth",0,0,0,0,0,0,0,0,0,0.1,0.1,0.1,0.1,0.1,0,0,0.3,0,0,0.1,0]
["vp",0,0,0,0,0,0.1,0,0.3,0,0,0.1,0,0.2,0.1,0,0,0,0,0.1,0,0.14074595000000001]
["wo",0,0,0,0,0,0,0,0,0.2,0,0,0,0,0.1,0,0.2,0.2,0.1,0.1,0.1,7.0372980000000002E-2]
["wretch",0,0,0,0,0,0.3,0.1,0,0.1,0,0,0,0.1,0.1,0,0,0,0,0,0.2,0.14074595000000001]
["against",0.2,0,0,0,0,0,0,0.2,0,0,0,0,0,0,0,0,0.1,0,0,0,0]
["bed",0,0,0,0,0.14836795999999999,0,0,0,0.1,0,0,0,0,0.1,0,0,0,0.1,0,0,0.14074595000000001]
["blind",0,0,0,0,0,0,0,0,0,0,0,0.1,0.1,0.2,0,0.1,0.1,0,0,0,7.0372980000000002E-2]
["breed",0,0,0,0,0,0,0,0,0,0.1,0.1,0,0.1,0.2,0.1,0.1,0.1,0,0,0,0]
["dare",0,0,0,0,0,0.3,0,0,0,0.1,0,0.1,0,0.1,0.1,0,0,0.1,0,0.1,7.0372980000000002E-2]
["far",0,0,0,0,0,0,0,0,0.1,0,0.1,0.1,0,0,0,0.2,0,0,0,0,7.0372980000000002E-2]
["father",0,0,0.3,0,0,0.1,0.1,0,0,0,0,0,0.1,0,0,0,0,0,0,0,0]
["flie",0,0,0,0.1,0,0,0,0,0.1,0.1,0,0.1,0,0,0,0.1,0.2,0.1,0.1,0,7.0372980000000002E-2]
["found",0,0,0,0.2,7.4183979999999997E-2,0,0,0,0.1,0,0,0,0,0,0,0,0.1,0,0.2,0,0]
["frame",0,0,0,0,0,0,0,0,0,0.1,0.2,0.1,0.1,0,0,0,0.1,0.1,0,0.1,7.0372980000000002E-2]
["griefe",0,0.1,0,0.2,0.22255193000000001,0,0,0,0,0,0,0,0,0,0,0.1,0.1,0,0,0.2,0]
["heavens",0.2,0.1,0.4,0.1,0.14836795999999999,0,0,0,0,0,0,0,0,0,0,0,0,0,0,0,0]
["least",0,0,0,0,0,0.1,0.1,0,0,0.1,0,0,0,0,0,0,0.2,0,0.3,0,0]
["low",0,0,0,0.1,0,0,0,0,0,0,0,0.1,0,0.1,0,0,0.1,0,0,0,0]
["nothing",0.1,0,0,0,0,0.1,0,0,0.1,0.1,0,0,0,0,0,0,0,0,0.2,0.1,0]
["pitie",0.1,0,0,0.1,7.4183979999999997E-2,0,0,0,0,0,0,0,0,0.6,0,0.1,0,0,0,0,0]
["pure",0,0.1,0,0,0,0,0,0,0,0.2,0,0.1,0,0,0,0,0,0.1,0,0,0]
["race",0,0.1,0,0,0,0,0,0,0,0.1,0,0.3,0,0.1,0,0.1,0.1,0,0.1,0,7.0372980000000002E-2]
["reason",0,0,0,0,0,0,0,0,0,0.5,0,0,0,0,0,0,0.1,0,0,0,0]
["sake",0,0,0,0.1,0,0,0,0,0,0,0.1,0.2,0,0.1,0,0,0.1,0,0,0,7.0372980000000002E-2]
["shade",0.1,0,0,0,0,0,0,0,0,0.1,0,0,0.1,0,0,0,0,0.2,0.1,0.1,0]
["shepheards",0,0.2,0.1,0,0,0.2,0.1,0.3,0.1,0,0,0,0,0,0,0,0,0,0,0,0]
["speake",0,0,0,0,0,0.1,0,0,0,0.2,0.1,0,0.3,0,0,0,0,0.3,0,0,0]
["spring",0,0,0.1,0,7.4183979999999997E-2,0,0,0,0,0,0.1,0.1,0,0.1,0,0,0.1,0,0,0,0]
["strange",0,0,0,0.1,0,0,0,0,0.2,0.1,0,0.1,0,0,0.1,0,0,0,0,0,0.14074595000000001]
["strong",0.1,0,0.1,0.1,7.4183979999999997E-2,0,0,0,0,0,0,0,0,0,0.1,0,0,0,0,0,0]
["sun",0,0,0,0,0,0,0,0,0.1,0.1,0,0.2,0,0,0,0,0,0,0.1,0,7.0372980000000002E-2]
["thereof",0,0,0,0.1,0.22255193000000001,0,0,0,0,0,0,0,0,0.2,0,0,0,0,0,0.1,0.14074595000000001]
["under",0,0.1,0.1,0,0,0,0.1,0,0,0,0,0,0,0,0,0,0,0,0,0,0]
["verse",0,0.1,0,0.1,7.4183979999999997E-2,0,0,0,0.1,0,0,0,0,0,0,0,0,0.2,0,0.1,0]
["vse",0,0,0,0,0,0.1,0,0.1,0,0.1,0,0.2,0.1,0.1,0.1,0,0,0,0.1,0,7.0372980000000002E-2]
["wealth",0,0,0,0,0,0,0.2,0,0,0,0.1,0.2,0,0.1,0,0,0.2,0.1,0,0,0]
["wings",0,0,0,0.1,0,0,0,0,0,0.1,0,0,0,0.1,0,0,0,0.1,0.1,0.1,7.0372980000000002E-2]
["worthy",0,0,0,0,0,0,0.1,0,0.4,0,0,0,0,0,0,0,0,0.2,0,0.1,0]
["about",0.2,0.1,0,0,0,0,0.1,0.1,0.2,0,0,0,0,0,0,0,0,0,0,0,0]
["absence",0,0,0,0,0,0,0,0,0,0,0,0,0,0,0,0.2,0,0.1,0.1,0.3,7.0372980000000002E-2]
["again",0,0,0,0,0,0,0,0,0,0,0,0,0,0.1,0,0,0,0,0,0,0]
["bare",0,0,0,0,0,0,0.1,0.1,0,0,0.1,0.1,0,0,0.1,0,0,0,0.2,0,7.0372980000000002E-2]
["beauty's",0,0,0,0,0,0,0,0,0,0,0,0,0,0,0,0,0,0,0,0,0]
["been",0,0.1,0.1,0.1,7.4183979999999997E-2,0,0,0,0,0,0,0,0,0,0,0,0,0,0,0,0]
["braine",0,0,0,0.1,0,0.1,0,0,0,0,0,0,0,0,0.1,0.1,0.1,0.1,0.1,0.1,7.0372980000000002E-2]
["brave",0.2,0,0.1,0.2,0.14836795999999999,0,0,0,0,0,0,0,0,0,0,0,0,0,0,0,0]
["brought",0.1,0.1,0.1,0,7.4183979999999997E-2,0.2,0,0,0,0,0,0,0,0.2,0,0,0,0,0,0,0]
["course",0,0.1,0,0,0,0,0,0,0,0.1,0.1,0,0,0.1,0,0.2,0.2,0,0,0,0]
["cupid",0,0,0,0,0,0.1,0,0,0,0.1,0.3,0,0.1,0,0.1,0.1,0,0,0,0,0]
["dear",0,0,0,0,0,0,0,0,0,0,0,0,0,0.1,0.1,0,0,0,0.1,0,0]
["deep",0.1,0,0.1,0,0,0,0,0,0,0,0,0.1,0,0,0,0,0,0,0,0,0]
["deere",0.1,0,0,0,0,0,0.1,0,0,0,0.1,0,0,0,0.1,0.2,0,0,0.1,0.2,0]
["done",0,0,0,0,7.4183979999999997E-2,0,0.1,0,0.1,0,0,0,0,0,0,0,0,0,0.1,0,0]
["dorcas",0,0,0,0,0,0,0.2,0.7,0,0,0,0,0,0,0,0,0,0,0,0,0]
["end",0,0,0,0.1,7.4183979999999997E-2,0,0,0,0,0,0.1,0,0.1,0,0,0,0,0,0,0,0]
["feet",0,0,0,0,0,0,0,0,0.1,0,0,0,0,0.1,0,0,0.1,0.2,0.1,0,0]
["flames",0,0,0,0,0,0,0,0,0,0,0.2,0.2,0.1,0,0,0,0,0,0,0.1,0]
["fly",0,0,0,0,0,0,0,0,0,0,0.3,0,0.1,0,0,0,0,0,0,0,0]
["fortune",0,0,0,0,0,0,0.2,0,0,0,0,0,0.2,0,0,0,0.2,0,0,0,7.0372980000000002E-2]
["go",0.1,0,0,0,0,0,0,0,0.1,0,0,0,0,0,0,0.1,0.1,0,0,0,0]
["hard",0,0,0,0,0,0,0,0,0,0.1,0,0.1,0.1,0,0.1,0,0,0,0.1,0,7.0372980000000002E-2]
["hearts",0,0,0,0,0,0,0,0,0,0,0.1,0,0.1,0,0,0.1,0,0.1,0,0,0]
["hence",0,0,0,0,0,0,0,0,0.1,0,0,0,0,0,0,0,0,0,0,0,0]
["inward",0,0,0,0.2,0,0,0,0,0,0.1,0.1,0.1,0,0.1,0,0,0.1,0,0,0.1,7.0372980000000002E-2]
["maister",0,0,0,0,0,0.5,0.2,0.2,0,0,0,0,0,0,0,0,0,0,0,0,0]
["nay",0,0,0,0,0,0,0,0,0,0,0,0,0.1,0,0,0.1,0.2,0.2,0.1,0.1,7.0372980000000002E-2]
["off",0,0,0,0,7.4183979999999997E-2,0,0.1,0,0,0,0,0,0,0,0,0,0,0,0.1,0,0]
["phoebus",0,0,0,0,0,0,0,0,0,0,0.2,0.1,0,0,0,0,0,0,0,0,0.21111894]
["poor",0,0,0,0,0,0,0,0,0.1,0,0,0,0.1,0.1,0.3,0,0,0.1,0,0,0]
["presence",0,0,0,0,0,0.2,0,0.1,0,0,0,0,0,0,0,0.2,0,0.1,0,0,0.14074595000000001]
["rage",0,0.1,0,0,0,0,0,0,0,0,0,0.1,0,0,0,0.1,0,0,0,0.1,0]
["sound",0,0,0,0.1,7.4183979999999997E-2,0,0.1,0.1,0,0,0,0,0,0,0.1,0,0,0,0,0,0]
["staid",0,0,0,0.1,0,0,0,0,0,0,0.1,0.1,0,0,0.1,0.1,0,0.1,0,0.1,7.0372980000000002E-2]
["tender",0.1,0,0,0,0,0,0,0,0,0.1,0,0.1,0,0,0,0,0,0.1,0,0.1,0]
["treasure",0,0,0.1,0,7.4183979999999997E-2,0,0.2,0,0,0,0,0,0.1,0,0,0,0,0,0,0,0]
["venus",0,0,0,0,0,0,0,0,0,0,0.1,0,0,0.1,0,0,0.1,0.3,0,0,7.0372980000000002E-2]
["very",0,0,0,0,0,0.1,0.2,0.2,0,0,0.1,0,0,0.1,0,0,0,0,0,0,0]
["voice",0,0,0.1,0,0,0,0.1,0,0.1,0,0.1,0,0.1,0,0,0,0.1,0,0,0,0]
["wonder",0.1,0,0.1,0.1,7.4183979999999997E-2,0,0,0,0,0,0,0.1,0,0,0,0,0,0.2,0.2,0,0]
["word",0,0.1,0.1,0.1,0,0.1,0,0,0,0,0.1,0,0.1,0,0,0,0.1,0,0,0,7.0372980000000002E-2]
["worth",0,0,0.1,0,0,0,0,0,0.1,0,0,0,0,0,0,0.1,0.1,0,0,0,0]
["write",0,0,0,0,0,0,0,0,0.1,0,0,0,0.3,0.1,0.2,0,0,0,0,0.1,7.0372980000000002E-2]
["among",0,0,0,0,0,0.2,0.1,0.2,0,0,0,0,0,0,0,0,0,0,0,0,0]
["ay",0,0,0,0.1,0,0,0,0,0,0,0,0.1,0,0,0,0,0,0.1,0,0,7.0372980000000002E-2]
["bene",0,0,0,0,0,0.1,0.2,0,0.2,0,0,0,0.1,0,0,0,0,0,0.1,0,7.0372980000000002E-2]
["bid",0,0,0.2,0,0,0,0,0,0,0,0,0,0,0,0,0.1,0,0,0,0,0]
["black",0,0,0,0,0,0,0,0,0,0.1,0.1,0.2,0,0,0,0,0,0,0,0,0]
["bright",0,0,0.1,0,0,0,0,0,0,0.1,0,0,0,0,0,0,0,0,0,0.1,0]
["comes",0,0,0,0,0,0,0.1,0,0,0.1,0,0,0,0,0.1,0,0,0.2,0,0.1,0]
["cupids",0,0,0,0,0,0,0,0,0,0.2,0.1,0,0,0.1,0.1,0,0,0.2,0.1,0,0]
["desires",0,0,0,0,0,0,0,0,0.2,0.1,0,0.1,0,0,0,0.1,0,0,0,0,0]
["dwell",0.1,0,0,0,0,0,0,0,0,0,0,0,0.1,0,0,0,0,0.1,0.1,0,0]
["ease",0,0,0,0,0,0,0,0,0,0.1,0,0,0.2,0,0,0.1,0,0.1,0.1,0,0]
["euer",0,0,0,0,0,0,0.1,0,0,0.1,0,0,0,0.1,0,0.1,0.1,0.2,0.1,0,0]
[false,0,0,0,0,0,0,0,0,0,0,0,0,0,0.1,0,0,0,0,0,0,7.0372980000000002E-2]
["feare",0,0,0,0,7.4183979999999997E-2,0.2,0.1,0,0,0.1,0,0,0,0,0.1,0,0.1,0.1,0,0,0]
["field",0.1,0,0,0,0,0,0.1,0.1,0,0,0.2,0,0,0,0,0,0,0,0,0,0.14074595000000001]
["fine",0.1,0,0,0,0,0,0,0,0.2,0.2,0.1,0,0,0,0,0.1,0,0,0,0,7.0372980000000002E-2]
["get",0,0,0,0,0,0,0,0,0,0.1,0.1,0,0,0,0.2,0,0.1,0,0,0,0]
["gifts",0.1,0,0.1,0,0,0.2,0,0,0,0,0,0,0.1,0.1,0,0,0,0.1,0.1,0,0]
["gold",0,0,0,0.1,7.4183979999999997E-2,0,0,0,0.1,0.1,0,0,0.1,0,0,0,0,0.1,0,0,7.0372980000000002E-2]
["ground",0,0,0,0.1,7.4183979999999997E-2,0,0.1,0,0,0,0,0,0,0,0,0.1,0,0,0,0,0]
["heau'n",0,0,0,0,0,0,0,0,0,0.1,0,0.2,0,0,0,0.1,0.2,0,0.1,0,7.0372980000000002E-2]
["held",0.1,0.1,0,0,0,0,0,0,0,0,0.1,0,0,0.1,0,0,0,0,0,0,0]
["hell",0.1,0,0.1,0,0,0,0,0,0.1,0,0,0,0,0,0,0,0,0.1,0.1,0,7.0372980000000002E-2]
["horse",0,0,0,0,0,0,0,0,0,0,0,0,0,0.1,0.4,0,0,0,0,0,0]
["image",0,0,0,0.2,0,0,0,0,0,0.1,0,0,0.1,0.2,0,0,0.1,0,0,0,0]
["ioyes",0,0,0,0,0,0,0,0,0,0,0,0,0,0.3,0,0.1,0,0.1,0,0,0.21111894]
["kind",0,0,0,0,0,0,0,0,0,0.1,0,0,0,0.1,0,0,0,0,0,0.1,0]
["leave",0,0,0.2,0,7.4183979999999997E-2,0,0,0,0.1,0,0,0,0,0,0,0,0,0,0,0,0]
["lesse",0,0,0,0,0,0,0.1,0,0,0,0,0,0,0,0.1,0,0.2,0.2,0,0.1,7.0372980000000002E-2]
["lo",0,0,0,0,7.4183979999999997E-2,0,0,0,0,0,0,0,0,0.1,0,0,0,0.3,0,0,0]
["looke",0.1,0,0,0,0,0,0.1,0,0.1,0,0,0.1,0,0,0.1,0.2,0.1,0,0,0,0]
["looks",0,0,0,0,0,0,0,0,0,0.1,0,0.1,0,0,0,0,0,0.1,0,0,0]
["lycidas",0,0,0,0,0,0,0,0,0,0,0,0,0,0,0,0,0,0,0,0,0]
["meane",0,0.1,0,0,0,0,0,0.1,0,0,0,0.1,0,0,0,0.1,0,0.3,0,0.1,0]
["minde",0,0.2,0,0,0.22255193000000001,0,0,0,0,0,0,0,0,0.1,0.1,0,0,0,0,0,7.0372980000000002E-2]
["misse",0,0,0,0,0,0,0.1,0,0,0,0,0,0.1,0,0.2,0.1,0,0.2,0,0.1,0]
["mouth",0,0,0,0,0,0.1,0,0.1,0,0.1,0,0,0.1,0,0,0,0,0,0.4,0,0]
["natures",0,0,0,0,0,0,0,0,0.1,0.3,0.1,0,0,0,0,0,0,0.1,0.2,0,0]
["nought",0.2,0.1,0,0.1,7.4183979999999997E-2,0,0,0,0,0,0.1,0.1,0,0.1,0,0,0,0,0,0,0]
["passe",0,0.1,0,0.1,0,0,0,0,0,0,0.1,0,0,0,0,0,0.1,0.1,0.1,0,0.14074595000000001]
["rixus",0,0,0,0,0,0,0.1,0.7,0,0,0,0,0,0,0,0,0,0,0,0,0]
["rombus",0,0,0,0,0,0.2,0.2,0.3,0.1,0,0,0,0,0,0,0,0,0,0,0,0]
["s",0,0,0,0,0,0.1,0,0,0,0,0,0,0,0,0,0,0,0,0,0,0]
["schoole",0,0,0,0,0,0.3,0.1,0.3,0,0,0,0,0,0,0,0.1,0,0,0,0,0]
["sent",0,0,0,0.1,0,0,0,0,0,0,0,0,0,0.2,0,0,0.1,0,0,0,0]
["sighes",0,0,0,0,7.4183979999999997E-2,0,0,0,0,0.1,0.1,0,0,0,0,0,0.1,0,0.2,0.1,7.0372980000000002E-2]
["sighs",0,0,0,0,0,0,0,0,0,0,0,0,0,0,0,0.1,0,0,0,0.3,0.14074595000000001]
["sights",0,0,0,0.1,7.4183979999999997E-2,0,0,0,0,0,0,0,0,0.2,0,0,0,0,0,0,0]
["skill",0,0,0,0.1,0,0,0.1,0,0.1,0,0.2,0,0,0.2,0,0,0,0,0,0,0]
["soul",0,0,0,0,0,0,0,0,0,0,0.2,0,0.1,0,0,0,0,0,0,0,0]
["spite",0,0.1,0,0,0,0,0,0,0.1,0,0,0,0,0,0,0.2,0,0,0.1,0,7.0372980000000002E-2]
["thousand",0,0.2,0,0,0,0,0.2,0,0,0,0,0,0,0,0,0,0,0,0,0,0]
["went",0,0,0.1,0.1,0,0.1,0.1,0,0,0,0,0.1,0,0,0,0,0,0,0,0,0]
["wind",0,0,0,0,7.4183979999999997E-2,0,0,0,0,0,0,0,0,0,0,0,0,0.1,0,0,0]
["woes",0,0,0,0,0,0.1,0,0,0,0,0.1,0,0,0,0,0.3,0,0,0,0,0.14074595000000001]
["'gainst",0,0,0,0,0,0,0,0,0,0,0,0,0,0,0,0,0,0,0,0,0]
["alone",0,0,0,0,7.4183979999999997E-2,0,0,0,0,0,0,0.2,0,0,0.2,0.1,0,0,0,0,0]
["another",0,0,0,0,0,0,0,0,0,0.1,0,0,0,0,0,0,0.1,0,0,0,0]
["armes",0,0,0,0.1,7.4183979999999997E-2,0,0,0,0,0,0.1,0,0,0.1,0,0,0.1,0,0.1,0.1,0]
["bad",0,0,0,0,0.14836795999999999,0,0,0,0,0,0,0.2,0,0,0,0,0,0,0,0.1,0.14074595000000001]
["blessed",0,0,0.3,0,7.4183979999999997E-2,0,0,0,0.1,0,0,0,0,0,0,0,0,0,0.2,0,0]
["blis",0,0.1,0.3,0.1,0.14836795999999999,0,0,0,0,0,0,0,0,0,0,0,0,0,0,0,0]
["canst",0,0,0,0,0,0,0.1,0,0,0,0,0,0,0.1,0,0,0,0,0,0.1,7.0372980000000002E-2]
["darke",0,0,0,0,0,0,0,0,0,0,0,0.1,0,0,0,0,0,0.1,0,0.3,0.14074595000000001]
["decay",0,0.2,0,0.2,0,0,0,0,0,0,0,0,0,0.1,0,0,0,0,0,0,0]
["ear",0,0,0,0,0,0,0,0,0,0,0,0,0.1,0,0,0,0.1,0,0,0,0]
["earthlie",0.1,0,0.2,0.1,0.22255193000000001,0,0,0,0,0,0,0,0,0,0,0,0,0,0,0,0]
["faith",0,0,0,0,0,0,0,0,0,0.1,0.1,0,0,0,0.1,0,0.1,0.1,0.2,0,0]
["fault",0,0,0,0,0,0,0,0,0,0.1,0,0.1,0,0,0,0,0,0,0.1,0.2,0.14074595000000001]
["fear",0,0,0,0,0,0,0,0,0,0,0.1,0,0,0,0,0,0,0,0,0,0]
["feele",0,0,0.1,0,0,0,0,0,0,0.2,0.1,0,0.1,0,0,0.1,0,0,0,0.1,0]
["fell",0,0,0,0.1,0.22255193000000001,0,0,0,0,0,0,0,0,0,0,0,0,0,0,0,7.0372980000000002E-2]
["felt",0.2,0,0,0.1,0,0,0,0,0,0,0,0,0,0,0,0.1,0,0,0.2,0,7.0372980000000002E-2]
["flow",0,0,0,0,0,0,0,0,0.1,0.1,0,0.1,0,0.1,0,0,0,0.1,0,0.1,7.0372980000000002E-2]
["flowers",0,0,0,0,0,0,0.1,0,0.1,0,0,0,0,0,0,0.1,0,0,0,0,0]
["folly",0,0,0,0,0,0.1,0,0.1,0,0,0,0.1,0,0,0,0,0,0,0,0,0]
["fooles",0,0,0,0,0,0,0,0.1,0,0,0,0.4,0,0,0,0,0,0,0,0,0.14074595000000001]
["friend",0,0,0,0,0,0,0,0,0,0,0.1,0.1,0,0,0,0.1,0.1,0,0,0.1,0.14074595000000001]
["gave",0,0,0,0,7.4183979999999997E-2,0,0,0,0,0,0,0,0,0,0,0,0,0,0,0,0]
["greatest",0,0.3,0,0,7.4183979999999997E-2,0,0.2,0,0,0,0,0.1,0,0,0,0,0,0,0,0,0]
["green",0,0,0,0,0,0,0,0,0,0,0,0,0,0,0,0,0,0,0,0,0]
["hands",0,0,0.1,0,0,0.1,0.1,0,0,0,0,0.2,0,0,0,0,0,0,0,0.1,0]
["hear",0,0,0,0,0,0,0,0,0,0,0,0,0,0,0,0,0,0,0,0,0]
["hid",0,0,0,0,0,0,0,0,0,0,0.1,0.3,0,0,0,0,0,0,0.1,0,7.0372980000000002E-2]
["hill",0,0,0,0,0,0,0,0,0,0.1,0,0,0,0,0,0,0,0,0,0,0]
["hue",0,0,0,0,0,0,0,0,0,0.1,0,0.1,0,0,0,0,0,0.1,0,0,0.14074595000000001]
["keep",0,0,0,0,0,0,0,0,0,0,0,0.1,0.1,0.1,0,0,0,0,0,0,0]
["keepe",0,0,0,0,0,0,0.1,0,0,0,0.1,0,0.1,0,0,0,0.1,0,0.2,0,7.0372980000000002E-2]
["king",0,0,0,0.2,0,0,0,0.1,0,0.1,0,0,0.1,0,0,0,0,0.1,0,0,0]
["knew",0.1,0,0,0,0,0.1,0,0,0,0,0,0,0,0,0,0,0,0,0,0,0]
["labour",0.2,0,0,0,0,0,0,0.1,0,0,0,0,0.1,0,0,0,0.2,0,0,0,0]
["ladie",0,0,0.2,0,7.4183979999999997E-2,0.1,0.2,0,0.1,0,0,0,0,0,0,0,0,0,0,0,0]
["lament",0.2,0.1,0,0.1,7.4183979999999997E-2,0,0,0,0,0,0,0,0,0,0,0,0,0,0,0,0]
["leaves",0,0,0,0,0,0,0,0,0,0,0,0,0,0,0,0,0,0,0,0,0]
["line",0,0,0,0,0,0,0,0,0.1,0,0,0,0,0,0,0,0,0,0,0,0.14074595000000001]
["list",0.1,0.1,0,0,0,0,0,0.1,0,0,0,0.1,0,0,0,0,0,0,0,0,0]
["lives",0.1,0.1,0,0,0,0,0,0,0,0,0,0,0,0,0,0,0,0,0,0,0]
["locks",0.1,0,0,0,0,0,0,0,0,0.1,0,0,0,0,0.1,0,0,0,0,0,0]
["lookes",0,0,0,0,0,0,0,0,0,0,0.1,0,0.1,0.1,0,0,0,0.1,0.1,0,0.14074595000000001]
["matter",0,0,0,0,0,0.3,0.1,0.1,0.1,0,0,0,0,0,0,0,0,0,0,0,0]
["mortall",0,0,0.2,0.2,0,0,0,0,0,0,0,0.1,0,0,0,0,0,0,0,0,0.14074595000000001]
["myself",0,0,0,0,0,0,0,0,0,0,0.2,0,0,0,0.1,0,0,0,0,0,0]
["o'er",0,0,0,0,0,0,0,0,0,0,0,0,0,0,0,0,0,0,0,0,0]
["ought",0.1,0.1,0,0,7.4183979999999997E-2,0,0,0,0,0.1,0,0,0,0,0,0,0.1,0,0,0,7.0372980000000002E-2]
["play",0,0.1,0,0,0,0,0,0,0,0,0.1,0,0,0.1,0,0,0,0.2,0,0,0]
["please",0,0,0,0,0,0.1,0,0,0,0,0,0.1,0.1,0,0,0,0,0.1,0,0.2,0]
["pleasures",0,0,0,0,0.14836795999999999,0,0.1,0,0,0,0,0,0,0,0,0,0,0,0,0,0]
["pray",0,0,0,0.1,0,0,0,0,0,0,0.1,0,0,0.1,0.1,0,0,0.1,0.1,0.1,0]
["raise",0,0.1,0.1,0,0,0,0,0.1,0,0,0,0.1,0,0,0,0,0,0,0,0,0]
["reasons",0,0,0,0.1,0,0,0,0,0.1,0,0.1,0,0.1,0,0,0.1,0.2,0,0,0,0]
["red",0,0,0,0,7.4183979999999997E-2,0,0,0,0,0.2,0,0,0,0.1,0,0,0,0,0,0.1,7.0372980000000002E-2]
["rose",0,0,0,0,0,0,0,0,0,0,0,0,0,0,0,0,0,0,0,0.1,7.0372980000000002E-2]
["sence",0,0,0,0,0,0,0,0,0,0.1,0,0,0,0.1,0,0.2,0,0.1,0,0.2,0]
["shalt",0,0,0.1,0,0,0,0,0.1,0,0.1,0,0,0,0.1,0,0,0,0,0,0,0]
["shine",0,0,0,0,0,0,0,0,0.1,0,0,0.1,0,0.1,0.1,0.1,0.1,0,0,0,7.0372980000000002E-2]
["sister",0.1,0,0.3,0,0,0,0,0,0,0,0,0,0,0,0,0,0,0,0,0,0]
["slaue",0,0,0,0,0,0,0.1,0,0.1,0,0,0,0.2,0,0.2,0,0,0,0.1,0,0]
["sleepe",0,0,0,0,0,0,0,0,0,0,0,0,0.1,0.5,0,0,0,0,0.1,0,0]
["slow",0,0,0,0,0,0,0,0,0,0,0,0,0,0,0,0.1,0.1,0,0,0.1,0]
["small",0.1,0,0,0,7.4183979999999997E-2,0,0.1,0,0,0,0,0,0,0,0,0,0,0.1,0,0.1,0]
["smart",0,0,0,0,0,0,0,0,0,0.1,0,0.1,0.1,0.2,0.1,0,0,0,0.1,0,0]
["sometimes",0,0,0,0,0,0,0.3,0,0,0.1,0,0,0,0,0,0,0,0,0,0,0]
["sought",0,0.1,0,0,7.4183979999999997E-2,0,0,0,0.1,0,0,0,0,0.1,0,0,0,0,0,0,0]
["spirite",0,0,0.5,0,0.14836795999999999,0,0,0,0,0,0,0,0,0,0,0,0,0,0,0,0]
["sprites",0,0,0,0,0,0,0,0,0.1,0,0.1,0,0,0.1,0,0,0,0.1,0.1,0.2,0]
["store",0.1,0.1,0,0,0,0,0,0,0,0,0,0.1,0,0,0,0,0,0,0,0,7.0372980000000002E-2]
["sweetly",0,0,0,0,7.4183979999999997E-2,0,0,0,0,0,0,0.1,0,0,0,0.2,0,0.1,0,0,0]
["sweets",0,0,0,0,0,0,0,0,0,0,0,0,0,0,0,0.1,0,0.1,0,0,0]
["think",0,0,0,0,0,0,0,0,0,0,0,0.1,0,0,0,0,0,0,0,0,0]
["tree",0,0,0,0.1,0,0,0,0,0,0.1,0,0,0.2,0,0,0,0,0,0.1,0.1,0]
["us",0,0,0.1,0,0,0,0,0,0,0,0,0,0,0,0,0,0,0,0,0,0]
["voyce",0,0,0,0,0.14836795999999999,0,0,0,0,0.1,0,0,0,0,0,0.3,0,0.1,0,0,0]
["weep",0,0,0,0,0,0,0,0,0,0,0,0,0,0,0,0,0,0,0,0,0]
["whilst",0.1,0.1,0.1,0,7.4183979999999997E-2,0,0,0,0,0,0,0,0,0,0,0,0,0,0,0,0]
["whole",0.1,0,0,0,0,0.2,0.1,0,0,0,0,0,0.1,0,0,0.2,0,0,0,0,0]
["wide",0,0.2,0,0,7.4183979999999997E-2,0,0,0,0,0,0.1,0,0,0,0,0,0,0,0,0,0]
["wilt",0,0,0,0,0,0,0.1,0,0,0.1,0,0,0.1,0,0,0.1,0,0,0,0,0]
["winds",0,0,0,0,0,0,0,0,0,0,0,0,0,0,0,0,0,0,0,0,7.0372980000000002E-2]
["wish",0,0,0,0,0,0.1,0,0,0.1,0,0,0,0,0,0,0,0.1,0,0.2,0.1,7.0372980000000002E-2]
["wont",0,0.5,0,0,0,0,0,0,0,0,0,0,0,0,0,0,0,0,0,0.1,0]
["woods",0,0,0,0,0,0.1,0.3,0,0,0,0,0,0,0,0,0,0,0,0,0,0]
["againe",0,0,0,0.2,0,0,0.1,0.1,0,0,0,0,0,0,0,0,0.1,0.1,0,0,0]
["appeare",0,0,0,0.1,7.4183979999999997E-2,0,0,0,0,0,0,0,0,0,0,0,0,0.2,0.1,0,7.0372980000000002E-2]
["bear",0,0,0,0,0,0,0,0,0,0,0,0,0,0,0,0,0,0,0,0,0]
["beares",0.1,0,0,0,0.14836795999999999,0,0,0,0,0,0,0,0,0,0,0.1,0,0.1,0,0.1,0]
["bore",0,0,0,0,7.4183979999999997E-2,0,0,0,0,0,0,0,0,0,0,0,0,0,0,0,0]
["breathe",0,0,0,0,0,0,0,0,0.1,0.1,0,0.1,0,0,0.1,0,0,0,0,0,0]
["brings",0,0,0,0,0,0,0,0,0,0.1,0.1,0,0.1,0.2,0,0,0,0,0,0,0]
["cease",0,0,0,0,0,0,0,0,0,0,0,0,0,0.1,0,0,0.1,0,0.2,0,7.0372980000000002E-2]
["change",0,0.1,0,0.1,0,0,0,0,0,0,0,0,0,0,0,0,0,0,0.1,0,0]
["child",0,0,0,0,0,0,0,0.1,0,0,0,0,0,0,0,0,0,0,0,0.1,0]
["close",0,0.1,0,0,0,0,0,0,0,0.1,0,0.1,0.1,0,0,0,0,0,0,0,0]
["count",0.1,0.1,0.1,0,0,0,0,0,0,0,0,0.1,0,0,0,0,0,0,0,0,0]
["court",0,0,0,0,0,0,0,0,0,0.1,0,0,0.2,0.1,0,0,0,0,0,0,0]
["cruell",0,0.2,0,0,0,0,0,0.1,0,0,0,0,0,0,0.1,0,0.1,0,0,0.1,0]
["curst",0,0,0,0,0,0,0,0,0,0,0.1,0,0,0.1,0,0,0,0,0,0.1,0.21111894]
["dart",0,0,0,0,0,0.1,0,0,0,0.2,0,0.1,0,0.1,0,0,0,0.1,0,0,0]
["disgrace",0,0,0,0,0,0,0,0,0,0,0.1,0,0,0.1,0,0.1,0.1,0,0,0,0.14074595000000001]
["either",0,0.1,0,0,0,0,0,0.2,0,0,0,0.1,0,0.1,0,0,0,0,0,0,0]
["eloquence",0,0,0,0,0,0,0,0,0,0,0,0.1,0,0.1,0,0.2,0,0,0,0,0.14074595000000001]
["embrace",0,0,0.1,0,0,0,0,0,0,0.1,0.1,0,0,0,0,0,0,0.1,0.1,0,0]
["estate",0,0,0,0,0,0.1,0.3,0.2,0,0,0,0,0,0,0,0,0,0,0,0,0]
["excell",0,0,0,0,7.4183979999999997E-2,0,0.2,0,0.1,0,0,0,0.1,0.1,0,0,0,0,0,0,0]
["excellent",0,0,0.1,0,0,0.2,0.1,0.1,0.1,0,0,0,0,0,0,0,0,0,0,0,0]
["faine",0,0,0,0,0,0,0,0,0,0,0,0,0,0,0,0,0,0.1,0.2,0,0.21111894]
["fairest",0,0,0,0,0,0.1,0,0,0.1,0,0.1,0,0,0,0,0,0.1,0,0,0,7.0372980000000002E-2]
["fate",0,0.1,0,0.1,7.4183979999999997E-2,0,0,0,0,0,0,0,0,0,0,0.1,0,0,0,0.1,0]
["faults",0,0,0,0,0,0,0.2,0,0.3,0,0,0,0,0,0,0,0,0,0.1,0,0]
["finding",0,0,0,0,0,0,0,0.1,0,0.1,0.1,0,0.1,0,0,0,0,0,0,0.1,0]
["flower",0,0.1,0,0,0,0,0,0,0,0,0.1,0,0,0,0,0,0,0,0,0,0]
["fortunes",0.1,0.1,0,0.1,7.4183979999999997E-2,0,0,0,0,0,0,0.1,0,0,0,0.1,0,0,0,0,0]
["glorie",0.1,0.1,0,0.1,0.14836795999999999,0,0,0,0.1,0,0,0,0,0,0,0,0,0,0,0,0]
["god",0,0.1,0,0,7.4183979999999997E-2,0,0,0,0.1,0.1,0,0,0,0,0,0,0,0.1,0,0.1,0]
["goodly",0.2,0,0.1,0,7.4183979999999997E-2,0,0,0,0.1,0,0,0,0,0,0,0,0,0,0,0,0]
["got",0,0,0,0.1,0,0,0,0,0.2,0,0.2,0,0,0,0.1,0,0,0,0,0,0]
["guest",0,0,0,0,0,0,0,0,0,0.1,0,0.1,0,0.1,0,0,0,0,0,0,7.0372980000000002E-2]
["hast",0,0,0,0,0,0,0,0,0,0,0,0,0.1,0.2,0,0,0.1,0,0,0.1,0]
["heavenly",0,0,0,0,0.37091987999999998,0,0,0,0,0,0,0,0,0,0,0,0,0,0,0,0]
["helpe",0,0,0,0,0,0.1,0,0,0,0,0,0,0.1,0,0.1,0.1,0,0.1,0,0,7.0372980000000002E-2]
["herself",0,0,0,0,0,0,0,0,0,0,0,0.1,0,0.1,0,0,0,0,0,0,0]
["hopes",0,0,0,0,0,0,0.1,0,0.1,0.1,0,0,0,0,0,0,0.1,0.1,0.1,0,0]
["indeed",0,0,0,0,0,0,0.1,0.1,0,0.1,0,0,0,0,0.1,0.2,0,0,0,0,0]
["knowledge",0,0.1,0,0,0,0,0,0,0.1,0,0.1,0.1,0,0,0,0,0,0,0,0,0]
["liue",0,0,0,0,0,0,0.1,0,0,0,0,0,0,0,0,0,0,0.1,0,0.3,7.0372980000000002E-2]
["lost",0.1,0.1,0,0,0,0,0,0.1,0.1,0,0,0,0.1,0,0,0,0.1,0,0,0,0]
["lou'd",0,0,0,0,0,0,0,0,0.1,0,0,0,0.1,0.1,0,0.2,0,0,0,0.1,0]
["louers",0,0,0,0,0,0,0,0,0,0.1,0,0,0.2,0.2,0.1,0,0,0,0,0,0]
["maid",0,0,0,0,0,0,0.1,0,0,0,0,0,0,0,0,0,0,0,0,0,0]
["manie",0.1,0.2,0.1,0,7.4183979999999997E-2,0,0.1,0,0,0,0,0,0,0,0,0,0,0,0,0,0]
["mars",0,0,0,0,0,0,0,0,0,0,0.4,0,0,0,0,0,0,0.2,0,0,0]
["met",0,0,0,0,0,0,0,0,0,0,0,0.2,0,0,0,0,0,0,0,0,0]
["mirth",0,0,0,0,0,0,0,0,0,0,0,0,0,0,0,0,0.1,0,0,0,7.0372980000000002E-2]
["nectar",0,0,0,0.1,0,0,0,0,0,0,0,0,0,0,0,0,0.1,0,0.1,0,7.0372980000000002E-2]
["nigh",0.2,0,0,0.2,7.4183979999999997E-2,0,0,0,0,0,0,0,0,0,0,0,0,0,0,0,0]
["notes",0,0,0,0,0,0,0,0,0,0,0,0,0,0,0,0,0.2,0,0,0,7.0372980000000002E-2]
["nymph",0,0,0,0,0,0,0,0,0,0,0,0,0.1,0,0,0,0,0,0.2,0,0]
["over",0,0,0,0,7.4183979999999997E-2,0.1,0,0,0,0,0,0,0,0,0,0,0,0,0,0,0]
["paines",0,0,0,0,0,0,0,0,0,0,0,0.1,0,0,0,0.2,0,0,0.1,0.2,0]
["paint",0,0,0,0,0,0,0,0,0.2,0,0,0,0,0,0,0,0.1,0,0.1,0.1,7.0372980000000002E-2]
["pale",0,0,0,0,0,0,0,0,0,0.1,0,0,0,0,0,0,0,0,0,0,0]
["pardon",0,0,0,0,0,0,0,0,0.1,0.1,0,0,0,0,0.2,0,0,0,0.1,0,0]
["parts",0,0,0,0.1,0,0.1,0,0,0,0,0,0,0.1,0,0,0,0,0,0,0,0]
["pay",0,0,0,0,0,0,0,0,0,0,0.1,0,0,0.1,0,0,0,0.1,0.1,0,0]
["pen",0,0,0,0,0,0,0,0,0.1,0.1,0.1,0,0,0,0.1,0,0.2,0,0,0,0]
["perfect",0.1,0,0.1,0,0,0,0,0,0,0,0,0,0,0,0,0,0,0.1,0,0,7.0372980000000002E-2]
["perhaps",0,0,0,0,0,0,0,0,0,0,0.1,0,0.1,0,0,0.1,0.1,0,0,0,0]
["piteous",0.1,0,0,0.3,0,0,0,0,0,0,0,0,0,0,0,0,0.1,0,0,0,0]
["pleasure",0,0,0,0,7.4183979999999997E-2,0,0,0.1,0.2,0,0,0,0,0,0,0,0,0,0,0,0]
["poets",0,0.1,0.1,0.1,0,0,0,0,0,0,0,0,0,0,0,0,0,0.1,0,0.1,0]
["point",0,0,0,0,0,0.1,0,0.2,0.1,0,0.1,0,0,0,0.1,0,0,0,0,0,0]
["powers",0,0,0,0,0,0,0,0,0,0.1,0,0.1,0,0,0,0,0,0,0,0.1,0.14074595000000001]
["put",0,0,0,0,0,0,0,0,0,0,0,0,0,0,0.1,0,0.1,0,0,0,0]
["question",0,0,0,0,0,0,0.1,0,0.1,0,0,0,0,0,0,0,0,0,0,0,0]
["rather",0,0,0,0,0,0,0,0.1,0.1,0.1,0,0,0,0,0,0,0.1,0.1,0,0,0]
["reach",0,0,0,0.2,7.4183979999999997E-2,0,0,0,0.1,0.1,0,0,0.1,0,0,0,0,0,0,0,0]
["ride",0.1,0,0,0.1,0,0,0,0,0,0,0,0.1,0,0,0,0,0,0,0,0,0]
["scarce",0,0,0,0,7.4183979999999997E-2,0,0,0,0,0,0,0,0,0,0,0,0,0,0,0.1,0]
["scorne",0.1,0,0,0,7.4183979999999997E-2,0,0,0,0,0,0,0.1,0,0,0.1,0,0.1,0.1,0,0,0]
["seeke",0,0,0,0.1,7.4183979999999997E-2,0.1,0.1,0,0,0,0,0,0,0,0,0,0,0,0,0.2,0]
["shades",0.1,0,0,0,0,0,0,0,0,0.1,0,0,0,0,0,0,0,0,0,0,7.0372980000000002E-2]
["shepheard",0,0.1,0,0,0,0,0.3,0.2,0,0,0,0,0,0,0,0,0,0,0,0,0]
["shore",0.1,0,0,0,7.4183979999999997E-2,0,0,0,0,0,0,0,0,0,0,0.1,0,0,0,0,0]
["short",0,0,0,0,7.4183979999999997E-2,0,0,0,0.1,0,0,0,0,0,0,0.1,0,0.1,0.1,0,0]
["shot",0,0,0,0,0,0,0,0,0.1,0,0.1,0.1,0.1,0.1,0.1,0,0,0,0,0,0]
["shouldst",0,0,0,0,0,0,0,0,0,0.1,0,0,0,0.1,0,0,0,0,0,0,0]
["sicke",0,0,0,0,0,0,0,0,0,0,0,0,0,0,0,0,0,0,0,0,0.42223787000000002]
["sinfull",0.1,0,0.1,0,7.4183979999999997E-2,0,0,0,0,0,0.2,0,0,0,0,0,0,0,0.1,0,0]
["singing",0,0,0.1,0,0,0,0.1,0.2,0,0,0,0,0,0,0,0,0,0,0,0,0]
["sings",0,0,0.1,0,0,0,0,0,0,0,0,0,0,0.1,0,0,0,0,0,0,0]
["skin",0,0,0,0,0,0,0,0,0.1,0.1,0,0,0.2,0,0,0,0,0.1,0,0,0]
["soules",0,0,0.1,0,0,0,0,0.2,0,0,0,0,0,0,0.1,0,0,0,0.2,0,0]
["spend",0,0,0.1,0,0,0,0,0,0,0,0.1,0,0,0,0,0,0.1,0,0,0,0]
["spent",0.1,0,0.1,0,0,0,0,0,0,0,0.2,0,0,0,0,0,0,0,0,0,7.0372980000000002E-2]
["sweare",0,0,0,0,0,0,0,0,0,0.1,0,0,0,0,0.1,0,0,0.1,0.1,0.1,7.0372980000000002E-2]
["takes",0,0,0,0,0,0,0,0,0,0,0,0,0,0,0,0,0,0,0,0,7.0372980000000002E-2]
["tears",0,0,0,0,0,0,0,0,0,0,0,0,0,0,0,0,0,0,0,0,0]
["tedious",0,0,0,0,0,0,0.1,0,0,0.1,0,0,0,0,0,0,0.1,0.1,0,0.1,7.0372980000000002E-2]
["ten",0,0,0,0,0,0,0,0,0,0,0,0,0,0,0,0,0,0,0,0,0]
["times",0,0.1,0,0,0,0,0,0,0,0,0,0,0,0,0,0,0,0,0,0.1,0]
["together",0,0,0,0,7.4183979999999997E-2,0,0,0,0,0,0,0,0,0,0,0,0,0,0.1,0,0]
["tongue",0,0,0,0,0,0.1,0.1,0,0,0,0,0,0.1,0,0.2,0,0,0,0,0,0]
["touch",0,0,0,0,0,0,0,0,0,0.4,0,0,0,0,0,0,0,0.1,0,0,0]
["use",0,0,0,0,0,0,0,0,0,0,0,0,0,0,0,0,0,0,0,0,7.0372980000000002E-2]
["vertuous",0,0,0.1,0.2,0,0,0,0,0,0,0,0.1,0,0,0.1,0,0.1,0,0,0,0]
["vnkind",0,0,0,0,0,0,0,0,0,0,0,0,0,0.2,0.1,0.2,0.1,0,0,0,0]
["wanton",0,0,0,0,0,0,0,0,0.1,0,0,0,0,0,0,0,0,0.1,0,0,7.0372980000000002E-2]
["water",0,0.1,0,0,0,0,0.1,0,0,0,0,0,0.1,0,0,0,0,0,0,0,0]
["whiles",0,0.2,0.1,0,0,0,0,0,0,0,0,0.1,0,0,0,0,0,0,0,0.1,7.0372980000000002E-2]
["wight",0,0.1,0,0.1,7.4183979999999997E-2,0,0,0,0,0,0,0.1,0,0,0,0,0,0,0,0,0.14074595000000001]
["win",0,0,0,0,0,0,0.1,0,0,0,0.1,0,0,0,0,0,0.1,0,0.1,0,0]
["within",0,0,0,0,0,0,0,0,0,0,0,0.1,0.2,0,0.1,0,0,0,0,0,0]
["wood",0,0,0.1,0,7.4183979999999997E-2,0,0,0,0,0,0,0,0,0,0,0,0,0,0,0.1,0]
["wound",0,0,0,0.1,0,0,0,0,0.2,0,0.1,0,0,0,0.1,0,0,0.1,0,0,0]
["wretched",0.1,0,0.2,0,0,0,0,0,0,0,0,0.1,0,0,0,0,0,0,0,0.1,0]
["yong",0,0,0,0.1,0,0.3,0.1,0,0,0,0,0,0,0,0,0,0,0,0,0,7.0372980000000002E-2]
["'o",0,0,0,0,0,0,0,0,0,0,0,0,0,0,0,0,0,0,0,0,0]
["although",0,0,0,0,7.4183979999999997E-2,0.1,0,0,0.1,0,0,0,0,0.1,0,0,0,0.1,0,0,0]
["appear",0,0,0,0,0,0,0,0,0,0,0,0,0,0,0,0,0,0,0,0,0]
["ashes",0.1,0,0,0.1,0.22255193000000001,0,0,0,0,0,0,0,0,0,0,0,0,0,0,0,0]
["ask'd",0,0,0,0,0,0,0,0,0,0,0,0,0,0,0,0,0,0,0,0,0]
["backe",0.2,0,0.1,0,0,0,0.1,0,0,0,0,0,0,0,0,0,0.1,0,0,0,0]
["beast",0.1,0,0.1,0,0,0,0.2,0,0,0,0,0,0,0,0.1,0,0,0,0,0,0]
["beasts",0,0,0,0,0.14836795999999999,0,0.2,0,0.1,0,0,0,0,0,0,0,0,0,0,0,0]
["begin",0,0,0,0,0,0,0,0,0,0,0.1,0,0.1,0,0,0,0,0,0,0,0]
["beside",0.1,0,0,0,7.4183979999999997E-2,0,0,0,0,0,0,0,0,0,0,0,0,0,0,0,0]
["betweene",0,0,0,0,0,0,0.1,0,0,0.1,0.1,0,0,0.1,0,0,0,0.1,0,0,0]
["blest",0,0,0,0,0,0,0,0,0,0,0.1,0,0,0,0,0.1,0,0.1,0.1,0,0]
["blush",0,0,0,0,0,0,0,0,0,0,0,0,0,0,0.1,0,0.1,0.1,0.1,0,0]
["brain",0,0,0,0,0,0,0,0,0.1,0,0,0.1,0,0,0,0,0,0,0,0,0]
["braue",0,0,0,0,0,0,0.2,0,0,0.1,0,0,0.1,0,0,0,0,0,0.1,0,0]
["built",0,0,0,0.3,0,0,0,0,0,0.1,0,0,0,0,0,0,0,0,0,0,0]
["cast",0,0,0,0,7.4183979999999997E-2,0.1,0,0,0,0,0,0,0,0,0,0,0,0,0,0,0]
["certaine",0,0,0,0,0,0.2,0.1,0.1,0,0,0,0,0,0.1,0,0,0,0,0,0,0]
["cheek",0,0,0,0,0,0,0,0,0,0,0,0,0,0,0,0,0,0,0,0,0]
["conquest",0.1,0,0,0,0,0,0,0,0.1,0,0,0,0.1,0,0,0,0.1,0,0,0,0]
["content",0,0,0,0,0,0,0,0,0,0,0,0,0,0,0,0,0.1,0,0.2,0,0]
["countrey",0,0,0.1,0,0,0.3,0,0,0,0.1,0,0,0,0,0,0,0,0,0,0,0]
["crie",0,0.1,0,0.1,0,0,0,0,0.1,0,0.1,0,0,0,0,0,0.1,0,0,0,0]
["cries",0,0,0,0,0,0,0,0,0,0,0,0,0,0,0.1,0,0.1,0.2,0,0,0]
["curious",0,0,0,0,7.4183979999999997E-2,0,0,0,0,0,0,0.2,0,0.1,0,0,0,0,0,0,0]
["dainty",0,0,0,0,0,0,0,0,0.1,0,0,0,0,0.1,0,0.1,0,0,0,0,7.0372980000000002E-2]
["dame",0,0.1,0.1,0,0,0.1,0,0.1,0.1,0,0,0,0,0,0,0,0,0,0,0,0]
["deed",0,0,0,0,0,0,0,0,0.1,0,0,0,0,0,0,0,0.1,0,0.1,0,0]
["deeds",0,0.1,0.1,0.3,0,0,0,0,0,0,0,0,0,0,0,0,0,0,0,0,0]
["delights",0,0,0,0,7.4183979999999997E-2,0,0,0,0,0,0,0,0,0,0,0,0,0,0,0,7.0372980000000002E-2]
["dolefull",0,0.2,0,0.1,7.4183979999999997E-2,0,0.1,0,0,0,0,0,0,0,0,0,0,0,0,0,0]
["doubt",0.1,0,0,0,0,0,0,0,0.1,0,0,0,0.1,0,0,0.1,0,0,0,0,0]
["due",0,0,0,0,0,0,0,0,0,0,0,0,0,0,0,0,0,0,0.1,0,0]
["dust",0.1,0,0.2,0,7.4183979999999997E-2,0,0,0,0,0,0,0,0,0,0,0,0,0,0,0,7.0372980000000002E-2]
["eies",0,0,0,0.1,0,0.1,0,0.1,0,0,0,0.1,0,0,0.1,0,0,0,0,0,0]
["els",0,0.3,0.1,0.1,0,0,0,0,0,0,0,0,0,0,0,0,0,0,0,0,0]
["enough",0,0,0,0,0,0,0,0,0,0,0.1,0,0,0,0,0,0,0,0,0,0.14074595000000001]
["fairer",0,0,0,0,0.22255193000000001,0,0,0,0,0,0,0,0,0,0,0,0,0,0,0,0]
["feeling",0,0,0,0,7.4183979999999997E-2,0,0,0,0.1,0,0,0,0,0,0,0,0,0,0,0,7.0372980000000002E-2]
["fill",0,0,0,0,0,0,0,0,0,0,0,0,0.1,0,0,0,0,0,0,0,0]
["finde",0,0,0,0,0,0,0,0,0,0,0,0,0,0.1,0,0.2,0.1,0,0,0,7.0372980000000002E-2]
["flight",0,0,0,0,0.14836795999999999,0,0,0,0,0.1,0,0,0,0,0,0,0,0,0,0,0]
["flood",0,0,0,0,7.4183979999999997E-2,0,0,0,0,0,0,0,0,0,0,0,0,0,0,0,0]
["food",0,0,0,0,0,0,0,0,0,0,0,0,0.1,0.1,0,0,0,0.1,0.2,0,0]
["form",0,0,0,0,0,0,0,0,0,0,0,0,0,0,0,0,0,0,0,0,0]
["fruit",0,0,0,0.1,0,0,0,0,0,0.1,0,0.1,0,0,0,0,0,0,0.1,0,0]
["gaine",0,0.2,0,0.1,0,0,0,0,0,0,0,0,0,0,0,0.1,0,0.1,0,0,0]
["glasse",0,0.1,0,0,0,0,0,0,0,0,0,0.1,0,0,0,0,0,0,0.1,0,0.14074595000000001]
["goe",0,0,0,0,0,0,0,0,0,0,0.1,0,0,0,0.2,0,0,0.1,0,0.1,0]
["golde",0.2,0,0,0,0.22255193000000001,0,0,0,0,0,0,0,0,0,0,0,0,0,0,0,0]
["gracious",0,0,0.1,0,0,0.1,0,0,0,0,0.1,0,0,0,0,0,0,0,0,0,0]
["graunt",0,0,0,0,0,0,0,0,0,0,0,0,0.1,0,0.1,0.3,0,0,0,0,0]
["happinesse",0,0,0.2,0,7.4183979999999997E-2,0.1,0,0,0.1,0,0,0,0,0,0,0,0,0,0,0,0]
["hate",0,0,0,0,7.4183979999999997E-2,0,0,0,0,0,0.1,0,0,0,0,0.1,0,0,0,0,0]
["hauing",0,0,0,0,0,0,0,0,0,0,0.1,0.1,0,0.1,0.1,0.1,0,0,0,0,0]
["heauy",0,0,0,0,0,0,0,0,0,0,0,0,0,0.2,0,0,0,0,0,0.1,0.14074595000000001]
["himself",0,0,0,0,0,0,0,0,0,0.1,0,0.1,0,0,0,0,0,0,0,0,0]
["house",0,0,0.1,0,0,0,0.1,0,0,0,0,0,0,0,0,0,0,0,0.1,0,0]
["lap",0,0,0,0,0,0,0,0,0,0,0.1,0,0,0,0,0.2,0,0,0,0,0]
["learned",0.1,0,0.1,0,0,0.2,0,0,0,0,0,0,0,0,0,0,0,0,0,0,0]
["lent",0,0,0,0.1,0,0,0.1,0,0,0,0.1,0,0,0,0,0,0,0,0,0,0]
["losse",0.1,0,0,0,0.14836795999999999,0.1,0,0,0,0,0,0,0.1,0,0,0,0,0,0,0,0]
["making",0,0,0,0,0,0.1,0,0.1,0,0,0,0,0,0,0,0.1,0,0,0,0,7.0372980000000002E-2]
["master",0,0,0,0,0,0.2,0,0.3,0,0,0,0,0,0,0,0,0,0,0,0,0]
["meant",0,0,0,0,0,0,0,0,0.1,0,0,0,0,0,0,0.1,0,0,0,0,0]
["meet",0,0,0,0,0,0,0,0,0,0,0,0,0,0,0,0,0,0,0.1,0,7.0372980000000002E-2]
["melancholy",0,0,0,0,0,0,0,0,0,0,0,0.1,0,0,0,0,0,0,0,0,0]
["memorie",0.2,0,0.1,0,7.4183979999999997E-2,0,0,0,0,0,0,0,0,0,0.1,0,0,0,0,0,0]
["mightie",0.1,0.1,0.1,0,0.14836795999999999,0,0,0,0,0,0,0,0,0,0,0,0,0,0,0,0]
["minds",0,0,0,0,0,0.1,0,0,0,0,0,0,0,0,0,0,0.2,0,0,0,0]
["mone",0,0.2,0,0,0,0,0,0,0,0,0,0,0,0.1,0.1,0.1,0,0,0,0,0]
["morn",0,0,0,0,0,0,0,0,0,0,0,0,0,0,0,0,0,0,0,0,0]
["morning",0,0,0,0,0,0,0,0,0,0.1,0,0,0,0,0.1,0,0,0,0,0,7.0372980000000002E-2]
["mother",0,0,0,0,0,0.1,0,0,0,0,0.1,0,0,0,0,0,0,0,0,0,0]
["mourning",0,0.1,0.1,0,7.4183979999999997E-2,0,0,0,0,0.1,0,0,0,0,0,0,0,0,0,0,7.0372980000000002E-2]
["music",0,0,0,0,0,0,0,0,0,0,0,0,0,0,0,0,0,0,0,0,0]
["ones",0,0.2,0.1,0,0,0,0,0.1,0,0,0,0,0,0,0,0,0,0,0.1,0,0]
["orpheus",0,0,0.1,0.1,7.4183979999999997E-2,0,0,0,0,0,0,0,0,0,0,0,0,0,0,0,0]
["passions",0,0,0,0,0,0,0,0,0,0,0.1,0,0,0,0,0,0.1,0.1,0,0,0]
["plaint",0.1,0.1,0,0.1,0,0,0,0,0,0.1,0,0,0,0,0,0,0,0,0,0.1,0]
["plaints",0,0.2,0,0,0,0,0,0,0,0,0,0,0,0,0,0.1,0,0,0,0,0.14074595000000001]
["playing",0,0,0,0,0,0,0,0,0,0.1,0,0,0,0,0,0,0,0,0,0,0]
["poet",0,0.1,0,0.1,0,0,0,0,0,0,0,0,0.1,0,0,0,0,0,0,0,0]
["possesse",0,0,0,0,0,0,0.1,0,0.1,0,0,0.1,0.2,0,0,0,0,0,0,0,0]
["powre",0.1,0.1,0.1,0,0,0,0,0,0,0,0,0,0,0.1,0,0,0.1,0,0,0,0]
["prince",0,0.2,0,0,7.4183979999999997E-2,0,0,0,0,0,0,0.1,0,0,0,0,0,0,0,0,0]
["raine",0.1,0,0,0.1,0,0,0,0,0,0.1,0,0,0,0,0,0.1,0,0,0,0,7.0372980000000002E-2]
["rare",0.1,0,0.1,0,0,0,0,0,0,0,0,0,0.1,0,0,0,0.1,0,0,0,0]
["read",0,0,0,0.1,0,0,0,0,0,0,0,0.1,0,0,0,0,0,0,0,0,0]
["reade",0,0,0,0,0,0,0,0,0.1,0,0,0,0.1,0,0,0.2,0.1,0,0,0,0]
["riches",0.1,0,0,0,7.4183979999999997E-2,0,0,0,0,0,0,0,0.1,0,0.1,0,0,0.1,0,0,0]
["ring",0,0,0.1,0,0,0,0,0,0,0,0,0,0,0,0,0,0,0,0,0,0]
["rise",0,0,0,0,0,0,0,0,0,0,0.1,0.1,0,0.1,0,0,0,0,0,0,7.0372980000000002E-2]
["roses",0,0,0,0,0,0,0,0,0,0,0.1,0,0,0,0,0,0,0,0,0,0.14074595000000001]
["rude",0,0,0,0,0,0,0,0,0,0,0,0,0,0,0,0,0.1,0,0,0,7.0372980000000002E-2]
["sable",0,0,0,0,7.4183979999999997E-2,0,0,0,0,0,0.1,0,0,0,0,0,0,0,0,0,0]
["save",0,0.2,0,0.1,0,0,0,0,0,0,0,0,0,0,0,0,0,0,0,0,0]
["saying",0,0,0,0,0,0.1,0.1,0.1,0,0,0.1,0,0.1,0,0,0,0,0,0,0,0]
["seeing",0.1,0,0,0,0,0,0,0,0,0,0,0.1,0,0.1,0,0,0,0,0,0.2,0]
["seem",0,0,0,0,0.14836795999999999,0,0,0,0,0,0,0,0,0,0.1,0,0,0,0,0,0]
["seemed",0,0,0,0,0.2967359,0.1,0,0,0,0,0,0,0,0,0,0,0,0,0,0,0]
["seen",0,0,0,0,0,0,0,0,0,0,0,0,0,0,0,0,0,0,0,0,0]
["seene",0,0.2,0,0,7.4183979999999997E-2,0.1,0,0,0,0,0,0,0,0,0,0,0,0,0.1,0,0]
["senses",0,0,0,0,7.4183979999999997E-2,0,0,0,0,0.1,0,0.1,0,0,0,0,0,0,0,0,0]
["seruants",0,0,0,0,0,0,0.1,0,0,0,0,0.1,0,0.1,0,0,0,0,0.1,0,7.0372980000000002E-2]
["shield",0,0,0,0,0,0.1,0,0,0,0,0.2,0,0,0.2,0,0,0,0,0,0,0]
["silver",0.1,0.1,0.1,0,0.14836795999999999,0,0,0,0,0,0,0,0,0,0,0,0,0,0,0,0]
["simple",0,0.1,0,0,0,0,0,0,0,0.1,0,0,0,0,0,0,0,0,0,0,0]
["sit",0,0,0,0,0,0,0,0,0,0,0,0,0,0,0,0,0.1,0.1,0,0.1,7.0372980000000002E-2]
["sith",0.2,0.1,0.1,0,7.4183979999999997E-2,0,0,0,0,0,0,0,0,0,0,0,0,0,0,0,0]
["sits",0,0,0,0.1,0,0,0,0,0,0,0,0,0,0,0.1,0,0,0,0,0,0]
["smooth",0,0.1,0,0,0,0,0,0,0,0,0,0,0,0.1,0,0,0,0.1,0,0,0]
["something",0,0,0,0,0,0.1,0.1,0,0,0,0,0,0,0,0,0,0,0,0.1,0,0]
["sometime",0,0,0,0,0,0,0,0,0,0,0,0,0,0,0,0,0,0,0,0,0]
["sort",0,0.1,0,0,0,0.1,0,0.1,0.1,0,0,0,0,0,0,0,0.1,0,0,0,0]
["stars",0,0,0,0,0,0,0.2,0,0,0,0,0,0,0,0,0,0,0,0,0,7.0372980000000002E-2]
["stop",0,0,0,0,0,0,0,0,0,0,0,0.1,0,0,0,0,0,0,0.1,0,0]
["stream",0,0,0,0,0,0,0,0,0,0,0,0,0,0,0,0,0,0,0,0,0]
["streames",0.1,0.1,0,0,7.4183979999999997E-2,0,0,0,0,0,0,0,0,0,0.1,0,0,0,0,0,7.0372980000000002E-2]
["sugred",0,0,0,0,0,0,0,0,0,0,0.1,0.1,0,0,0,0.1,0,0.1,0,0,7.0372980000000002E-2]
["sung",0,0,0.1,0,7.4183979999999997E-2,0,0.1,0.1,0,0,0,0,0,0,0,0,0,0,0,0,0]
["sunne",0,0,0,0,0,0,0,0,0,0,0,0.1,0,0,0,0,0.1,0.1,0,0.2,0]
["tame",0,0,0,0,0,0,0,0.1,0,0,0,0.1,0.1,0,0,0,0,0.1,0,0,0]
["teach",0,0,0,0.1,0,0,0,0.1,0,0,0,0,0,0,0,0.1,0,0,0.1,0,0]
["themselves",0,0,0.1,0.1,0,0,0,0,0,0,0,0,0,0,0,0,0,0,0,0,0]
["three",0.1,0,0,0,0,0.1,0,0.1,0,0,0.1,0,0.1,0,0,0,0,0,0,0,0]
["told",0,0,0,0,0,0,0,0,0.1,0,0,0,0,0,0,0,0,0,0,0,0]
["treasures",0,0,0,0,7.4183979999999997E-2,0,0,0,0,0,0,0.1,0.1,0,0,0.1,0.1,0,0,0,0]
["troubled",0,0,0,0.1,7.4183979999999997E-2,0.1,0,0,0,0,0,0,0.1,0,0.1,0,0,0,0,0,0]
["verses",0,0,0.1,0.1,0,0,0.2,0,0,0,0,0,0,0,0,0,0,0,0,0,0]
["virtue",0,0,0,0,0,0,0,0,0,0.2,0,0,0,0,0.1,0,0,0,0,0,0]
["visage",0,0,0,0,0,0,0,0,0,0,0,0,0,0,0,0,0,0,0,0,0]
["vows",0,0,0,0,0,0,0,0,0,0,0,0,0,0,0,0,0,0,0,0,0]
["waste",0,0,0,0,0,0,0,0,0,0,0.1,0,0,0,0,0,0,0,0,0,0]
["whence",0,0,0,0,0,0,0,0,0,0,0,0.1,0.2,0,0,0,0,0,0.2,0,0]
["whilest",0,0.2,0.2,0,7.4183979999999997E-2,0,0,0,0,0,0,0,0,0,0,0,0,0,0,0,0]
["wild",0,0,0,0,0,0,0.1,0.1,0,0,0,0,0,0,0,0.1,0,0,0,0,0]
["winter",0,0,0,0,0,0,0,0,0,0,0,0,0,0,0,0,0.2,0,0,0.1,0]
["woman",0.1,0,0,0,0,0.2,0.1,0.1,0,0,0,0,0,0,0,0,0,0,0,0,0]
["worne",0.1,0.1,0,0.2,0,0,0,0,0,0,0,0,0,0,0.1,0,0,0,0,0,0]
["wounds",0,0,0,0,0,0,0,0,0,0.2,0,0.1,0,0,0.1,0,0,0,0,0,0]
["wrought",0.1,0,0,0,7.4183979999999997E-2,0,0,0,0,0,0,0,0,0.2,0,0,0,0,0,0,7.0372980000000002E-2]
["yeeld",0,0,0,0,0,0,0.3,0,0,0,0,0.1,0,0,0,0,0,0,0,0.1,0]
["'but",0,0,0,0,0,0,0,0,0,0,0,0,0,0,0,0,0,0,0,0,0]
["aboue",0,0,0,0,0,0,0,0,0,0,0.1,0,0.1,0,0.1,0,0.1,0,0,0,0]
["adore",0,0.1,0,0,0,0,0,0,0,0.1,0,0,0,0,0,0,0,0,0,0,0]
["affection",0,0.1,0,0,0,0,0,0,0,0,0,0,0,0,0,0.1,0,0,0,0,0]
["air",0,0,0,0,0,0,0,0,0,0,0,0,0,0,0.1,0,0,0,0,0,0]
["al",0,0,0,0,0,0,0.2,0,0.1,0,0,0,0,0,0,0,0,0,0,0,7.0372980000000002E-2]
["alive",0,0.1,0.1,0.2,0,0,0,0,0,0,0,0,0,0,0,0,0,0,0,0,0]
["along",0,0.1,0,0,0,0,0,0,0,0,0,0,0,0,0,0,0,0,0.1,0,0]
["also",0,0.1,0.1,0,0,0,0,0.1,0.1,0,0,0,0,0,0,0,0,0,0,0,0]
["annoy",0,0,0,0,0,0,0,0,0,0,0,0,0,0,0,0,0.1,0,0,0,0.14074595000000001]
["antique",0.1,0.1,0,0,0,0,0,0,0,0,0,0,0,0,0,0,0,0,0,0,0]
["apt",0,0,0,0,0,0,0,0,0,0,0.1,0,0,0,0,0,0,0,0.2,0.1,0]
["arise",0,0,0,0,0,0,0,0,0,0,0,0.1,0.1,0,0,0,0,0.1,0,0.1,0]
["aspire",0,0,0,0,7.4183979999999997E-2,0,0,0,0,0,0,0,0,0,0,0,0.2,0,0,0,0]
["aught",0,0,0,0,0,0,0,0,0,0,0,0.1,0,0,0,0,0,0,0,0,0]
["base",0,0,0,0.1,0,0,0,0,0.1,0,0,0.1,0,0,0,0,0,0,0,0.1,0]
["become",0.1,0,0,0,7.4183979999999997E-2,0,0,0,0,0,0,0,0,0,0,0,0,0,0.1,0,0]
["beene",0,0,0,0,0,0,0.2,0,0,0,0,0,0,0,0,0.1,0,0,0.1,0,0]
["bent",0,0,0,0,0,0,0.1,0.1,0,0,0.1,0,0,0,0,0,0,0,0,0,7.0372980000000002E-2]
["birth",0,0,0,0,0,0,0,0,0,0,0,0.1,0,0,0.1,0.1,0,0,0,0,0]
["bit",0,0,0,0,0,0,0,0,0,0.1,0,0,0.1,0,0.1,0,0,0,0.1,0,0]
["blackest",0,0,0,0,0,0,0,0,0.1,0,0,0,0,0,0,0,0,0.1,0,0.1,0]
["bleeding",0,0,0,0,0,0,0,0,0,0,0.1,0,0,0,0,0,0.1,0,0,0,0]
["blow",0,0,0,0,0,0,0,0,0,0,0,0,0.2,0,0,0,0,0,0,0,7.0372980000000002E-2]
["blowes",0,0,0,0,0,0.1,0,0,0.1,0.1,0,0,0,0,0,0,0,0.1,0,0,0]
["brest",0.1,0,0,0.1,0,0,0,0,0,0.1,0,0,0,0,0,0,0,0,0,0,7.0372980000000002E-2]
["broken",0.1,0,0,0,0.14836795999999999,0,0,0,0,0,0,0,0,0,0,0,0,0,0,0,0]
["brood",0,0,0.2,0,7.4183979999999997E-2,0,0,0,0,0,0,0,0,0,0,0,0,0,0,0,0]
["brother",0,0.3,0,0,0,0,0,0,0,0,0,0,0,0,0,0,0,0,0.1,0,0]
["burning",0,0,0,0,0,0,0,0,0,0,0,0,0,0,0.1,0,0,0,0,0,0]
["chief",0,0,0,0,0,0,0,0,0,0.1,0,0.1,0,0.1,0,0,0,0,0,0,0]
["childe",0,0,0,0,0,0,0.1,0,0.2,0.1,0,0,0,0,0,0,0,0,0,0,0]
["clouds",0,0,0,0,0,0,0,0,0,0,0,0.1,0,0,0,0,0.1,0,0,0,0]
["company",0,0,0,0,0,0,0,0,0.1,0,0,0.1,0,0,0,0,0,0,0,0,7.0372980000000002E-2]
["confesse",0,0,0,0,0,0,0,0,0,0.1,0,0.1,0,0,0.1,0,0,0,0,0.1,0]
["consort",0,0,0,0,0,0,0,0,0.1,0,0,0,0,0,0,0,0,0.1,0,0.1,0]
["cry",0,0,0,0,0,0,0,0,0,0,0,0,0,0.1,0,0.1,0,0,0,0.1,0]
["daies",0.1,0,0.2,0,7.4183979999999997E-2,0,0,0,0,0,0,0,0,0,0,0,0,0,0,0,0]
["dark",0,0,0,0,0,0,0,0,0,0,0.1,0,0,0,0,0,0,0.1,0,0,0]
["daughter",0,0,0,0,0,0.2,0,0,0,0,0,0,0,0,0,0,0,0,0,0,0]
["de",0,0,0,0,7.4183979999999997E-2,0,0,0.1,0.1,0,0,0,0,0,0,0,0,0.1,0,0,0]
["deaths",0,0,0,0,0,0,0,0,0,0.2,0.1,0,0,0,0,0,0,0.1,0,0,0]
["decease",0,0.1,0,0.1,0,0,0,0,0,0,0,0,0,0,0,0,0,0,0,0,0]
["deepe",0,0,0,0.1,7.4183979999999997E-2,0,0,0,0,0,0,0.1,0,0,0,0,0.1,0,0,0,0]
["desert",0,0,0,0,0,0,0,0,0.1,0,0,0,0,0,0,0,0,0,0.1,0,0]
["despaire",0,0,0,0,0,0,0,0,0,0.1,0,0,0,0.1,0,0,0,0,0,0,0.14074595000000001]
["dies",0,0,0,0.1,0,0,0,0,0,0,0,0,0,0,0,0,0,0,0,0,7.0372980000000002E-2]
["dight",0,0,0,0,7.4183979999999997E-2,0,0,0,0,0,0,0,0,0,0,0,0,0,0,0,7.0372980000000002E-2]
["draw",0.1,0,0,0,0,0.1,0,0,0,0.1,0,0,0,0,0,0,0,0,0,0,0]
["drew",0,0,0,0,0,0,0,0,0,0,0.1,0,0,0,0,0,0,0,0,0,0]
["drop",0,0,0,0,0,0,0,0,0,0,0,0,0,0,0,0,0,0,0,0,0]
["dull",0,0,0,0,0,0,0,0,0,0,0,0.1,0,0,0,0.1,0,0,0,0,0]
["ears",0,0,0,0,0,0,0,0,0,0,0,0,0,0,0.1,0,0,0.1,0,0,0]
["effect",0,0,0,0,0,0,0,0,0,0,0,0.1,0,0,0,0,0,0,0.1,0,0]
["effects",0,0,0,0,0,0,0,0,0,0.1,0,0.1,0.1,0,0,0,0,0,0,0,0]
["everie",0,0.1,0.1,0.2,0,0,0,0,0,0,0,0,0,0,0,0,0,0,0,0,0]
["feast",0,0,0,0,0,0,0,0,0,0,0,0,0,0,0,0,0,0,0,0,0]
["feede",0,0,0,0.1,0,0.1,0.1,0,0,0,0,0,0,0,0,0,0.1,0,0,0,0]
["few",0.1,0,0,0,7.4183979999999997E-2,0.1,0,0,0.1,0,0,0,0,0,0,0,0,0,0,0,0]
["fled",0,0.1,0.1,0,0,0,0,0,0,0.1,0,0,0,0,0,0,0.1,0,0,0,0]
["flesh",0.1,0,0,0,7.4183979999999997E-2,0,0,0,0,0.1,0,0,0.1,0,0,0,0,0,0,0,0]
["foolish",0,0,0,0,0,0,0.1,0,0,0,0,0,0.2,0.1,0,0,0,0,0,0,0]
["foorth",0,0.1,0.1,0.1,7.4183979999999997E-2,0,0,0,0,0,0,0,0,0,0,0,0,0,0,0,0]
["forces",0.2,0,0,0,0,0,0,0,0,0,0,0,0.1,0,0,0,0,0,0,0,0]
["former",0.1,0,0.1,0.1,0,0,0,0,0.1,0,0,0,0,0,0,0,0,0,0,0,0]
["forsooth",0,0,0,0,0,0.1,0.1,0,0,0,0,0,0.1,0,0,0,0,0,0,0.1,0]
["forst",0,0,0,0,0,0,0,0,0,0,0,0,0,0,0,0.1,0,0,0.1,0,0.14074595000000001]
["foul",0,0,0,0,0,0,0,0,0,0,0,0.1,0,0,0,0,0,0,0,0,0]
["foule",0,0,0.1,0,0,0,0,0,0.1,0,0,0.1,0,0,0,0,0,0,0,0.1,0]
["further",0,0,0,0,7.4183979999999997E-2,0,0,0,0.1,0,0,0,0,0,0.1,0,0,0,0,0,0]
["gay",0,0,0,0,0,0,0.1,0,0,0,0,0,0,0,0,0,0,0.1,0,0,0]
["glass",0,0,0,0,0,0,0,0,0,0,0,0,0,0,0,0,0,0,0,0,0]
["gods",0,0,0,0.1,0,0,0,0,0,0,0.1,0.1,0,0,0,0,0,0,0,0,0]
["goodnesse",0,0,0,0,0,0,0,0.2,0.1,0,0,0,0,0,0,0,0.1,0,0,0,0]
["graces",0,0,0,0,0,0.1,0,0,0,0,0,0,0,0,0,0,0,0,0.1,0,0]
["grammer",0,0,0,0,0,0,0,0,0,0,0,0,0,0,0,0.1,0.3,0,0,0,0]
["grant",0,0,0,0,0,0,0,0,0,0,0,0,0,0,0,0,0,0,0.1,0,7.0372980000000002E-2]
["grave",0.1,0,0,0,0,0,0,0,0,0,0,0,0,0,0,0,0,0,0,0,0]
["gray",0,0,0,0,0,0,0,0,0,0,0,0,0,0,0,0,0,0,0,0,0]
["greater",0,0,0,0,0,0,0.1,0,0.2,0,0.1,0,0,0,0,0,0,0,0,0,0]
["greatnesse",0,0,0,0,0,0.1,0,0.1,0.1,0,0,0.1,0,0,0,0,0,0,0,0,0]
["growne",0,0,0,0,0,0,0,0,0,0,0.1,0,0,0,0.1,0.1,0.1,0,0,0,0]
["guides",0,0,0,0,0,0.1,0,0,0,0,0,0,0,0,0.1,0.1,0,0.1,0,0,0]
["hair",0,0,0,0,0,0,0,0,0,0,0,0,0,0,0,0,0,0,0,0,0]
["haire",0,0,0,0,7.4183979999999997E-2,0,0,0,0,0,0.1,0,0,0,0.1,0,0,0,0,0,7.0372980000000002E-2]
["half",0,0,0,0,0,0,0,0,0,0,0,0,0.1,0,0,0,0,0,0,0,0]
["happines",0.2,0,0.1,0,7.4183979999999997E-2,0,0,0,0,0,0,0,0,0,0,0,0,0,0,0,0]
["harpe",0,0,0,0,0.2967359,0,0,0,0,0,0,0,0,0,0,0,0,0,0,0,0]
["harts",0,0,0.1,0,0,0.1,0,0.1,0,0,0,0,0,0,0,0,0,0,0,0.1,0]
["having",0,0,0,0.2,0,0,0,0,0,0,0,0,0,0,0,0,0,0,0,0,0]
["heau'ns",0,0,0,0,0,0,0,0,0,0.2,0,0,0,0,0,0,0.1,0,0.1,0,0]
["heav'n",0,0,0,0,0,0,0,0,0,0,0,0,0,0,0,0,0,0,0,0,0]
["heavenlie",0,0,0.3,0,7.4183979999999997E-2,0,0,0,0,0,0,0,0,0,0,0,0,0,0,0,0]
["height",0,0,0,0.1,0,0,0,0,0,0,0,0,0,0.1,0,0,0.1,0,0,0,7.0372980000000002E-2]
["hide",0.1,0,0,0,7.4183979999999997E-2,0,0,0,0,0,0,0.1,0,0,0,0,0,0,0,0,0]
["hie",0,0,0,0,7.4183979999999997E-2,0,0,0,0,0,0,0.1,0,0.1,0,0.1,0,0,0,0,0]
["higher",0,0,0,0,0,0,0.1,0,0,0,0,0,0,0,0,0,0,0,0.1,0,0]
["himselfe",0,0,0,0.1,0,0,0,0,0,0,0,0,0,0.1,0,0,0,0.1,0,0.1,0]
["holds",0,0,0,0,0,0,0,0,0,0,0,0.1,0,0,0,0,0,0.2,0,0.1,0]
["holy",0,0,0,0,0,0,0,0,0,0,0,0,0,0,0,0.1,0,0,0,0,0]
["idle",0,0.1,0,0,0,0,0,0,0.1,0,0,0.1,0,0,0,0,0,0,0,0,0]
["immortall",0,0,0.2,0.1,7.4183979999999997E-2,0,0,0,0,0,0,0,0,0,0,0,0,0,0,0,0]
["impart",0,0,0,0,0,0,0,0,0,0,0,0.1,0,0.1,0,0,0,0.1,0.1,0,0]
["inke",0,0,0,0,0,0,0,0,0,0.1,0.1,0,0,0,0,0,0,0,0,0.1,7.0372980000000002E-2]
["ioue",0,0,0,0,0,0.1,0,0,0,0.1,0.2,0,0,0,0,0,0,0,0,0,0]
["iust",0,0,0,0,0,0,0,0,0,0,0.1,0,0,0.1,0,0,0.1,0,0,0.1,0]
["jove",0,0,0.1,0,0,0,0,0,0,0,0,0,0,0,0,0,0,0,0,0,0]
["judgment",0,0,0,0,0,0,0,0,0,0,0,0,0,0,0,0,0,0,0,0,0]
["kept",0,0,0,0,0,0,0,0,0,0,0,0,0,0.1,0,0,0,0,0,0,0]
["lake",0,0.2,0,0.1,0,0,0,0,0,0,0,0,0,0,0,0,0,0,0,0,0]
["lastly",0,0,0,0,7.4183979999999997E-2,0.1,0,0.1,0,0,0,0,0,0,0,0,0,0,0,0,0]
["lead",0,0,0,0,7.4183979999999997E-2,0,0,0,0,0,0,0,0,0,0,0,0,0,0,0,7.0372980000000002E-2]
["learnd",0,0,0,0,0,0,0,0,0,0,0.2,0,0,0.1,0,0,0.1,0,0,0,0]
["led",0,0.2,0,0,0,0,0,0,0,0,0,0,0,0,0,0,0,0,0,0,0]
["letters",0,0,0,0,0,0,0,0,0,0,0,0,0,0,0,0.1,0,0,0,0,0]
["liberty",0,0,0,0,0,0,0,0,0,0,0,0,0.1,0,0,0,0,0,0,0,0]
["lines",0,0,0,0,0,0,0,0,0,0,0,0,0,0,0.1,0,0.1,0,0,0,0]
["liuely",0,0,0,0,0,0,0,0,0,0.1,0,0,0.1,0,0,0.1,0,0,0,0,7.0372980000000002E-2]
["liuing",0,0,0,0,0,0,0,0,0,0.1,0,0,0.1,0,0,0,0,0.1,0,0.1,0]
["ll",0,0,0,0,0,0,0,0,0,0,0,0,0,0,0,0,0,0,0,0,0]
["longer",0,0,0,0,0,0.1,0,0,0,0,0,0,0,0,0,0,0,0,0,0.1,0]
["looking",0,0.1,0,0.1,7.4183979999999997E-2,0,0,0,0,0,0,0,0,0,0,0,0.1,0,0,0,0]
["lord",0,0.2,0,0,0,0,0,0,0,0,0,0,0,0,0.1,0,0,0,0,0,7.0372980000000002E-2]
["lose",0,0,0,0,0,0,0,0,0,0,0.2,0,0,0,0,0,0,0.1,0,0,0]
["lot",0,0,0,0,0,0,0,0,0.2,0,0,0.1,0,0,0,0,0,0,0.1,0,0]
["louely",0,0,0,0,0,0,0.1,0,0,0,0,0,0.1,0,0,0.1,0,0.1,0,0,0]
["louing",0,0,0,0,0,0.1,0,0,0.1,0,0.1,0.1,0,0,0,0,0,0,0,0,0]
["loves",0,0,0,0,7.4183979999999997E-2,0,0,0,0,0,0,0,0,0,0,0,0,0,0,0,0]
["maiestie",0,0,0,0,0,0.3,0.1,0,0,0,0,0,0,0,0,0,0,0,0,0,0]
["mans",0,0,0,0,0,0.1,0,0,0,0,0,0,0.1,0.1,0.1,0,0,0,0,0,0]
["melting",0,0,0,0,7.4183979999999997E-2,0,0,0,0,0,0,0,0,0,0,0,0,0,0,0,0]
["mortal",0,0,0,0,0,0,0,0,0,0.1,0,0,0,0.1,0,0,0,0,0,0,0]
["neare",0,0.1,0,0,0,0,0,0,0.1,0,0,0,0,0,0,0,0,0.1,0.1,0,0]
["nobler",0,0,0,0,0,0,0,0,0,0,0,0.1,0,0,0,0.1,0.1,0,0.1,0,0]
["note",0,0,0,0,0,0,0.2,0,0,0,0,0,0,0,0,0,0,0,0,0,0]
["nymphs",0,0,0,0,0,0,0,0,0,0,0,0,0,0,0,0,0,0,0,0,7.0372980000000002E-2]
["obtaine",0,0,0,0,0,0,0,0,0.3,0,0,0,0,0,0,0,0,0.1,0,0,0]
["page",0,0,0,0,0,0,0,0,0,0,0,0,0.1,0,0,0,0,0,0,0,0.14074595000000001]
["paper",0,0,0,0,0,0,0,0,0.1,0.1,0,0,0,0,0,0,0,0,0,0,7.0372980000000002E-2]
["patience",0,0,0,0,0,0,0,0,0,0,0,0,0,0,0,0.4,0,0,0,0,0]
["phrases",0,0,0,0,0,0,0,0,0.2,0,0,0,0,0,0,0.1,0.1,0,0,0,0]
["pine",0,0,0,0,0,0,0,0,0,0,0.1,0,0,0,0,0.1,0,0,0,0,0]
["placed",0,0.1,0,0.2,0,0.1,0,0,0,0,0,0,0,0,0,0,0,0,0,0,0]
["princes",0,0,0.1,0.1,7.4183979999999997E-2,0,0,0,0,0,0,0,0,0,0,0,0,0,0,0,0]
["prize",0,0,0,0,0,0,0,0.1,0,0,0,0,0,0.1,0,0,0.1,0,0,0,0]
["proceed",0,0,0,0,0,0,0,0,0.1,0.1,0,0,0,0.1,0.1,0,0,0,0,0,0]
["proof",0,0,0,0,0,0,0,0,0,0.1,0,0.1,0,0,0,0,0,0,0,0,0]
["proud",0,0,0,0,0,0,0,0.1,0,0,0,0,0.1,0,0,0,0,0,0,0,0]
["quickly",0,0,0,0,7.4183979999999997E-2,0,0,0,0.1,0,0,0,0,0,0,0.1,0,0,0,0,0]
["quiet",0,0,0,0,0,0,0,0.2,0,0,0,0,0,0,0,0,0,0,0,0.1,0]
["raisde",0,0,0.1,0.1,0,0,0,0,0,0,0,0,0.1,0,0,0,0.1,0,0,0,0]
["ready",0,0,0,0,0,0,0,0,0,0,0.1,0.1,0,0,0,0.1,0,0,0,0,0]
["remaine",0.1,0,0,0.1,0,0,0,0.1,0.1,0,0,0,0,0,0,0,0,0,0,0,0]
["remoue",0,0,0,0,0,0,0,0,0,0,0,0,0,0.2,0,0.1,0,0.1,0,0,0]
["rhyme",0,0,0,0,0,0,0,0,0,0,0,0,0,0,0,0,0,0,0,0,0]
["river",0,0.1,0,0,7.4183979999999997E-2,0,0,0,0,0,0,0,0,0,0,0,0,0,0,0,0]
["rivers",0.1,0.1,0,0,7.4183979999999997E-2,0,0,0,0,0,0,0,0,0,0,0,0,0,0,0,0]
["ruine",0.1,0,0,0.1,7.4183979999999997E-2,0,0,0,0,0,0,0,0,0.1,0,0,0,0,0,0,0]
["rules",0,0,0,0,0,0,0,0,0,0.1,0,0.1,0,0.1,0,0.1,0,0,0,0,0]
["run",0,0,0,0,0,0,0,0,0,0,0.2,0,0,0,0,0,0.1,0,0.1,0,0]
["saith",0,0,0,0,0,0,0,0.2,0,0,0.1,0,0,0,0.1,0,0,0,0,0,0]
["sayd",0,0,0,0,0,0.1,0,0,0.2,0,0,0,0,0,0,0,0,0,0,0.1,0]
["sayes",0,0,0,0,0,0,0,0,0,0,0,0.1,0,0,0,0,0.2,0,0.1,0,0]
["sea",0,0,0,0,7.4183979999999997E-2,0,0,0,0,0,0,0,0,0.1,0,0,0,0,0,0,0]
["seem'd",0,0,0,0,0,0,0,0,0,0,0,0,0,0,0,0,0.1,0,0.1,0,0]
["seeming",0,0.1,0,0.1,0,0,0,0,0,0,0,0,0,0,0,0,0,0,0,0,0]
["sees",0,0,0,0,0,0,0,0,0.1,0,0,0,0,0.1,0,0,0,0,0,0,7.0372980000000002E-2]
["seruices",0,0,0,0,0,0,0.1,0,0.2,0,0,0,0,0,0,0,0.1,0,0,0,0]
["seven",0.1,0,0.1,0,0,0,0,0,0,0,0,0,0,0,0,0,0,0,0,0,0]
["shape",0,0,0,0,0,0,0,0,0,0,0,0.1,0,0,0,0,0,0,0,0.1,7.0372980000000002E-2]
["sheep",0,0,0,0,0,0,0.2,0,0,0,0,0,0,0,0,0,0,0,0,0,0]
["showers",0,0,0,0.1,0,0,0,0,0.1,0,0,0,0,0,0,0,0,0,0,0,0]
["silence",0,0,0,0,0,0,0,0,0,0,0,0,0,0,0,0,0.1,0,0,0.1,0]
["sir",0,0,0,0,0,0,0,0,0,0,0,0,0,0,0.1,0,0,0,0,0.1,0]
["sisters",0,0,0,0.1,0,0,0,0,0.1,0,0,0,0,0,0,0,0,0,0,0,0]
["songs",0,0.1,0,0,0,0,0.1,0,0,0,0,0,0,0,0,0.1,0,0,0,0,0]
["soon",0,0,0,0,0,0,0,0,0,0,0,0,0,0,0,0,0,0,0,0,0]
["spirit",0,0,0,0,0,0,0,0,0.1,0,0,0,0,0,0,0,0,0,0,0,0]
["sport",0,0,0,0,0,0,0,0,0,0,0,0,0,0.1,0,0,0,0.1,0,0,0]
["spoyle",0.1,0,0,0,0.14836795999999999,0,0,0,0,0,0,0,0,0,0,0,0,0.1,0,0,0]
["stage",0,0,0,0,0,0,0,0,0,0,0,0,0,0,0,0,0,0,0,0,0]
["stand",0.1,0,0,0,0,0,0,0,0,0,0,0,0,0,0,0,0,0,0,0,0]
["star",0,0,0,0,0,0,0,0,0,0,0,0,0,0,0,0,0,0,0,0,0]
["step",0.1,0,0,0,0,0,0,0,0.1,0,0,0,0,0,0,0.1,0,0,0,0,0]
["steps",0,0,0.1,0,0,0,0,0,0,0,0,0,0.1,0,0,0.1,0.1,0,0,0,0]
["stone",0.1,0,0,0.1,0,0,0,0,0,0,0,0,0.1,0,0,0,0,0,0,0,0]
["stood",0.1,0,0,0,0.14836795999999999,0,0,0,0,0,0,0,0,0,0,0,0,0,0,0,0]
["strife",0,0,0,0,7.4183979999999997E-2,0,0,0,0,0,0,0,0,0,0.1,0,0,0,0,0,7.0372980000000002E-2]
["sunk",0,0,0,0,0,0,0,0,0,0,0,0,0,0,0,0,0,0,0,0,0]
["tale",0,0,0,0,0,0,0,0,0,0,0,0,0,0.1,0,0,0,0,0,0,0]
["tast",0.1,0,0,0,0,0,0,0.1,0,0,0,0,0,0,0,0,0,0,0.1,0,7.0372980000000002E-2]
["thereby",0,0,0,0,0,0.1,0,0,0,0,0,0.1,0,0,0,0,0,0,0,0,0]
["therein",0,0,0,0,0.14836795999999999,0,0,0,0,0,0,0.1,0,0,0,0,0,0,0,0,7.0372980000000002E-2]
["thunder",0,0,0,0.1,0,0.1,0,0,0,0,0,0,0,0,0,0,0,0,0,0,0]
["title",0,0,0,0,0,0,0,0,0.1,0,0,0,0,0,0.1,0,0,0,0,0.1,0]
["tooke",0,0,0,0,0,0,0,0,0.2,0,0,0.1,0,0,0,0.1,0,0,0,0,0]
["toward",0,0,0,0,0,0,0,0,0,0,0,0,0.1,0,0,0,0,0,0,0,0]
["towre",0,0.1,0,0.2,7.4183979999999997E-2,0,0,0,0,0,0,0,0,0,0,0,0,0,0,0,0]
["tries",0,0,0,0,0,0,0,0,0,0,0,0.1,0.1,0,0,0,0,0,0,0.1,7.0372980000000002E-2]
["troth",0,0,0,0,0,0,0.1,0.1,0.1,0,0,0,0,0,0,0,0,0,0,0,0]
["vouchsafe",0,0,0,0,7.4183979999999997E-2,0,0,0,0.1,0,0,0,0.1,0.1,0,0,0,0,0,0,0]
["wear",0,0,0,0,0,0,0,0,0,0,0,0.1,0,0,0,0,0,0,0,0,0]
["wherein",0,0,0,0,0,0.1,0.1,0,0,0,0,0.1,0,0,0,0.1,0,0,0,0,0]
["whereto",0,0,0,0,0,0,0.1,0,0,0,0,0,0.1,0,0,0,0.1,0,0,0,0]
["whilome",0,0,0.1,0.1,0.14836795999999999,0,0,0,0,0,0,0,0,0,0,0,0,0,0,0,0]
["whome",0.1,0,0.1,0,0,0,0,0,0,0,0,0,0,0,0,0,0,0,0,0,0.14074595000000001]
["wife",0,0,0,0,0,0.1,0,0.1,0,0,0,0,0,0,0,0,0,0,0,0,0]
["window",0,0,0,0,0,0,0,0,0,0,0,0,0,0,0.1,0,0,0,0,0,0.14074595000000001]
["wisedome",0.1,0,0.1,0.1,0,0.1,0,0,0,0,0,0,0,0,0,0,0,0,0,0,0]
["witnesse",0,0,0,0,0,0,0,0,0.1,0,0,0,0.1,0,0,0,0,0,0,0.1,7.0372980000000002E-2]
["work",0,0,0,0,0,0,0,0,0,0,0,0,0,0,0,0,0,0,0,0,0]
["worke",0,0,0,0.1,0,0,0,0,0,0.1,0,0,0.1,0,0.1,0,0,0,0,0,0]
["worse",0,0,0,0,0,0,0,0.1,0,0,0.2,0.1,0,0,0,0,0,0,0,0,0]
["worthie",0,0,0.2,0,0,0,0,0,0.1,0,0,0,0,0,0,0,0,0.1,0,0,0]
["wot",0,0,0,0,0,0.1,0,0,0,0.1,0,0,0,0,0,0,0,0.2,0,0,0]
["wouldst",0,0,0,0,0,0,0,0,0,0.2,0,0,0,0,0,0,0,0.1,0,0,0]
["wracke",0,0,0,0,0,0,0,0,0,0,0.1,0,0,0.1,0,0,0,0,0.1,0.1,0]
["wrong",0,0,0,0,0,0,0.1,0,0.1,0,0.1,0,0,0,0,0,0,0,0.1,0,0]
["years",0,0,0,0,0,0,0.1,0,0,0,0,0,0,0,0,0,0,0,0,0,0]
["'that",0,0,0,0,0,0,0,0,0,0,0,0,0,0,0,0,0,0,0,0,0]
["'this",0,0,0,0,0,0,0,0,0,0,0,0,0,0,0,0,0,0,0,0,0]
["'tis",0,0,0,0,0,0,0,0,0,0,0,0,0,0,0,0,0,0,0,0,0]
["abide",0,0.1,0,0,7.4183979999999997E-2,0,0,0,0,0,0,0,0,0,0,0,0,0,0,0,0]
["abroad",0,0,0,0,0,0,0,0,0,0,0,0,0,0,0,0.1,0,0,0,0,0]
["absent",0,0,0,0,0,0,0,0,0,0,0,0,0,0,0,0.1,0,0,0,0,7.0372980000000002E-2]
["according",0,0,0,0,0,0,0,0.1,0.1,0,0,0,0,0,0.1,0,0,0,0,0,0]
["affections",0,0,0,0,0,0,0,0,0,0,0,0,0,0,0,0,0,0,0,0,0]
["amber",0,0,0,0,0,0,0,0,0,0,0,0,0,0,0,0,0,0,0,0.1,0]
["anon",0,0,0,0,0,0,0,0,0,0,0,0,0,0,0,0,0,0,0,0,0]
["answer",0,0,0,0,0,0,0,0,0,0,0,0,0.1,0,0,0,0,0,0,0,0]
["apace",0,0,0.1,0,0,0,0,0,0,0,0,0,0,0,0,0,0,0,0,0,0]
["appeares",0.2,0,0,0,0,0,0,0,0,0,0,0,0,0,0,0,0.1,0,0,0,0]
["applied",0,0,0,0,0,0,0,0,0,0,0,0,0,0,0,0,0,0,0,0,0]
["ashamed",0,0,0,0,0,0,0.1,0.1,0,0,0,0,0,0,0,0,0,0,0,0,0]
["aurora",0,0,0,0,0,0,0,0,0,0,0,0,0,0,0,0,0,0.1,0,0,7.0372980000000002E-2]
["awake",0,0.2,0,0,0,0,0,0,0,0,0,0,0,0,0.1,0,0,0,0,0,0]
["badge",0,0,0,0,0,0,0,0,0,0,0,0,0,0,0.2,0,0,0,0,0,7.0372980000000002E-2]
["barren",0,0,0,0,0,0,0,0,0,0,0,0,0,0,0,0,0,0,0,0,0]
["beams",0,0,0,0,0,0,0,0,0,0,0,0,0.1,0,0,0,0,0,0,0,0]
["bears",0,0,0,0,0,0,0,0,0,0,0,0,0,0,0,0,0,0,0,0,0]
["beaten",0,0,0,0,0,0,0,0,0.1,0,0,0,0,0,0,0.1,0,0,0,0,7.0372980000000002E-2]
["beauteous",0,0,0,0,0,0,0,0,0,0,0,0,0,0,0,0,0,0,0,0,0]
["began",0,0,0,0,0,0,0.1,0.1,0,0,0,0,0,0,0,0,0,0,0,0,0]
["begins",0,0,0,0,0,0,0,0,0,0,0,0,0,0.1,0,0,0,0,0,0,0]
["beheld",0,0.1,0,0,7.4183979999999997E-2,0,0,0,0,0,0.1,0,0,0,0,0,0,0,0,0,0]
["bend",0,0,0,0,0,0,0,0,0,0,0.2,0,0,0,0.1,0,0,0,0,0,0]
["bind",0,0,0,0,0,0,0,0,0,0,0,0,0,0,0,0.1,0.1,0,0,0,0]
["bitter",0,0,0,0.1,0,0,0,0,0,0,0,0,0,0,0,0,0,0,0.1,0,0]
["blame",0,0.1,0,0,0,0,0,0,0,0,0,0.1,0,0,0,0,0,0,0,0,7.0372980000000002E-2]
["bloudy",0,0,0,0,0,0.1,0,0,0,0,0.1,0,0,0,0,0,0,0.1,0,0,0]
["blown",0,0,0,0,0,0,0,0,0,0,0,0,0,0,0,0,0,0,0,0,0]
["blushing",0,0,0,0,0,0,0,0,0,0,0,0,0,0.1,0,0,0.1,0,0.1,0,0]
["boast",0,0,0,0,7.4183979999999997E-2,0,0,0,0,0,0,0,0.1,0,0,0,0,0,0,0,0]
["bodie",0,0,0.2,0,0,0,0,0.1,0,0,0,0,0,0,0,0,0,0,0,0,0]
["booke",0,0,0,0,0,0,0,0,0,0.1,0,0,0,0,0,0.1,0.1,0,0,0,0]
["bosome",0,0.1,0.1,0,0,0,0,0,0,0,0,0,0,0,0,0.1,0,0,0,0,0]
["bound",0,0,0,0,0,0,0.1,0,0,0,0,0,0,0,0,0,0.1,0,0,0,0]
["bounteous",0,0.1,0,0,0,0,0,0,0,0,0,0,0,0,0,0,0,0,0,0,0]
["bountie",0,0,0.2,0,0,0,0,0,0.1,0,0,0,0,0,0,0,0,0,0,0,0]
["brains",0,0,0,0,0,0,0,0,0,0,0,0,0,0,0,0,0,0.1,0,0,0]
["break",0,0,0,0,0,0,0,0,0,0,0,0,0,0,0,0,0,0,0,0.1,0]
["breake",0,0,0.1,0,0,0,0,0,0,0,0,0,0,0,0.1,0,0.1,0,0,0,0]
["brooks",0,0,0,0,0,0,0.1,0,0,0,0,0,0,0,0,0,0,0,0,0,0]
["brown",0,0,0,0,0,0,0,0,0,0,0,0,0,0,0,0,0,0,0,0,0]
["buried",0,0.1,0,0,0,0,0,0,0,0,0,0,0,0,0,0,0,0,0,0,7.0372980000000002E-2]
["called",0,0,0,0,0.14836795999999999,0.1,0,0,0,0,0,0,0,0,0,0,0,0,0,0,0]
["cares",0,0,0.1,0,0,0,0,0,0,0,0,0,0,0,0,0,0,0,0,0,7.0372980000000002E-2]
["caught",0,0,0,0,7.4183979999999997E-2,0,0,0,0,0,0,0,0,0,0,0,0,0,0.1,0,0]
["cave",0,0,0,0,0.14836795999999999,0,0,0,0,0,0,0,0,0,0,0,0,0,0,0,0]
["chamber",0,0,0,0,0,0,0,0,0,0,0,0.1,0,0.1,0,0,0,0,0.1,0,0]
["charm",0,0,0,0,0,0,0,0,0,0,0,0,0,0,0,0,0,0,0,0,0]
["chastity",0,0,0,0,0,0,0,0,0,0,0,0,0.1,0,0,0,0,0,0,0,0]
["cheese",0,0,0,0,0,0,0,0.2,0,0,0,0,0,0,0,0,0,0,0,0,0]
["chiefe",0,0,0,0,0,0,0,0,0,0,0,0.1,0,0,0,0,0.1,0,0.1,0,0]
["children",0,0,0,0,0,0,0,0,0,0,0,0.1,0,0,0,0.1,0,0,0,0.1,0]
["chosen",0,0,0.1,0,0,0,0.1,0,0.1,0,0,0,0,0,0,0,0,0,0,0,0]
["chuse",0,0,0,0,0,0.1,0,0,0,0,0,0,0,0,0.2,0,0,0,0,0,0]
["clear",0,0,0,0,0,0,0,0,0,0,0,0,0,0,0,0,0,0,0,0,0]
["clips",0,0,0,0,0,0,0,0,0,0.1,0,0,0,0,0,0.1,0,0,0,0,7.0372980000000002E-2]
["clos'd",0,0,0,0,0,0,0,0,0,0,0,0,0.1,0,0,0,0,0,0,0,7.0372980000000002E-2]
["coast",0,0,0,0,7.4183979999999997E-2,0,0,0,0,0,0,0,0.2,0,0,0,0,0,0,0,0]
["comming",0,0,0,0,0,0.2,0,0,0,0,0,0,0,0,0,0,0,0,0.1,0,0]
["compared",0.1,0,0,0,0,0,0.1,0.1,0,0,0,0,0,0,0,0,0,0,0,0,0]
["contents",0,0,0,0,0,0,0,0,0,0,0,0,0,0,0,0,0.1,0,0,0,0]
["creep",0.1,0,0,0,0,0,0,0,0,0,0,0,0,0,0,0,0,0,0,0,0]
["creepe",0,0,0,0,0,0,0,0,0,0,0,0,0.1,0,0,0,0.1,0,0.1,0,0]
["crowne",0,0,0.1,0,0,0,0,0,0,0,0,0,0.1,0,0,0,0,0.1,0,0,0]
["cunning",0,0,0,0,0,0,0,0,0,0.1,0,0,0,0,0.1,0,0,0,0,0,0]
["curse",0,0,0,0,0,0,0,0,0,0,0,0,0,0,0,0.1,0,0,0,0.1,7.0372980000000002E-2]
["cut",0,0.1,0,0,0,0,0,0.1,0,0,0,0,0,0,0,0,0,0,0.1,0,0]
["daily",0,0,0,0,0,0,0,0,0,0,0,0,0,0,0.1,0,0,0,0,0,7.0372980000000002E-2]
["darts",0,0,0,0,0,0,0,0,0,0,0,0,0,0.1,0.1,0,0,0,0,0,0]
["daunce",0,0,0.1,0,0,0,0,0,0,0,0,0,0,0,0,0,0,0,0,0,0.14074595000000001]
["dayes",0.1,0,0.1,0,0,0,0,0.1,0,0,0,0,0,0,0,0,0,0,0,0,0]
["dazled",0,0,0,0,0,0.1,0,0.1,0,0,0,0,0,0,0.1,0,0,0,0,0,0]
["deale",0,0,0,0,0,0,0,0,0.1,0.2,0,0,0,0,0,0,0,0,0,0,0]
["dearest",0,0.1,0.1,0,0,0,0,0,0,0,0,0,0,0,0,0,0,0,0,0,0]
["deserts",0,0,0,0,0,0,0.3,0,0,0,0,0,0,0,0,0,0,0,0,0,0]
["deserue",0,0,0,0,0,0.1,0.1,0,0.1,0,0,0,0,0,0,0,0,0,0,0,0]
["deserving",0,0,0,0.1,0,0,0,0,0,0,0,0,0,0,0,0,0,0,0,0,0]
["dig",0,0,0,0,0,0,0,0,0,0,0,0.2,0,0,0,0,0,0,0,0,0]
["disdaine",0,0,0,0,0,0,0,0,0,0,0.1,0,0,0,0.2,0,0,0,0,0,0]
["display",0,0,0,0,0,0,0,0,0,0.1,0,0,0,0,0,0,0,0,0.1,0,7.0372980000000002E-2]
["doest",0,0,0,0,0,0,0,0,0,0.1,0,0,0,0,0,0,0.2,0,0,0,0]
["doome",0,0,0.1,0,0,0,0,0,0,0,0,0.1,0,0,0,0,0,0,0.1,0,0]
["door",0,0,0,0,0,0,0,0,0,0.1,0,0,0,0,0,0,0,0,0,0,0]
["doors",0,0,0,0,0,0,0,0,0,0,0,0,0,0.1,0,0,0,0,0,0,0]
["doubts",0,0,0,0,0,0,0,0,0.1,0,0,0,0,0.1,0,0,0,0,0,0.1,0]
["drawn",0,0,0,0,0,0,0,0,0,0,0,0,0,0,0,0,0,0,0,0,0]
["dread",0,0.1,0.1,0,0,0,0,0,0,0,0,0,0,0,0,0,0,0,0,0,0]
["dream",0,0,0,0,0,0,0,0,0,0,0,0,0,0,0,0,0,0,0,0,0]
["dumbe",0,0,0,0,0,0,0,0,0,0,0,0,0,0,0.1,0.1,0,0,0.1,0,0]
["earthly",0,0.1,0,0.1,0,0,0,0,0,0,0,0,0,0,0,0,0,0,0,0.1,0]
["eke",0,0,0.2,0,0,0,0,0,0,0,0,0,0.1,0,0,0,0,0,0,0,0]
["ended",0,0,0,0.1,7.4183979999999997E-2,0,0,0,0.1,0,0,0,0,0,0,0,0,0,0,0,0]
["enemies",0,0,0.1,0,0.14836795999999999,0,0,0,0,0,0,0,0,0,0,0,0,0,0,0,0]
["enioy",0,0,0,0,0,0,0,0,0,0,0,0,0,0,0,0,0.2,0,0,0,7.0372980000000002E-2]
["enrich",0,0,0.1,0,0,0.1,0,0,0.1,0,0,0,0,0,0,0,0,0,0,0,0]
["entertaine",0,0,0,0,7.4183979999999997E-2,0,0,0,0.1,0.1,0,0,0,0,0,0,0,0,0,0,0]
["enuie",0,0,0,0,0,0,0,0,0,0,0,0,0,0,0,0,0.2,0,0.1,0,0]
["enuy",0,0,0,0,0,0,0,0.1,0,0,0,0,0,0,0,0,0.1,0,0.1,0,0]
["errour",0,0,0,0,0,0,0,0,0,0,0,0,0,0.1,0.1,0,0.1,0,0,0,0]
["euery",0,0,0,0,0,0,0,0,0,0,0.2,0,0,0,0.1,0,0,0,0,0,0]
["even",0,0,0,0,0,0.1,0,0,0,0,0,0,0,0,0,0,0,0,0,0,0]
["excuse",0,0,0,0,0,0,0,0,0,0,0.1,0,0,0,0,0,0,0,0,0,0]
["fail",0,0,0,0,0,0,0,0,0,0,0,0.1,0,0,0,0,0,0,0,0,0]
["famous",0,0,0.1,0,7.4183979999999997E-2,0,0,0,0,0,0,0,0,0,0,0,0,0,0,0,0]
["fancies",0,0,0,0,0,0,0,0,0.1,0,0,0,0,0,0,0,0,0,0,0,0]
["fates",0.1,0.1,0.1,0,0,0,0,0,0,0,0,0,0,0,0,0,0,0,0,0,0]
["fayre",0.1,0,0.1,0,7.4183979999999997E-2,0,0,0,0,0,0,0,0,0,0,0,0,0,0,0,0]
["fears",0,0,0,0,0,0,0,0,0,0,0,0,0,0,0,0,0,0,0,0,0]
["fed",0,0,0,0,0,0,0,0,0,0,0,0,0,0,0,0,0.1,0,0,0,0]
["feeble",0,0,0.1,0.1,0,0,0,0,0,0,0,0,0,0,0,0,0,0,0,0,0]
["feete",0.1,0,0,0,7.4183979999999997E-2,0,0,0,0,0,0,0,0,0,0,0,0,0,0.1,0,0]
["fellowes",0,0,0,0,0,0,0.1,0.2,0,0,0,0,0,0,0,0,0,0,0,0,0]
["fight",0,0,0,0,0,0,0,0,0,0.1,0,0,0,0,0.1,0,0,0.1,0,0,0]
["fishers",0,0.2,0,0,0,0,0,0,0,0,0,0,0,0,0.1,0,0,0,0,0,0]
["flame",0,0,0,0,0,0,0,0,0,0,0,0,0,0,0,0,0,0,0,0,0]
["flatterie",0,0,0,0,0,0,0,0.1,0,0,0,0,0.1,0,0,0,0,0,0.1,0,0]
["flies",0,0,0,0,0,0,0,0,0,0,0,0.1,0,0.1,0,0,0,0,0,0.1,0]
["foe",0,0,0,0,0,0,0,0,0,0,0,0.1,0,0,0.1,0,0,0,0,0,0]
["foes",0.1,0.1,0,0,0,0,0,0,0,0,0,0.1,0,0,0,0,0,0,0,0,0]
["folkes",0,0,0,0,0,0,0,0,0,0,0,0,0,0.1,0,0,0,0,0.1,0,7.0372980000000002E-2]
["following",0,0,0,0,0,0,0,0,0,0,0,0.1,0,0,0.1,0,0,0,0,0,0]
["fond",0,0,0,0,0,0,0,0,0,0,0,0,0.1,0,0,0,0,0,0,0,0]
["fool",0,0,0,0,0,0,0,0,0.1,0.1,0,0,0,0,0,0,0,0,0,0,0]
["forc'd",0,0,0,0,0,0,0,0,0.1,0,0,0,0.1,0,0,0,0,0,0,0,0]
["fore",0,0,0,0,0,0,0,0,0,0,0,0.1,0.1,0,0,0,0,0,0,0,0]
["foresters",0,0,0,0,0,0,0.3,0,0,0,0,0,0,0,0,0,0,0,0,0,0]
["forrests",0,0,0.1,0,7.4183979999999997E-2,0,0.1,0,0,0,0,0,0,0,0,0,0,0,0,0,0]
["fountain",0,0,0,0,0,0,0,0,0,0,0,0,0,0,0,0,0,0,0,0,0]
["fray",0,0,0,0,0,0.2,0,0,0,0,0,0,0,0,0,0,0,0.1,0,0,0]
["friendly",0,0,0,0,0,0,0,0,0,0,0,0.1,0,0,0.1,0,0,0.1,0,0,0]
["friends",0,0,0,0,0,0,0,0,0,0,0.1,0.1,0,0,0,0,0,0,0,0.1,0]
["frost",0,0,0,0,0,0,0,0,0,0,0,0,0,0,0,0,0,0,0,0,0]
["fully",0,0,0,0,0,0.1,0,0,0.1,0,0,0,0,0,0,0,0,0.1,0,0,0]
["fury",0,0,0,0,0,0,0,0,0,0,0,0,0,0,0.1,0,0,0.1,0,0,0]
["gain",0,0,0,0,0,0,0,0,0,0,0,0,0,0.1,0.1,0,0,0,0,0,0]
["gate",0,0,0,0,0,0,0,0,0,0,0,0,0,0.1,0,0,0,0,0,0,0]
["gaue",0,0,0,0,0,0,0,0,0.1,0.1,0,0,0,0,0,0,0.1,0,0,0,0]
["genius",0.1,0,0,0,0,0,0,0,0,0,0,0,0,0,0,0,0,0,0,0,0]
["gives",0,0,0,0.1,0,0,0,0,0,0,0,0,0,0,0,0,0,0,0,0,0]
["glad",0,0,0,0,0,0,0,0,0,0,0,0,0,0.1,0,0,0,0,0,0,7.0372980000000002E-2]
["glowing",0,0,0,0,0,0,0,0,0,0,0,0,0,0,0,0,0,0,0,0,0]
["goddess",0,0,0,0,0,0,0,0,0,0,0,0,0,0,0,0,0,0,0,0,0]
["going",0,0,0,0,0,0,0,0,0.1,0,0,0,0,0,0,0,0,0,0,0,0]
["goodlie",0,0,0.1,0,0.14836795999999999,0,0,0,0,0,0,0,0,0,0,0,0,0,0,0,0]
["goods",0,0,0,0,0,0,0,0,0,0,0.2,0.1,0,0,0,0,0,0,0,0,0]
["grew",0,0,0,0,0,0,0.1,0.1,0,0,0,0,0,0,0,0,0,0,0,0,0]
["grieve",0,0.1,0,0.1,7.4183979999999997E-2,0,0,0,0,0,0,0,0,0,0,0,0,0,0,0,0]
["grone",0,0,0,0,0,0,0,0,0,0,0,0,0,0.1,0.1,0.1,0,0,0,0,0]
["growe",0,0,0,0,0,0,0,0,0,0,0,0.1,0,0,0,0,0,0,0,0.1,7.0372980000000002E-2]
["growes",0,0,0,0,0,0,0.1,0,0,0,0.1,0,0,0,0.1,0,0,0,0,0,0]
["guiltie",0,0.1,0.1,0,0,0,0,0,0,0,0,0,0,0,0,0,0.1,0,0,0,0]
["hail",0,0,0,0,0,0,0,0,0,0,0,0,0,0,0,0,0,0,0,0,0]
["hairy",0,0,0,0,0,0,0,0,0,0,0,0,0,0,0,0,0,0,0,0,0]
["hang",0,0,0,0,0,0,0,0,0,0,0,0,0,0,0,0,0,0,0,0,0]
["haunt",0.1,0.1,0,0,0,0,0,0,0,0,0,0,0,0,0,0,0,0,0,0,0]
["heat",0,0,0,0,0,0,0,0,0,0.1,0,0,0,0,0,0,0,0,0,0,0]
["hed",0,0,0,0,0,0,0,0,0,0,0,0,0,0.1,0,0,0,0.1,0,0.1,0]
["hee",0,0,0,0,7.4183979999999997E-2,0,0.1,0.1,0,0,0,0,0,0,0,0,0,0,0,0,0]
["henceforth",0,0,0,0,7.4183979999999997E-2,0,0,0,0,0,0,0,0,0,0,0,0,0,0,0,0]
["hideous",0,0,0,0,0,0,0,0,0,0,0,0,0,0,0,0,0,0,0,0,0]
["hoast",0.1,0,0,0,0.14836795999999999,0,0,0,0,0,0,0,0,0,0,0,0,0,0,0,0]
["honied",0,0,0,0,0,0,0,0,0,0,0,0,0,0,0,0,0,0,0,0,7.0372980000000002E-2]
["hornes",0,0,0,0,0,0,0.1,0,0,0,0,0,0.1,0,0,0,0,0.1,0,0,0]
["horror",0,0,0,0.2,7.4183979999999997E-2,0,0,0,0,0,0,0,0,0,0,0,0,0,0,0,0]
["hot",0,0,0,0,0,0,0,0,0,0,0,0,0,0,0.1,0,0,0,0,0,0]
["humble",0,0,0.1,0,0,0,0,0,0,0,0,0,0,0.1,0,0,0,0.1,0,0,0]
["increase",0,0.1,0,0,0,0,0,0,0,0,0,0,0,0,0,0,0,0,0,0,0]
["influence",0,0,0.1,0,0,0,0,0,0,0,0,0,0,0.1,0,0,0,0,0,0,0]
["ioues",0,0,0,0,0,0,0,0,0,0.1,0.1,0,0,0,0,0,0.1,0,0,0,0]
["iron",0,0,0,0,0,0,0,0,0,0,0,0,0,0,0,0,0,0,0,0,7.0372980000000002E-2]
["iudgement",0,0,0,0,0,0,0.1,0,0.1,0,0,0,0,0.1,0,0,0,0,0,0,0]
["just",0,0.1,0,0,0,0,0,0,0,0,0,0,0,0,0,0,0,0,0,0,0]
["kinde",0,0.1,0,0,7.4183979999999997E-2,0,0,0,0,0,0,0,0,0,0.1,0,0,0,0,0,0]
["kings",0,0,0,0,0,0,0,0,0,0,0,0.1,0,0,0,0,0.1,0.1,0,0,0]
["knowes",0,0,0,0,0,0,0,0.1,0,0,0,0.1,0,0.1,0,0,0,0,0,0,0]
["knowing",0,0,0,0,0,0,0,0,0,0,0,0.1,0,0,0,0,0,0,0,0,7.0372980000000002E-2]
["knowne",0,0,0,0,7.4183979999999997E-2,0,0,0,0.1,0,0,0,0,0.1,0,0,0,0,0,0,0]
["labours",0,0.1,0,0.1,0,0,0,0.1,0,0,0,0,0,0,0,0,0,0,0,0,0]
["ladies",0,0,0,0,0,0,0,0,0,0,0,0.1,0,0,0,0,0,0,0,0,7.0372980000000002E-2]
["laid",0,0,0,0,0,0,0,0,0,0,0,0,0,0,0,0,0,0,0,0,0]
["large",0.1,0,0,0,0,0,0,0,0,0,0,0,0,0,0,0.1,0,0,0,0,0]
["learne",0,0,0,0,0,0,0,0,0,0,0,0,0,0,0.1,0.1,0.1,0,0,0,0]
["learnes",0,0,0,0,0,0,0,0,0,0,0,0,0.1,0,0,0.1,0,0,0,0,7.0372980000000002E-2]
["leauing",0,0,0,0,0,0.1,0,0,0,0,0,0,0,0.1,0,0,0,0,0,0.1,0]
["lee",0,0.1,0,0,7.4183979999999997E-2,0,0,0,0,0,0,0,0,0,0,0,0,0,0,0,7.0372980000000002E-2]
["lend",0,0,0,0,0,0,0,0.1,0,0,0,0,0,0,0,0,0,0,0,0,0]
["lesson",0,0,0,0,0,0,0,0,0,0,0.1,0,0,0,0,0.1,0,0.1,0,0,0]
["lets",0,0,0,0.1,0,0,0,0,0,0,0,0,0,0,0,0.1,0,0,0,0,0]
["lightning",0,0,0,0,0,0,0,0,0,0,0,0.1,0,0,0,0,0.1,0,0,0,0]
["lights",0,0,0,0,0,0,0,0,0,0.1,0,0,0,0.1,0,0,0,0.1,0,0,0]
["livery",0,0,0,0,0,0,0,0,0,0,0,0,0,0,0.1,0,0,0,0,0,0]
["loathing",0,0,0.1,0,0,0,0,0,0,0,0.1,0,0,0,0,0,0,0,0.1,0,0]
["lookt",0,0,0,0,0,0,0,0,0,0,0,0,0,0.1,0,0,0.1,0,0.1,0,0]
["loose",0,0,0,0,0,0,0,0,0,0,0.1,0,0,0,0,0,0,0,0,0,0]
["lords",0,0,0,0,0,0.1,0,0,0,0,0,0.1,0,0,0,0,0,0,0.1,0,0]
["lov'd",0,0,0,0,0,0,0,0,0,0,0,0,0,0,0,0,0,0,0,0,0]
["lovely",0,0,0,0,0,0,0,0,0,0,0,0,0,0,0,0,0,0,0,0,0]
["ly",0,0,0,0,0,0,0,0.1,0,0,0.1,0,0,0,0,0,0,0,0.1,0,0]
["mad",0,0,0,0,0,0,0,0,0,0,0,0.1,0,0,0,0,0,0.1,0.1,0,0]
["maine",0.1,0,0,0,0,0,0,0,0,0,0,0,0,0.1,0,0,0,0,0,0.1,0]
["marke",0,0,0,0,0,0,0,0,0,0,0,0,0,0,0,0,0.1,0,0,0,0.14074595000000001]
["mean",0,0,0,0,0,0,0,0.1,0,0,0,0,0,0,0,0,0,0,0,0,0]
["meaning",0,0,0,0.1,0,0,0,0,0,0,0,0,0.1,0,0,0,0,0,0,0,7.0372980000000002E-2]
["mild",0,0,0,0,0,0.1,0.1,0,0,0,0,0,0,0,0,0,0,0,0,0,0]
["milke",0,0,0,0,7.4183979999999997E-2,0,0.1,0,0,0,0,0,0,0,0,0,0,0,0,0.1,0]
["miserie",0,0,0,0,0,0.1,0,0,0,0,0,0,0,0,0,0,0.1,0.1,0,0,0]
["mixture",0,0,0,0,0,0,0,0,0,0.1,0,0,0,0,0,0,0,0,0,0.1,0]
["moniment",0.2,0,0,0,7.4183979999999997E-2,0,0,0,0,0,0,0,0,0,0,0,0,0,0,0,0]
["moniments",0,0.2,0,0.1,0,0,0,0,0,0,0,0,0,0,0,0,0,0,0,0,0]
["moone",0,0,0,0,0,0,0,0,0,0,0,0,0.3,0,0,0,0,0,0,0,0]
["musicke",0,0,0,0,0,0,0,0,0.1,0,0,0,0,0,0,0,0.1,0,0.1,0,0]
["names",0,0,0.2,0,0,0,0,0,0.1,0,0,0,0,0,0,0,0,0,0,0,0]
["nations",0.2,0,0,0,0,0,0,0,0,0,0,0.1,0,0,0,0,0,0,0,0,0]
["native",0,0,0.2,0,0,0,0,0,0,0,0,0,0,0,0,0,0,0,0,0,0]
["near",0,0,0,0,0,0,0,0,0,0,0,0,0.1,0,0,0,0,0,0,0,0]
["necke",0.1,0,0,0,0,0,0,0,0,0,0,0,0,0,0.1,0,0,0,0.1,0,0]
["need",0,0,0,0,0,0,0,0,0,0,0,0,0,0,0.1,0,0.1,0,0,0,0]
["nest",0,0,0,0,0,0,0,0,0,0,0,0,0,0,0,0,0,0.1,0,0.1,7.0372980000000002E-2]
["next",0,0,0,0.1,0,0,0,0,0,0,0,0,0,0,0,0,0,0,0,0,0]
["noise",0,0,0,0,0,0.1,0,0,0,0,0,0,0,0.1,0,0,0,0,0,0,0]
["nourish",0,0,0,0,0,0,0,0,0,0,0,0,0,0.1,0.1,0,0,0,0,0,0]
["nowe",0.2,0,0,0,0,0,0,0,0.1,0,0,0,0,0,0,0,0,0,0,0,0]
["nun",0,0,0,0,0,0,0,0,0,0,0,0,0,0,0,0,0,0,0,0,0]
["nymphes",0.1,0.1,0,0,0,0,0,0,0,0,0,0,0,0,0.1,0,0,0,0,0,0]
["obiect",0,0,0,0,0,0,0,0,0,0.1,0,0,0,0,0,0,0,0,0.1,0,7.0372980000000002E-2]
["opprest",0,0,0,0,0,0.1,0,0,0,0.1,0,0,0,0,0,0,0,0,0,0,7.0372980000000002E-2]
["ornament",0,0,0,0,7.4183979999999997E-2,0,0,0,0,0,0,0,0,0,0,0,0,0,0,0,0]
["ouer",0,0,0,0,0,0,0,0,0,0.1,0,0.1,0,0,0,0,0,0,0,0.1,0]
["ours",0,0,0,0,0,0,0,0.1,0,0,0.1,0,0,0,0,0,0,0,0,0,0]
["owe",0,0,0,0,0,0,0,0,0,0,0,0.1,0,0,0,0,0,0,0,0,0]
["pan",0,0,0,0,0,0.1,0,0,0.2,0,0,0,0,0,0,0,0,0,0,0,0]
["paradise",0,0,0,0,0,0,0,0,0,0,0,0,0,0,0,0,0.1,0,0.1,0,0]
["passion",0,0,0,0.1,0,0,0,0,0,0,0,0,0,0,0,0,0,0,0,0,0]
["past",0,0,0,0,0,0,0,0,0,0,0,0,0,0,0,0,0,0,0,0,0]
["pensive",0,0,0,0,7.4183979999999997E-2,0,0,0,0,0,0,0,0,0,0,0,0,0,0,0,0]
["people",0,0.2,0,0,0,0,0,0,0,0,0,0,0,0,0,0,0,0,0,0,0]
["perill",0.1,0,0,0,0.14836795999999999,0,0,0,0,0,0,0,0,0,0,0,0,0,0,0,0]
["picture",0.1,0,0,0,0,0,0,0,0,0.1,0,0,0,0,0,0,0,0,0,0,0]
["pittie",0,0,0,0.2,0,0,0,0,0.1,0,0,0,0,0,0,0,0,0,0,0,0]
["pity",0,0,0,0,0,0,0,0,0.1,0,0,0,0,0,0,0,0,0,0,0,0]
["plant",0,0,0,0,0,0.1,0,0,0,0,0,0,0,0,0,0,0,0.1,0,0,0]
["pleasant",0,0,0,0,7.4183979999999997E-2,0,0,0,0,0,0,0,0.1,0,0,0,0,0.1,0,0,0]
["pow'rs",0,0,0,0,0,0,0,0,0,0,0.1,0,0.1,0,0,0,0,0,0,0.1,0]
["praises",0,0.1,0.1,0.1,0,0,0,0,0,0,0,0,0,0,0,0,0,0,0,0,0]
["precepts",0,0,0,0,0,0,0,0,0,0,0,0,0,0,0,0.2,0,0,0,0,0]
["precious",0.1,0,0,0,7.4183979999999997E-2,0,0,0.1,0,0,0,0,0,0,0,0,0,0,0,0,0]
["preferred",0,0,0,0,0,0,0.1,0,0.2,0,0,0,0,0,0,0,0,0,0,0,0]
["present",0,0,0.1,0,0,0.1,0,0,0,0,0,0,0,0,0,0,0,0,0.1,0,0]
["prime",0,0,0,0,0,0,0,0,0,0,0,0,0,0,0,0,0,0,0,0,0]
["princesse",0.1,0,0,0,0,0,0,0,0,0,0,0.1,0,0,0,0,0,0,0,0,7.0372980000000002E-2]
["promise",0,0,0,0,0,0,0.1,0,0,0,0,0.2,0,0,0,0,0,0,0,0,0]
["proofe",0,0,0,0,0,0,0,0,0,0,0,0,0,0.1,0,0,0.1,0,0,0,7.0372980000000002E-2]
["purest",0.1,0,0,0,7.4183979999999997E-2,0,0,0,0,0,0,0.1,0,0,0,0,0,0,0,0,0]
["queen",0,0,0,0,0,0,0,0,0,0.1,0,0,0,0,0,0,0,0,0,0,0]
["queene",0,0,0,0,0,0.1,0.1,0,0,0,0,0,0,0,0,0,0,0,0,0,7.0372980000000002E-2]
["quoth",0.2,0,0,0,0,0,0,0,0,0,0,0,0,0,0,0,0,0,0,0,0]
["rain",0,0,0,0,0,0,0,0,0,0,0,0,0,0,0,0,0,0,0,0,0]
["rayes",0,0,0,0,0,0,0,0,0,0.1,0,0,0,0.1,0,0,0,0.1,0,0,0]
["reading",0,0,0,0,0,0,0,0,0.1,0,0,0.1,0,0,0,0,0,0,0,0,0]
["reed",0,0,0,0,0,0,0,0,0.1,0,0,0,0,0.1,0,0.1,0,0,0,0,0]
["remembrance",0,0.1,0,0.1,0,0,0,0,0,0,0,0,0,0,0,0,0,0,0,0,0]
["return",0,0,0,0,0,0,0,0,0,0,0,0,0,0,0,0,0,0,0,0,0]
["reuerence",0,0,0,0,0,0.1,0.1,0,0,0,0,0,0,0,0.1,0,0,0,0,0,0]
["reward",0,0,0.1,0,0,0,0,0,0,0,0.1,0,0,0,0,0,0,0,0.1,0,0]
["richest",0,0,0,0.1,0,0,0,0,0,0,0,0.1,0,0,0,0,0,0,0,0,0]
["rimes",0,0,0.1,0,0,0,0,0,0,0,0.1,0,0,0,0,0,0.1,0,0,0,0]
["round",0,0,0,0,0,0,0,0,0,0,0,0,0,0,0,0,0,0,0,0,0]
["ruines",0.1,0.1,0,0,0,0,0,0,0,0,0,0,0,0,0,0,0.1,0,0,0,0]
["running",0,0,0,0,0,0,0,0,0,0,0.1,0,0,0,0,0,0,0,0,0,0]
["rurall",0,0,0,0,0,0.1,0.1,0,0,0.1,0,0,0,0,0,0,0,0,0,0,0]
["ruth",0.1,0,0,0.1,0,0,0,0,0,0,0,0,0,0,0,0,0,0,0,0,0]
["sadly",0,0,0,0,0,0,0,0,0,0,0,0,0,0,0,0,0,0,0,0.1,0]
["safe",0,0,0,0,0,0,0,0,0,0,0,0,0,0,0,0,0,0,0.2,0,0]
["sage",0,0,0,0,0,0,0,0,0,0,0,0,0,0,0,0,0,0,0,0,0]
["sate",0,0.1,0,0.1,0,0,0,0,0,0,0.1,0,0,0,0,0,0,0,0,0,0]
["sawe",0,0,0,0,0.14836795999999999,0,0,0,0,0,0,0,0,0,0,0,0,0,0.1,0,0]
["scholler",0,0,0,0,0,0,0,0,0,0,0.1,0.1,0,0,0.1,0,0,0,0,0,0]
["scorn",0,0,0,0,0,0,0,0,0,0,0,0,0.1,0,0,0,0,0,0,0,0]
["scorned",0,0,0,0.2,0,0,0,0,0,0,0,0,0,0,0,0,0.1,0,0,0,0]
["seat",0,0,0,0,0,0,0,0,0,0.1,0,0,0,0,0,0,0.1,0,0,0,0]
["seek",0,0,0,0,0,0,0,0,0,0.1,0.1,0,0,0,0,0,0,0,0,0,0]
["seeking",0,0,0,0,0,0,0,0,0,0,0,0,0,0,0,0,0.1,0.1,0,0,0]
["selues",0,0,0,0,0,0,0.1,0,0,0,0.1,0.1,0,0,0,0,0,0,0,0,0]
["seruice",0,0,0,0,0,0,0.1,0,0,0,0,0.1,0,0,0,0,0,0.1,0,0,0]
["shafts",0,0,0,0,0,0,0,0,0,0,0.1,0,0,0,0,0,0,0,0,0,7.0372980000000002E-2]
["sheepe",0,0,0,0,0,0,0.1,0.1,0.1,0,0,0,0,0,0,0,0,0,0,0,0]
["shepherd",0,0.1,0,0,0,0,0,0,0,0,0,0,0,0,0,0,0,0,0,0,0]
["shepherds",0,0,0,0,0,0,0,0,0,0.1,0,0,0,0,0,0,0,0,0,0,0]
["shewes",0,0,0,0,0,0,0,0,0,0,0,0,0,0,0,0.1,0,0,0.1,0,7.0372980000000002E-2]
["shining",0,0,0,0,0,0,0,0,0,0.1,0,0,0,0,0,0,0,0.2,0,0,0]
["shores",0,0,0,0,7.4183979999999997E-2,0,0,0,0,0,0,0,0,0,0,0,0,0,0,0,7.0372980000000002E-2]
["shoulders",0.1,0,0,0,0,0,0.1,0,0,0,0,0,0,0,0,0,0,0,0,0,0]
["shrill",0,0,0.1,0,7.4183979999999997E-2,0,0,0,0,0,0,0,0,0,0,0,0,0,0,0,0]
["sigh'd",0,0,0,0,0,0,0,0,0,0,0,0,0,0,0,0,0,0,0.1,0.1,0]
["signe",0,0,0.1,0,0.14836795999999999,0,0,0,0,0,0,0,0,0,0,0,0,0,0,0,0]
["silent",0,0,0,0,0,0,0,0,0,0,0,0,0,0,0,0,0,0,0.1,0.1,7.0372980000000002E-2]
["silly",0,0,0,0,0,0,0.1,0,0,0,0,0,0,0,0.1,0,0,0,0.1,0,0]
["sin",0,0,0,0,0,0,0,0,0,0,0.2,0,0,0,0,0,0,0,0,0,0]
["single",0,0,0,0,0,0,0,0,0,0,0,0,0,0,0,0,0,0,0,0,0]
["sire",0,0,0,0,0,0,0,0,0,0,0,0,0.1,0,0,0,0,0,0,0,0]
["sitting",0.1,0,0,0,0,0,0.1,0,0,0,0,0,0,0,0,0,0,0,0,0,0]
["sky",0,0,0,0,0,0,0,0,0,0,0,0.1,0,0,0,0,0,0,0,0,0]
["slide",0,0.1,0,0,7.4183979999999997E-2,0,0,0,0,0,0,0,0,0,0,0,0,0,0.1,0,0]
["smiles",0,0,0,0,0,0,0,0,0,0,0.1,0,0,0,0,0,0,0,0,0,0]
["sober",0,0,0,0,0,0,0,0,0,0.1,0,0,0,0,0,0,0,0,0,0,0]
["somewhat",0,0,0,0,0,0,0,0,0,0,0,0,0,0,0.1,0,0.1,0,0,0,0]
["son",0,0,0,0,0,0,0,0,0,0,0,0,0,0,0,0,0,0,0,0,0]
["sonne",0,0,0.1,0.1,0,0,0,0,0,0,0,0,0.1,0,0,0,0,0,0,0,0]
["sore",0.2,0,0,0,7.4183979999999997E-2,0,0,0,0,0,0,0,0,0,0,0,0,0,0,0,0]
["spare",0,0,0,0,0,0,0,0,0,0,0,0,0,0,0.1,0,0,0,0,0.1,0]
["speach",0,0,0,0.1,7.4183979999999997E-2,0,0,0,0,0,0,0,0,0,0,0,0,0,0.1,0,0]
["speak",0,0,0,0,0,0,0,0.1,0.1,0,0,0,0,0,0,0,0,0,0,0,0]
["speciall",0,0,0,0,0,0.1,0,0,0,0,0,0,0,0,0.1,0,0,0.1,0,0,0]
["speeches",0,0,0,0,0,0,0,0.1,0,0,0,0,0,0,0,0.1,0,0,0,0,0]
["spreads",0,0,0,0,0,0,0,0,0,0,0,0,0,0,0,0,0,0,0,0,0]
["spright",0,0,0.1,0.1,7.4183979999999997E-2,0,0,0,0,0,0,0,0,0,0,0,0,0,0,0,0]
["sprite",0,0,0,0,0,0,0,0,0,0,0,0,0,0,0.1,0,0.1,0.1,0,0,0]
["starres",0,0,0,0,0,0,0,0,0,0,0,0.1,0,0,0.1,0,0,0,0.1,0,0]
["stately",0.1,0,0,0,7.4183979999999997E-2,0,0,0,0,0.1,0,0,0,0,0,0,0,0,0,0,0]
["steed",0,0,0,0,0.14836795999999999,0,0,0,0,0,0,0,0,0,0,0,0,0,0,0,0]
["stolne",0,0,0,0,0,0,0,0,0,0,0,0,0,0,0,0,0.2,0,0,0,7.0372980000000002E-2]
["story",0,0,0,0,0,0,0,0,0,0,0,0,0,0,0,0,0,0,0,0,0]
["strain",0,0,0,0,0,0,0,0,0,0,0,0,0,0,0,0,0,0,0,0,0]
["straw",0,0,0,0,0,0,0,0,0,0.1,0,0,0,0,0,0,0,0,0,0,0]
["streight",0,0,0,0,0,0,0,0,0,0,0,0,0,0,0,0,0,0.1,0,0,0.14074595000000001]
["strength",0,0,0,0,0,0,0,0,0,0.1,0,0,0,0.1,0,0,0,0,0,0,0]
["string",0,0,0,0,0,0,0,0,0,0,0,0,0,0,0,0,0,0,0,0,0]
["strings",0,0,0,0,7.4183979999999997E-2,0,0,0,0,0,0.1,0,0,0,0,0,0,0,0,0,0]
["striue",0,0,0,0,0,0,0,0,0,0.1,0.1,0,0,0,0,0,0.1,0,0,0,0]
["sturre",0,0,0,0,0,0,0,0,0,0,0,0,0,0,0.1,0,0,0,0,0,0.14074595000000001]
["subiect",0,0,0,0,0,0,0,0.1,0,0,0,0.1,0,0.1,0,0,0,0,0,0,0]
["suffering",0,0,0,0,0,0,0,0,0,0,0,0,0,0,0,0,0,0,0,0,0]
["summer",0,0,0,0,0,0,0,0,0,0,0,0,0,0,0,0,0,0,0,0,0]
["supplication",0,0,0,0,0,0.3,0,0,0,0,0,0,0,0,0,0,0,0,0,0,0]
["swain",0,0,0,0,0,0,0,0,0,0,0,0,0,0,0,0,0,0,0,0,0]
["sway",0,0.1,0,0,0,0,0,0,0,0,0,0,0,0,0.1,0,0,0,0,0,0]
["sweetness",0,0,0,0,0,0,0,0,0,0,0,0,0,0,0,0,0,0,0,0,0]
["swell",0,0,0,0,0,0,0,0,0,0,0,0,0.1,0,0.1,0,0,0,0.1,0,0]
["swelling",0,0,0,0,7.4183979999999997E-2,0,0,0,0,0,0,0.1,0,0,0,0,0,0,0.1,0,0]
["t",0,0,0.1,0,0.14836795999999999,0,0,0,0,0,0,0,0,0,0,0,0,0,0,0,0]
["tales",0,0,0,0,0,0,0,0,0.1,0.1,0,0,0,0,0,0,0,0,0,0,0]
["taught",0,0,0,0.1,0,0,0,0,0,0,0,0,0,0,0.1,0,0,0.1,0,0,0]
["teaching",0,0,0,0,0,0,0,0,0,0,0,0,0.1,0,0,0,0,0.1,0.1,0,0]
["tear",0,0,0,0,0,0,0,0,0,0,0,0,0,0,0,0,0,0,0,0,0]
["tells",0,0,0,0,0,0,0,0,0,0,0,0,0,0,0,0,0,0,0,0,0]
["tempests",0,0,0,0.1,0,0,0,0,0,0,0,0,0,0,0,0.1,0,0,0.1,0,0]
["themselues",0,0,0,0,0,0,0,0,0,0,0,0.1,0,0,0,0,0,0,0.1,0,7.0372980000000002E-2]
["tho'",0,0,0,0,0,0,0,0,0,0,0,0,0,0,0.1,0,0,0,0,0.1,0]
["thrice",0.1,0,0.1,0,0,0,0,0,0,0,0,0,0,0,0,0,0,0,0,0,0]
["throne",0,0,0,0,0,0,0,0,0,0,0,0,0,0.1,0,0,0,0.1,0,0,0]
["throw",0,0,0,0,0,0,0,0.1,0,0,0,0,0,0.1,0,0,0,0,0,0,0]
["tied",0,0,0,0,0,0,0,0,0,0,0,0.1,0,0,0,0,0,0,0,0,0]
["ties",0,0,0,0,0,0,0,0,0,0,0,0,0,0,0,0,0,0,0.2,0,7.0372980000000002E-2]
["touch'd",0,0,0,0,0,0,0,0,0,0,0,0,0,0,0,0,0,0,0,0,0]
["towne",0,0,0.1,0,0,0,0,0.1,0,0,0,0,0,0.1,0,0,0,0,0,0,0]
["train",0,0,0,0,0,0,0,0,0,0,0,0.1,0,0,0,0,0,0,0,0,0]
["trees",0,0,0,0,0,0,0,0.1,0,0,0,0,0,0,0,0,0,0,0,0,0]
["tribute",0,0,0,0,0,0,0,0,0,0,0,0,0,0.1,0,0,0,0.1,0.1,0,0]
["trie",0,0.1,0,0,0,0,0,0,0,0,0,0,0,0,0.1,0,0.1,0,0,0,0]
["trim",0,0,0,0,0,0,0,0,0,0,0,0,0,0,0,0,0,0,0,0,0]
["tunes",0,0,0,0,0,0,0,0,0.1,0,0,0,0,0.1,0,0,0,0,0,0,0]
["unseen",0,0,0,0,0,0,0,0,0,0,0,0,0,0,0,0,0,0,0,0,0]
["untill",0.1,0.1,0.1,0,0,0,0,0,0,0,0,0,0,0,0,0,0,0,0,0,0]
["vain",0,0,0,0,0,0,0,0,0,0,0.1,0,0,0,0,0,0,0,0,0,0]
["valiant",0,0,0,0,0,0,0,0,0,0,0,0,0,0,0.1,0,0,0.1,0,0,0]
["view",0,0,0,0,7.4183979999999997E-2,0,0,0,0,0,0,0,0,0,0,0,0,0,0,0,0]
["vitall",0,0.1,0.2,0,0,0,0,0,0,0,0,0,0,0,0,0,0,0,0,0,0]
["waies",0,0,0,0,0,0,0,0,0,0,0,0.1,0,0,0.1,0,0,0,0,0,7.0372980000000002E-2]
["wake",0,0.1,0,0,0,0,0,0,0,0,0,0,0,0,0,0,0,0,0,0,0]
["warmth",0,0,0,0,0,0,0,0,0,0.1,0,0,0,0,0,0,0,0.2,0,0,0]
["wast",0.1,0,0,0.1,7.4183979999999997E-2,0,0,0,0,0,0,0,0,0,0,0,0,0,0,0,0]
["wasted",0.2,0,0,0,7.4183979999999997E-2,0,0,0,0,0,0,0,0,0,0,0,0,0,0,0,0]
["waves",0,0.1,0,0,0,0,0,0,0,0,0,0,0,0,0,0,0,0,0,0,0]
["wayes",0,0,0,0,0,0,0,0,0,0,0.1,0.2,0,0,0,0,0,0,0,0,0]
["weak",0,0,0,0,0,0,0,0,0,0,0,0.1,0,0,0.1,0,0,0,0,0,0]
["weake",0,0,0.1,0,0,0,0,0,0,0,0,0,0,0,0,0,0,0,0.2,0,0]
["weale",0,0,0,0,0,0,0,0,0.1,0,0,0,0,0,0,0,0,0.1,0.1,0,0]
["weare",0,0,0,0,0,0,0,0,0,0,0,0,0,0,0.2,0,0,0,0,0,7.0372980000000002E-2]
["weary",0,0,0,0,0,0,0,0,0,0,0,0,0,0.1,0,0,0,0,0,0,0]
["wee",0,0,0.1,0,0,0.1,0,0,0.1,0,0,0,0,0,0,0,0,0,0,0,0]
["weeds",0,0,0,0,0,0,0,0,0,0,0,0.1,0,0,0,0,0,0,0,0,7.0372980000000002E-2]
["weepe",0,0,0,0,0,0,0,0,0,0,0,0,0.1,0,0,0,0.1,0,0,0,7.0372980000000002E-2]
["weeping",0,0,0,0,0,0,0,0,0,0,0.1,0,0,0,0,0,0,0,0,0,0]
["wet",0,0,0,0,0,0,0,0,0,0,0,0,0,0,0,0,0,0,0,0,0]
["whereof",0,0,0,0,0,0,0,0,0,0.1,0,0,0,0,0,0,0,0,0,0.1,0]
["wherewith",0,0,0,0,0,0,0,0,0,0,0,0,0.1,0,0.1,0.1,0,0,0,0,0]
["willing",0,0,0,0,0,0,0,0,0,0,0.1,0,0.1,0,0,0,0,0,0,0,0]
["wine",0,0,0,0,0,0,0,0,0,0,0,0,0,0,0,0.1,0,0,0,0,0]
["winne",0,0,0,0,0,0,0,0,0.1,0,0,0,0.1,0,0,0.1,0,0,0,0,0]
["wisest",0,0,0,0.1,0,0.1,0,0,0,0,0,0.1,0,0,0,0,0,0,0,0,0]
["womb",0,0,0.1,0,0,0,0,0,0,0,0,0,0,0,0,0,0,0,0,0,0]
["wordes",0,0,0,0.2,0,0,0,0,0.1,0,0,0,0,0,0,0,0,0,0,0,0]
["works",0,0,0,0,0,0,0,0.1,0,0,0,0,0,0,0,0,0,0,0,0,7.0372980000000002E-2]
["world's",0,0,0,0,0,0,0,0,0,0,0,0,0,0,0,0,0,0,0,0,0]
["worldes",0,0,0.1,0,0.14836795999999999,0,0,0,0,0,0,0,0,0,0,0,0,0,0,0,0]
["wrath",0,0,0,0,0,0,0,0,0,0,0.1,0,0,0,0,0,0,0.1,0,0,0]
["yore",0.2,0,0,0,0,0,0,0,0,0,0,0,0,0,0,0,0,0,0,0,0]
["yours",0,0,0,0,0,0,0,0,0,0,0,0,0,0,0,0,0,0,0,0,0]
["yourself",0,0,0,0,0,0,0,0,0,0,0,0,0,0,0,0,0,0,0,0,0]
["youthful",0,0,0,0,0,0,0,0,0,0,0,0,0,0,0,0,0,0,0,0,0]
["'and",0,0,0,0,0,0,0,0,0,0,0,0,0,0,0,0,0,0,0,0,0]
["'for",0,0,0,0,0,0,0,0,0,0,0,0,0,0,0,0,0,0,0,0,0]
["'his",0,0,0,0,0,0,0,0,0,0,0,0,0,0,0,0,0,0,0,0,0]
["'lo",0,0,0,0,0,0,0,0,0,0,0,0,0,0,0,0,0,0,0,0,0]
["'so",0,0,0,0,0,0,0,0,0,0,0,0,0,0,0,0,0,0,0,0,0]
["abase",0,0,0,0,0,0,0.1,0,0,0,0,0,0.1,0,0,0,0,0,0,0,0]
["abuse",0,0,0,0,0,0,0,0,0,0,0,0.1,0,0,0,0,0,0,0,0,0]
["acceptance",0,0,0,0,0,0,0,0,0,0,0,0,0,0,0,0,0,0,0,0,0]
["acquainted",0,0,0,0,0,0,0,0,0,0,0,0,0.1,0,0.1,0,0,0,0,0,0]
["add",0,0,0,0,0,0,0,0,0.1,0,0,0,0,0,0,0,0,0,0,0,0]
["addresse",0,0,0,0,0,0,0,0,0,0,0,0.1,0,0,0.1,0,0,0,0,0,0]
["adorned",0,0,0,0.1,7.4183979999999997E-2,0,0,0,0,0,0,0,0,0,0,0,0,0,0,0,0]
["affright",0,0,0,0.1,0,0,0,0,0,0,0,0,0,0,0,0,0,0,0,0,0]
["afore",0,0,0.1,0,7.4183979999999997E-2,0,0,0,0,0,0,0,0,0,0,0,0,0,0,0,0]
["aged",0,0,0,0.1,0,0,0,0,0,0,0,0,0,0,0,0,0,0,0,0,0]
["agree",0,0,0,0,0,0,0,0,0,0,0,0,0.2,0,0,0,0,0,0,0,0]
["aim",0,0,0,0,0,0,0,0,0,0,0,0,0,0,0,0,0,0,0,0,0]
["aire",0,0,0,0,0,0,0,0,0,0,0,0,0,0,0,0,0,0,0.1,0,7.0372980000000002E-2]
["airy",0,0,0,0,0,0,0,0,0,0,0,0,0,0,0,0,0,0,0,0,0]
["almost",0,0,0,0,0.14836795999999999,0,0,0,0,0,0,0,0,0,0,0,0,0,0,0,0]
["aloft",0,0,0,0.1,0,0,0,0,0,0,0,0,0,0,0,0,0,0,0,0,0]
["aloof",0,0,0,0,0,0,0,0,0,0,0,0,0,0,0,0,0,0,0,0,0]
["alreadie",0,0.1,0,0,0,0,0,0,0.1,0,0,0,0,0,0,0,0,0,0,0,0]
["altar",0,0,0,0,0,0,0,0,0,0,0,0,0,0,0,0,0,0,0,0,0]
["altare",0,0,0,0.2,0,0,0,0,0,0,0,0,0,0,0,0,0,0,0,0,0]
["ambitious",0,0,0,0,0,0,0,0,0,0,0,0,0,0,0,0,0,0,0.1,0.1,0]
["angels",0,0,0,0,7.4183979999999997E-2,0,0,0,0,0,0,0,0,0,0,0.1,0,0,0,0,0]
["anguish",0,0.1,0,0.1,0,0,0,0,0,0,0,0,0,0,0,0,0,0,0,0,0]
["annoyes",0,0,0,0,0,0,0,0,0,0,0.1,0,0,0.1,0,0,0,0,0,0,0]
["anoy",0,0,0.2,0,0,0,0,0,0,0,0,0,0,0,0,0,0,0,0,0,0]
["answers",0,0,0,0,0,0,0,0,0,0,0,0.1,0.1,0,0,0,0,0,0,0,0]
["apollo's",0,0,0,0,0,0,0,0,0,0,0,0,0,0,0,0,0,0,0,0,0]
["appeared",0,0,0.1,0.1,0,0,0,0,0,0,0,0,0,0,0,0,0,0,0,0,0]
["appears",0,0,0,0,0,0,0,0,0,0,0,0,0,0,0,0,0,0.1,0,0,0]
["applies",0,0,0,0,0,0,0,0,0,0,0,0,0,0.1,0,0,0,0.1,0,0,0]
["apply",0,0,0,0,0,0,0,0,0,0,0,0,0,0.1,0,0,0,0,0,0,0]
["april",0,0,0,0,0,0,0,0,0,0,0,0,0,0,0,0,0,0,0,0,0]
["aptly",0,0,0,0,0,0,0,0,0,0,0,0,0,0,0,0,0,0,0,0,0]
["arched",0,0,0,0,7.4183979999999997E-2,0,0,0,0,0,0,0,0,0,0,0,0,0,0,0,0]
["arguments",0,0,0,0,0,0,0,0,0,0,0,0,0,0,0,0,0.1,0,0,0,0]
["arke",0,0,0,0,0.14836795999999999,0,0,0,0,0,0,0,0,0,0,0,0,0,0,0,0]
["armory",0,0,0,0,0,0,0,0,0,0,0,0,0,0,0,0,0,0,0,0,7.0372980000000002E-2]
["armour",0,0,0,0,0,0,0,0,0,0,0,0,0.1,0,0,0,0,0,0,0,7.0372980000000002E-2]
["arms",0,0,0,0,0,0,0,0,0,0,0,0,0,0,0,0,0,0,0,0,0]
["arrow",0,0,0,0,0,0,0,0,0,0,0,0,0,0,0,0,0.2,0,0,0,0]
["arts",0,0,0,0,0,0,0,0,0,0,0,0,0,0,0,0,0,0,0,0,0]
["asham'd",0,0,0,0,0,0,0,0,0,0,0,0,0.1,0,0,0,0,0,0,0,7.0372980000000002E-2]
["aside",0,0,0,0,7.4183979999999997E-2,0.1,0,0,0,0,0,0,0,0,0,0,0,0,0,0,0]
["askt",0.1,0,0,0,0,0,0,0,0.1,0,0,0,0,0,0,0,0,0,0,0,0]
["assay",0,0,0,0.1,0,0,0,0,0,0,0,0,0,0,0,0,0,0,0,0,0]
["assyrian",0.1,0,0,0.1,0,0,0,0,0,0,0,0,0,0,0,0,0,0,0,0,0]
["atlas",0,0,0,0,0,0,0,0,0,0,0,0,0,0,0.1,0,0,0.1,0,0,0]
["attend",0,0,0,0,0,0,0,0.1,0,0,0,0,0,0,0,0,0,0,0,0,0]
["audience",0,0,0,0,0,0.1,0,0,0,0,0,0,0,0,0,0,0,0,0,0,0]
["audit",0,0,0,0,0,0,0,0,0,0,0,0,0,0,0,0,0,0,0,0,0]
["awrie",0,0,0,0,0,0,0,0,0,0,0,0.1,0,0.1,0,0,0,0,0,0,0]
["aye",0,0,0,0.1,0,0,0,0,0,0,0,0,0,0,0,0,0,0,0,0,0]
["babes",0,0,0,0,0,0,0,0,0,0,0.1,0,0,0,0.1,0,0,0,0,0,0]
["back",0,0,0,0.1,0,0,0,0,0,0,0,0,0,0,0,0,0,0,0,0,0]
["balance",0,0,0,0,0,0,0,0,0,0,0,0.1,0,0,0,0,0,0.1,0,0,0]
["banish",0,0,0,0,0,0,0,0,0,0,0,0,0,0.1,0,0,0,0,0.1,0,0]
["bard",0,0,0,0.1,0,0,0,0,0,0,0,0,0,0,0,0,0,0,0,0.1,0]
["bards",0,0,0,0,0,0,0,0,0,0,0,0,0,0,0,0,0,0,0,0,0]
["basest",0,0,0,0,0,0,0.1,0,0,0,0,0,0,0.1,0,0,0,0,0,0,0]
["battery",0,0,0,0,0,0,0,0,0,0,0,0,0,0,0,0,0,0,0,0,0]
["beamy",0,0,0,0,0,0,0,0,0,0.2,0,0,0,0,0,0,0,0,0,0,0]
["bear'st",0,0,0,0,0,0,0,0,0,0,0,0,0,0,0,0,0.1,0,0,0,0]
["beate",0,0,0,0.1,0,0,0,0,0,0,0,0,0,0,0.1,0,0,0,0,0,0]
["became",0.1,0,0,0,0,0,0,0,0,0,0,0,0,0,0,0,0,0,0,0,0]
["becomes",0,0,0,0,0,0,0,0,0,0,0,0,0,0,0.1,0.1,0,0,0,0,0]
["begun",0,0,0,0,0,0,0,0,0,0,0,0,0,0,0,0,0,0,0,0,0]
["behind",0,0,0,0,0,0,0,0,0,0,0,0,0,0,0,0,0,0,0,0,0]
["behinde",0,0,0,0,7.4183979999999997E-2,0,0,0,0,0.1,0,0,0,0,0,0,0,0,0,0,0]
["beholde",0,0,0,0.1,7.4183979999999997E-2,0,0,0,0,0,0,0,0,0,0,0,0,0,0,0,0]
["bells",0,0,0,0,0,0,0,0,0,0,0,0,0,0,0,0,0,0,0,0,0]
["bends",0,0,0,0,0,0,0,0,0,0,0,0.1,0,0,0,0,0,0.1,0,0,0]
["beneath",0,0,0,0,0,0,0,0,0,0,0,0,0,0,0,0,0,0,0,0,0]
["bereft",0.1,0,0,0,0,0,0,0,0,0,0,0,0,0,0,0,0,0,0,0,0]
["bestow",0,0,0,0,0,0,0,0.1,0,0,0,0,0,0,0,0,0,0,0,0,0]
["betray'd",0,0,0,0,0,0,0,0,0,0,0,0,0,0,0.1,0,0,0,0,0,0]
["between",0,0,0,0,0,0,0,0,0,0,0,0,0,0,0.1,0,0,0,0,0,0]
["bewray",0,0,0,0,0,0,0,0,0,0,0.1,0.1,0,0,0,0,0,0,0,0,0]
["beyond",0,0,0,0,0,0,0,0,0,0,0,0,0,0,0,0,0,0,0.1,0,0]
["bidden",0,0,0,0,0,0,0,0,0,0,0,0,0,0,0,0.1,0,0,0,0,0]
["bide",0,0,0,0,0,0,0,0,0,0,0,0,0,0,0,0,0,0,0.1,0,0]
["bier",0,0,0,0,0,0,0,0,0,0,0,0,0,0,0,0,0,0,0,0,0]
["bin",0,0,0,0,0,0.1,0,0,0,0,0,0,0,0,0,0,0,0,0,0,0]
["birds",0,0,0,0,0,0,0,0,0,0,0,0,0,0,0,0,0.1,0,0,0,7.0372980000000002E-2]
["birthright",0,0,0,0,0,0,0,0,0,0,0.1,0.1,0,0,0,0,0,0,0,0,0]
["blast",0,0,0,0.1,0,0,0,0,0,0,0,0,0,0,0,0,0,0,0,0,0]
["blaze",0,0,0,0,0,0,0,0,0,0,0.1,0,0,0,0,0,0,0,0,0,0]
["bleed",0,0,0,0,0,0,0,0,0,0.1,0,0,0,0,0.1,0,0,0,0,0,0]
["bleede",0,0,0,0,0,0,0,0,0.1,0,0,0,0,0,0,0,0,0,0,0.1,0]
["bliss",0,0,0,0,0,0,0,0,0,0,0,0,0,0,0,0,0,0.1,0.1,0,0]
["blithe",0,0,0,0,0,0,0,0,0,0,0,0,0,0,0,0,0,0,0,0,0]
["bloud",0,0,0,0,0,0,0,0,0,0.1,0,0,0,0,0,0,0,0,0.1,0,0]
["blows",0,0,0,0,0,0,0,0,0,0,0,0,0,0,0,0,0,0,0,0,0]
["blue",0,0,0,0,0,0,0,0,0,0,0,0,0,0,0,0,0,0,0,0,0]
["blushes",0,0,0,0,0,0,0,0,0,0,0,0,0,0,0,0,0,0,0,0,0]
["bodies",0,0,0,0,0,0,0,0.1,0,0,0,0.1,0,0,0,0,0,0,0,0,0]
["body",0,0,0,0,0,0,0,0,0,0,0,0,0,0,0.1,0.1,0,0,0,0,0]
["bold",0,0,0,0,0,0,0,0,0,0,0,0,0,0,0,0,0,0,0,0,0]
["bones",0,0,0,0,0,0,0,0.1,0,0,0,0,0,0,0,0,0,0,0,0,0]
["book",0,0,0,0,0,0,0,0,0,0,0,0,0,0,0.1,0,0,0,0,0,0]
["bootes",0.1,0,0,0,7.4183979999999997E-2,0,0,0,0,0,0,0,0,0,0,0,0,0,0,0,0]
["bosom",0,0,0,0,0,0,0,0,0,0,0,0,0,0,0,0,0,0,0,0,0]
["bought",0.1,0,0,0,7.4183979999999997E-2,0,0,0,0,0,0,0,0,0,0,0,0,0,0,0,0]
["bounds",0,0,0,0,0,0,0,0,0,0,0,0,0.1,0,0,0,0,0,0,0,0]
["bounty",0,0,0,0,0,0,0,0,0,0,0,0,0,0,0,0,0,0,0,0,0]
["bow",0,0,0,0,0,0,0,0,0,0,0,0,0,0,0,0,0,0,0,0,7.0372980000000002E-2]
["bowe",0,0,0,0,0,0,0,0,0,0,0.2,0,0,0,0,0,0,0,0,0,0]
["bowels",0.1,0,0,0,0,0,0,0.1,0,0,0,0,0,0,0,0,0,0,0,0,0]
["bowre",0,0.1,0.1,0,0,0,0,0,0,0,0,0,0,0,0,0,0,0,0,0,0]
["brake",0,0,0,0,0,0,0,0,0,0,0.2,0,0,0,0,0,0,0,0,0,0]
["brazen",0,0,0,0,7.4183979999999997E-2,0,0,0,0,0,0,0.1,0,0,0,0,0,0,0,0,0]
["breaking",0,0,0,0,0,0,0,0,0,0,0,0,0,0,0,0,0,0,0,0,0]
["breasts",0,0,0,0,0,0,0,0,0,0,0.1,0,0.1,0,0,0,0,0,0,0,0]
["breath'd",0,0,0,0,0,0,0,0,0,0,0,0,0,0,0,0.2,0,0,0,0,0]
["breathes",0,0,0,0,0,0,0,0,0,0,0,0,0,0,0,0,0,0,0,0,7.0372980000000002E-2]
["breathing",0,0,0,0.1,0,0,0,0,0,0,0,0,0,0,0,0,0,0,0.1,0,0]
["bred",0,0,0,0,7.4183979999999997E-2,0,0,0,0,0,0,0,0,0,0,0,0,0,0,0,0]
["bridge",0,0,0,0,0.14836795999999999,0,0,0,0,0,0,0,0,0,0,0,0,0,0,0,0]
["brief",0,0,0,0,0,0,0,0,0,0,0,0,0,0,0,0,0,0,0,0,0]
["brightnes",0.1,0,0,0.1,0,0,0,0,0,0,0,0,0,0,0,0,0,0,0,0,0]
["brine",0,0,0,0,0,0,0,0,0,0,0,0,0,0,0,0,0,0,0,0,0]
["bringing",0,0,0,0,0,0.1,0,0,0,0,0,0,0,0,0,0,0,0,0,0,7.0372980000000002E-2]
["broad",0,0,0,0.1,0,0,0,0,0,0,0,0,0,0,0,0,0,0,0,0,0]
["brooke",0,0,0,0,0,0,0,0,0,0,0,0,0,0,0,0.1,0,0.1,0,0,0]
["brow",0,0,0,0,0,0,0,0,0,0,0,0,0,0,0,0,0,0,0,0,0]
["bud",0,0,0.1,0,0,0,0,0,0,0,0,0,0,0,0,0,0,0,0,0,0]
["build",0,0.1,0,0,0,0,0,0,0,0,0,0,0,0,0,0,0,0,0,0,0]
["bunduca",0.2,0,0,0,0,0,0,0,0,0,0,0,0,0,0,0,0,0,0,0,0]
["burn",0,0,0,0,0,0,0,0,0,0,0,0.2,0,0,0,0,0,0,0,0,0]
["burn'd",0,0,0,0,0,0,0,0,0,0,0,0.1,0,0,0,0,0,0,0,0,0]
["burne",0,0,0,0,0,0,0,0,0,0,0,0,0,0,0,0.2,0,0,0,0,0]
["burnes",0,0,0,0,0,0,0,0,0,0,0,0,0,0,0,0,0,0.1,0.1,0,0]
["burnt",0,0,0,0,0,0.1,0,0,0,0.1,0,0,0,0,0,0,0,0,0,0,0]
["bush",0,0,0,0,0,0,0.1,0,0,0,0.1,0,0,0,0,0,0,0,0,0,0]
["busie",0,0,0,0,0,0,0,0,0,0,0,0,0.1,0,0,0,0,0,0,0.1,0]
["busy",0,0,0,0,0,0,0,0,0,0,0,0,0.1,0,0,0,0,0,0,0,0]
["cald",0,0,0,0,0,0,0,0,0,0,0,0,0,0.1,0,0.1,0,0,0,0,0]
["calling",0.1,0,0,0,0,0,0,0,0,0,0,0,0,0,0,0,0,0,0,0,0]
["calls",0,0,0,0,0,0,0,0,0,0,0,0,0,0,0,0,0,0,0,0,0]
["calm",0,0,0,0,0,0,0,0,0,0,0,0,0,0,0,0,0,0,0,0,0]
["cambden",0,0.2,0,0,0,0,0,0,0,0,0,0,0,0,0,0,0,0,0,0,0]
["car",0,0,0,0,0,0,0,0,0,0,0,0,0.1,0,0,0,0,0,0,0,0]
["careless",0,0,0,0,0,0,0,0,0,0,0,0,0,0,0,0,0,0,0,0,0]
["carelesse",0,0.1,0,0,0,0,0,0,0,0,0,0.1,0,0,0,0,0,0,0,0,0]
["carried",0,0,0,0,7.4183979999999997E-2,0,0,0,0,0,0.1,0,0,0,0,0,0,0,0,0,0]
["cates",0,0,0,0,0,0,0,0,0,0,0,0,0,0,0,0,0,0,0,0.1,0]
["causes",0,0,0,0,0,0,0,0,0,0,0,0.1,0,0,0,0,0,0,0,0,0]
["cell",0,0,0,0,0,0,0,0,0,0,0,0,0,0,0,0,0,0,0,0,0]
["chace",0,0,0,0,0,0,0,0,0.1,0,0,0,0,0,0,0,0,0,0,0,7.0372980000000002E-2]
["chafe",0,0,0,0,0,0,0.1,0,0,0,0.1,0,0,0,0,0,0,0,0,0,0]
["chance",0,0,0,0,0,0,0,0,0,0,0,0,0,0.1,0,0,0,0,0,0.1,0]
["characters",0,0,0,0,0,0,0,0,0,0,0,0,0,0,0,0,0,0,0,0,0]
["charge",0,0,0,0,0,0,0,0.1,0,0,0,0,0,0,0,0,0,0.1,0,0,0]
["chariot",0,0,0,0,0,0,0,0,0,0,0,0,0,0,0,0,0,0.1,0,0,0]
["charme",0,0,0,0,0,0,0,0,0,0,0,0,0,0,0,0,0,0,0,0,0.14074595000000001]
["chastitie",0,0.1,0,0,0,0,0,0,0,0,0,0,0,0.1,0,0,0,0,0,0,0]
["cheeks",0,0,0,0,0,0,0,0,0,0,0,0,0,0,0,0,0,0,0,0.1,7.0372980000000002E-2]
["cheere",0,0,0,0,0,0,0,0,0,0,0,0,0,0,0,0,0,0,0,0,0.14074595000000001]
["cheerefull",0,0,0,0,7.4183979999999997E-2,0,0,0,0,0,0,0,0,0,0,0,0,0,0,0,7.0372980000000002E-2]
["chekes",0,0,0,0,0,0,0,0,0,0.2,0,0,0,0,0,0,0,0,0,0,0]
["cherish",0,0,0,0,0,0,0,0,0,0,0,0,0,0,0,0,0,0.1,0,0,0]
["chide",0,0,0,0,0,0,0,0,0,0,0,0,0,0,0,0,0,0.1,0,0,0]
["choice",0,0,0.1,0,0,0,0,0.1,0,0,0,0,0,0,0,0,0,0,0,0,0]
["choise",0,0,0,0,0,0,0,0,0,0,0,0,0,0.1,0,0,0,0,0,0,7.0372980000000002E-2]
["choisest",0,0,0,0,0,0,0,0,0,0,0,0,0,0,0,0.1,0.1,0,0,0,0]
["chose",0,0,0.2,0,0,0,0,0,0,0,0,0,0,0,0,0,0,0,0,0,0]
["citie",0.2,0,0,0,0,0,0,0,0,0,0,0,0,0,0,0,0,0,0,0,0]
["cities",0,0,0,0,0,0,0,0,0,0,0,0.1,0,0,0,0,0,0,0,0,0]
["city",0,0,0,0,0,0,0,0,0,0,0,0,0,0,0,0,0,0,0,0,0]
["civil",0,0,0,0,0,0,0,0,0,0,0,0,0,0,0,0,0,0,0,0,0]
["claime",0,0,0,0,0,0,0,0,0,0.1,0,0,0,0,0.1,0,0,0,0,0,0]
["cloth'd",0,0,0,0,0,0,0,0,0,0,0,0,0,0,0,0.1,0,0,0,0.1,0]
["cloud",0,0,0,0,0,0,0,0,0,0,0,0,0,0,0,0,0,0,0,0,0]
["cloudes",0,0,0,0,7.4183979999999997E-2,0,0,0,0,0,0,0,0,0,0,0,0,0,0,0,7.0372980000000002E-2]
["cock",0,0,0,0,0,0,0,0,0,0,0,0,0,0,0,0,0,0,0,0,0]
["coldly",0,0,0,0,0,0,0,0,0,0.1,0,0,0,0,0,0,0,0,0,0,0]
["colin",0,0.2,0,0,0,0,0,0,0,0,0,0,0,0,0,0,0,0,0,0,0]
["colour",0,0,0,0,0,0,0,0,0,0.1,0,0,0,0,0,0,0,0,0,0,7.0372980000000002E-2]
["colour'd",0,0,0,0,0,0,0,0,0,0.1,0,0,0,0,0,0,0,0,0,0.1,0]
["comely",0,0,0,0,0,0,0,0,0,0,0,0,0,0,0,0,0,0,0,0,0]
["complaint",0,0,0,0.1,0,0.1,0,0,0,0,0,0,0,0,0,0,0,0,0,0,0]
["complaints",0,0,0,0,0,0,0,0.1,0,0,0,0,0,0.1,0,0,0,0,0,0,0]
["conceits",0,0,0,0,0,0,0,0,0,0,0,0,0,0,0.1,0,0,0,0,0,0]
["conclusion",0,0,0,0,0,0,0,0.1,0,0,0,0,0,0,0,0,0,0,0,0,7.0372980000000002E-2]
["confounds",0,0,0,0,0,0,0,0,0,0,0,0,0,0,0,0,0,0,0,0,0]
["confused",0,0,0,0,0,0.1,0,0,0,0,0,0,0,0,0,0,0,0,0.1,0,0]
["confusion",0,0,0,0.2,0,0,0,0,0,0,0,0,0,0,0,0,0,0,0,0,0]
["conquer",0,0,0,0,0,0,0,0,0,0,0,0,0,0.2,0,0,0,0,0,0,0]
["conscience",0,0,0,0,0,0,0,0.1,0,0,0,0,0,0,0,0,0,0,0.1,0,0]
["consent",0,0,0,0,0,0,0.1,0,0,0,0,0,0,0,0,0,0,0,0,0,0]
["constant",0,0,0,0,0,0,0,0,0,0,0,0,0.1,0,0,0,0,0,0,0,0]
["constraint",0.1,0,0,0,0,0,0,0,0,0,0,0,0,0,0,0,0,0,0,0,0]
["containe",0,0,0,0,0,0,0,0,0.1,0,0,0,0,0,0,0,0,0,0.1,0,0]
["contained",0,0,0,0,0,0.1,0,0,0.1,0,0,0,0,0,0,0,0,0,0,0,0]
["contend",0,0,0,0,0,0,0,0,0,0,0.1,0,0,0,0,0,0,0,0,0,0]
["conuersation",0,0,0,0,0,0,0,0,0,0,0,0,0,0,0,0,0,0.1,0,0,7.0372980000000002E-2]
["cornets",0,0,0,0,0,0,0.1,0,0.1,0,0,0,0,0,0,0,0,0,0,0,0]
["cost",0,0,0,0,0,0,0,0,0.1,0,0,0,0,0,0,0,0,0,0,0,0]
["costlie",0,0,0,0.1,7.4183979999999997E-2,0,0,0,0,0,0,0,0,0,0,0,0,0,0,0,0]
["couldst",0,0,0,0,0,0,0,0,0,0,0,0,0,0,0,0,0.1,0,0,0,0]
["counsell",0,0,0,0,0,0,0,0,0,0,0,0,0.1,0,0,0,0,0,0.1,0,0]
["counsels",0,0,0,0,0,0,0,0,0,0,0,0,0,0,0,0.1,0.1,0,0,0,0]
["coupled",0,0,0,0,0,0,0,0.1,0,0,0,0,0,0,0,0,0,0,0,0.1,0]
["courtiers",0,0,0,0,0,0,0,0.2,0,0,0,0,0,0,0,0,0,0,0,0,0]
["courtly",0,0,0,0,0,0,0,0,0,0,0,0,0,0,0.2,0,0,0,0,0,0]
["coward",0,0,0,0,0,0.1,0,0,0,0,0,0,0,0,0,0,0,0,0,0.1,0]
["craft",0,0,0,0,0,0,0,0,0,0,0,0,0,0,0,0,0,0,0,0,0]
["creature",0.1,0,0,0,0,0.1,0,0,0,0,0,0,0,0,0,0,0,0,0,0,0]
["cried",0,0,0,0,0,0,0.1,0,0,0,0,0,0,0,0,0,0,0,0,0,0]
["crown",0,0,0,0,0,0,0,0,0,0,0,0,0,0,0,0,0,0,0,0,0]
["crown'd",0,0,0,0,0,0,0,0,0,0,0,0,0,0,0,0,0.1,0,0,0,0]
["cruel",0,0,0,0,0,0,0,0,0,0,0,0,0.1,0,0,0,0,0,0,0,0]
["crying",0.1,0,0,0,0,0.1,0,0,0,0,0,0,0,0,0,0,0,0,0,0,0]
["crystal",0,0,0,0,0,0,0,0,0,0,0,0,0,0,0,0,0,0,0,0,0]
["cup",0,0,0,0,0,0,0,0,0,0,0,0,0,0,0,0,0.1,0,0,0,0]
["cups",0,0,0,0,0,0,0,0,0,0,0,0,0,0,0,0,0,0,0,0,0]
["curls",0,0,0,0,0,0,0,0,0,0,0,0,0,0,0,0,0,0,0,0,0]
["daintiest",0,0,0,0,7.4183979999999997E-2,0,0,0,0,0.1,0,0,0,0,0,0,0,0,0,0,0]
["dan",0,0,0,0,0.14836795999999999,0,0,0,0,0,0,0,0,0,0,0,0,0,0,0,0]
["darkest",0,0,0,0,0,0,0,0,0,0,0,0,0,0,0,0,0,0,0,0.1,0]
["darkned",0,0,0,0,0,0,0,0,0,0,0,0,0,0,0,0,0,0,0,0.1,7.0372980000000002E-2]
["darknes",0.1,0,0.1,0,0,0,0,0,0,0,0,0,0,0,0,0,0,0,0,0,0]
["darkness",0,0,0,0,0,0,0,0,0,0,0,0,0,0,0,0,0,0,0,0,0]
["darknesse",0,0,0,0,0,0,0,0,0,0,0,0,0,0,0,0.1,0,0,0,0,7.0372980000000002E-2]
["date",0.1,0,0,0,0,0,0,0,0,0,0,0,0,0,0,0,0,0,0,0,0]
["days",0,0,0,0,0,0,0,0,0,0,0,0,0,0,0,0,0,0,0,0,0]
["death's",0,0,0,0,0,0,0,0,0,0,0,0,0,0,0,0,0,0,0,0,0]
["decaie",0.1,0.1,0,0,0,0,0,0,0,0,0,0,0,0,0,0,0,0,0,0,0]
["deckt",0,0,0,0,0.14836795999999999,0,0,0,0,0,0,0,0,0,0,0,0,0,0,0,0]
["decline",0,0,0,0,0,0,0,0,0,0,0,0.1,0,0,0,0.1,0,0,0,0,0]
["deede",0,0,0,0,0,0,0,0,0,0,0.1,0,0,0,0.1,0,0,0,0,0,0]
["defence",0,0,0,0,0,0,0,0,0,0,0,0,0,0,0,0.1,0,0,0,0,0]
["denies",0,0,0,0,0,0,0,0,0,0,0,0,0,0,0,0,0.1,0,0,0.1,0]
["deny",0,0,0,0,0,0,0,0,0,0,0,0,0,0,0,0,0,0,0,0,7.0372980000000002E-2]
["depart",0,0,0,0,0,0,0,0,0,0,0,0,0,0,0,0,0,0,0.1,0,0]
["deplore",0,0.1,0,0,7.4183979999999997E-2,0,0,0,0,0,0,0,0,0,0,0,0,0,0,0,0]
["dere",0.1,0,0,0,0,0,0,0,0,0.1,0,0,0,0,0,0,0,0,0,0,0]
["descended",0,0,0,0,0,0,0,0,0,0,0,0,0,0,0,0,0,0,0,0,0]
["descending",0,0,0,0,0.14836795999999999,0,0,0,0,0,0,0,0,0,0,0,0,0,0,0,0]
["descrie",0,0,0,0,0,0,0,0,0,0,0,0,0.1,0,0.1,0,0,0,0,0,0]
["desired",0,0,0,0.1,0,0,0,0,0,0,0,0,0,0,0,0,0,0,0,0,0]
["destroys",0,0,0,0,0,0,0,0,0,0,0,0,0,0,0,0,0,0,0,0,0]
["determination",0,0,0,0,0,0.1,0,0,0,0,0,0,0,0,0,0,0,0,0,0,0]
["dew",0,0,0,0,0,0,0,0,0,0,0,0,0,0,0,0,0,0,0,0,0]
["dians",0,0,0,0,0,0,0,0,0,0,0,0,0,0,0,0,0,0.1,0,0,7.0372980000000002E-2]
["dide",0,0.1,0,0,0,0,0,0,0,0,0,0,0,0,0,0,0,0,0.1,0,0]
["didst",0,0,0,0,0,0,0,0,0,0.1,0,0,0,0,0,0,0,0,0,0,7.0372980000000002E-2]
["diest",0,0.1,0,0,0,0,0,0,0,0,0,0,0,0,0,0,0,0,0,0,0]
["dignitie",0,0,0,0,0,0,0.1,0.1,0,0,0,0,0,0,0,0,0,0,0,0,0]
["dim",0,0,0,0,0,0,0,0,0,0,0,0,0,0,0,0,0,0,0,0,0]
["dipt",0,0,0,0.2,0,0,0,0,0,0,0,0,0,0,0,0,0,0,0,0,0]
["displaies",0,0,0,0,0,0,0,0,0,0,0,0.1,0,0,0,0,0,0,0,0.1,0]
["dispraise",0,0.1,0,0,0,0,0,0,0,0.1,0,0,0,0,0,0,0,0,0,0,0]
["distance",0,0,0,0,0,0,0,0,0,0,0,0,0,0,0,0,0,0,0,0,0]
["distill'd",0,0,0,0,0,0,0,0,0,0,0,0,0,0,0,0,0,0,0,0,0]
["ditties",0,0,0,0,0,0,0,0,0,0,0,0,0,0,0,0,0,0,0.1,0,0]
["divine",0,0,0.1,0,0,0,0,0,0,0,0,0,0,0,0,0,0,0,0,0,0]
["dog",0,0,0,0,0,0,0,0,0,0,0,0,0,0,0,0.2,0,0,0,0,0]
["doing",0,0,0,0,0,0,0,0,0,0,0,0,0,0,0,0,0,0,0.1,0,0]
["donne",0,0,0,0.1,0,0,0,0,0,0,0,0,0,0,0,0,0,0,0,0,0]
["doom",0,0,0,0,0,0,0,0,0,0,0,0.1,0,0,0,0,0,0,0,0,0]
["doost",0,0,0.1,0,0,0,0,0,0,0,0,0,0,0,0,0,0,0,0,0,7.0372980000000002E-2]
["double",0,0,0,0,0,0,0,0,0,0,0,0,0,0,0,0,0,0.1,0,0,0]
["downward",0,0,0,0,0,0,0,0,0,0,0,0,0,0,0,0,0,0,0,0,0]
["driu'n",0,0,0,0,0,0,0,0,0,0,0,0,0,0,0.1,0.1,0,0,0,0,0]
["driue",0,0,0,0,0,0,0,0,0,0,0,0,0,0,0,0,0,0,0,0,0.14074595000000001]
["droop",0,0,0,0,0,0,0,0,0,0,0,0,0,0,0,0,0,0,0,0,0]
["drops",0,0,0,0,0,0,0,0,0,0,0,0,0,0,0,0,0,0,0,0,0]
["dry",0,0,0,0,0,0,0,0,0,0,0,0,0,0,0,0,0,0,0,0,0]
["dungeon",0,0,0,0,0,0,0,0,0,0,0,0,0,0,0,0,0,0,0,0,7.0372980000000002E-2]
["durst",0,0,0,0,7.4183979999999997E-2,0,0,0,0,0,0,0,0,0,0,0,0,0.1,0,0,0]
["dwelling",0,0,0,0,0,0,0,0,0,0,0,0,0,0.1,0,0,0,0,0,0,0]
["dyde",0,0.2,0,0,0,0,0,0,0,0,0,0,0,0,0,0,0,0,0,0,0]
["e",0,0,0,0,0,0.1,0.1,0,0,0,0,0,0,0,0,0,0,0,0,0,0]
["eager",0,0,0,0,0,0,0,0,0,0,0,0,0,0,0,0,0.1,0,0,0,0]
["early",0,0,0,0,0,0,0,0,0,0,0,0,0,0,0,0,0,0,0,0,0]
["eat",0,0,0,0,0,0,0,0,0,0,0,0,0,0,0,0,0,0,0,0,0]
["eating",0,0,0,0,0,0,0,0,0,0,0,0,0,0,0,0,0,0,0,0,0]
["empty",0,0,0,0,0,0,0,0,0,0,0,0,0,0,0,0,0,0,0.1,0,7.0372980000000002E-2]
["enchant",0,0,0,0,0,0.1,0,0,0,0,0,0,0,0,0,0,0,0,0,0,0]
["ende",0,0,0.1,0,0,0,0,0.1,0,0,0,0,0,0,0,0,0,0,0,0,0]
["endite",0,0,0,0,0,0,0,0,0,0,0,0,0,0,0,0,0,0.1,0,0.1,0]
["endure",0,0.1,0,0,0,0,0,0,0,0,0,0,0,0,0,0,0,0,0,0,0]
["enjoy",0,0,0.1,0,0,0,0,0,0,0,0,0,0,0,0,0,0,0,0,0,0]
["ensample",0,0,0,0.1,7.4183979999999997E-2,0,0,0,0,0,0,0,0,0,0,0,0,0,0,0,0]
["ensue",0,0,0.1,0,0,0,0,0,0,0,0,0,0,0,0.1,0,0,0,0,0,0]
["entertainment",0,0,0,0,0,0,0,0,0,0,0,0,0,0,0.1,0,0,0,0,0,0]
["envie",0,0,0,0.2,0,0,0,0,0,0,0,0,0,0,0,0,0,0,0,0,0]
["equall",0.1,0,0,0,7.4183979999999997E-2,0,0,0,0,0,0,0,0,0,0,0,0,0,0,0,0]
["equally",0,0,0,0,0,0.1,0,0,0,0,0,0,0,0,0,0,0,0,0,0,0]
["ergo",0,0,0,0,0,0,0,0.2,0,0,0,0,0,0,0,0,0,0,0,0,0]
["esteem",0,0,0,0,0,0,0,0,0,0,0,0,0,0,0,0,0,0,0,0,0]
["eternal",0,0,0,0,0,0,0,0,0,0,0,0,0,0,0,0,0,0,0,0,0]
["eternall",0,0,0.2,0,0,0,0,0,0,0,0,0,0,0,0,0,0,0,0,0,0]
["eternitie",0,0,0.2,0,0,0,0,0,0,0,0,0,0,0,0,0,0,0,0,0,0]
["euerie",0,0,0,0,0,0,0,0,0,0,0,0,0,0,0,0,0.1,0,0.1,0,0]
["eurydice",0,0,0,0.1,0,0,0,0,0,0,0,0,0,0,0,0,0,0,0,0,0]
["example",0,0,0,0,0,0,0,0,0,0,0,0,0,0,0,0,0,0,0,0,0]
["exceeding",0,0,0,0,0.14836795999999999,0,0,0,0,0,0,0,0,0,0,0,0,0,0,0,0]
["experience",0,0,0,0,0,0,0,0,0,0,0,0,0,0,0,0,0,0,0,0,0]
["expresse",0,0,0,0,0,0,0,0,0,0,0,0,0.1,0,0,0,0,0,0,0.1,0]
["extend",0,0,0,0,0,0,0,0,0,0,0,0,0,0,0,0,0,0,0,0,0]
["fable",0,0,0,0,0,0,0,0,0,0,0,0,0,0.1,0,0,0,0,0,0,0]
["faile",0,0,0,0,7.4183979999999997E-2,0,0,0,0,0,0,0,0,0,0,0,0,0.1,0,0,0]
["faint",0,0,0,0.1,0,0,0,0,0,0,0,0,0,0,0,0,0,0,0,0.1,0]
["falling",0,0,0,0,0,0,0,0,0,0,0,0,0,0,0,0,0,0,0,0,0]
["fancie",0,0,0,0,0,0,0,0,0,0,0,0,0,0.1,0.1,0,0,0,0,0,0]
["farewell",0,0,0,0,0,0,0,0,0,0,0,0,0,0,0,0,0,0,0,0,7.0372980000000002E-2]
["fatall",0.2,0,0,0,0,0,0,0,0,0,0,0,0,0,0,0,0,0,0,0,0]
["fawne",0,0.1,0,0,0,0,0,0,0,0,0,0.1,0,0,0,0,0,0,0,0,0]
["feat",0,0,0,0,0,0,0,0,0,0,0,0,0,0,0,0,0,0,0,0,0]
["feed",0,0,0,0,7.4183979999999997E-2,0,0,0,0,0,0,0,0,0,0.1,0,0,0,0,0,0]
["feel'st",0,0,0,0,0,0,0,0,0,0,0,0,0.1,0,0,0,0,0,0,0,0]
["felicitie",0,0,0,0,7.4183979999999997E-2,0,0,0,0,0,0,0,0,0,0,0,0,0,0.1,0,0]
["fellowship",0,0,0,0,0,0,0,0,0,0,0,0,0.1,0,0,0,0,0.1,0,0,0]
["fickle",0,0,0,0,0,0,0,0,0,0,0,0,0,0,0,0,0,0,0,0,0]
["fields",0,0,0.2,0,0,0,0,0,0,0,0,0,0,0,0,0,0,0,0,0,0]
["fiend",0,0,0,0,0,0,0,0,0,0,0,0,0,0,0,0,0,0,0,0,0]
["fierce",0,0,0,0,0,0,0,0,0,0,0,0,0,0.1,0,0.1,0,0,0,0,0]
["fighting",0,0,0,0,0,0,0,0,0,0,0.1,0,0,0,0,0,0,0,0,0,0]
["fights",0,0,0,0,0,0,0,0,0,0,0,0,0.1,0,0,0.1,0,0,0,0,0]
["figures",0,0,0,0,0,0,0,0,0,0,0,0,0,0,0,0,0,0,0,0,0]
["filthy",0,0,0,0,0,0,0,0.1,0,0,0,0.1,0,0,0,0,0,0,0,0,0]
["fires",0,0,0,0,0,0,0,0,0,0.1,0,0,0,0,0,0,0,0,0,0,0]
["firmly",0,0,0,0,0,0,0,0,0,0,0,0,0,0,0.1,0,0.1,0,0,0,0]
["fleshlie",0,0,0.1,0,7.4183979999999997E-2,0,0,0,0,0,0,0,0,0,0,0,0,0,0,0,0]
["flintie",0,0,0,0,0,0,0.1,0.1,0,0,0,0,0,0,0,0,0,0,0,0,0]
["flocks",0,0,0,0,0,0,0,0,0,0,0,0,0,0,0,0,0,0,0,0,0]
["floure",0,0,0,0,0,0,0,0,0,0,0,0,0,0,0,0,0,0.1,0,0,7.0372980000000002E-2]
["flourish",0,0,0.1,0,0,0,0,0,0,0,0,0,0,0,0,0,0,0,0,0,0]
["flowing",0,0,0,0,0,0,0,0,0,0,0,0,0,0,0,0,0,0,0,0,0]
["flowres",0,0,0,0,0.14836795999999999,0,0,0,0,0,0,0,0,0,0,0,0,0,0,0,0]
["foil",0,0,0,0,0,0,0,0,0,0,0,0,0,0,0,0,0,0,0,0,0]
["fold",0,0,0.1,0,0,0,0,0,0,0,0,0,0,0,0,0,0,0,0,0,0]
["footing",0.1,0,0,0,0,0,0,0,0,0,0,0,0,0,0,0,0,0,0,0,0]
["forbeares",0,0,0,0,0,0,0,0,0,0,0,0,0,0,0,0.1,0,0,0,0.1,0]
["forced",0,0,0,0,0,0,0,0,0,0,0,0,0,0,0,0,0,0,0,0,0]
["forget",0,0,0,0,0,0,0,0,0,0,0,0,0,0,0,0,0,0,0,0,7.0372980000000002E-2]
["forgot",0,0,0,0.1,0,0,0,0,0,0,0,0,0,0,0,0,0,0,0.1,0,0]
["form'd",0,0,0,0,0,0,0,0,0,0.1,0.1,0,0,0,0,0,0,0,0,0,0]
["fortified",0,0,0,0,0,0,0,0,0,0,0.1,0,0,0,0,0,0,0,0,0,0]
["fortunate",0,0,0,0.2,0,0,0,0,0,0,0,0,0,0,0,0,0,0,0,0,0]
["forty",0,0,0,0,0,0,0,0,0,0,0,0,0,0,0,0,0,0,0,0,0]
["forward",0,0,0,0,0,0.1,0,0,0.1,0,0,0,0,0,0,0,0,0,0,0,0]
["foster",0,0,0,0,0,0,0.1,0.1,0,0,0,0,0,0,0,0,0,0,0,0,0]
["fought",0.2,0,0,0,0,0,0,0,0,0,0,0,0,0,0,0,0,0,0,0,0]
["foundation",0,0,0,0.1,0,0.1,0,0,0,0,0,0,0,0,0,0,0,0,0,0,0]
["fount",0,0,0,0,0,0,0,0,0,0,0,0,0,0,0,0,0,0,0,0,0]
["freed",0,0,0,0.1,7.4183979999999997E-2,0,0,0,0,0,0,0,0,0,0,0,0,0,0,0,0]
["freshly",0,0,0,0,0,0,0,0,0,0,0,0,0,0,0.1,0,0,0.1,0,0,0]
["fright",0,0,0,0,0,0,0,0,0,0,0,0,0,0,0,0,0,0,0,0,0]
["fruits",0,0,0,0,0,0,0,0,0,0,0.1,0,0,0,0,0,0,0,0.1,0,0]
["fy",0,0,0,0,0,0,0,0,0,0,0,0,0,0,0,0.2,0,0,0,0,0]
["gallant",0,0,0,0,0,0,0.1,0.1,0,0,0,0,0,0,0,0,0,0,0,0,0]
["gan",0,0,0,0,7.4183979999999997E-2,0,0,0,0,0,0,0,0,0,0,0,0,0,0,0,0]
["garden",0,0,0,0,0,0.1,0,0,0,0,0,0,0,0,0,0,0,0,0.1,0,0]
["gardens",0.1,0,0,0,0,0,0,0,0,0,0,0,0,0,0,0,0,0,0,0,0]
["gardine",0,0,0,0,0.14836795999999999,0,0,0,0,0,0,0,0,0,0,0,0,0,0,0,0]
["garland",0.1,0,0,0,0,0,0,0,0,0,0,0,0,0.1,0,0,0,0,0,0,0]
["gates",0.1,0,0.1,0,0,0,0,0,0,0,0,0,0,0,0,0,0,0,0,0,0]
["gaudy",0,0,0,0,0,0,0,0,0,0,0,0,0,0,0,0,0,0,0,0,0]
["gaze",0,0,0,0,0,0.1,0,0,0,0,0,0,0,0,0,0,0,0,0,0,0]
["gazed",0,0,0,0,7.4183979999999997E-2,0,0,0,0,0,0,0,0,0,0,0,0,0,0,0,0]
["gemmes",0,0,0,0,0,0,0,0,0,0,0,0,0,0,0,0,0,0,0.2,0,0]
["gentlemen",0,0,0,0,0,0.1,0,0,0,0,0.1,0,0,0,0,0,0,0,0,0,0]
["ghesse",0,0,0,0,0,0,0,0,0,0,0,0,0,0.1,0,0,0,0.1,0,0,0]
["gift",0,0,0,0,0,0,0,0,0,0,0,0,0,0,0,0.1,0,0,0,0,0]
["gilded",0,0,0,0,0,0,0,0,0,0.1,0,0,0,0,0,0,0,0,0,0,0]
["girt",0,0,0.1,0,0,0,0,0,0,0,0,0,0,0,0.1,0,0,0,0,0,0]
["given",0,0,0,0,0,0,0,0,0,0,0,0,0.1,0,0,0,0,0,0,0,0]
["gladly",0,0,0,0,0,0,0,0,0,0,0,0,0,0,0,0,0,0.1,0,0,0]
["glorifie",0,0,0.1,0,7.4183979999999997E-2,0,0,0,0,0,0,0,0,0,0,0,0,0,0,0,0]
["glory",0,0,0,0,0,0,0,0,0,0,0.1,0,0,0,0,0,0,0,0,0,0]
["gloue",0,0,0,0,0,0,0,0,0,0,0.1,0,0,0,0,0.1,0,0,0,0,0]
["graced",0,0,0,0,0,0,0,0,0,0,0,0,0,0,0,0,0,0,0.1,0,0]
["gras",0.1,0,0,0,7.4183979999999997E-2,0,0,0,0,0,0,0,0,0,0,0,0,0,0,0,0]
["greatnes",0,0.1,0,0,7.4183979999999997E-2,0,0,0,0,0,0,0,0,0,0,0,0,0,0,0,0]
["greedie",0.1,0,0,0,7.4183979999999997E-2,0,0,0,0,0,0,0,0,0,0,0,0,0,0,0,0]
["greek",0,0,0,0,0,0,0,0,0,0,0,0,0,0,0,0,0,0,0,0,0]
["grief",0,0,0,0,0,0,0,0,0,0,0,0,0,0,0,0,0,0,0,0,0]
["gripe",0,0,0,0,0,0,0,0,0,0,0.1,0,0,0,0,0,0,0,0.1,0,0]
["grove",0,0,0,0,0,0.1,0,0,0,0,0,0,0,0,0,0,0,0,0,0,0]
["groves",0,0,0,0,0,0,0,0,0,0,0,0,0,0,0,0,0,0,0,0,0]
["growest",0,0,0,0,0,0,0,0,0,0,0,0,0,0,0,0,0,0,0,0.1,0]
["growing",0,0,0,0,0,0,0,0.2,0,0,0,0,0,0,0,0,0,0,0,0,0]
["guided",0,0,0,0,0,0,0,0,0,0,0,0,0,0.1,0,0.1,0,0,0,0,0]
["guiltles",0,0.1,0.1,0,0,0,0,0,0,0,0,0,0,0,0,0,0,0,0,0,0]
["guise",0,0,0,0,0,0,0,0,0,0,0,0.1,0,0,0,0,0,0,0,0,7.0372980000000002E-2]
["gust",0,0,0,0,0,0,0,0,0,0,0,0,0,0,0,0,0,0,0,0,0]
["halfe",0,0.1,0,0.1,0,0,0,0,0,0,0,0,0,0,0,0,0,0,0,0,0]
["hallow'd",0,0,0,0,0,0,0,0,0,0,0,0,0,0,0,0,0,0,0,0,0]
["handed",0,0,0,0,0,0,0,0,0,0,0,0,0,0,0,0,0,0,0,0,0]
["hap",0,0,0,0,0,0.1,0,0,0,0,0,0,0,0,0,0,0,0,0,0,0]
["happier",0,0,0,0,0,0,0,0,0,0,0,0,0,0,0,0,0,0,0,0,0]
["happy",0,0,0,0,0,0,0,0,0,0,0,0,0,0,0,0,0,0,0,0,0]
["harder",0,0,0,0,0,0,0,0,0,0,0,0.1,0.1,0,0,0,0,0,0,0,0]
["harm",0,0,0,0,0,0,0,0,0,0,0,0,0,0,0,0,0,0,0,0,0]
["harmony",0,0,0,0,0,0,0,0,0,0,0,0,0,0,0,0,0,0,0,0,7.0372980000000002E-2]
["harsh",0,0,0,0,0,0,0,0,0,0,0,0,0,0,0,0,0,0,0,0,0]
["haste",0,0,0,0,0,0,0,0,0,0,0,0,0,0,0,0,0,0,0,0,0]
["hates",0,0,0,0,0,0,0,0,0,0,0,0,0,0,0,0.2,0,0,0,0,0]
["haunted",0,0,0,0,0,0,0,0,0,0,0,0,0,0,0,0,0,0,0,0,0]
["heares",0.1,0,0,0,0,0,0,0,0,0,0,0,0,0.1,0,0,0,0,0,0,0]
["hearing",0,0,0,0,0,0,0,0,0,0,0,0,0,0.1,0,0,0,0,0,0,0]
["hears",0,0,0,0,0,0,0,0,0,0,0,0,0,0,0,0,0,0,0,0,0]
["heauen",0,0,0,0,0,0,0,0,0,0,0.1,0,0,0,0,0,0,0,0,0,7.0372980000000002E-2]
["heauenly",0,0,0,0,0,0,0,0,0,0.1,0,0,0,0,0,0,0,0,0,0,7.0372980000000002E-2]
["heave",0,0,0,0,0,0,0,0,0,0,0,0,0,0,0,0,0,0,0,0,0]
["heavy",0,0,0,0,0,0,0,0,0,0,0,0,0,0,0,0,0,0,0,0,0]
["heed",0,0,0,0,0,0,0.1,0,0,0,0,0,0,0,0,0,0,0,0,0,0]
["heere",0,0,0,0,0,0,0,0,0,0,0,0,0,0,0,0,0,0,0.1,0,7.0372980000000002E-2]
["heir",0,0,0,0,0,0,0,0,0,0,0,0,0,0,0,0,0,0,0,0,0]
["heire",0,0,0,0,0,0,0,0,0,0,0,0,0,0,0.1,0,0.1,0,0,0,0]
["hellish",0,0,0,0,0,0,0,0,0,0.1,0,0,0,0,0,0,0,0.1,0,0,0]
["help",0,0,0,0,0,0,0,0,0,0,0,0,0,0.1,0,0.1,0,0,0,0,0]
["herald",0,0,0,0,0,0,0,0,0,0,0,0,0,0,0,0,0,0,0,0,0]
["herbs",0,0,0,0,0,0,0,0,0,0,0,0,0,0,0,0,0,0,0,0,0]
["hercules",0,0,0,0,0,0,0,0,0.1,0,0,0,0,0,0.1,0,0,0,0,0,0]
["herein",0,0,0.1,0,0,0,0,0,0,0,0,0,0,0,0,0,0,0,0,0,0]
["hers",0,0,0,0,0,0,0,0,0,0,0,0,0,0,0,0.1,0,0,0.1,0,0]
["hit",0,0,0,0,0,0,0,0,0,0,0,0,0,0,0,0.1,0,0,0,0,0]
["hither",0,0,0,0,0,0,0,0,0,0,0,0,0,0,0,0,0,0,0,0,0]
["holie",0,0,0,0.2,0,0,0,0,0,0,0,0,0,0,0,0,0,0,0,0,0]
["homage",0,0,0,0,0,0,0.1,0,0,0,0,0,0,0,0,0,0,0,0,0,0]
["honest",0,0,0,0,0,0.1,0,0.1,0,0,0,0,0,0,0,0,0,0,0,0,0]
["honor",0,0,0,0,7.4183979999999997E-2,0,0,0,0,0,0,0,0,0,0,0,0,0,0,0,7.0372980000000002E-2]
["honord",0.1,0,0,0,0,0,0,0,0,0,0,0,0,0,0,0,0,0,0.1,0,0]
["honour'd",0,0,0,0,0,0,0,0,0,0,0,0,0.1,0,0,0,0,0,0,0,0]
["horn",0,0,0,0,0,0,0,0,0,0,0,0,0,0,0,0,0,0,0,0,0]
["horrid",0,0,0.1,0,0,0,0,0,0,0,0,0,0,0,0,0,0,0,0,0,0]
["horrors",0,0,0,0,0,0,0,0,0,0,0,0,0,0,0,0,0,0,0,0.1,7.0372980000000002E-2]
["host",0,0,0,0,0,0,0,0,0,0,0,0,0.1,0.1,0,0,0,0,0,0,0]
["hour",0,0,0,0,0,0,0,0,0,0,0,0,0,0,0,0,0,0,0,0,0]
["hours",0,0,0,0,0,0,0,0,0,0,0,0,0,0,0,0,0,0,0,0,0]
["human",0,0,0,0,0,0,0,0,0,0,0,0,0,0,0,0,0,0,0,0,0]
["hungry",0,0,0,0,0,0,0,0,0,0,0,0,0,0,0,0,0,0,0.1,0,0]
["hunt",0.1,0,0,0,0,0,0,0,0,0,0,0,0,0,0,0,0,0,0,0,0]
["hunts",0,0,0,0,0,0,0,0.2,0,0,0,0,0,0,0,0,0,0,0,0,0]
["hurt",0,0,0,0,0,0,0,0,0,0,0.1,0,0,0,0,0,0,0.1,0,0,0]
["hurts",0,0,0,0,0,0.1,0,0,0,0,0,0,0,0,0,0,0,0,0,0.1,0]
["husband",0,0,0,0,0,0.1,0,0,0,0,0,0,0,0,0,0,0,0,0,0,0]
["husbandry",0,0,0,0,0,0,0,0,0,0,0,0,0,0,0,0,0,0,0,0,0]
["ill",0,0,0,0,0,0,0,0,0,0,0,0,0.1,0,0,0,0,0,0,0,0]
["immortal",0,0,0,0,0,0,0,0,0,0,0,0,0,0,0,0,0,0,0,0,0]
["impe",0,0,0.1,0,0,0,0,0,0,0,0,0,0,0,0,0,0,0.1,0,0,0]
["indeede",0,0,0,0,0,0,0,0.1,0,0,0,0,0,0,0,0,0,0,0,0.1,0]
["infected",0,0,0,0,0,0,0,0,0,0,0,0,0,0,0,0,0,0.1,0,0,0]
["inuentions",0,0,0,0,0,0,0,0,0.2,0,0,0,0,0,0,0,0,0,0,0,0]
["inuite",0,0,0,0,0,0,0,0,0,0,0,0.1,0,0,0,0,0,0,0,0.1,0]
["invite",0,0,0,0,0,0,0,0,0,0,0,0,0,0,0,0,0,0,0,0,0]
["issue",0,0,0,0,0,0,0,0,0,0,0,0,0,0,0,0,0,0,0,0,0]
["itself",0,0,0,0,0,0,0,0,0,0,0,0,0.1,0,0,0,0,0,0,0,7.0372980000000002E-2]
["iudges",0,0,0,0,0,0,0,0,0,0,0,0.1,0,0,0,0,0,0.1,0,0,0]
["iudging",0,0,0,0,0,0,0,0,0.1,0,0.1,0,0,0,0,0,0,0,0,0,0]
["iustice",0,0,0,0,0,0.1,0,0,0,0,0,0,0,0,0,0,0,0,0.1,0,0]
["ivy",0,0,0,0,0,0,0,0,0,0,0,0,0,0,0,0,0,0,0,0,0]
["jet",0,0,0,0,0,0,0,0,0,0,0,0,0,0,0,0,0,0,0,0,0]
["jove's",0,0,0,0,0,0,0,0,0,0,0,0,0,0,0,0,0,0,0,0,0]
["joyous",0,0,0,0,7.4183979999999997E-2,0,0,0,0,0,0,0,0,0,0,0,0,0,0,0,0]
["joys",0,0,0,0,0,0,0,0,0,0,0,0,0,0,0,0,0,0,0,0,0]
["keepes",0,0,0,0,0,0,0,0,0,0,0,0,0,0,0,0,0,0,0.1,0,7.0372980000000002E-2]
["kill",0,0,0,0,0,0,0,0,0,0,0,0,0,0,0,0,0.1,0,0,0,0]
["killing",0,0,0,0,0,0,0,0,0,0,0,0,0,0,0,0,0.1,0,0,0,0]
["kingdomes",0.1,0,0,0,0,0,0,0,0,0,0,0,0,0,0,0,0,0.1,0,0,0]
["kneeling",0,0,0,0,0,0,0.2,0,0,0,0,0,0,0,0,0,0,0,0,0,0]
["knight",0,0,0,0,0.14836795999999999,0,0,0,0,0,0,0,0,0,0,0,0,0,0,0,0]
["knot",0,0,0,0,0,0,0,0,0,0,0,0,0,0.1,0,0,0,0,0,0,0]
["labouring",0,0,0,0,0,0,0,0,0,0,0,0,0,0,0,0,0,0,0,0,0]
["lacke",0,0,0,0,7.4183979999999997E-2,0,0,0,0,0,0,0,0,0,0,0,0,0,0,0,7.0372980000000002E-2]
["lalus",0,0,0,0,0,0.1,0.1,0,0,0,0,0,0,0,0,0,0,0,0,0,0]
["lambe",0,0,0,0,0,0.1,0,0.1,0,0,0,0,0,0,0,0,0,0,0,0,0]
["lams",0,0,0,0,0,0,0,0.2,0,0,0,0,0,0,0,0,0,0,0,0,0]
["language",0,0,0,0,0,0,0,0,0,0,0,0,0,0,0,0,0,0,0,0,0]
["languisht",0,0,0,0,0,0,0,0,0,0,0,0,0,0.1,0,0,0,0,0,0.1,0]
["lasted",0.1,0,0,0,0,0,0,0,0,0,0,0,0,0,0,0,0,0,0,0,0]
["lasting",0.1,0,0,0,7.4183979999999997E-2,0,0,0,0,0,0,0,0,0,0,0,0,0,0,0,0]
["later",0,0,0.1,0,0,0,0,0,0,0,0,0,0,0,0,0,0,0,0,0,0]
["laud",0,0,0,0,0,0.1,0,0,0,0,0,0,0,0,0,0,0,0,0,0.1,0]
["lawns",0,0,0,0,0,0,0,0,0,0,0,0,0,0,0,0,0,0,0,0,0]
["leaden",0,0,0,0,0,0,0,0,0,0,0,0,0,0,0,0.1,0,0,0,0,0]
["learning",0,0,0.1,0.1,0,0,0,0,0,0,0,0,0,0,0,0,0,0,0,0,0]
["leaues",0,0,0,0,0,0,0,0,0.1,0.1,0,0,0,0,0,0,0,0,0,0,0]
["less",0,0,0,0,0,0,0,0,0,0,0,0,0,0.1,0,0,0,0,0,0,0]
["level",0,0,0,0,0,0,0,0,0,0,0,0,0,0,0,0,0,0,0,0,0]
["levell'd",0,0,0,0,0,0,0,0,0,0,0,0,0,0,0,0,0,0,0,0,0]
["libertie",0,0,0,0,0,0,0,0,0.1,0,0,0,0,0,0.1,0,0,0,0,0,0]
["lids",0,0,0,0,0,0,0,0,0,0,0,0,0,0,0,0,0,0,0,0,7.0372980000000002E-2]
["lifts",0,0,0,0,0,0,0,0,0,0,0.1,0,0,0,0,0,0,0,0,0,0]
["lik'd",0,0,0,0,0,0,0,0,0.2,0,0,0,0,0,0,0,0,0,0,0,0]
["lik'st",0,0,0,0,0,0,0,0,0,0.1,0,0,0,0,0,0,0,0,0,0.1,0]
["liken",0,0,0,0,0,0,0,0.2,0,0,0,0,0,0,0,0,0,0,0,0,0]
["likewise",0,0,0,0,0,0,0,0.1,0,0,0,0,0,0,0,0,0,0,0,0,0]
["lillies",0,0,0,0,0,0,0,0,0,0,0,0,0,0,0,0,0,0,0.1,0,7.0372980000000002E-2]
["lin'd",0,0,0,0,0,0,0,0,0,0,0,0,0,0,0,0.1,0,0.1,0,0,0]
["lip",0,0,0,0,0,0,0,0,0,0,0,0,0,0.1,0,0,0,0,0.1,0,0]
["liquid",0,0.1,0,0,0,0,0,0,0,0,0,0,0,0,0,0,0,0,0,0,0]
["liuelier",0,0,0,0,0,0,0.1,0,0,0,0,0,0,0.1,0,0,0,0,0,0,0]
["liuerie",0,0,0,0,0,0,0,0,0,0,0,0,0,0,0,0,0.1,0,0,0.1,0]
["lived",0,0.2,0,0,0,0,0,0,0,0,0,0,0,0,0,0,0,0,0,0,0]
["lively",0,0,0,0,0,0,0,0,0,0,0,0,0,0,0,0,0,0,0,0,0]
["liveries",0,0,0,0,0,0,0,0,0,0,0,0,0,0,0,0,0,0,0,0,0]
["livest",0,0,0.2,0,0,0,0,0,0,0,0,0,0,0,0,0,0,0,0,0,0]
["lockes",0,0,0,0,0,0,0,0,0,0,0,0,0,0,0,0,0,0,0,0,0.14074595000000001]
["lodged",0,0,0,0,0,0,0,0,0,0,0,0,0,0,0,0,0,0,0,0,0]
["lofty",0,0,0,0,0,0,0,0,0,0,0,0,0,0,0,0,0,0,0,0,0]
["looked",0,0,0,0.1,7.4183979999999997E-2,0,0,0,0,0,0,0,0,0,0,0,0,0,0,0,0]
["loudly",0,0,0,0,7.4183979999999997E-2,0,0,0,0,0,0,0,0,0,0,0,0,0,0,0,0]
["loved",0,0.1,0.1,0,0,0,0,0,0,0,0,0,0,0,0,0,0,0,0,0,0]
["lover",0,0,0,0,0,0,0,0,0,0,0,0,0,0,0,0,0,0,0,0,0]
["lovest",0,0,0,0,0,0,0,0,0,0,0,0,0,0,0,0,0,0,0,0,0]
["lowe",0,0.1,0,0,0,0,0,0,0,0,0,0,0,0,0,0.1,0,0,0,0,0]
["lowest",0.1,0,0,0.1,0,0,0,0,0,0,0,0,0,0,0,0,0,0,0,0,0]
["lungs",0,0,0,0,0,0,0,0,0,0,0,0,0,0,0,0,0,0,0,0,0]
["lusty",0,0,0,0,0,0,0,0,0,0,0,0,0,0,0,0,0,0,0,0,0]
["lye",0.1,0,0,0,0,0,0,0,0,0,0,0,0,0,0,0,0,0.1,0,0,0]
["lyre",0,0,0,0,0,0,0,0,0,0,0,0,0,0,0,0,0.1,0,0,0,0]
["maias",0,0,0,0,0,0.1,0,0.1,0,0,0,0,0,0,0,0,0,0,0,0,0]
["maiesty",0,0,0,0,0,0,0,0,0.1,0,0,0,0,0,0.1,0,0,0,0,0,0]
["maintaine",0,0.1,0,0,0,0,0,0,0,0,0,0,0,0,0,0,0.1,0,0,0,0]
["manage",0,0,0,0,0,0,0,0,0,0,0,0,0,0,0.1,0,0,0,0,0,0]
["manner",0,0,0,0,0,0,0.1,0,0,0,0,0,0,0,0.1,0,0,0,0,0,0]
["manners",0,0,0,0,0,0,0,0,0,0,0.1,0,0.1,0,0,0,0,0,0,0,0]
["mantle",0,0,0,0,0,0,0,0,0,0,0,0,0,0,0,0,0,0,0,0,0]
["marble",0,0,0,0,0,0,0,0,0,0.1,0,0,0,0,0,0,0,0,0,0,0]
["margent",0,0,0,0,0,0,0,0,0,0,0,0,0,0,0,0,0.1,0,0,0,0]
["mark",0,0,0,0,0,0,0,0,0,0.1,0,0,0,0,0,0,0,0,0,0,0]
["markes",0,0,0,0,0,0,0,0,0,0,0,0,0,0,0.1,0,0,0,0,0,7.0372980000000002E-2]
["married",0,0,0,0,0,0,0,0,0,0,0,0,0,0,0,0,0,0,0,0,0]
["marses",0,0,0,0,0,0,0,0,0,0,0.1,0,0,0,0.1,0,0,0,0,0,0]
["mask",0,0,0,0,0,0,0,0,0,0,0,0.1,0,0,0,0,0,0,0,0,0]
["massy",0,0,0,0,0,0,0,0,0,0,0,0,0,0,0,0,0,0,0,0,0]
["matchable",0.1,0,0,0,7.4183979999999997E-2,0,0,0,0,0,0,0,0,0,0,0,0,0,0,0,0]
["mate",0,0,0,0,0,0,0,0,0,0,0,0,0,0,0,0.1,0,0,0,0.1,0]
["maugre",0,0.1,0,0,0,0,0,0,0,0,0,0,0,0,0,0.1,0,0,0,0,0]
["measure",0,0,0,0,0,0,0,0,0,0,0,0,0,0,0,0,0,0,0,0,0]
["meed",0,0,0,0,0,0,0,0,0,0,0,0,0,0,0,0,0,0,0,0,0]
["melodie",0,0,0,0,7.4183979999999997E-2,0,0,0,0,0,0,0,0,0,0,0,0,0,0.1,0,0]
["memory",0,0,0,0,0,0,0,0,0,0,0,0,0,0,0,0,0,0,0,0.1,0]
["mens",0,0,0,0,0,0,0,0,0,0,0,0,0,0,0,0.1,0,0,0.1,0,0]
["merely",0,0,0,0,0,0,0,0,0,0,0,0,0,0,0,0,0,0,0,0,0]
["merits",0,0,0.1,0,0,0,0,0.1,0,0,0,0,0,0,0,0,0,0,0,0,0]
["mery",0,0,0,0,0,0,0.1,0,0,0,0,0,0,0,0,0,0,0,0,0,7.0372980000000002E-2]
["midnight",0,0,0,0,0,0,0,0,0,0,0,0,0,0,0,0,0,0,0,0,0]
["mighty",0,0,0,0,0,0,0,0,0,0,0,0.1,0,0,0,0,0,0,0,0,0]
["misery",0,0,0,0,0,0,0,0,0,0,0,0,0,0,0.1,0,0,0,0,0,0]
["mishap",0,0,0,0,0,0,0,0,0.1,0,0,0,0,0,0,0,0,0,0,0,0]
["mist",0,0,0,0,0,0,0,0,0,0,0,0,0,0,0,0,0,0,0,0,7.0372980000000002E-2]
["mixt",0,0,0,0,0,0,0,0,0,0.2,0,0,0,0,0,0,0,0,0,0,0]
["moe",0,0,0,0,0,0,0,0,0,0,0,0,0,0,0,0,0,0,0,0,0]
["moisture",0,0,0,0,0,0,0,0,0,0,0,0,0,0,0,0,0,0,0,0.1,0]
["mood",0,0,0,0,0,0,0,0,0,0,0,0,0,0,0,0,0,0,0,0,0]
["moribus",0,0,0,0,0,0,0.2,0,0,0,0,0,0,0,0,0,0,0,0,0,0]
["mothers",0.1,0,0,0,0,0,0,0,0,0,0,0,0,0,0,0,0,0.1,0,0,0]
["motion",0,0,0,0,0,0,0,0,0,0,0,0,0,0,0,0,0,0.1,0,0,0]
["mountain",0,0,0,0,0,0,0,0,0,0,0,0,0,0,0,0,0,0,0,0,0]
["mounted",0,0,0,0,7.4183979999999997E-2,0,0,0,0,0,0,0,0,0,0,0,0,0,0,0,0]
["mute",0,0,0,0,0,0,0,0,0,0,0,0,0,0,0,0,0,0,0,0,0]
["myselfe",0,0,0,0,0,0,0,0,0.2,0,0,0,0,0,0,0,0,0,0,0,0]
["natiue",0,0,0,0,0,0,0,0,0,0.1,0,0,0,0,0,0,0,0,0,0.1,0]
["nature's",0,0,0,0,0,0,0,0,0,0,0,0,0,0,0,0,0,0,0,0,0]
["needes",0,0,0,0,0,0,0,0,0,0.1,0,0,0,0,0,0,0,0,0,0,7.0372980000000002E-2]
["neighbour",0,0,0,0,0,0,0.1,0.1,0,0,0,0,0,0,0,0,0,0,0,0,0]
["nights",0,0,0,0,0,0,0,0,0,0,0,0,0,0,0,0,0,0,0,0.2,0]
["noon",0,0,0,0,0,0,0,0,0,0,0,0,0,0,0,0,0,0,0,0,0]
["oak",0,0,0,0,0,0,0,0,0,0,0,0,0,0,0,0,0,0,0,0,0]
["objects",0,0,0,0,0,0,0,0,0,0,0,0,0,0,0,0,0,0,0,0,0]
["ocean",0,0,0,0,0,0,0,0,0,0,0,0,0,0,0,0,0,0,0,0,0]
["offend",0,0,0,0,0,0,0,0,0,0,0,0,0,0,0,0,0,0.1,0,0,0]
["opening",0,0,0,0,0,0.1,0,0,0,0,0,0,0,0,0,0,0,0,0,0,0]
["orient",0,0,0,0.1,0,0,0,0,0,0,0,0,0,0,0,0,0,0,0,0,0]
["ouerthrowne",0,0,0,0,0,0,0,0,0.1,0,0,0,0,0.1,0,0,0,0,0,0,0]
["outside",0,0,0,0,0,0,0,0,0,0,0,0,0,0,0.1,0,0,0.1,0,0,0]
["pace",0,0,0,0,0,0.1,0,0,0,0,0,0,0,0,0,0.1,0,0,0,0,0]
["pain",0,0,0,0,0,0,0,0,0,0.1,0.1,0,0,0,0,0,0,0,0,0,0]
["palate",0,0,0,0,0,0,0,0,0,0,0,0,0,0,0,0,0,0,0,0,0]
["palenesse",0,0,0,0,0,0,0,0,0,0,0,0,0,0,0,0,0,0,0,0,0.14074595000000001]
["parnassus",0,0,0,0,0,0,0,0,0,0,0.1,0,0,0,0,0,0,0,0.1,0,0]
["particular",0,0,0,0,0,0,0,0,0.1,0,0,0,0,0,0,0,0,0,0,0,0]
["pearl",0,0,0,0,0,0,0,0,0,0.1,0,0,0.1,0,0,0,0,0,0,0,0]
["peece",0,0,0,0,0,0,0,0,0,0,0,0,0,0,0,0.1,0,0,0,0.1,0]
["pegasus",0,0,0,0.1,0,0,0,0,0,0,0,0,0,0,0,0,0,0,0,0,0]
["peoples",0.1,0,0,0,0,0,0,0,0,0,0,0,0,0,0.1,0,0,0,0,0,0]
["philisides",0,0,0,0,0.14836795999999999,0,0,0,0,0,0,0,0,0,0,0,0,0,0,0,0]
["phoenix",0,0,0,0,0,0,0,0,0,0,0,0,0,0,0,0,0,0,0,0.1,0]
["pierc'd",0,0,0,0,0,0,0,0,0,0,0,0.1,0,0,0,0.1,0,0,0,0,0]
["pierce",0,0,0,0,0,0,0,0,0,0.1,0,0,0,0,0,0,0,0,0,0,0]
["pillours",0.1,0,0,0.1,0,0,0,0,0,0,0,0,0,0,0,0,0,0,0,0,0]
["pipe",0,0,0.1,0,0,0,0,0,0,0.1,0,0,0,0,0,0,0,0,0,0,0]
["plague",0,0,0,0,0,0,0,0,0,0,0,0,0,0,0,0,0,0.1,0.1,0,0]
["planet",0,0,0,0,0,0,0,0,0,0,0,0,0,0,0,0,0.1,0,0,0,0]
["plato",0,0,0,0,0,0,0,0,0,0,0,0.1,0,0,0,0,0,0,0,0,0]
["pleas'd",0,0,0,0,0,0,0,0,0,0.1,0,0.1,0,0,0,0,0,0,0,0,0]
["plumes",0,0,0,0.1,0,0,0,0,0,0,0,0,0,0,0,0,0,0,0,0.1,0]
["poetry",0,0,0,0,0,0,0,0,0,0,0,0,0,0,0,0,0,0,0,0,0]
["posteritie",0,0.2,0,0,0,0,0,0,0,0,0,0,0,0,0,0,0,0,0,0,0]
["posterity",0,0,0,0,0,0,0,0,0,0,0,0,0,0,0,0,0,0,0,0,0]
["prepare",0,0,0,0,0,0,0,0,0,0,0,0,0,0,0,0.1,0,0,0,0,0]
["prettie",0,0,0,0,0,0,0.1,0,0,0,0,0,0,0,0,0,0,0.1,0,0,0]
["prop",0,0,0,0,7.4183979999999997E-2,0,0,0,0,0,0.1,0,0,0,0,0,0,0,0,0,0]
["proportion",0,0,0,0,0,0.1,0,0,0,0,0,0,0,0,0.1,0,0,0,0,0,0]
["puffing",0,0,0,0,0,0,0,0,0,0,0,0,0,0,0,0,0,0,0,0,0.14074595000000001]
["quality",0,0,0,0,0,0,0,0,0,0,0,0,0,0,0,0,0,0,0,0,0]
["quight",0,0,0,0,0.14836795999999999,0,0,0,0,0,0,0,0,0,0,0,0,0,0,0,0]
["quintessence",0,0,0,0,0,0,0,0,0,0,0,0.1,0,0,0,0,0,0.1,0,0,0]
["raigne",0,0,0,0,0,0,0,0,0,0,0,0.1,0,0,0,0,0,0.1,0,0,0]
["railing",0.1,0,0,0,7.4183979999999997E-2,0,0,0,0,0,0,0,0,0,0,0,0,0,0,0,0]
["rank",0,0,0,0,0,0,0,0,0,0,0,0,0,0,0,0,0,0,0,0,0]
["rarest",0,0,0,0,0,0,0,0,0,0,0,0,0,0,0,0,0,0,0,0,7.0372980000000002E-2]
["receivest",0,0,0,0,0,0,0,0,0,0,0,0,0,0,0,0,0,0,0,0,0]
["recorders",0,0,0,0,0,0,0.1,0,0.1,0,0,0,0,0,0,0,0,0,0,0,0]
["reign",0,0,0,0,0,0,0,0,0,0,0,0,0,0,0,0,0,0,0,0,0]
["religious",0,0,0,0,0,0,0,0,0,0,0,0,0,0,0,0,0,0,0,0,0]
["remains",0,0,0,0,0,0,0,0,0,0,0,0,0,0,0,0,0,0,0,0,0]
["remembred",0,0.1,0.1,0,0,0,0,0,0,0,0,0,0,0,0,0,0,0,0,0,0]
["remove",0,0,0,0.1,0,0,0,0,0,0,0,0,0,0,0,0,0,0,0,0,0]
["renowne",0,0,0.1,0,0,0,0,0,0,0,0,0,0.1,0,0,0,0,0,0,0,0]
["resembling",0,0,0,0,0,0,0,0,0,0,0,0,0,0,0,0,0,0,0,0,0]
["resort",0,0,0,0,0,0,0,0,0,0,0,0,0,0,0,0,0,0,0,0,7.0372980000000002E-2]
["reverend",0,0,0,0,0,0,0,0,0,0,0,0,0,0,0,0,0,0,0,0,0]
["rhyme's",0,0,0,0,0,0,0,0,0,0,0,0,0,0,0,0,0,0,0,0,0]
["rings",0,0,0,0,0,0,0,0,0,0,0,0,0,0,0,0,0,0,0,0,0]
["roar",0,0,0,0,0,0,0,0,0,0,0,0,0,0,0,0,0,0,0,0,0]
["rocky",0,0,0,0,0,0,0,0,0,0,0,0,0,0,0,0,0,0,0,0,0]
["rome",0.1,0,0,0,0,0,0,0,0,0,0,0,0,0.1,0,0,0,0,0,0,0]
["rot",0,0,0,0,0,0,0,0.1,0,0,0,0,0,0,0,0,0,0,0,0,0]
["rout",0,0.1,0,0,0,0,0,0,0,0,0,0,0,0,0,0,0,0,0,0,0]
["rubies",0,0,0,0,0,0,0,0,0,0,0,0,0.1,0,0,0,0,0,0,0,0]
["rugged",0,0,0,0,0,0,0,0,0,0,0,0,0,0,0,0,0,0,0,0,0]
["runne",0,0,0.1,0.1,0,0,0,0,0,0,0,0,0,0,0,0,0,0,0,0,0]
["saddest",0,0,0,0,0,0,0,0,0,0,0,0,0,0,0,0.1,0,0,0,0,0]
["says",0,0,0,0,0,0,0,0,0,0,0,0,0,0,0,0,0.1,0,0,0,0]
["scantly",0,0,0,0,0,0,0,0,0,0,0.1,0,0,0,0,0,0,0,0,0,7.0372980000000002E-2]
["schoolemaster",0,0,0,0,0,0.1,0,0,0,0,0,0,0,0,0,0,0,0.1,0,0,0]
["schooles",0,0,0,0,0,0,0,0,0,0.1,0,0,0,0.1,0,0,0,0,0,0,0]
["scythe",0,0,0,0,0,0,0,0,0,0,0,0,0,0,0,0,0,0,0,0,0]
["seas",0,0,0,0,0,0.1,0,0,0,0,0,0,0,0,0,0,0,0,0,0,0]
["secret",0,0,0,0,0,0,0,0,0,0,0.1,0,0,0,0,0,0,0,0,0,0]
["seekes",0,0.1,0,0,0,0,0.1,0,0,0,0,0,0,0,0,0,0,0,0,0,0]
["sentence",0,0,0,0,0,0,0,0,0,0,0,0.1,0,0,0,0,0,0,0,0,0]
["serue",0,0,0,0,0,0,0,0,0,0.1,0,0,0.1,0,0,0,0,0,0,0,0]
["shallow",0,0,0,0,0,0,0.1,0,0,0,0,0,0,0,0,0,0,0,0,0,0]
["shapes",0,0,0,0,0,0,0,0,0,0,0,0,0,0,0,0,0,0,0,0,0]
["shepeheards",0,0,0,0,0,0,0.1,0.1,0,0,0,0,0,0,0,0,0,0,0,0,0]
["shepherd's",0,0,0,0,0,0,0,0,0,0,0,0,0,0,0,0,0,0,0,0,0]
["shone",0,0.1,0,0,0,0,0,0,0,0,0,0.1,0,0,0,0,0,0,0,0,0]
["shook",0,0,0,0,0,0,0,0,0,0,0,0,0,0,0,0,0,0,0,0,0]
["shoue",0,0,0,0,0,0,0,0,0,0,0.2,0,0,0,0,0,0,0,0,0,0]
["shower",0,0.1,0,0,0,0,0,0,0,0,0,0,0,0,0,0,0,0,0,0,0]
["sides",0,0,0,0,0,0,0,0,0,0,0,0,0,0.1,0,0,0,0,0,0,0]
["silke",0,0,0,0,7.4183979999999997E-2,0,0.1,0,0,0,0,0,0,0,0,0,0,0,0,0,0]
["six",0,0,0,0,0,0.1,0.1,0,0,0,0,0,0,0,0,0,0,0,0,0,0]
["skie",0,0,0,0.1,7.4183979999999997E-2,0,0,0,0,0,0,0,0,0,0,0,0,0,0,0,0]
["sleeping",0,0,0,0,0.14836795999999999,0,0,0,0,0,0,0,0,0,0,0,0,0,0,0,0]
["sleeps",0,0,0,0,0,0,0,0,0,0,0,0,0,0,0,0,0,0,0,0,7.0372980000000002E-2]
["smite",0,0,0,0,0,0,0,0,0,0,0,0,0,0,0,0,0,0,0,0,0]
["snow",0,0,0,0,0,0,0,0,0,0.1,0,0,0,0,0,0,0,0,0,0,0]
["sonnets",0,0,0,0,0,0,0,0,0,0,0,0,0,0,0,0,0,0,0,0,0]
["sooth",0,0,0,0,0,0.1,0,0,0.1,0,0,0,0,0,0,0,0,0,0,0,0]
["sorrowing",0,0,0.2,0,0,0,0,0,0,0,0,0,0,0,0,0,0,0,0,0,0]
["soueraigne",0,0,0,0,0,0.1,0,0,0,0,0,0,0,0,0,0,0,0,0,0,7.0372980000000002E-2]
["speaking",0,0,0.1,0,0,0,0.1,0,0,0,0,0,0,0,0,0,0,0,0,0,0]
["spell",0,0,0.1,0,0,0,0,0,0,0,0,0,0,0,0,0,0,0,0,0,0]
["spie",0,0,0,0,0,0,0,0,0,0,0.1,0,0,0,0,0,0,0,0,0,7.0372980000000002E-2]
["spirits",0,0,0,0,0,0,0,0,0,0,0,0,0,0,0,0,0,0,0,0,0]
["spread",0,0,0,0,0,0,0,0,0,0,0,0,0,0,0,0,0.1,0,0,0,0]
["spreading",0,0,0,0.1,0,0,0,0,0,0,0,0,0,0,0,0,0,0,0,0,0]
["spurre",0,0,0,0,0,0,0,0,0,0,0,0,0,0,0.1,0,0,0,0.1,0,0]
["staire",0.1,0,0,0.1,0,0,0,0,0,0,0,0,0,0,0,0,0,0,0,0,0]
["standing",0,0,0,0,7.4183979999999997E-2,0,0,0,0,0,0,0,0,0,0,0,0,0,0,0,7.0372980000000002E-2]
["starre",0,0,0,0,7.4183979999999997E-2,0,0,0,0,0,0,0,0,0,0,0,0,0.1,0,0,0]
["stedfast",0,0,0,0,7.4183979999999997E-2,0,0,0,0,0,0,0,0,0,0,0,0,0,0,0,0]
["steep",0,0,0,0,0,0,0,0,0,0,0,0,0,0,0,0,0,0,0,0,0]
["storming",0,0,0,0.1,0,0,0,0,0,0,0,0,0,0,0,0,0,0,0,0,0]
["stormy",0,0,0,0,0,0,0,0,0,0,0,0,0,0,0,0,0,0,0,0,0]
["streaming",0.1,0,0,0,0,0,0,0,0,0,0,0.1,0,0,0,0,0,0,0,0,0]
["streams",0,0,0,0,0,0,0,0,0,0,0,0,0,0,0,0,0,0,0,0,0]
["strikes",0,0,0,0,0,0,0.1,0,0,0,0,0,0,0,0,0,0,0,0,0,0]
["striuing",0,0,0,0,0,0.1,0,0,0,0,0,0,0,0,0,0.1,0,0,0,0,0]
["subdued",0,0,0,0,0,0,0,0,0,0,0,0,0,0.1,0,0,0,0,0,0,0]
["subtle",0,0,0,0,0,0,0,0,0,0,0,0,0,0,0,0,0,0,0,0,0]
["suit",0,0,0,0,0,0,0,0,0,0,0,0,0,0,0,0,0,0,0,0,0]
["sullen",0,0,0,0,0,0,0,0,0,0,0,0,0,0,0,0,0,0,0,0.1,0]
["sums",0,0,0,0,0,0,0,0,0,0,0,0,0,0,0,0,0,0,0,0,0]
["swans",0,0,0,0,0,0,0,0,0,0.1,0,0,0,0,0.1,0,0,0,0,0,0]
["sweetnesse",0,0,0,0,0,0,0,0,0,0,0,0,0,0,0,0,0,0.1,0,0,7.0372980000000002E-2]
["swift",0,0,0,0,7.4183979999999997E-2,0,0,0,0,0,0,0,0,0,0,0,0,0,0,0,0]
["syllabes",0,0,0,0,0,0,0,0,0,0,0,0,0,0,0,0,0,0,0,0,0]
["tace",0,0,0,0,0,0,0,0.2,0,0,0,0,0,0,0,0,0,0,0,0,0]
["teeth",0,0,0,0,0,0.1,0,0,0,0,0,0,0.1,0,0,0,0,0,0,0,0]
["temple",0,0,0,0,0,0,0,0,0,0.1,0,0,0,0.1,0,0,0,0,0,0,0]
["tend",0,0,0,0,0,0,0,0,0,0,0,0,0,0,0,0,0,0,0,0,0]
["that's",0,0,0,0,0,0,0,0,0,0,0,0,0,0,0,0,0,0,0,0,0]
["thither",0,0,0,0,0,0.1,0,0,0,0,0.1,0,0,0,0,0,0,0,0,0,0]
["threw",0,0,0,0,0,0,0,0,0,0,0,0,0,0,0,0,0,0,0,0,0]
["tired",0,0,0,0,0,0,0,0,0,0,0,0,0,0,0,0,0,0,0,0.1,7.0372980000000002E-2]
["titles",0,0,0,0,0,0.1,0,0,0.1,0,0,0,0,0,0,0,0,0,0,0,0]
["tonight",0,0,0,0,0,0,0,0,0,0,0,0,0,0,0,0,0,0,0,0,0]
["top",0,0,0,0,0,0,0,0,0,0,0,0,0,0,0,0,0,0,0,0,0]
["towers",0.1,0,0,0,0,0,0,0,0,0,0,0,0,0,0,0,0,0,0,0,0]
["tract",0,0,0,0,0,0,0,0,0.1,0,0,0,0,0,0,0,0,0,0,0,0]
["trembling",0,0,0,0,0,0,0,0,0,0.1,0,0,0,0,0,0,0,0,0,0,0]
["triumphs",0,0,0,0,0,0,0,0,0,0,0,0,0,0.1,0,0,0,0,0,0,0]
["trophies",0,0,0,0,0,0,0,0,0,0,0,0,0,0,0,0,0,0,0,0,0]
["trouble",0,0,0,0,0,0,0.1,0.1,0,0,0,0,0,0,0,0,0,0,0,0,0]
["tuch",0,0,0,0,0,0,0,0,0,0,0.1,0,0,0.1,0,0,0,0,0,0,0]
["tufted",0,0,0,0,0,0,0,0,0,0,0,0,0,0,0,0,0,0,0,0,0]
["turn",0,0,0,0,0,0,0,0,0,0,0,0,0,0,0,0,0,0,0,0,0]
["turnd",0.2,0,0,0,0,0,0,0,0,0,0,0,0,0,0,0,0,0,0,0,0]
["twinnes",0,0,0,0.1,0,0,0,0,0,0,0,0.1,0,0,0,0,0,0,0,0,0]
["twisted",0,0,0,0,0,0,0,0,0,0,0,0,0,0,0,0,0,0,0,0,0]
["tyrant",0,0,0,0.1,0,0,0,0,0,0,0,0,0,0,0,0,0,0,0,0,0]
["uncouth",0,0,0,0,0,0,0,0,0,0,0,0,0,0,0,0,0,0,0,0,0]
["unused",0,0,0,0,0,0,0,0,0,0,0,0,0,0,0,0,0,0,0,0,0]
["unwares",0,0,0,0,0.14836795999999999,0,0,0,0,0,0,0,0,0,0,0,0,0,0,0,0]
["vaile",0,0,0,0,0,0,0,0,0,0.1,0,0,0,0,0,0,0,0,0,0.1,0]
["vales",0,0,0,0,0,0,0,0.1,0,0,0,0,0,0,0,0,0,0,0,0,0]
["verlame",0.2,0,0,0,0,0,0,0,0,0,0,0,0,0,0,0,0,0,0,0,0]
["vewe",0.1,0,0,0,7.4183979999999997E-2,0,0,0,0,0,0,0,0,0,0,0,0,0,0,0,0]
["victorie",0,0,0,0,0,0,0,0,0,0,0.1,0,0,0.1,0,0,0,0,0,0,0]
["vile",0,0,0,0.1,0,0.1,0,0,0,0,0,0,0,0,0,0,0,0,0,0,0]
["vnfelt",0,0,0,0,0,0,0,0,0,0,0,0.1,0,0,0,0.1,0,0,0,0,0]
["vnfit",0,0,0,0,0,0,0,0,0,0,0.1,0,0,0,0,0,0,0.1,0,0,0]
["vsed",0,0,0,0,0,0.1,0,0,0.1,0,0,0,0,0,0,0,0,0,0,0,0]
["vsing",0,0,0,0,0,0,0,0.1,0,0,0,0,0,0,0,0,0,0,0,0,7.0372980000000002E-2]
["wailing",0.2,0,0,0,0,0,0,0,0,0,0,0,0,0,0,0,0,0,0,0,0]
["waite",0,0,0,0,0,0,0,0,0,0,0,0,0,0,0,0.1,0,0,0,0.1,0]
["walking",0,0,0,0,0,0.1,0,0,0,0,0,0,0,0,0,0,0,0,0,0,0]
["walls",0.1,0,0,0,0,0,0,0,0,0,0,0,0,0,0,0,0,0,0,0,0]
["wants",0,0,0,0,0,0,0.1,0,0,0,0,0,0,0,0,0,0,0.1,0,0,0]
["war",0,0,0,0,0,0,0,0,0,0,0,0,0,0,0,0,0,0,0,0,0]
["warlike",0.1,0.1,0,0,0,0,0,0,0,0,0,0,0,0,0,0,0,0,0,0,0]
["warm",0,0,0,0,0,0,0,0,0,0,0,0,0.1,0,0,0,0,0,0,0,0]
["warre",0,0,0,0,0,0,0,0,0,0,0,0,0.1,0,0,0,0,0,0,0,7.0372980000000002E-2]
["wash",0,0.1,0,0,0,0,0,0,0,0,0,0,0,0,0,0,0,0,0,0,0]
["waters",0,0.1,0,0,0,0,0,0,0,0,0,0,0,0,0,0,0,0,0,0,0]
["wave",0,0,0,0,0,0,0,0,0,0,0,0,0,0,0,0,0,0,0,0,0]
["weight",0.1,0,0,0,0,0,0,0,0,0,0,0,0,0,0,0,0,0,0,0,0]
["wel",0,0,0,0,0,0,0,0,0,0,0.1,0.1,0,0,0,0,0,0,0,0,0]
["wholly",0,0,0,0,0,0,0,0,0,0,0,0,0,0,0,0.1,0,0,0,0,0]
["widow",0,0,0,0,0,0,0,0,0,0,0,0,0,0,0,0,0,0,0,0,0]
["windowes",0,0,0,0,0,0,0,0,0,0.1,0,0,0,0,0,0,0,0,0,0,7.0372980000000002E-2]
["windows",0,0,0,0,0,0,0,0,0,0,0,0,0,0,0,0,0,0,0,0,0]
["winter's",0,0,0,0,0,0,0,0,0,0,0,0,0,0,0,0,0,0,0,0,0]
["wipe",0,0.1,0,0,0,0,0,0,0,0,0,0,0,0,0,0,0,0,0,0,0]
["witness",0,0,0,0,0,0,0,0,0,0,0,0,0,0,0,0,0,0,0,0,0]
["witnesses",0,0,0,0,0,0.1,0,0.1,0,0,0,0,0,0,0,0,0,0,0,0,0]
["wondrous",0.1,0,0,0,7.4183979999999997E-2,0,0,0,0,0,0,0,0,0,0,0,0,0,0,0,0]
["wonted",0,0,0.1,0,0,0,0,0,0,0,0,0,0,0,0,0,0,0,0,0,0]
["wooll",0,0,0,0,0,0,0.1,0.1,0,0,0,0,0,0,0,0,0,0,0,0,0]
["wore",0.1,0,0,0,0,0,0.1,0,0,0,0,0,0,0,0,0,0,0,0,0,0]
["wrapt",0,0,0,0,0,0,0,0,0,0.1,0,0,0.1,0,0,0,0,0,0,0,0]
["wrinkled",0,0,0,0,0,0,0,0,0,0,0,0,0,0,0,0,0,0,0,0,7.0372980000000002E-2]
["year",0,0,0,0,0,0,0,0,0,0,0,0,0,0,0,0,0,0,0,0,0]
["yeares",0.1,0,0,0,0,0,0,0,0,0,0,0,0,0,0,0,0,0,0.1,0,0]
["yoke",0,0,0,0,0,0,0,0,0,0,0,0,0,0,0.1,0,0,0,0,0,0]
["yonder",0,0,0,0,0,0,0.1,0.1,0,0,0,0,0,0,0,0,0,0,0,0,0]
["'father",0,0,0,0,0,0,0,0,0,0,0,0,0,0,0,0,0,0,0,0,0]
["'fore",0,0,0,0,0,0,0,0,0,0,0,0,0,0,0,0,0,0,0,0,0]
["'gentle",0,0,0,0,0,0,0,0,0,0,0,0,0,0,0,0,0,0,0,0,0]
["'how",0,0,0,0,0,0,0,0,0,0,0,0,0,0,0,0,0,0,0,0,0]
["'less",0,0,0,0,0,0,0,0,0,0,0,0,0,0,0,0,0,0,0,0,0]
["'look",0,0,0,0,0,0,0,0,0,0,0,0,0,0,0,0,0,0,0,0,0]
["'my",0,0,0,0,0,0,0,0,0,0,0,0,0,0,0,0,0,0,0,0,0]
["'nor",0,0,0,0,0,0,0,0,0,0,0,0,0,0,0,0,0,0,0,0,0]
["'pointing",0,0,0,0,0,0,0,0,0,0,0,0,0,0,0,0,0,0,0.1,0,0]
["'quite",0,0,0,0,0,0,0,0,0,0,0,0,0,0,0,0,0,0,0,0.1,0]
["'scapeth",0,0,0,0,0,0,0,0,0,0,0,0,0,0,0,0,0,0,0,0,0]
["'small",0,0,0,0,0,0,0,0,0,0,0,0,0,0,0,0,0,0,0,0,0]
["'though",0,0,0,0,0,0,0,0,0,0,0,0,0,0,0,0,0,0,0,0,0]
["'thus",0,0,0,0,0,0,0,0,0,0,0,0,0,0,0,0,0,0,0,0,0]
["'well",0,0,0,0,0,0,0,0,0,0,0,0,0,0,0,0,0,0,0,0,0]
["'when",0,0,0,0,0,0,0,0,0,0,0,0,0,0,0,0,0,0,0,0,0]
["abisse",0,0,0,0,7.4183979999999997E-2,0,0,0,0,0,0,0,0,0,0,0,0,0,0,0,0]
["able",0,0,0.1,0,0,0,0,0,0,0,0,0,0,0,0,0,0,0,0,0,0]
["abundance",0,0,0,0,0,0,0,0,0,0,0,0,0,0,0,0,0,0,0,0,0]
["abused",0,0,0,0,0,0,0,0,0,0,0,0,0,0,0,0,0,0,0,0,0]
["accepted",0,0,0,0,0,0,0,0,0.1,0,0,0,0,0,0,0,0,0,0,0,0]
["accident",0,0,0,0,0,0,0,0,0,0,0,0,0,0,0,0,0,0,0,0,0]
["accorded",0,0,0,0,0,0,0,0,0,0,0,0,0,0,0,0,0,0,0,0,0]
["accustom'd",0,0,0,0,0,0,0,0,0,0,0,0,0,0,0,0,0,0,0,0,0]
["acquiescate",0,0,0,0,0,0,0,0.1,0,0,0,0,0,0,0,0,0,0,0,0,0]
["actiuitie",0,0,0,0,0,0,0,0.1,0,0,0,0,0,0,0,0,0,0,0,0,0]
["ad",0,0,0,0,0,0.1,0,0,0,0,0,0,0,0,0,0,0,0,0,0,0]
["added",0,0,0,0.1,0,0,0,0,0,0,0,0,0,0,0,0,0,0,0,0,0]
["admire",0,0,0,0,0,0,0,0,0,0,0,0,0,0,0,0,0,0,0.1,0,0]
["admired",0.1,0,0,0,0,0,0,0,0,0,0,0,0,0,0,0,0,0,0,0,0]
["admitted",0,0,0,0,0,0,0,0,0,0,0,0,0,0,0,0,0,0,0.1,0,0]
["adoptiue",0,0,0,0,0,0,0,0,0,0,0,0,0,0,0,0,0,0,0,0,7.0372980000000002E-2]
["adowne",0,0,0,0,7.4183979999999997E-2,0,0,0,0,0,0,0,0,0,0,0,0,0,0,0,0]
["aduaunce",0,0,0,0,0,0,0,0,0,0,0,0,0,0.1,0,0,0,0,0,0,0]
["advance",0,0,0,0,0,0,0,0,0,0,0,0,0,0,0,0,0,0,0,0,0]
["advantage",0,0,0,0,0,0,0,0,0,0,0,0,0,0,0,0,0,0,0,0,0]
["advice",0,0,0,0,0,0,0,0,0,0,0,0,0,0,0,0,0,0,0,0,0]
["aeneas",0,0,0,0,0,0.1,0,0,0,0,0,0,0,0,0,0,0,0,0,0,0]
["afflicted",0,0,0,0,0,0,0,0,0,0,0,0,0,0,0,0,0,0,0,0,0]
["affoord",0,0,0.1,0,0,0,0,0,0,0,0,0,0,0,0,0,0,0,0,0,0]
["affrick",0,0,0,0,0,0,0,0,0.1,0,0,0,0,0,0,0,0,0,0,0,0]
["afield",0,0,0,0,0,0,0,0,0,0,0,0,0,0,0,0,0,0,0,0,0]
["agast",0,0,0,0,7.4183979999999997E-2,0,0,0,0,0,0,0,0,0,0,0,0,0,0,0,0]
["ages",0.1,0,0,0,0,0,0,0,0,0,0,0,0,0,0,0,0,0,0,0,0]
["agreed",0,0,0,0,0,0,0,0,0.1,0,0,0,0,0,0,0,0,0,0,0,0]
["agreeve",0.1,0,0,0,0,0,0,0,0,0,0,0,0,0,0,0,0,0,0,0,0]
["airs",0,0,0,0,0,0,0,0,0,0,0,0,0,0,0,0,0,0,0,0,0]
["alabaster",0,0,0,0,0,0,0,0,0,0.1,0,0,0,0,0,0,0,0,0,0,0]
["ale",0,0,0,0,0,0,0,0,0,0,0,0,0,0,0,0,0,0,0,0,0]
["algarsife",0,0,0,0,0,0,0,0,0,0,0,0,0,0,0,0,0,0,0,0,0]
["allow",0,0,0,0,0,0,0,0,0,0,0,0,0,0,0,0,0,0,0,0.1,0]
["almes",0,0,0,0,0,0,0,0,0,0,0,0,0,0,0.1,0,0,0,0,0,0]
["alpheus",0,0,0,0,0,0,0,0,0,0,0,0,0,0,0,0,0,0,0,0,0]
["already",0,0,0,0,0,0,0,0,0,0,0,0,0,0,0.1,0,0,0,0,0,0]
["amaranthus",0,0,0,0,0,0,0,0,0,0,0,0,0,0,0,0,0,0,0,0,0]
["amaryllis",0,0,0,0,0,0,0,0,0,0,0,0,0,0,0,0,0,0,0,0,0]
["ambitions",0,0,0,0,0,0,0,0,0,0,0,0.1,0,0,0,0,0,0,0,0,0]
["ambrosia",0,0,0,0.1,0,0,0,0,0,0,0,0,0,0,0,0,0,0,0,0,0]
["amidst",0,0,0,0,0,0,0,0,0,0,0,0,0,0,0,0,0,0,0,0,0]
["amisse",0,0,0,0,0,0,0,0,0,0,0,0,0,0,0,0.1,0,0,0,0,0]
["amphions",0,0,0,0,0,0,0,0,0,0,0,0,0,0,0,0,0.1,0,0,0,0]
["ample",0,0,0,0,0,0,0,0,0,0,0,0,0,0,0,0,0,0.1,0,0,0]
["anacreon",0,0,0,0,0,0,0,0,0,0,0,0,0,0,0,0,0,0,0,0,0]
["anatomie",0,0,0,0,0,0,0,0,0,0,0,0,0,0,0,0.1,0,0,0,0,0]
["anew",0,0,0,0,0,0,0,0,0,0,0,0,0,0.1,0,0,0,0,0,0,0]
["angel",0,0,0,0,0,0,0,0,0,0,0,0,0,0,0,0,0,0,0,0,0]
["angers",0,0,0,0,0,0,0,0,0,0,0,0,0,0,0,0,0,0.1,0,0,0]
["animals",0,0,0,0,0,0.1,0,0,0,0,0,0,0,0,0,0,0,0,0,0,0]
["anothers",0,0,0,0,0,0,0,0,0,0,0,0,0,0,0,0,0,0.1,0,0,0]
["antequam",0,0,0,0,0,0,0,0.1,0,0,0,0,0,0,0,0,0,0,0,0,0]
["aonian",0,0,0,0,0,0,0,0,0,0,0,0,0,0,0,0,0,0,0,0,0]
["apart",0,0,0,0,0,0,0,0,0,0,0,0.1,0,0,0,0,0,0,0,0,0]
["appall",0,0,0,0,0,0.1,0,0,0,0,0,0,0,0,0,0,0,0,0,0,0]
["appalled",0,0,0,0,7.4183979999999997E-2,0,0,0,0,0,0,0,0,0,0,0,0,0,0,0,0]
["appear'd",0,0,0,0,0,0,0,0,0,0,0,0,0,0,0,0,0,0,0,0,0]
["appearing",0,0,0,0,0,0,0,0,0,0,0,0,0,0,0,0,0,0,0,0,0]
["appetite",0,0,0,0,0,0,0,0,0,0,0,0,0,0,0,0,0,0,0,0,0]
["applause",0,0,0,0,0,0,0,0,0,0,0,0,0,0,0,0,0,0,0,0,0]
["apprehending",0,0,0,0,0,0,0,0,0,0,0,0,0,0,0,0,0.1,0,0,0,0]
["approch",0,0,0,0,0,0,0,0,0,0,0,0,0,0,0,0,0,0,0,0.1,0]
["arche",0,0,0,0,7.4183979999999997E-2,0,0,0,0,0,0,0,0,0,0,0,0,0,0,0,0]
["archer",0,0,0,0,0,0,0,0,0,0,0,0,0.1,0,0,0,0,0,0,0,0]
["argumentate",0,0,0,0,0,0,0,0.1,0,0,0,0,0,0,0,0,0,0,0,0,0]
["aristotless",0,0,0,0,0,0,0,0,0,0,0,0,0,0,0,0,0.1,0,0,0,0]
["arm'd",0,0,0,0,0,0,0,0,0,0,0,0,0,0,0,0.1,0,0,0,0,0]
["armies",0,0,0,0,0,0,0,0,0,0,0,0,0.1,0,0,0,0,0,0,0,0]
["array",0,0,0,0,0,0,0,0,0,0,0,0,0,0,0,0,0,0,0.1,0,0]
["arrowes",0,0,0,0,0,0,0,0,0,0,0,0,0.1,0,0,0,0,0,0,0,0]
["arte",0,0,0,0,0,0,0,0,0,0,0,0.1,0,0,0,0,0,0,0,0,0]
["artes",0,0,0.1,0,0,0,0,0,0,0,0,0,0,0,0,0,0,0,0,0,0]
["asleep",0,0,0,0,0,0,0,0,0,0,0,0,0,0,0,0,0,0,0,0,0]
["asleepe",0,0,0,0,0,0,0,0,0,0,0,0,0,0,0,0,0,0.1,0,0,0]
["ass's",0,0,0,0,0,0,0,0,0,0,0,0,0,0,0,0,0,0,0,0,0]
["assaid",0,0,0,0,0,0,0,0,0,0,0,0,0,0,0,0.1,0,0,0,0,0]
["assailed",0.1,0,0,0,0,0,0,0,0,0,0,0,0,0,0,0,0,0,0,0,0]
["assaults",0,0,0,0,0,0,0,0,0,0,0,0,0.1,0,0,0,0,0,0,0,0]
["astonished",0,0,0,0.1,0,0,0,0,0,0,0,0,0,0,0,0,0,0,0,0,0]
["astray",0,0,0,0,0,0,0,0,0,0,0,0,0,0,0,0,0,0,0,0,0]
["astrophel",0,0,0,0,0,0,0,0,0.1,0,0,0,0,0,0,0,0,0,0,0,0]
["atcheivements",0,0,0,0,7.4183979999999997E-2,0,0,0,0,0,0,0,0,0,0,0,0,0,0,0,0]
["attending",0,0,0,0,0,0,0,0,0,0,0,0,0,0,0,0,0,0,0,0,0]
["attends",0,0,0,0,0,0,0,0,0,0,0,0,0,0,0,0,0,0,0,0,7.0372980000000002E-2]
["attires",0,0,0,0,0,0,0,0,0,0.1,0,0,0,0,0,0,0,0,0,0,0]
["auaile",0,0,0,0,0,0,0,0,0,0,0,0,0,0,0,0,0,0,0,0,7.0372980000000002E-2]
["augment",0,0,0,0,0,0,0,0,0,0,0,0,0,0,0,0,0,0,0.1,0,0]
["auise",0,0,0,0,0,0,0,0,0,0,0.1,0,0,0,0,0,0,0,0,0,0]
["auoid",0,0,0,0,0,0,0,0,0,0,0,0,0,0.1,0,0,0,0,0,0,0]
["auroras",0,0,0,0,0,0,0,0,0,0,0,0,0.1,0,0,0,0,0,0,0,0]
["authority",0,0,0,0,0,0,0,0,0,0,0,0,0,0,0,0.1,0,0,0,0,0]
["authorized",0,0,0,0,0,0,0,0,0,0,0,0,0,0,0,0,0,0,0,0,0]
["awfull",0,0,0,0,0,0,0,0,0,0,0,0,0,0,0,0.1,0,0,0,0,0]
["awhile",0,0,0,0,0,0,0,0,0,0,0,0,0,0,0,0,0,0,0,0,0]
["ayme",0,0,0,0,0,0,0,0,0,0,0,0.1,0,0,0,0,0,0,0,0,0]
["ayres",0,0,0,0,0,0,0,0,0,0,0,0,0,0,0,0,0,0.1,0,0,0]
["bacchus",0,0,0,0,0,0,0,0,0,0,0,0,0,0,0,0,0,0,0,0,0]
["badger",0,0.1,0,0,0,0,0,0,0,0,0,0,0,0,0,0,0,0,0,0,0]
["bags",0,0,0,0,0,0,0.1,0,0,0,0,0,0,0,0,0,0,0,0,0,0]
["baid",0,0.1,0,0,0,0,0,0,0,0,0,0,0,0,0,0,0,0,0,0,0]
["baits",0,0.1,0,0,0,0,0,0,0,0,0,0,0,0,0,0,0,0,0,0,0]
["balefull",0,0.1,0,0,0,0,0,0,0,0,0,0,0,0,0,0,0,0,0,0,0]
["balme",0,0,0,0,0,0,0,0,0,0,0,0,0,0.1,0,0,0,0,0,0,0]
["bands",0,0,0,0.1,0,0,0,0,0,0,0,0,0,0,0,0,0,0,0,0,0]
["bankes",0,0.1,0,0,0,0,0,0,0,0,0,0,0,0,0,0,0,0,0,0,0]
["bankrout",0,0,0,0,0,0,0,0,0,0,0.1,0,0,0,0,0,0,0,0,0,0]
["bareness",0,0,0,0,0,0,0,0,0,0,0,0,0,0,0,0,0,0,0,0,0]
["barge",0,0,0,0,0,0,0,0,0,0,0,0,0,0,0,0,0,0,0.1,0,0]
["barks",0,0,0,0,0,0,0,0,0,0,0,0,0,0,0,0.1,0,0,0,0,0]
["barn",0,0,0,0,0,0,0,0,0,0,0,0,0,0,0,0,0,0,0,0,0]
["baser",0,0,0,0,7.4183979999999997E-2,0,0,0,0,0,0,0,0,0,0,0,0,0,0,0,0]
["bases",0,0,0,0,0,0,0,0,0,0,0,0,0,0,0,0,0.1,0,0,0,0]
["basks",0,0,0,0,0,0,0,0,0,0,0,0,0,0,0,0,0,0,0,0,0]
["bastards",0,0,0,0,0,0,0,0,0,0,0,0,0,0,0,0,0,0,0,0,0]
["bathed",0,0,0,0,0,0,0,0,0,0,0,0,0,0,0,0,0,0,0,0,0]
["batt'ning",0,0,0,0,0,0,0,0,0,0,0,0,0,0,0,0,0,0,0,0,0]
["battred",0,0,0,0,0,0,0,0,0,0,0,0,0.1,0,0,0,0,0,0,0,0]
["baudrikes",0,0,0,0,0,0,0.1,0,0,0,0,0,0,0,0,0,0,0,0,0,0]
["bayona's",0,0,0,0,0,0,0,0,0,0,0,0,0,0,0,0,0,0,0,0,0]
["bays",0,0,0,0,0,0,0,0,0,0,0,0,0,0,0,0,0,0,0,0,0]
["beamie",0,0,0,0,0,0,0,0,0,0,0,0,0,0,0.1,0,0,0,0,0,0]
["beard",0,0,0,0,0,0,0,0,0,0,0,0,0,0,0,0,0,0,0,0,0]
["beating",0,0,0,0,0,0,0,0,0.1,0,0,0,0,0,0,0,0,0,0,0,0]
["beautifier",0,0,0,0,0,0,0,0,0,0,0,0,0,0,0,0,0,0,0.1,0,0]
["beautifullest",0,0,0,0,0,0,0.1,0,0,0,0,0,0,0,0,0,0,0,0,0,0]
["beautious",0,0,0,0,0,0.1,0,0,0,0,0,0,0,0,0,0,0,0,0,0,0]
["becks",0,0,0,0,0,0,0,0,0,0,0,0,0,0,0,0,0,0,0,0,0]
["beclowded",0,0,0,0,0,0,0,0,0,0,0,0,0,0.1,0,0,0,0,0,0,0]
["beds",0,0,0,0,0,0,0,0,0,0,0,0,0,0,0,0,0,0,0,0,0]
["beer",0,0,0,0,0,0,0,0,0,0,0,0,0,0,0,0,0,0,0,0,0]
["beggarie",0,0,0,0,0,0,0,0,0,0,0,0,0,0,0.1,0,0,0,0,0,0]
["beggary",0,0,0,0,0,0,0,0,0,0,0,0,0,0,0,0.1,0,0,0,0,0]
["beginnes",0,0,0,0.1,0,0,0,0,0,0,0,0,0,0,0,0,0,0,0,0,0]
["begot",0,0,0,0,0,0,0,0,0,0.1,0,0,0,0,0,0,0,0,0,0,0]
["beguile",0,0,0,0,0,0,0,0,0,0,0,0,0,0,0,0,0,0,0,0,0]
["beguiling",0,0,0,0,0,0,0,0,0,0,0,0,0,0,0,0,0,0,0,0,0]
["behest",0,0,0,0,0,0,0,0,0,0,0,0,0,0,0.1,0,0,0,0,0,0]
["behoof",0,0,0,0,0,0,0,0,0,0,0,0,0,0,0,0,0,0,0,0,0]
["believed",0,0,0,0,0,0,0,0,0,0,0,0,0,0,0,0,0,0,0,0,0]
["bellerus",0,0,0,0,0,0,0,0,0,0,0,0,0,0,0,0,0,0,0,0,0]
["bellman's",0,0,0,0,0,0,0,0,0,0,0,0,0,0,0,0,0,0,0,0,0]
["belly",0,0,0,0,0,0,0,0,0,0,0,0,0,0,0,0,0,0,0,0,0]
["beloved",0,0,0,0,0,0,0,0,0,0,0,0,0,0,0,0,0,0,0,0,0]
["below",0,0,0,0,0,0,0,0,0,0,0,0,0,0,0,0,0,0,0,0,0]
["bemone",0,0,0,0,0,0,0,0,0,0,0,0,0,0,0.1,0,0,0,0,0,0]
["bemoned",0,0.1,0,0,0,0,0,0,0,0,0,0,0,0,0,0,0,0,0,0,0]
["benighted",0,0,0,0,0,0,0,0,0,0,0,0,0,0,0,0,0,0.1,0,0,0]
["benignity",0,0,0,0,0,0.1,0,0,0,0,0,0,0,0,0,0,0,0,0,0,0]
["berries",0,0,0,0,0,0,0,0,0,0,0,0,0,0,0,0,0,0,0,0,0]
["berth",0.1,0,0,0,0,0,0,0,0,0,0,0,0,0,0,0,0,0,0,0,0]
["beseem",0,0,0,0,0,0,0,0,0,0,0,0,0,0,0,0,0,0,0,0,0]
["beseige",0,0,0,0,0,0,0,0,0,0,0,0,0,0,0,0,0,0,0,0,0]
["besiege",0,0,0,0,0,0,0,0,0,0,0,0,0,0,0,0,0,0,0,0,0]
["bespake",0,0,0,0,0,0,0,0,0,0,0,0,0,0,0,0,0,0,0,0,0]
["bestowe",0.1,0,0,0,0,0,0,0,0,0,0,0,0,0,0,0,0,0,0,0,0]
["bestowes",0,0,0,0,0,0,0,0,0,0,0,0,0,0,0,0,0,0,0,0,7.0372980000000002E-2]
["betray",0,0,0,0,0,0,0,0,0,0,0,0,0,0,0,0,0,0,0,0,0]
["betwixt",0,0,0,0,0,0,0,0,0,0,0,0,0,0,0,0,0,0,0,0,0]
["beware",0,0,0,0,0,0,0,0,0,0,0,0,0,0,0,0,0,0,0.1,0,0]
["bewitch'd",0,0,0,0,0,0,0,0,0,0,0,0,0,0,0,0,0,0,0,0,0]
["big",0,0,0,0,0,0,0,0,0,0,0,0,0,0,0,0,0,0,0,0,0]
["billing",0,0,0,0,0,0,0,0,0,0,0,0,0,0,0,0,0,0,0.1,0,0]
["bite",0,0,0,0,0,0,0,0,0,0,0,0,0,0,0,0,0,0,0.1,0,0]
["bites",0,0.1,0,0,0,0,0,0,0,0,0,0,0,0,0,0,0,0,0,0,0]
["blacknesse",0,0,0,0,0,0,0,0,0,0,0,0,0,0,0,0,0,0,0,0.1,0]
["blam'd",0,0,0,0,0,0,0,0,0,0,0,0,0,0,0,0,0,0,0.1,0,0]
["blazon'd",0,0,0,0,0,0,0,0,0,0,0,0,0,0,0,0,0,0,0,0,0]
["bleaying",0,0,0,0,0,0,0,0.1,0,0,0,0,0,0,0,0,0,0,0,0,0]
["blessings",0,0,0,0,0,0,0.1,0,0,0,0,0,0,0,0,0,0,0,0,0,0]
["blinde",0,0,0,0.1,0,0,0,0,0,0,0,0,0,0,0,0,0,0,0,0,0]
["bloodshed",0.1,0,0,0,0,0,0,0,0,0,0,0,0,0,0,0,0,0,0,0,0]
["blossoms",0,0,0,0,0,0,0,0,0,0,0,0,0,0,0,0,0,0,0,0,0]
["bloudie",0,0,0,0,0,0,0,0,0,0,0,0,0,0,0,0,0,0.1,0,0,0]
["blowe",0,0,0,0,0,0,0,0,0,0,0,0,0,0,0,0,0,0.1,0,0,0]
["blusterer",0,0,0,0,0,0,0,0,0,0,0,0,0,0,0,0,0,0,0,0,0]
["bo",0,0,0,0,0,0,0,0,0,0.1,0,0,0,0,0,0,0,0,0,0,0]
["boiling",0,0,0,0,0,0,0,0,0,0,0.1,0,0,0,0,0,0,0,0,0,0]
["bond",0,0,0,0,0,0,0,0,0,0,0,0,0,0,0,0,0,0,0,0,0]
["bone",0,0,0,0,0,0,0,0,0,0,0,0,0,0,0,0,0,0,0,0,0]
["bonnet",0,0,0,0,0,0,0,0,0,0,0,0,0,0,0,0,0,0,0,0,0]
["bordred",0,0,0,0,0,0,0,0,0,0.1,0,0,0,0,0,0,0,0,0,0,0]
["born",0,0,0,0,0,0,0,0,0,0,0,0,0,0,0,0,0,0,0,0,0]
["bosom'd",0,0,0,0,0,0,0,0,0,0,0,0,0,0,0,0,0,0,0,0,0]
["bosoms",0,0,0,0,0,0,0,0,0,0,0,0,0,0,0,0,0,0,0,0,0]
["bottom",0,0,0,0,0,0,0,0,0,0,0,0,0,0,0,0,0,0,0,0,0]
["bounded",0,0,0,0,7.4183979999999997E-2,0,0,0,0,0,0,0,0,0,0,0,0,0,0,0,0]
["bow'd",0,0,0,0,0,0,0,0,0,0,0,0,0,0,0,0,0,0,0,0,0]
["bow'r",0,0,0,0,0,0,0,0,0,0,0,0,0,0,0,0,0,0,0,0,0]
["bowers",0,0,0,0,0,0,0,0,0,0,0,0,0,0,0,0,0,0,0,0,0]
["bowes",0,0,0,0,0,0,0,0,0,0,0.1,0,0,0,0,0,0,0,0,0,0]
["boyling",0,0,0,0,0,0,0,0,0,0,0,0,0,0,0,0,0,0,0,0,7.0372980000000002E-2]
["brabbling",0,0,0,0,0,0,0,0,0,0.1,0,0,0,0,0,0,0,0,0,0,0]
["bragg'd",0,0,0,0,0,0,0,0,0,0,0,0,0,0,0,0,0,0,0,0,0]
["brags",0,0,0,0,0,0,0,0,0,0,0,0,0,0,0,0,0,0,0,0,7.0372980000000002E-2]
["brain'd",0,0,0,0,0,0,0,0,0,0,0,0,0,0,0,0,0,0,0,0,0]
["braines",0,0,0,0,0,0,0,0,0.1,0,0,0,0,0,0,0,0,0,0,0,0]
["brass",0,0,0,0,0,0,0,0,0,0,0,0,0,0,0,0,0,0,0,0,0]
["brauely",0,0,0,0,0,0,0,0,0.1,0,0,0,0,0,0,0,0,0,0,0,0]
["brawl",0,0,0,0,0,0,0,0,0,0,0,0.1,0,0,0,0,0,0,0,0,0]
["breach",0,0,0,0,0,0,0,0,0,0,0.1,0,0,0,0,0,0,0,0,0,0]
["breather",0,0,0,0,0,0,0,0,0,0,0,0,0,0,0,0,0,0,0.1,0,0]
["breathest",0,0,0.1,0,0,0,0,0,0,0,0,0,0,0,0,0,0,0,0,0,0]
["brent",0.1,0,0,0,0,0,0,0,0,0,0,0,0,0,0,0,0,0,0,0,0]
["brethren",0,0,0,0.1,0,0,0,0,0,0,0,0,0,0,0,0,0,0,0,0,0]
["brickle",0,0,0,0.1,0,0,0,0,0,0,0,0,0,0,0,0,0,0,0,0,0]
["bride",0,0,0,0,7.4183979999999997E-2,0,0,0,0,0,0,0,0,0,0,0,0,0,0,0,0]
["bristly",0,0,0,0,0,0,0,0,0,0,0,0,0,0,0,0,0,0,0,0,0]
["britaines",0.1,0,0,0,0,0,0,0,0,0,0,0,0,0,0,0,0,0,0,0,0]
["brokers",0,0,0,0,0,0,0,0,0,0,0,0,0,0,0,0,0,0,0,0,0]
["brooding",0,0,0,0,0,0,0,0,0,0,0,0,0,0,0,0,0,0,0,0,0]
["browny",0,0,0,0,0,0,0,0,0,0,0,0,0,0,0,0,0,0,0,0,0]
["brows",0,0,0,0,0,0,0,0,0,0,0.1,0,0,0,0,0,0,0,0,0,0]
["bubble",0.1,0,0,0,0,0,0,0,0,0,0,0,0,0,0,0,0,0,0,0,0]
["bubbling",0,0,0,0,0,0,0,0,0,0,0,0.1,0,0,0,0,0,0,0,0,0]
["buildes",0,0,0,0.1,0,0,0,0,0,0,0,0,0,0,0,0,0,0,0,0,0]
["building",0,0,0,0,7.4183979999999997E-2,0,0,0,0,0,0,0,0,0,0,0,0,0,0,0,0]
["builds",0,0,0,0,0,0,0,0,0,0,0,0,0,0,0,0,0,0,0.1,0,0]
["bullet",0,0,0,0,0,0,0,0,0,0,0.1,0,0,0,0,0,0,0,0,0,0]
["bulwarks",0,0,0,0,0,0,0,0,0,0,0,0,0,0,0,0,0,0,0,0,0]
["burden",0,0,0,0,0,0,0,0,0,0,0,0,0,0,0,0,0.1,0,0,0,0]
["burned",0,0,0,0,0,0,0,0.1,0,0,0,0,0,0,0,0,0,0,0,0,0]
["burst",0,0,0,0,0,0,0,0,0,0,0,0,0,0,0,0,0,0,0,0,0]
["bushes",0,0,0,0,0,0,0,0.1,0,0,0,0,0,0,0,0,0,0,0,0,0]
["busied",0,0,0,0,0,0,0,0.1,0,0,0,0,0,0,0,0,0,0,0,0,0]
["cabinet",0,0,0,0,0,0,0,0,0,0.1,0,0,0,0,0,0,0,0,0,0,0]
["caet",0,0,0,0,0,0,0.1,0,0,0,0,0,0,0,0,0,0,0,0,0,0]
["caged",0,0,0,0,0,0,0,0,0,0,0,0,0,0,0,0,0,0,0,0,0]
["caitife",0,0,0,0,0,0,0,0,0,0,0,0,0,0,0,0,0,0,0,0.1,0]
["calfe",0,0,0,0,0,0,0,0.1,0,0,0,0,0,0,0,0,0,0,0,0,0]
["call'd",0,0,0,0,0,0,0,0,0,0,0,0,0,0,0,0,0,0,0,0,0]
["cambuscan",0,0,0,0,0,0,0,0,0,0,0,0,0,0,0,0,0,0,0,0,0]
["campes",0,0,0,0,0,0,0,0,0,0,0,0.1,0,0,0,0,0,0,0,0,0]
["canary",0,0,0,0,0,0,0,0,0,0,0,0,0,0,0,0,0,0,0,0,0]
["candle",0,0,0,0,0,0,0,0,0,0,0,0,0,0,0,0,0,0,0,0.1,0]
["cap",0,0,0,0,0,0,0,0.1,0,0,0,0,0,0,0,0,0,0,0,0,0]
["capers",0,0,0,0,0,0,0,0,0,0,0,0,0,0,0,0,0,0,0,0,0]
["captiu'd",0,0,0,0,0,0,0,0,0,0,0,0.1,0,0,0,0,0,0,0,0,0]
["captiues",0,0,0,0,0,0,0,0,0,0,0,0,0,0,0,0.1,0,0,0,0,0]
["career",0,0,0,0,0,0,0,0,0,0,0,0,0,0,0,0,0,0,0,0,0]
["careleslie",0.1,0,0,0,0,0,0,0,0,0,0,0,0,0,0,0,0,0,0,0,0]
["carrets",0,0,0,0,0,0,0,0,0,0,0.1,0,0,0,0,0,0,0,0,0,0]
["carriage",0,0,0,0,0,0,0,0,0,0,0,0,0,0,0,0,0,0,0,0,0]
["castalie",0,0,0,0.1,0,0,0,0,0,0,0,0,0,0,0,0,0,0,0,0,0]
["casting",0,0,0,0,0,0,0,0,0,0,0,0,0,0,0,0,0,0,0,0,0]
["catoes",0,0,0,0,0,0,0,0,0,0.1,0,0,0,0,0,0,0,0,0,0,0]
["cattle",0,0,0,0,0,0,0,0,0,0,0,0,0,0,0,0,0,0,0,0,0]
["cautels",0,0,0,0,0,0,0,0,0,0,0,0,0,0,0,0,0,0,0,0,0]
["caves",0,0,0,0,0,0,0,0,0,0,0,0,0,0,0,0,0,0,0,0,0]
["cerberus",0,0,0,0,0,0,0,0,0,0,0,0,0,0,0,0,0,0,0,0,0]
["cerebrosities",0,0,0,0,0,0,0,0.1,0,0,0,0,0,0,0,0,0,0,0,0,0]
["chaine",0,0,0,0,0,0,0,0,0,0,0,0,0,0,0,0.1,0,0,0,0,0]
["chains",0,0,0,0,0,0,0,0,0,0,0,0,0,0,0,0,0,0,0,0,0]
["changelings",0,0,0,0,0,0,0,0,0,0,0,0.1,0,0,0,0,0,0,0,0,0]
["channel",0,0,0,0,0,0,0,0,0,0,0,0,0,0,0,0,0,0,0,0,0]
["charity",0,0,0,0,0,0,0,0,0,0,0,0,0,0,0,0,0,0,0,0,0]
["charm'd",0,0,0,0,0,0,0,0,0,0,0,0,0,0,0,0,0,0,0,0,0]
["chast",0,0,0,0,0,0,0,0,0,0,0,0,0,0,0,0.1,0,0,0,0,0]
["chasten",0,0,0,0,0,0,0,0,0,0,0,0,0,0,0,0,0,0,0.1,0,0]
["chastned",0,0,0,0,0,0,0,0,0,0,0,0,0,0,0,0.1,0,0,0,0,0]
["chatt'ring",0,0,0,0,0,0,0,0,0,0,0,0,0,0,0,0,0,0,0,0,0]
["chaunst",0,0.1,0,0,0,0,0,0,0,0,0,0,0,0,0,0,0,0,0,0,0]
["chauntress",0,0,0,0,0,0,0,0,0,0,0,0,0,0,0,0,0,0,0,0,0]
["checks",0,0,0,0,0,0,0,0,0,0,0,0,0,0,0,0,0,0,0,0,0]
["cheekes",0,0,0,0,0,0,0,0,0,0,0,0,0,0,0,0,0.1,0,0,0,0]
["chequer'd",0,0,0,0,0,0,0,0,0,0,0,0,0,0,0,0,0,0,0,0,0]
["cherefull",0,0,0,0,7.4183979999999997E-2,0,0,0,0,0,0,0,0,0,0,0,0,0,0,0,0]
["cherries",0,0,0,0,0,0,0,0,0,0,0,0,0,0,0,0,0,0,0.1,0,0]
["cherub",0,0,0,0,0,0,0,0,0,0,0,0,0,0,0,0,0,0,0,0,0]
["chiefest",0,0,0,0,0,0,0,0,0,0,0,0,0,0,0,0,0,0,0,0,0]
["chiefst",0,0,0,0,7.4183979999999997E-2,0,0,0,0,0,0,0,0,0,0,0,0,0,0,0,0]
["chilling",0,0,0,0,0,0,0,0,0,0,0,0,0,0,0,0,0,0.1,0,0,0]
["chimney",0,0,0,0,0,0,0,0,0,0,0,0,0,0,0,0,0,0,0,0,0]
["choicest",0,0,0,0,0,0,0,0,0,0.1,0,0,0,0,0,0,0,0,0,0,0]
["choose",0,0,0,0,0,0,0,0,0,0,0,0,0,0,0,0,0,0,0,0,0]
["christall",0,0.1,0,0,0,0,0,0,0,0,0,0,0,0,0,0,0,0,0,0,0]
["christian",0,0,0,0,0,0,0,0,0,0,0,0,0.1,0,0,0,0,0,0,0,0]
["churchmen",0,0,0,0,0,0,0,0,0,0.1,0,0,0,0,0,0,0,0,0,0,0]
["churl",0,0,0,0,0,0,0,0,0,0,0,0,0,0,0,0,0,0,0,0,0]
["ciuil",0,0,0,0,0,0,0,0,0,0,0,0,0,0.1,0,0,0,0,0,0,0]
["claim",0,0,0,0,0,0,0,0,0,0,0,0,0,0.1,0,0,0,0,0,0,0]
["clarius'",0,0,0,0,0,0,0,0,0,0,0,0,0,0,0,0,0,0,0,0,0]
["clarkeship",0,0,0,0,0,0.1,0,0,0,0,0,0,0,0,0,0,0,0,0,0,0]
["cleare",0,0,0,0,0,0,0,0,0,0,0,0,0,0,0,0.1,0,0,0,0,0]
["cleere",0,0,0,0,0,0,0,0,0,0,0,0,0,0,0,0,0,0,0.1,0,0]
["clere",0,0,0,0,0,0,0,0,0,0,0.1,0,0,0,0,0,0,0,0,0,0]
["clerks",0,0,0,0,0,0,0,0,0,0,0,0,0,0,0,0,0,0,0,0,0]
["climbing",0,0,0,0,0,0,0,0,0,0,0,0.1,0,0,0,0,0,0,0,0,0]
["climbst",0,0,0,0,0,0,0,0,0,0,0,0,0.1,0,0,0,0,0,0,0,0]
["cloath",0,0,0,0,0,0,0,0,0,0,0,0,0,0,0,0,0,0,0,0,7.0372980000000002E-2]
["clock",0,0,0,0,0,0,0,0,0,0,0,0,0,0,0,0,0,0,0,0,0]
["cloister",0,0,0,0,0,0,0,0,0,0,0,0,0,0,0,0,0,0,0,0,0]
["cloister's",0,0,0,0,0,0,0,0,0,0,0,0,0,0,0,0,0,0,0,0,0]
["cloute",0,0.1,0,0,0,0,0,0,0,0,0,0,0,0,0,0,0,0,0,0,0]
["clov'n",0,0,0,0,0,0,0,0,0,0,0,0,0,0,0,0,0,0,0,0,0]
["coale",0,0,0,0,0,0,0,0,0,0,0,0,0.1,0,0,0,0,0,0,0,0]
["coasts",0,0,0,0,0,0,0,0,0,0,0,0.1,0,0,0,0,0,0,0,0,0]
["coin'd",0,0,0,0,0,0,0,0,0,0,0,0,0,0,0,0.1,0,0,0,0,0]
["colosses",0,0,0,0.1,0,0,0,0,0,0,0,0,0,0,0,0,0,0,0,0,0]
["combined",0,0,0,0,0,0,0,0,0,0,0,0,0,0,0,0,0,0,0,0,0]
["combred",0,0,0,0,0,0.1,0,0,0,0,0,0,0,0,0,0,0,0,0,0,0]
["comforts",0,0,0,0,0,0,0,0,0,0,0,0,0,0,0,0,0,0.1,0,0,0]
["coming",0,0,0,0,0,0,0,0,0,0,0,0,0,0,0,0,0,0,0,0,0]
["commend",0,0,0,0,0,0,0,0,0,0,0,0,0,0,0,0,0,0,0,0,0]
["commended",0,0,0,0,0,0,0,0,0,0,0,0,0,0,0,0,0,0,0,0,0]
["commix'd",0,0,0,0,0,0,0,0,0,0,0,0,0,0,0,0,0,0,0,0,0]
["common",0,0,0,0,0,0,0,0,0,0,0,0,0,0,0,0,0,0,0,0,0]
["compar",0,0,0,0.1,0,0,0,0,0,0,0,0,0,0,0,0,0,0,0,0,0]
["compassion",0,0.1,0,0,0,0,0,0,0,0,0,0,0,0,0,0,0,0,0,0,0]
["compels",0,0,0,0,0,0,0,0,0,0,0,0,0,0,0,0,0,0,0,0,0]
["complaine",0,0,0,0,0,0,0,0,0,0,0,0,0,0,0,0,0,0,0,0.1,0]
["concave",0,0,0,0,0,0,0,0,0,0,0,0,0,0,0,0,0,0,0,0,0]
["concealed",0,0,0,0,0,0,0,0,0,0,0,0,0,0,0,0,0,0,0,0,0]
["conceit",0,0,0,0,0,0,0,0,0,0,0,0,0,0,0,0,0,0,0,0,0]
["conceited",0,0,0,0,0,0,0,0,0,0,0,0,0,0,0,0,0,0,0,0,0]
["concord",0,0,0,0,0,0,0,0,0,0,0,0,0,0,0,0,0,0,0,0,0]
["condemning",0,0,0,0,0,0,0,0,0,0,0,0,0,0,0,0,0,0,0.1,0,0]
["confers",0,0,0,0,0,0,0,0,0,0,0,0,0,0,0.1,0,0,0,0,0,0]
["confest",0,0,0,0,0,0,0,0,0,0.1,0,0,0,0,0,0,0,0,0,0,0]
["confus'd",0,0,0,0,0,0,0,0,0,0,0,0,0,0,0,0,0,0,0,0.1,0]
["confuse",0,0,0,0,0,0,0,0,0,0,0,0,0.1,0,0,0,0,0,0,0,0]
["conquerd",0,0,0,0,0,0,0,0,0,0,0,0,0.1,0,0,0,0,0,0,0,0]
["conquere",0,0,0,0,0,0,0,0.1,0,0,0,0,0,0,0,0,0,0,0,0,0]
["conqueresse",0.1,0,0,0,0,0,0,0,0,0,0,0,0,0,0,0,0,0,0,0,0]
["conquerings",0,0,0,0,0,0,0,0,0,0,0,0,0.1,0,0,0,0,0,0,0,0]
["conscious",0,0,0,0,0,0,0,0,0,0,0,0,0,0,0,0,0,0,0,0,0]
["consecrations",0,0,0,0,0,0,0,0,0,0,0,0,0,0,0,0,0,0,0,0,0]
["considering",0,0,0,0,0,0,0,0.1,0,0,0,0,0,0,0,0,0,0,0,0,0]
["conspire",0,0,0,0,0,0,0,0,0,0,0,0,0,0,0,0,0,0,0,0,0]
["constrain'd",0,0,0,0,0,0,0,0,0,0,0,0,0,0,0,0,0,0,0,0,7.0372980000000002E-2]
["consum",0,0,0.1,0,0,0,0,0,0,0,0,0,0,0,0,0,0,0,0,0,0]
["contains",0,0,0,0,0,0,0,0,0,0,0,0,0,0,0,0,0,0,0,0,0]
["contaminating",0,0,0,0,0,0.1,0,0,0,0,0,0,0,0,0,0,0,0,0,0,0]
["contentation",0,0,0,0,0,0,0,0.1,0,0,0,0,0,0,0,0,0,0,0,0,0]
["contention",0,0,0,0,0,0,0.1,0,0,0,0,0,0,0,0,0,0,0,0,0,0]
["contracted",0,0,0,0,0,0,0,0,0,0,0,0,0,0,0,0,0,0,0,0,0]
["contrary",0,0,0,0,0,0,0,0,0,0.1,0,0,0,0,0,0,0,0,0,0,0]
["controversy",0,0,0,0,0,0,0,0,0,0,0,0,0,0,0,0,0,0,0,0,0]
["conversest",0,0,0.1,0,0,0,0,0,0,0,0,0,0,0,0,0,0,0,0,0,0]
["convertest",0,0,0,0,0,0,0,0,0,0,0,0,0,0,0,0,0,0,0,0,0]
["cony",0,0,0,0,0,0,0,0,0,0,0,0,0,0,0,0,0,0,0,0,0]
["copses",0,0,0,0,0,0,0,0,0,0,0,0,0,0,0,0,0,0,0,0,0]
["copy",0,0,0,0,0,0,0,0,0,0,0,0,0,0,0,0,0,0,0,0,0]
["corpusculum",0,0,0,0,0,0,0,0.1,0,0,0,0,0,0,0,0,0,0,0,0,0]
["correction",0,0,0,0,0,0.1,0,0,0,0,0,0,0,0,0,0,0,0,0,0,0]
["costly",0,0,0,0,7.4183979999999997E-2,0,0,0,0,0,0,0,0,0,0,0,0,0,0,0,0]
["cottage",0,0,0,0,0,0,0,0,0,0,0,0,0,0,0,0,0,0,0,0,0]
["couering",0,0,0,0,0,0,0,0,0,0.1,0,0,0,0,0,0,0,0,0,0,0]
["coulored",0,0,0,0,7.4183979999999997E-2,0,0,0,0,0,0,0,0,0,0,0,0,0,0,0,0]
["countenance",0,0,0,0,0,0.1,0,0,0,0,0,0,0,0,0,0,0,0,0,0,0]
["countenaunce",0,0,0.1,0,0,0,0,0,0,0,0,0,0,0,0,0,0,0,0,0,0]
["countie",0,0,0.1,0,0,0,0,0,0,0,0,0,0,0,0,0,0,0,0,0,0]
["counting",0,0,0,0,0,0,0,0,0,0,0,0,0,0,0,0,0,0,0,0,7.0372980000000002E-2]
["counts",0,0,0,0,0,0,0,0,0,0,0.1,0,0,0,0,0,0,0,0,0,0]
["couple",0,0,0,0,0,0.1,0,0,0,0,0,0,0,0,0,0,0,0,0,0,0]
["courage",0,0,0,0,0,0,0,0,0,0,0,0,0,0,0,0,0.1,0,0,0,0]
["courting",0,0.1,0,0,0,0,0,0,0,0,0,0,0,0,0,0,0,0,0,0,0]
["covetize",0,0,0.1,0,0,0,0,0,0,0,0,0,0,0,0,0,0,0,0,0,0]
["cowslips",0,0,0,0,0,0,0,0,0,0,0,0,0,0,0,0,0,0,0,0,0]
["crack'd",0,0,0,0,0,0,0,0,0,0,0,0,0,0,0,0,0,0,0,0,0]
["craftely",0,0,0,0,0,0,0,0,0,0,0,0,0,0,0,0,0,0,0.1,0,0]
["cramp'd",0,0,0,0,0,0,0,0,0,0,0,0,0,0,0,0,0,0,0,0,0]
["cranks",0,0,0,0,0,0,0,0,0,0,0,0,0,0,0,0,0,0,0,0,0]
["crave",0,0,0,0,7.4183979999999997E-2,0,0,0,0,0,0,0,0,0,0,0,0,0,0,0,0]
["cream",0,0,0,0,0,0,0,0,0,0,0,0,0,0,0,0,0,0,0,0,0]
["creast",0,0,0,0,0,0,0,0,0,0,0.1,0,0,0,0,0,0,0,0,0,0]
["creates",0,0,0,0,0,0,0,0,0,0,0,0,0,0,0,0,0,0,0,0,0]
["credent",0,0,0,0,0,0,0,0,0,0,0,0,0,0,0,0,0,0,0,0,0]
["crept",0,0.1,0,0,0,0,0,0,0,0,0,0,0,0,0,0,0,0,0,0,0]
["cricket",0,0,0,0,0,0,0,0,0,0,0,0,0,0,0,0,0,0,0,0,0]
["cride",0,0,0,0,0,0,0,0,0,0,0,0,0,0,0,0,0,0,0,0,7.0372980000000002E-2]
["crooked",0,0,0,0,0,0,0,0,0,0,0,0,0,0,0,0,0,0,0,0,0]
["crookedly",0,0,0,0,0,0,0,0.1,0,0,0,0,0,0,0,0,0,0,0,0,0]
["crow",0,0,0,0,0,0,0,0,0,0,0,0,0,0,0,0,0,0,0,0,0]
["crowes",0,0,0,0,0,0,0,0,0,0,0.1,0,0,0,0,0,0,0,0,0,0]
["crude",0,0,0,0,0,0,0,0,0,0,0,0,0,0,0,0,0,0,0,0,0]
["crueltie",0,0,0,0,0,0,0,0.1,0,0,0,0,0,0,0,0,0,0,0,0,0]
["cumbred",0,0,0,0,0,0,0,0,0,0,0,0,0.1,0,0,0,0,0,0,0,0]
["cumbrous",0,0,0.1,0,0,0,0,0,0,0,0,0,0,0,0,0,0,0,0,0,0]
["curb'd",0,0,0,0,0,0,0,0,0,0,0,0,0,0,0.1,0,0,0,0,0,0]
["cureless",0,0,0,0,0,0,0,0,0,0,0,0,0,0,0.1,0,0,0,0,0,0]
["cursed",0,0,0,0,0,0,0,0,0,0,0,0,0,0,0,0.1,0,0,0,0,0]
["curses",0,0,0,0,0,0,0,0,0,0,0,0,0,0,0,0,0,0,0,0,0]
["curtted",0,0,0,0,0,0,0,0,0,0,0,0,0,0,0,0,0,0,0,0.1,0]
["cynosure",0,0,0,0,0,0,0,0,0,0,0,0,0,0,0,0,0,0,0,0,0]
["cæsars",0,0,0,0,0,0,0,0,0,0,0,0,0,0,0,0,0.1,0,0,0,0]
["cæsure",0,0,0,0,0,0,0,0,0,0,0,0,0,0,0,0,0,0,0,0,0]
["daffadillies",0,0,0,0,0,0,0,0,0,0,0,0,0,0,0,0,0,0,0,0,0]
["daffodil",0,0,0,0,0,0,0,0,0,0,0,0,0,0,0,0,0,0,0,0,0]
["daintie",0,0,0,0,7.4183979999999997E-2,0,0,0,0,0,0,0,0,0,0,0,0,0,0,0,0]
["daintier",0,0,0,0,0,0,0,0,0,0,0,0,0,0.1,0,0,0,0,0,0,0]
["dale",0,0,0,0,0,0,0,0,0,0,0,0,0,0,0,0,0,0,0,0,0]
["dally",0,0,0,0,0,0,0,0,0,0,0,0,0,0,0,0,0,0,0,0,0]
["damning",0,0,0,0,0,0,0,0,0,0,0,0.1,0,0,0,0,0,0,0,0,0]
["damætas",0,0,0,0,0,0,0,0,0,0,0,0,0,0,0,0,0,0,0,0,0]
["dancing",0,0,0,0,0,0,0,0,0,0,0,0,0,0,0,0,0,0,0,0,0]
["dangerous",0,0,0,0,0,0,0,0.1,0,0,0,0,0,0,0,0,0,0,0,0,0]
["dar'st",0,0,0,0,0,0,0,0,0,0,0,0,0,0,0,0,0,0,0.1,0,0]
["dares",0,0,0,0,0,0,0,0,0,0,0,0,0,0,0,0,0,0.1,0,0,0]
["darkenesse",0,0,0.1,0,0,0,0,0,0,0,0,0,0,0,0,0,0,0,0,0,0]
["darlings",0,0,0,0,0,0,0,0,0,0,0,0,0,0,0,0,0,0,0,0,7.0372980000000002E-2]
["daunt",0,0,0,0,0,0,0,0,0,0,0,0,0,0,0,0,0,0,0,0,0]
["dawn",0,0,0,0,0,0,0,0,0,0,0,0,0,0,0,0,0,0,0,0,0]
["dayly",0,0,0,0,0,0,0,0,0,0,0,0,0.1,0,0,0,0,0,0,0,0]
["dazl'd",0,0,0,0,0,0,0,0,0,0,0,0,0,0,0,0,0,0.1,0,0,0]
["deadly",0,0,0,0,0,0,0,0,0,0,0,0,0.1,0,0,0,0,0,0,0,0]
["deaf",0,0,0,0,0,0,0,0,0,0,0,0,0,0,0,0,0,0,0,0,0]
["dearth",0,0,0,0,0,0,0,0,0,0,0,0.1,0,0,0,0,0,0,0,0,0]
["dearths",0,0,0,0,0,0,0,0,0,0,0,0,0,0,0,0,0,0,0,0,0]
["debellare",0,0,0,0,0,0.1,0,0,0,0,0,0,0,0,0,0,0,0,0,0,0]
["debonair",0,0,0,0,0,0,0,0,0,0,0,0,0,0,0,0,0,0,0,0,0]
["deceits",0,0,0,0,0,0,0,0,0,0,0,0,0,0,0,0,0,0,0,0,0]
["deceiu'd",0,0,0,0,0,0,0,0,0,0.1,0,0,0,0,0,0,0,0,0,0,0]
["decent",0,0,0,0,0,0,0,0,0,0,0,0,0,0,0,0,0,0,0,0,0]
["decieu'd",0,0,0,0,0,0,0,0,0.1,0,0,0,0,0,0,0,0,0,0,0,0]
["declare",0,0,0,0,0,0,0.1,0,0,0,0,0,0,0,0,0,0,0,0,0,0]
["decreed",0,0,0,0,0,0,0,0,0.1,0,0,0,0,0,0,0,0,0,0,0,0]
["deem",0,0,0,0,0,0,0,0,0,0,0,0.1,0,0,0,0,0,0,0,0,0]
["deem'd",0,0,0,0,0,0,0,0,0,0,0,0,0.1,0,0,0,0,0,0,0,0]
["deepelie",0,0,0,0.1,0,0,0,0,0,0,0,0,0,0,0,0,0,0,0,0,0]
["deepely",0,0,0,0,0,0,0,0.1,0,0,0,0,0,0,0,0,0,0,0,0,0]
["defac'd",0,0,0,0,0,0,0,0,0,0,0,0,0,0,0,0,0,0,0,0,0]
["deface",0,0,0,0,0,0,0,0,0,0,0,0,0,0,0,0,0,0,0,0,0]
["defied",0,0,0,0,7.4183979999999997E-2,0,0,0,0,0,0,0,0,0,0,0,0,0,0,0,0]
["defiling",0,0,0,0,0,0,0,0,0,0,0,0,0,0,0,0,0,0,0,0,0]
["degrees",0,0,0,0,0,0,0,0,0.1,0,0,0,0,0,0,0,0,0,0,0,0]
["deified",0,0,0,0,0,0,0,0,0,0,0,0,0,0,0,0,0,0,0,0,0]
["deitie",0,0,0,0,0,0,0,0,0,0.1,0,0,0,0,0,0,0,0,0,0,0]
["deliuer",0,0,0,0,0,0.1,0,0,0,0,0,0,0,0,0,0,0,0,0,0,0]
["deluding",0,0,0,0,0,0,0,0,0,0,0,0,0,0,0,0,0,0,0,0,0]
["demand",0,0,0,0,0,0,0,0,0,0,0,0,0,0,0,0,0,0,0,0,0]
["demonstration",0,0,0,0.1,0,0,0,0,0,0,0,0,0,0,0,0,0,0,0,0,0]
["demure",0,0,0,0,0,0,0,0,0,0,0,0,0,0,0,0,0,0,0,0,0]
["denie",0,0.1,0,0,0,0,0,0,0,0,0,0,0,0,0,0,0,0,0,0,0]
["denied",0,0,0,0,0,0,0,0,0,0,0,0,0,0,0,0,0,0,0,0,0]
["departure",0,0,0,0.1,0,0,0,0,0,0,0,0,0,0,0,0,0,0,0,0,0]
["depend",0,0,0,0,0,0,0,0,0,0,0,0,0,0,0,0,0,0,0,0,0]
["deriu'd",0,0,0,0,0,0,0,0,0,0,0,0,0,0.1,0,0,0,0,0,0,0]
["derive",0,0,0,0,0,0,0,0,0,0,0,0,0,0,0,0,0,0,0,0,0]
["described",0,0,0,0,0,0.1,0,0,0,0,0,0,0,0,0,0,0,0,0,0,0]
["descride",0,0,0,0,0,0,0,0,0,0,0,0,0,0,0.1,0,0,0,0,0,0]
["descries",0,0,0,0,0,0,0,0,0,0,0,0.1,0,0,0,0,0,0,0,0,0]
["deseru'd",0,0,0,0,0,0,0,0,0,0,0,0,0.1,0,0,0,0,0,0,0,0]
["deserved",0,0,0,0,0,0,0,0,0,0,0,0,0,0,0,0,0,0,0,0,0]
["desier",0,0,0,0,0,0,0,0,0,0,0,0,0,0,0,0,0.1,0,0,0,0]
["despaired",0,0,0,0,0,0,0,0,0,0,0,0,0,0,0,0,0,0,0,0,0]
["despight",0,0,0,0,7.4183979999999997E-2,0,0,0,0,0,0,0,0,0,0,0,0,0,0,0,0]
["despite",0,0,0,0,0,0,0,0,0,0,0,0,0,0,0,0,0,0,0,0,0]
["destin'd",0,0,0,0,0,0,0,0,0,0,0,0,0,0,0,0,0,0,0,0,0]
["detest",0,0,0,0,0,0,0,0,0,0,0,0,0,0,0,0,0,0,0,0,7.0372980000000002E-2]
["deuil",0,0,0,0,0,0,0,0,0,0,0,0,0,0,0,0,0,0.1,0,0,0]
["deuoutly",0,0,0,0,0,0,0,0,0,0,0.1,0,0,0,0,0,0,0,0,0,0]
["deva",0,0,0,0,0,0,0,0,0,0,0,0,0,0,0,0,0,0,0,0,0]
["devize",0,0,0,0,7.4183979999999997E-2,0,0,0,0,0,0,0,0,0,0,0,0,0,0,0,0]
["devour",0,0,0,0.1,0,0,0,0,0,0,0,0,0,0,0,0,0,0,0,0,0]
["devours",0,0,0,0,0,0,0,0,0,0,0,0,0,0,0,0,0,0,0,0,0]
["devout",0,0,0,0,0,0,0,0,0,0,0,0,0,0,0,0,0,0,0,0,0]
["dialect",0,0,0,0,0,0,0,0,0,0,0,0,0,0,0,0,0,0,0,0,0]
["dialogued",0,0,0,0,0,0,0,0,0,0,0,0,0,0,0,0,0,0,0,0,0]
["dictionaries",0,0,0,0,0,0,0,0,0,0,0.1,0,0,0,0,0,0,0,0,0,0]
["diet",0,0,0,0,0,0,0,0,0,0,0,0,0,0,0,0,0,0,0,0,0]
["difference",0,0,0,0,0,0,0,0,0,0,0,0,0,0,0,0,0,0,0,0,0]
["different",0,0,0,0,0,0,0,0,0,0,0,0,0,0,0,0,0,0,0,0,0]
["digestive",0,0,0,0,0,0,0,0,0,0,0,0,0,0,0,0,0,0,0,0,0]
["dignify",0,0,0,0,0,0,0,0,0,0,0,0,0,0,0,0,0,0,0,0,0]
["dimple",0,0,0,0,0,0,0,0,0,0,0,0,0,0,0,0,0,0,0,0,0]
["din",0,0,0,0,0,0,0,0,0,0,0,0,0,0,0,0,0,0,0,0,0]
["directed",0,0,0,0,0,0,0.1,0,0,0,0,0,0,0,0,0,0,0,0,0,0]
["disagree",0,0,0,0,7.4183979999999997E-2,0,0,0,0,0,0,0,0,0,0,0,0,0,0,0,0]
["discharge",0,0,0,0,0,0,0,0,0,0,0,0,0,0,0,0,0,0,0.1,0,0]
["disciplinating",0,0,0,0,0,0.1,0,0,0,0,0,0,0,0,0,0,0,0,0,0,0]
["discourse",0,0,0,0,0,0,0,0,0,0,0,0,0,0,0.1,0,0,0,0,0,0]
["discrie",0,0,0,0,0,0,0,0,0,0,0,0,0,0,0,0,0,0.1,0,0,0]
["disdaines",0,0,0,0,0,0,0,0,0,0,0,0,0,0,0,0.1,0,0,0,0,0]
["disdains",0,0,0,0,0,0,0,0,0,0,0,0,0,0,0,0,0,0,0,0,0]
["disguise",0,0,0,0,0,0,0,0,0,0.1,0,0,0,0,0,0,0,0,0,0,0]
["disheuld",0,0,0,0,0,0,0,0,0,0,0,0,0,0,0,0,0,0,0,0,7.0372980000000002E-2]
["dismount",0,0,0,0,0,0,0,0,0,0,0,0,0,0,0,0,0,0,0,0,0]
["disnounce",0,0,0,0,0,0.1,0,0,0,0,0,0,0,0,0,0,0,0,0,0,0]
["dispised",0,0,0,0.1,0,0,0,0,0,0,0,0,0,0,0,0,0,0,0,0,0]
["displaid",0,0,0,0,0,0,0,0,0,0,0,0,0,0,0,0.1,0,0,0,0,0]
["displaying",0,0,0,0,0,0,0,0,0,0,0,0,0,0,0,0,0.1,0,0,0,0]
["displease",0,0,0,0,0,0,0,0,0,0,0,0,0.1,0,0,0,0,0,0,0,0]
["disprooved",0,0,0,0.1,0,0,0,0,0,0,0,0,0,0,0,0,0,0,0,0,0]
["disproue",0,0,0,0,0,0,0,0,0,0,0,0,0,0,0.1,0,0,0,0,0,0]
["distillation",0,0,0,0,0,0,0,0,0,0,0,0,0,0,0,0,0,0,0,0,0]
["distract",0,0,0,0,0,0,0,0,0,0,0,0,0,0,0,0,0,0,0,0,0]
["distressed",0,0,0.1,0,0,0,0,0,0,0,0,0,0,0,0,0,0,0,0,0,0]
["disturb",0,0,0,0,0,0,0,0,0,0,0,0,0,0,0,0,0,0,0,0,0]
["diuine",0,0,0,0,0,0,0,0,0,0,0,0,0,0,0,0,0,0,0,0,7.0372980000000002E-2]
["diverted",0,0,0,0,0,0,0,0,0,0,0,0,0,0,0,0,0,0,0,0,0]
["divin",0,0,0,0,7.4183979999999997E-2,0,0,0,0,0,0,0,0,0,0,0,0,0,0,0,0]
["divinest",0,0,0,0,0,0,0,0,0,0,0,0,0,0,0,0,0,0,0,0,0]
["dixi",0,0,0,0,0,0.1,0,0,0,0,0,0,0,0,0,0,0,0,0,0,0]
["doctor",0,0,0,0,0,0,0,0,0,0,0,0,0,0,0,0.1,0,0,0,0,0]
["does",0,0,0,0.1,0,0,0,0,0,0,0,0,0,0,0,0,0,0,0,0,0]
["dole",0,0,0,0,7.4183979999999997E-2,0,0,0,0,0,0,0,0,0,0,0,0,0,0,0,0]
["dolphins",0,0,0,0,0,0,0,0,0,0,0,0,0,0,0,0,0,0,0,0,0]
["dolt",0,0,0,0,0,0,0,0.1,0,0,0,0,0,0,0,0,0,0,0,0,0]
["doores",0,0,0,0,0,0,0,0,0,0,0,0,0,0,0,0,0,0,0,0,7.0372980000000002E-2]
["dooth",0.1,0,0,0,0,0,0,0,0,0,0,0,0,0,0,0,0,0,0,0,0]
["dotes",0,0,0,0,0,0.1,0,0,0,0,0,0,0,0,0,0,0,0,0,0,0]
["doubtfull",0,0,0,0.1,0,0,0,0,0,0,0,0,0,0,0,0,0,0,0,0,0]
["doues",0,0,0,0,0,0,0,0,0,0,0,0,0,0,0,0,0,0.1,0,0,0]
["dragon",0,0,0,0,0,0,0,0,0,0,0,0,0,0,0,0,0,0,0,0,0]
["drave",0.1,0,0,0,0,0,0,0,0,0,0,0,0,0,0,0,0,0,0,0,0]
["drawes",0,0,0,0,0,0,0,0,0,0,0,0,0,0,0,0,0,0.1,0,0,0]
["drear",0,0,0,0,0,0,0,0,0,0,0,0,0,0,0,0,0,0,0,0,0]
["dredfull",0,0,0,0,0,0,0,0.1,0,0,0,0,0,0,0,0,0,0,0,0,0]
["dresses",0,0,0,0,0,0,0,0,0,0,0,0,0,0,0,0,0,0,0,0,0]
["dribbed",0,0,0,0,0,0,0,0,0.1,0,0,0,0,0,0,0,0,0,0,0,0]
["drivle",0,0,0,0,0,0,0,0.1,0,0,0,0,0,0,0,0,0,0,0,0,0]
["drooping",0,0,0,0,0,0,0,0,0,0,0,0,0,0,0,0,0,0,0,0,0]
["drosse",0,0,0,0,7.4183979999999997E-2,0,0,0,0,0,0,0,0,0,0,0,0,0,0,0,0]
["drought",0,0,0,0,0,0,0,0,0,0,0,0,0,0.1,0,0,0,0,0,0,0]
["drownd",0,0,0,0,7.4183979999999997E-2,0,0,0,0,0,0,0,0,0,0,0,0,0,0,0,0]
["drowne",0,0,0,0,0,0,0,0,0,0,0,0,0,0,0,0,0,0,0.1,0,0]
["drowsy",0,0,0,0,0,0,0,0,0,0,0,0,0,0,0,0,0,0,0,0,0]
["drudging",0,0,0,0,0,0,0,0,0,0,0,0,0,0,0,0,0,0,0,0,0]
["duetie",0,0,0,0,0,0,0,0,0,0,0,0,0,0,0,0,0,0,0.1,0,0]
["duly",0,0,0,0,0,0,0,0,0,0,0,0,0,0,0,0,0,0,0,0,0]
["dusty",0,0,0,0,0,0,0,0,0,0,0,0,0,0,0,0,0,0,0,0.1,0]
["dutch",0,0,0,0,0,0,0,0,0,0,0,0,0.1,0,0,0,0,0,0,0,0]
["duties",0,0,0,0,7.4183979999999997E-2,0,0,0,0,0,0,0,0,0,0,0,0,0,0,0,0]
["dutious",0,0,0,0,0,0.1,0,0,0,0,0,0,0,0,0,0,0,0,0,0,0]
["dye",0,0,0,0,0,0,0.1,0,0,0,0,0,0,0,0,0,0,0,0,0,0]
["dying",0,0,0.1,0,0,0,0,0,0,0,0,0,0,0,0,0,0,0,0,0,0]
["e'en",0,0,0,0,0,0,0,0,0,0,0,0,0,0,0.1,0,0,0,0,0,0]
["eagles",0,0,0,0,0,0,0,0,0,0,0.1,0,0,0,0,0,0,0,0,0,0]
["earlier",0,0,0,0,0,0,0,0,0,0,0,0,0,0,0,0,0,0,0,0,0]
["earn",0,0,0,0,0,0,0,0,0,0,0,0,0,0,0,0,0,0,0,0,0]
["easily",0,0,0,0,0,0,0,0,0,0,0,0.1,0,0,0,0,0,0,0,0,0]
["easing",0,0,0,0,0,0,0,0,0,0,0,0,0,0,0,0,0,0,0,0,0]
["easterne",0,0,0,0.1,0,0,0,0,0,0,0,0,0,0,0,0,0,0,0,0,0]
["eats",0,0,0,0,0,0,0,0,0,0,0,0,0,0,0,0,0,0,0,0,0]
["ecce",0,0,0,0,0,0,0,0.1,0,0,0,0,0,0,0,0,0,0,0,0,0]
["echoes",0,0,0,0,0,0,0,0,0,0,0,0,0,0,0,0,0,0,0,0,0]
["eclipse",0,0,0,0,0,0,0,0,0,0,0,0,0,0,0,0,0,0,0,0.1,0]
["ecstasies",0,0,0,0,0,0,0,0,0,0,0,0,0,0,0,0,0,0,0,0,0]
["edge",0,0,0,0,0,0,0,0,0,0,0,0,0,0,0,0,0,0,0,0,0]
["edifide",0,0,0,0,7.4183979999999997E-2,0,0,0,0,0,0,0,0,0,0,0,0,0,0,0,0]
["eggs",0,0,0,0,0,0,0,0,0,0,0,0,0,0,0,0,0,0,0,0,0]
["eglantine",0,0,0,0,0,0,0,0,0,0,0,0,0,0,0,0,0,0,0,0,0]
["either's",0,0,0,0,0,0,0,0,0,0,0,0,0,0,0,0,0,0,0,0,0]
["elder",0.1,0,0,0,0,0,0,0,0,0,0,0,0,0,0,0,0,0,0,0,0]
["element",0,0,0,0,0,0,0,0,0,0,0,0,0,0,0,0,0,0,0,0,0]
["elements",0,0,0,0,0,0,0,0,0,0.1,0,0,0,0,0,0,0,0,0,0,0]
["elms",0,0,0,0,0,0,0,0,0,0,0,0,0,0,0,0,0,0,0,0,0]
["elswhere",0,0,0,0,7.4183979999999997E-2,0,0,0,0,0,0,0,0,0,0,0,0,0,0,0,0]
["embowed",0,0,0,0,0,0,0,0,0,0,0,0,0,0,0,0,0,0,0,0,0]
["embroidery",0,0,0,0,0,0,0,0,0,0,0,0,0,0,0,0,0,0,0,0,0]
["employes",0,0,0,0,0,0,0,0,0,0,0,0,0,0,0,0,0,0,0,0,7.0372980000000002E-2]
["empresse",0.1,0,0,0,0,0,0,0,0,0,0,0,0,0,0,0,0,0,0,0,0]
["enamel'd",0,0,0,0,0,0,0,0,0,0,0,0,0,0,0,0,0,0,0,0,0]
["enameld",0,0,0,0,0,0,0,0,0,0,0,0,0,0,0,0,0,0,0,0,7.0372980000000002E-2]
["enchanting",0,0,0,0,0,0,0,0,0,0,0,0,0,0,0,0,0,0,0,0,0]
["enchantments",0,0,0,0,0,0,0,0,0,0,0,0,0,0,0,0,0,0,0,0,0]
["encloses",0,0,0,0,0,0,0,0,0,0,0,0,0,0,0,0,0,0,0,0,0]
["encrease",0,0,0,0,0,0,0,0,0,0,0,0,0,0,0,0,0,0,0,0,7.0372980000000002E-2]
["encroachment",0,0,0,0,0,0,0,0,0,0,0,0,0,0,0,0,0,0,0.1,0,0]
["ender",0,0,0,0,0,0,0,0,0,0,0,0,0,0,0,0,0,0,0,0,0]
["endlesly",0,0,0,0,0,0,0,0,0,0,0,0,0,0,0,0,0,0,0,0,7.0372980000000002E-2]
["endoctrinated",0,0,0,0,0,0,0,0.1,0,0,0,0,0,0,0,0,0,0,0,0,0]
["enemy",0,0,0,0,0,0,0,0,0,0,0,0,0,0.1,0,0,0,0,0,0,0]
["engarland",0,0,0,0,0,0,0,0,0,0,0,0,0,0,0,0.1,0,0,0,0,0]
["english",0,0,0,0,0,0,0,0,0,0,0,0,0,0.1,0,0,0,0,0,0,0]
["engraue",0,0,0,0,0,0,0,0,0,0,0,0,0,0,0.1,0,0,0,0,0,0]
["enlarge",0,0,0,0,0,0,0,0,0,0,0,0,0,0,0,0,0,0,0.1,0,0]
["enmitie",0,0,0,0,0,0.1,0,0,0,0,0,0,0,0,0,0,0,0,0,0,0]
["ennobling",0,0,0,0,0,0,0,0,0.1,0,0,0,0,0,0,0,0,0,0,0,0]
["enow",0,0,0,0,0,0,0,0,0,0,0,0,0,0,0,0,0,0,0,0,0]
["ensamples",0,0,0,0,0,0,0,0,0.1,0,0,0,0,0,0,0,0,0,0,0,0]
["ensuing",0,0,0,0,7.4183979999999997E-2,0,0,0,0,0,0,0,0,0,0,0,0,0,0,0,0]
["entertain",0,0,0,0,0,0,0,0,0,0,0,0,0,0,0,0,0,0,0,0,0]
["enthymeme",0,0,0,0,0,0,0,0.1,0,0,0,0,0,0,0,0,0,0,0,0,0]
["entred",0,0,0,0,0,0,0,0,0,0,0,0,0.1,0,0,0,0,0,0,0,0]
["enuies",0,0,0,0,0,0,0,0,0,0,0,0,0,0,0,0,0,0,0,0,7.0372980000000002E-2]
["envies",0,0.1,0,0,0,0,0,0,0,0,0,0,0,0,0,0,0,0,0,0,0]
["envoy",0,0,0,0,7.4183979999999997E-2,0,0,0,0,0,0,0,0,0,0,0,0,0,0,0,0]
["envyde",0,0.1,0,0,0,0,0,0,0,0,0,0,0,0,0,0,0,0,0,0,0]
["envying",0.1,0,0,0,0,0,0,0,0,0,0,0,0,0,0,0,0,0,0,0,0]
["equals",0,0,0,0,0,0,0,0,0,0,0,0,0,0,0,0,0,0,0,0,0]
["equitate",0,0,0,0,0,0,0,0.1,0,0,0,0,0,0,0,0,0,0,0,0,0]
["errors",0,0,0,0,0,0,0,0,0,0,0,0,0,0,0,0,0,0,0,0,0]
["errours",0,0,0,0,0,0,0,0,0,0,0,0.1,0,0,0,0,0,0,0,0,0]
["espie",0,0,0,0,0,0,0,0,0,0,0,0,0,0,0,0,0.1,0,0,0,0]
["espied",0,0,0,0,0,0,0,0,0,0,0,0,0,0,0,0,0,0,0,0,0]
["eternity",0,0,0,0,0,0,0,0,0,0,0,0.1,0,0,0,0,0,0,0,0,0]
["ethiop",0,0,0,0,0,0,0,0,0,0,0,0,0,0,0,0,0,0,0,0,0]
["euill",0,0,0,0,0,0,0,0,0,0,0,0,0,0,0,0,0,0.1,0,0,0]
["euils",0,0,0,0,0,0,0,0,0,0,0,0,0,0,0,0,0,0,0,0.1,0]
["ev",0.1,0,0,0,0,0,0,0,0,0,0,0,0,0,0,0,0,0,0,0,0]
["ev'n",0,0,0,0,0,0,0,0,0,0,0,0,0,0,0,0,0,0,0,0,0]
["eves",0,0,0,0,0,0,0,0,0,0,0,0,0,0,0,0,0,0,0,0,0]
["evident",0,0,0,0,0,0,0,0,0,0,0,0,0,0,0,0,0,0,0,0,0]
["exacted",0,0,0,0,0,0,0,0,0,0,0,0,0,0,0,0,0,0,0,0,0]
["examples",0,0,0,0,0,0,0,0,0,0,0,0,0,0,0,0,0,0,0,0,0]
["excellencie",0,0,0,0,0,0,0,0,0,0,0,0,0,0,0,0,0,0,0.1,0,0]
["excellently",0,0,0,0,0,0,0,0,0.1,0,0,0,0,0,0,0,0,0,0,0,0]
["exchanging",0,0,0.1,0,0,0,0,0,0,0,0,0,0,0,0,0,0,0,0,0,0]
["exclaim",0,0,0,0,0,0,0,0,0,0,0,0,0,0,0,0,0,0,0,0,0]
["executor",0,0,0,0,0,0,0,0,0,0,0,0,0,0,0,0,0,0,0,0,0]
["exemplum",0,0,0,0,0,0,0,0.1,0,0,0,0,0,0,0,0,0,0,0,0,0]
["exild",0,0,0,0,0,0,0,0,0,0,0,0.1,0,0,0,0,0,0,0,0,0]
["exile",0,0,0,0,0,0,0,0,0,0,0,0,0,0,0,0,0,0,0,0,7.0372980000000002E-2]
["expresseth",0,0,0,0,0,0,0,0,0,0,0,0,0,0,0,0,0,0,0,0,0]
["exprest",0,0,0,0,0,0,0,0,0,0,0,0,0,0,0.1,0,0,0,0,0,0]
["extincture",0,0,0,0,0,0,0,0,0,0,0,0,0,0,0,0,0,0,0,0,0]
["extinguish",0,0,0,0,0,0,0,0.1,0,0,0,0,0,0,0,0,0,0,0,0,0]
["extremitie",0,0,0,0,0,0,0,0.1,0,0,0,0,0,0,0,0,0,0,0,0,0]
["eyelids",0,0,0,0,0,0,0,0,0,0,0,0,0,0,0,0,0,0,0,0,0]
["eyne",0,0,0,0,0,0,0,0,0,0,0,0,0,0,0,0,0,0,0,0,0]
["faces",0,0.1,0,0,0,0,0,0,0,0,0,0,0,0,0,0,0,0,0,0,0]
["faild",0,0.1,0,0,0,0,0,0,0,0,0,0,0,0,0,0,0,0,0,0,0]
["failed",0,0,0,0,0,0,0,0,0,0,0,0,0,0,0,0,0,0,0,0,0]
["fainting",0,0,0,0,7.4183979999999997E-2,0,0,0,0,0,0,0,0,0,0,0,0,0,0,0,0]
["faintly",0,0,0,0,0,0,0,0,0,0,0,0,0,0,0,0,0,0,0,0,0]
["faithful",0,0,0,0,0,0,0,0,0,0,0,0,0,0,0,0,0,0,0,0,0]
["faithfull",0,0,0,0,0,0,0,0,0,0,0,0,0,0,0,0,0,0,0,0,7.0372980000000002E-2]
["fallows",0,0,0,0,0,0,0,0,0,0,0,0,0,0,0,0,0,0,0,0,0]
["falls",0,0,0,0,0,0,0,0,0,0,0.1,0,0,0,0,0,0,0,0,0,0]
["familie",0,0,0.1,0,0,0,0,0,0,0,0,0,0,0,0,0,0,0,0,0,0]
["famine",0,0,0,0,0,0,0,0,0,0,0,0,0,0,0,0,0,0,0,0,0]
["famouslie",0,0,0.1,0,0,0,0,0,0,0,0,0,0,0,0,0,0,0,0,0,0]
["fancy",0,0,0,0,0,0,0,0,0,0,0,0,0,0,0,0,0,0,0,0,0]
["fannes",0,0,0,0,0,0,0,0,0,0,0,0.1,0,0,0,0,0,0,0,0,0]
["fanning",0,0,0,0,0,0,0,0,0,0,0,0,0,0,0,0,0,0,0,0,0]
["fares",0.1,0,0,0,0,0,0,0,0,0,0,0,0,0,0,0,0,0,0,0,0]
["fast'ning",0,0,0,0,0,0,0,0,0,0,0,0,0,0,0,0,0,0,0,0,0]
["fastner",0,0,0,0,0,0,0,0,0,0,0,0,0,0,0,0,0,0,0.1,0,0]
["fat",0,0,0,0,0,0,0,0.1,0,0,0,0,0,0,0,0,0,0,0,0,0]
["fauns",0,0,0,0,0,0,0,0,0,0,0,0,0,0,0,0,0,0,0,0,0]
["fauor",0,0,0,0,0,0,0,0,0.1,0,0,0,0,0,0,0,0,0,0,0,0]
["favour",0,0,0,0,0,0,0,0,0,0,0,0,0,0,0,0,0,0,0,0,0]
["favours",0,0,0,0,0,0,0,0,0,0,0,0,0,0,0,0,0,0,0,0,0]
["feareth",0,0,0,0.1,0,0,0,0,0,0,0,0,0,0,0,0,0,0,0,0,0]
["fearfull",0.1,0,0,0,0,0,0,0,0,0,0,0,0,0,0,0,0,0,0,0,0]
["feather'd",0,0,0,0,0,0,0,0,0,0,0,0,0,0,0,0,0,0,0,0,0]
["feathers",0,0,0,0,0,0,0,0,0,0,0,0,0,0,0,0,0,0.1,0,0,0]
["fee",0,0,0,0,0,0,0,0,0,0,0,0,0,0,0,0,0,0,0,0,0]
["feed'st",0,0,0,0,0,0,0,0,0,0,0,0,0,0,0,0,0,0,0,0,0]
["fellow",0,0,0,0,0,0,0.1,0,0,0,0,0,0,0,0,0,0,0,0,0,0]
["felon",0,0,0,0,0,0,0,0,0,0,0,0,0,0,0,0,0,0,0,0,0]
["fet",0,0,0,0,0,0,0,0,0,0,0.1,0,0,0,0,0,0,0,0,0,0]
["fetch",0,0,0,0,0,0,0,0,0,0,0,0,0,0,0,0.1,0,0,0,0,0]
["fetters",0,0,0,0,0,0,0,0,0,0,0,0,0,0,0,0,0,0,0,0,0]
["fewell",0,0,0,0,0,0,0,0,0,0,0,0,0,0,0.1,0,0,0,0,0,0]
["fiends",0.1,0,0,0,0,0,0,0,0,0,0,0,0,0,0,0,0,0,0,0,0]
["fier",0,0,0,0,0,0,0,0,0,0,0,0,0,0,0,0,0,0.1,0,0,0]
["figure",0,0,0,0,0,0,0,0,0,0,0,0,0,0,0.1,0,0,0,0,0,0]
["figuring",0,0,0,0,0,0,0,0,0,0,0,0,0,0,0,0,0,0,0,0,0]
["fill'd",0,0,0,0,0,0,0,0,0,0,0,0,0,0,0,0,0,0,0,0,0]
["fillet",0,0,0,0,0,0,0,0,0,0,0,0,0,0,0,0,0,0,0,0,0]
["fingers",0,0,0,0,0,0,0,0,0,0,0,0,0,0,0,0,0,0,0,0,0]
["finis",0,0,0,0,0,0,0,0,0.1,0,0,0,0,0,0,0,0,0,0,0,0]
["fired",0,0,0,0.1,0,0,0,0,0,0,0,0,0,0,0,0,0,0,0,0,0]
["firme",0,0,0,0,0,0,0.1,0,0,0,0,0,0,0,0,0,0,0,0,0,0]
["fitter",0,0,0,0,0,0,0,0,0,0,0.1,0,0,0,0,0,0,0,0,0,0]
["fix",0,0,0,0,0,0,0,0,0,0,0,0,0,0,0,0,0,0,0,0,0]
["fixt",0,0,0,0,0,0,0,0,0,0,0.1,0,0,0,0,0,0,0,0,0,0]
["flail",0,0,0,0,0,0,0,0,0,0,0,0,0,0,0,0,0,0,0,0,0]
["flash",0,0,0,0,0,0,0,0,0,0,0,0,0,0,0,0,0,0,0,0,0]
["flashy",0,0,0,0,0,0,0,0,0,0,0,0,0,0,0,0,0,0,0,0,0]
["flatter",0,0,0,0,0,0,0,0,0,0,0,0,0,0,0,0,0.1,0,0,0,0]
["flattering",0,0.1,0,0,0,0,0,0,0,0,0,0,0,0,0,0,0,0,0,0,0]
["flauntingly",0,0,0,0,0,0,0,0,0,0,0,0,0,0,0.1,0,0,0,0,0,0]
["fledde",0,0,0,0,0,0,0,0,0.1,0,0,0,0,0,0,0,0,0,0,0,0]
["flesh's",0,0,0,0,0,0,0,0,0,0,0,0,0,0,0,0,0,0,0,0,0]
["fleshly",0,0,0,0,0,0,0,0,0,0,0,0,0,0,0,0,0,0,0,0,0]
["flings",0,0,0,0,0,0,0,0,0,0,0,0,0,0,0,0,0,0,0,0,0]
["flinty",0,0,0,0,0,0,0.1,0,0,0,0,0,0,0,0,0,0,0,0,0,0]
["flock",0,0,0,0,0,0,0,0,0,0,0,0,0,0,0,0,0,0,0,0,0]
["flocke",0,0,0,0,0,0,0.1,0,0,0,0,0,0,0,0,0,0,0,0,0,0]
["florish",0,0,0.1,0,0,0,0,0,0,0,0,0,0,0,0,0,0,0,0,0,0]
["flourishing",0,0,0,0,0,0,0,0,0.1,0,0,0,0,0,0,0,0,0,0,0,0]
["flow'rs",0,0,0,0,0,0,0,0,0,0,0,0,0,0,0,0,0,0,0,0,0]
["flow'ry",0,0,0,0,0,0,0,0,0,0,0,0,0,0,0,0,0,0,0,0,0]
["flowed",0,0,0,0,7.4183979999999997E-2,0,0,0,0,0,0,0,0,0,0,0,0,0,0,0,0]
["flowes",0,0,0,0,0,0,0,0,0,0,0.1,0,0,0,0,0,0,0,0,0,0]
["flute",0,0,0,0,0,0,0,0,0,0,0,0,0,0,0,0,0,0,0,0,0]
["flutters",0,0,0,0,0,0,0,0,0,0,0,0,0,0,0,0,0,0,0,0,7.0372980000000002E-2]
["foiled",0,0,0,0,0,0,0,0,0,0,0,0,0,0,0,0,0,0,0,0,0]
["folded",0,0,0,0,0,0,0,0,0,0,0,0,0,0,0,0,0,0,0,0,0]
["followed",0,0,0,0,0,0,0,0,0.1,0,0,0,0,0,0,0,0,0,0,0,0]
["fomie",0,0.1,0,0,0,0,0,0,0,0,0,0,0,0,0,0,0,0,0,0,0]
["foolse",0,0,0,0,0,0,0,0,0,0.1,0,0,0,0,0,0,0,0,0,0,0]
["foot",0,0,0,0,0,0,0,0,0,0,0,0,0.1,0,0,0,0,0,0,0,0]
["footed",0,0,0,0,7.4183979999999997E-2,0,0,0,0,0,0,0,0,0,0,0,0,0,0,0,0]
["footstep",0,0,0,0,0,0,0,0,0.1,0,0,0,0,0,0,0,0,0,0,0,0]
["forbid",0,0,0,0,0,0,0,0,0,0,0,0,0,0,0,0,0,0,0,0,0]
["forbidden",0,0,0,0,0,0,0,0,0,0,0,0,0,0,0,0,0,0,0,0,0]
["forc't",0,0,0,0,0,0,0,0,0,0.1,0,0,0,0,0,0,0,0,0,0,0]
["forefront",0,0,0,0,0,0,0,0,0,0,0,0,0,0,0.1,0,0,0,0,0,0]
["forests",0,0,0,0,0,0,0,0,0,0,0,0,0,0,0,0,0,0,0,0,0]
["forever",0,0,0,0,0,0,0,0,0,0,0,0,0,0,0,0,0,0,0,0,0]
["forgetfulnesse",0,0,0.1,0,0,0,0,0,0,0,0,0,0,0,0,0,0,0,0,0,0]
["forgets",0,0,0,0,0,0,0,0,0,0,0,0,0,0.1,0,0,0,0,0,0,0]
["forgotten",0,0.1,0,0,0,0,0,0,0,0,0,0,0,0,0,0,0,0,0,0,0]
["forlorn",0,0,0,0,0,0,0,0,0,0,0,0,0,0,0,0,0,0,0,0,0]
["forme",0,0,0,0,0,0,0,0,0,0,0,0,0,0,0,0.1,0,0,0,0,0]
["formed",0,0,0,0,0,0,0,0,0,0,0,0,0,0,0.1,0,0,0,0,0,0]
["forms",0,0,0,0,0,0,0,0,0,0,0,0,0,0,0,0,0,0,0,0,0]
["forrester",0,0,0,0,0,0,0.1,0,0,0,0,0,0,0,0,0,0,0,0,0,0]
["forsaken",0,0,0,0,0,0,0,0,0,0,0,0,0,0,0,0,0,0,0,0,0]
["forsook",0,0,0,0,0,0,0,0,0,0,0,0,0,0,0,0,0,0,0,0,0]
["fosters",0,0,0,0,0,0.1,0,0,0,0,0,0,0,0,0,0,0,0,0,0,0]
["founder",0,0,0,0,0,0,0,0,0,0,0,0,0,0,0,0,0,0,0,0,0]
["fowl",0,0,0,0,0,0,0,0,0,0,0,0,0,0,0,0,0,0,0,0,0]
["fowle",0,0,0,0,7.4183979999999997E-2,0,0,0,0,0,0,0,0,0,0,0,0,0,0,0,0]
["foxe",0,0.1,0,0,0,0,0,0,0,0,0,0,0,0,0,0,0,0,0,0,0]
["foyld",0.1,0,0,0,0,0,0,0,0,0,0,0,0,0,0,0,0,0,0,0,0]
["frank",0,0,0,0,0,0,0,0,0,0,0,0,0,0,0,0,0,0,0,0,0]
["fransical",0,0,0,0,0,0.1,0,0,0,0,0,0,0,0,0,0,0,0,0,0,0]
["frayle",0,0,0,0.1,0,0,0,0,0,0,0,0,0,0,0,0,0,0,0,0,0]
["freak'd",0,0,0,0,0,0,0,0,0,0,0,0,0,0,0,0,0,0,0,0,0]
["freesing",0,0,0,0,0,0,0,0,0,0.1,0,0,0,0,0,0,0,0,0,0,0]
["french",0,0,0,0,0,0,0,0,0,0,0,0,0.1,0,0,0,0,0,0,0,0]
["friended",0,0,0.1,0,0,0,0,0,0,0,0,0,0,0,0,0,0,0,0,0,0]
["friendship",0,0.1,0,0,0,0,0,0,0,0,0,0,0,0,0,0,0,0,0,0,0]
["frolic",0,0,0,0,0,0,0,0,0,0,0,0,0,0,0,0,0,0,0,0,0]
["front",0,0,0,0,0,0,0,0,0,0.1,0,0,0,0,0,0,0,0,0,0,0]
["frounc'd",0,0,0,0,0,0,0,0,0,0,0,0,0,0,0,0,0,0,0,0,0]
["frowning",0,0,0,0,0,0,0,0,0,0,0,0,0,0,0,0,0,0,0,0,0]
["fruitfull",0,0,0,0,0,0,0,0,0.1,0,0,0,0,0,0,0,0,0,0,0,0]
["fry",0,0,0,0,0,0,0,0,0,0,0,0,0,0,0,0,0,0,0,0,0]
["fullnesse",0,0,0,0,0,0,0,0,0,0,0,0,0,0,0.1,0,0,0,0,0,0]
["fumes",0,0,0,0,0,0,0,0,0,0,0,0.1,0,0,0,0,0,0,0,0,0]
["fur",0,0,0,0,0,0,0,0,0,0,0,0,0,0,0,0,0,0,0,0.1,0]
["furious",0,0,0,0,0,0,0,0,0,0,0,0.1,0,0,0,0,0,0,0,0,0]
["furniture",0,0,0,0,0,0,0,0,0,0.1,0,0,0,0,0,0,0,0,0,0,0]
["furre",0,0,0,0,0,0,0,0,0,0,0,0,0,0,0,0,0,0,0,0,7.0372980000000002E-2]
["future",0,0,0.1,0,0,0,0,0,0,0,0,0,0,0,0,0,0,0,0,0,0]
["gadding",0,0,0,0,0,0,0,0,0,0,0,0,0,0,0,0,0,0,0,0,0]
["gait",0,0,0,0,0,0,0,0,0,0,0,0,0,0,0,0,0,0,0,0,0]
["gald",0,0,0,0,0,0,0,0,0,0,0,0,0,0,0,0,0,0,0,0,7.0372980000000002E-2]
["gall",0,0,0,0.1,0,0,0,0,0,0,0,0,0,0,0,0,0,0,0,0,0]
["galleries",0.1,0,0,0,0,0,0,0,0,0,0,0,0,0,0,0,0,0,0,0,0]
["gaping",0,0,0,0,0,0,0,0,0,0,0,0,0,0,0,0,0,0.1,0,0,0]
["gard'n",0,0,0,0,0,0,0,0,0,0,0,0,0,0,0,0,0,0,0.1,0,0]
["garment",0,0,0,0,0,0,0,0,0,0,0,0,0,0,0,0,0,0,0,0,0]
["gastlinesse",0,0,0,0,0,0,0,0,0,0,0,0,0,0,0,0,0,0,0,0.1,0]
["gazers",0,0,0,0,0,0,0,0,0,0,0,0.1,0,0,0,0,0,0,0,0,0]
["gazes",0,0,0,0,0,0,0,0,0,0,0,0,0,0,0,0,0,0,0,0,0]
["general",0,0,0,0,0,0,0,0,0,0,0,0,0,0,0,0,0,0,0,0,0]
["generall",0.1,0,0,0,0,0,0,0,0,0,0,0,0,0,0,0,0,0,0,0,0]
["gentlewoman",0,0,0,0,0,0,0,0.1,0,0,0,0,0,0,0,0,0,0,0,0,0]
["gently",0,0,0,0,0,0,0,0,0,0,0,0,0,0,0,0,0,0,0,0,0]
["giddy",0,0,0,0,0,0,0,0,0,0,0,0,0,0,0,0,0,0,0,0,0]
["gilt",0,0,0,0,0,0,0,0,0,0,0,0,0,0,0.1,0,0,0,0,0,0]
["giu'n",0,0,0,0,0,0,0,0,0,0,0,0,0,0,0,0,0.1,0,0,0,0]
["giu'st",0,0,0,0,0,0,0,0,0,0,0,0,0,0,0,0,0.1,0,0,0,0]
["giues",0,0,0,0,0,0,0,0,0,0,0,0,0,0,0,0,0,0,0,0.1,0]
["giuing",0,0,0,0,0,0,0,0,0,0.1,0,0,0,0,0,0,0,0,0,0,0]
["glas",0.1,0,0,0,0,0,0,0,0,0,0,0,0,0,0,0,0,0,0,0,0]
["glasses",0,0,0,0,0,0,0,0,0,0,0,0,0.1,0,0,0,0,0,0,0,0]
["glimmering",0,0,0,0,0,0,0,0,0,0,0,0,0,0,0,0,0,0,0,0,0]
["glimpse",0,0,0,0,0,0,0,0,0,0,0,0,0,0,0,0,0,0,0,0,0]
["glistring",0,0,0,0,0,0,0,0,0,0,0,0,0,0,0,0,0,0.1,0,0,0]
["glistrings",0,0,0,0,0,0,0,0,0,0,0,0.1,0,0,0,0,0,0,0,0,0]
["gloom",0,0,0,0,0,0,0,0,0,0,0,0,0,0,0,0,0,0,0,0,0]
["glorifide",0,0,0,0.1,0,0,0,0,0,0,0,0,0,0,0,0,0,0,0,0,0]
["glow'd",0,0,0,0,0,0,0,0,0,0,0,0,0,0,0,0,0,0,0,0,0]
["glutton",0,0,0,0,0,0,0,0,0,0,0,0,0,0,0,0,0,0,0,0,0]
["goddesse",0,0,0,0,0,0,0,0,0.1,0,0,0,0,0,0,0,0,0,0,0,0]
["godwit",0,0,0,0,0,0,0,0,0,0,0,0,0,0,0,0,0,0,0,0,0]
["gory",0,0,0,0,0,0,0,0,0,0,0,0,0,0,0,0,0,0,0,0,0]
["gotes",0,0,0,0,0,0,0,0,0.1,0,0,0,0,0,0,0,0,0,0,0,0]
["gown",0,0,0,0,0,0,0,0,0,0,0,0,0,0,0,0,0,0,0,0,0]
["grac'd",0,0,0,0,0,0,0,0,0,0,0,0,0,0,0,0,0,0,0,0,7.0372980000000002E-2]
["graine",0,0,0,0,0,0,0,0,0,0,0,0,0,0,0,0,0,0,0.1,0,0]
["grained",0,0,0,0,0,0,0,0,0,0,0,0,0,0,0,0,0,0,0,0,0]
["grandame",0,0,0,0,0,0,0,0,0,0,0.1,0,0,0,0,0,0,0,0,0,0]
["grandsires",0,0,0.1,0,0,0,0,0,0,0,0,0,0,0,0,0,0,0,0,0,0]
["grate",0,0,0,0,0,0,0,0,0,0,0,0,0,0,0,0,0,0,0,0,0]
["gratefull",0,0,0,0,0,0,0,0,0,0,0,0,0,0,0,0,0,0,0,0.1,0]
["graue",0,0,0,0,0,0,0,0,0,0,0,0,0,0,0.1,0,0,0,0,0,0]
["grauitated",0,0,0,0,0,0,0,0.1,0,0,0,0,0,0,0,0,0,0,0,0,0]
["graze",0,0,0,0,0,0,0,0,0,0,0,0,0,0,0,0,0,0,0,0,0]
["grazed",0,0,0,0,0,0,0,0,0,0,0,0,0,0,0,0,0,0,0,0,0]
["greece",0,0,0,0,0,0,0,0,0,0.1,0,0,0,0,0,0,0,0,0,0,0]
["greedy",0,0,0,0,0,0,0,0,0,0,0,0,0,0,0,0,0,0,0,0,0]
["greeved",0,0,0,0.1,0,0,0,0,0,0,0,0,0,0,0,0,0,0,0,0,0]
["greeving",0,0,0,0.1,0,0,0,0,0,0,0,0,0,0,0,0,0,0,0,0,0]
["griefes",0,0,0,0.1,0,0,0,0,0,0,0,0,0,0,0,0,0,0,0,0,0]
["grieue",0,0,0,0,0,0,0,0,0,0,0.1,0,0,0,0,0,0,0,0,0,0]
["grievance",0,0,0,0,0,0,0,0,0,0,0,0,0,0,0,0,0,0,0,0,0]
["grim",0,0,0,0,0,0,0,0,0,0,0,0,0,0,0,0,0,0,0,0,0]
["groning",0,0,0,0.1,0,0,0,0,0,0,0,0,0,0,0,0,0,0,0,0,0]
["groomes",0,0.1,0,0,0,0,0,0,0,0,0,0,0,0,0,0,0,0,0,0,0]
["groweth",0,0,0,0,0,0,0,0,0,0,0,0,0,0,0,0,0,0.1,0,0,0]
["grows",0,0,0,0,0,0,0,0,0,0,0,0,0,0,0,0,0,0,0,0,0]
["grudging",0,0,0,0,0,0,0,0,0,0,0,0,0,0,0,0,0,0,0,0,7.0372980000000002E-2]
["guarded",0,0,0,0,0,0,0,0,0,0,0,0,0,0,0,0,0,0,0,0,0]
["guerdon",0,0,0,0,0,0,0,0,0,0,0,0,0,0,0,0,0,0,0,0,0]
["guesse",0,0,0,0,0,0,0,0,0,0,0,0.1,0,0,0,0,0,0,0,0,0]
["guiltlesse",0,0,0,0,0,0,0,0,0,0,0,0,0,0,0,0,0,0,0,0,7.0372980000000002E-2]
["guilty",0,0,0,0,0,0,0,0,0,0,0,0,0,0,0,0,0,0,0,0,0]
["gushing",0,0,0,0,0,0,0,0,0,0,0,0,0,0,0,0,0,0,0,0,0]
["gusts",0,0,0,0,0,0,0,0,0,0,0,0,0,0,0,0,0,0,0,0,0]
["hackney",0,0,0,0,0,0,0,0,0,0,0,0,0,0,0,0,0,0,0,0,7.0372980000000002E-2]
["haec",0,0,0,0,0,0.1,0,0,0,0,0,0,0,0,0,0,0,0,0,0,0]
["hairs",0,0,0,0,0,0,0,0,0,0,0,0,0,0,0,0,0,0,0,0,0]
["halting",0,0,0,0,0,0,0,0,0.1,0,0,0,0,0,0,0,0,0,0,0,0]
["hapless",0,0,0,0,0,0,0,0,0,0,0,0,0,0,0,0,0,0,0,0,0]
["happies",0,0,0,0,0,0,0,0,0,0,0,0,0,0,0,0,0,0,0,0,0]
["harbour",0,0,0,0,0,0,0,0,0,0,0,0,0,0,0,0,0.1,0,0,0,0]
["hardest",0,0,0,0,0,0,0,0,0,0,0,0,0,0,0,0.1,0,0,0,0,0]
["harke",0,0,0,0,0,0,0,0,0,0,0,0,0,0,0,0,0,0,0,0,7.0372980000000002E-2]
["harlotrie",0,0,0,0,0,0,0,0.1,0,0,0,0,0,0,0,0,0,0,0,0,0]
["harmed",0,0,0,0,0,0,0,0,0,0,0,0,0,0,0,0,0,0,0,0.1,0]
["harmes",0,0,0,0,0,0,0,0,0,0,0,0,0.1,0,0,0,0,0,0,0,0]
["harp",0,0,0,0,0,0,0,0,0,0,0,0,0,0,0,0,0,0,0,0,0]
["haruest",0,0,0,0,0,0,0,0,0,0,0,0.1,0,0,0,0,0,0,0,0,0]
["hatching",0,0,0,0,0,0,0,0,0,0,0,0.1,0,0,0,0,0,0,0,0,0]
["hated",0,0,0,0,0,0,0,0.1,0,0,0,0,0,0,0,0,0,0,0,0,0]
["hawthorn",0,0,0,0,0,0,0,0,0,0,0,0,0,0,0,0,0,0,0,0,0]
["haycock",0,0,0,0,0,0,0,0,0,0,0,0,0,0,0,0,0,0,0,0,0]
["headded",0.1,0,0,0,0,0,0,0,0,0,0,0,0,0,0,0,0,0,0,0,0]
["heade",0,0,0,0,0,0,0,0,0,0,0,0,0,0,0,0,0,0,0,0,7.0372980000000002E-2]
["healthfull",0,0,0,0,0,0,0,0,0,0,0,0.1,0,0,0,0,0,0,0,0,0]
["heap",0,0.1,0,0,0,0,0,0,0,0,0,0,0,0,0,0,0,0,0,0,0]
["hear'st",0,0,0,0,0,0,0,0,0,0,0,0,0,0,0,0,0,0,0,0,0]
["hearke",0,0,0,0,0,0,0,0,0,0,0,0,0,0.1,0,0,0,0,0,0,0]
["heartes",0,0,0,0.1,0,0,0,0,0,0,0,0,0,0,0,0,0,0,0,0,0]
["hearth",0,0,0,0,0,0,0,0,0,0,0,0,0,0,0,0,0,0,0,0,0]
["heauinesse",0,0,0,0,0,0,0,0,0,0,0,0,0,0,0,0,0,0,0,0.1,0]
["heaun",0,0,0,0,0,0,0,0,0,0,0,0,0,0,0,0,0,0.1,0,0,0]
["heaved",0,0,0,0,0,0,0,0,0,0,0,0,0,0,0,0,0,0,0,0,0]
["heaven's",0,0,0,0,0,0,0,0,0,0,0,0,0,0,0,0,0,0,0,0,0]
["heben",0,0,0,0,7.4183979999999997E-2,0,0,0,0,0,0,0,0,0,0,0,0,0,0,0,0]
["hebes",0,0,0.1,0,0,0,0,0,0,0,0,0,0,0,0,0,0,0,0,0,0]
["hedg'd",0,0,0,0,0,0,0,0,0,0,0,0,0,0,0,0,0,0.1,0,0,0]
["hedge",0,0,0,0,0,0,0,0,0,0,0,0,0,0,0,0,0,0,0,0,0]
["heel",0,0,0,0,0,0,0,0,0,0,0,0,0,0,0,0,0,0,0,0,0]
["hei",0,0,0,0,0,0,0,0.1,0,0,0,0,0,0,0,0,0,0,0,0,0]
["helmet",0,0,0,0,0,0,0,0,0,0,0.1,0,0,0,0,0,0,0,0,0,0]
["helplesse",0,0,0,0,0,0,0,0,0.1,0,0,0,0,0,0,0,0,0,0,0,0]
["hemisphere",0,0,0,0,0,0,0,0,0,0,0,0,0,0,0,0,0,0,0,0.1,0]
["hen",0,0,0,0,0,0,0,0,0,0,0,0,0,0,0,0,0,0,0,0,0]
["herb",0,0,0,0,0,0,0,0,0,0,0,0,0,0,0,0,0,0,0,0,0]
["herbes",0,0,0,0,0,0,0,0,0.1,0,0,0,0,0,0,0,0,0,0,0,0]
["herds",0,0,0,0,0,0,0,0,0,0,0,0,0,0,0,0,0,0,0,0,0]
["hereafter",0,0,0,0,7.4183979999999997E-2,0,0,0,0,0,0,0,0,0,0,0,0,0,0,0,0]
["hermes",0,0,0,0,0,0,0,0,0,0,0,0,0,0,0,0,0,0,0,0,0]
["hermitage",0,0,0,0,0,0,0,0,0,0,0,0,0,0,0,0,0,0,0,0,0]
["heroïck",0.1,0,0,0,0,0,0,0,0,0,0,0,0,0,0,0,0,0,0,0,0]
["herse",0,0,0,0,7.4183979999999997E-2,0,0,0,0,0,0,0,0,0,0,0,0,0,0,0,0]
["heu",0,0,0,0,0,0,0,0.1,0,0,0,0,0,0,0,0,0,0,0,0,0]
["hidden",0,0,0,0,0,0,0,0,0,0,0,0,0,0,0,0,0,0,0,0,0]
["highmost",0,0,0,0,0,0,0,0,0,0,0,0,0,0,0,0,0,0,0,0,0]
["hillocks",0,0,0,0,0,0,0,0,0,0,0,0,0,0,0,0,0,0,0,0,0]
["hindred",0,0,0,0,0,0,0,0,0,0,0,0,0,0,0.1,0,0,0,0,0,0]
["hippotades",0,0,0,0,0,0,0,0,0,0,0,0,0,0,0,0,0,0,0,0,0]
["historie",0,0,0,0,0,0,0,0,0,0,0,0,0.1,0,0,0,0,0,0,0,0]
["history",0,0,0,0,0,0,0,0,0,0,0,0,0,0,0,0,0,0,0,0.1,0]
["hits",0,0,0,0,0,0,0,0,0,0,0,0,0,0,0,0,0,0,0,0,7.0372980000000002E-2]
["hitting",0,0,0,0,0,0,0,0,0,0,0,0,0,0.1,0,0,0,0,0,0,0]
["hoar",0,0,0,0,0,0,0,0,0,0,0,0,0,0,0,0,0,0,0,0,0]
["hoard",0,0,0,0,0,0,0,0,0,0,0,0,0,0,0,0,0,0,0,0,0]
["holiday",0,0,0,0,0,0,0,0,0,0,0,0,0,0,0,0,0,0,0,0,0]
["holiest",0,0,0,0,0,0,0,0,0,0,0,0,0,0,0,0,0,0,0,0,0]
["homely",0,0,0,0,0,0,0,0,0,0,0,0,0,0,0,0,0,0,0,0,0]
["homeward",0,0,0,0,0,0,0,0,0,0,0,0,0,0,0,0,0,0,0,0,0]
["honesty",0,0,0,0,0,0.1,0,0,0,0,0,0,0,0,0,0,0,0,0,0,0]
["honicombe",0,0,0,0,0,0,0.1,0,0,0,0,0,0,0,0,0,0,0,0,0,0]
["honours",0,0,0,0,0,0,0,0,0,0,0,0,0,0,0,0,0,0,0,0.1,0]
["hony",0,0,0,0,0,0,0,0.1,0,0,0,0,0,0,0,0,0,0,0,0,0]
["hop",0,0,0,0,0,0.1,0,0,0,0,0,0,0,0,0,0,0,0,0,0,0]
["hop'd",0,0,0,0,0,0,0,0,0,0,0,0.1,0,0,0,0,0,0,0,0,0]
["hoping",0,0,0,0,0,0,0,0,0,0,0,0,0,0,0,0.1,0,0,0,0,0]
["horace",0,0,0,0,0,0,0,0,0,0,0,0,0,0,0,0,0,0,0,0,0]
["horsemanship",0,0,0,0,0,0,0,0,0,0,0,0,0,0.1,0,0,0,0,0,0,0]
["horsemanships",0,0,0,0,0,0,0,0,0,0,0,0,0,0,0.1,0,0,0,0,0,0]
["horsman",0,0,0,0,0,0,0,0,0,0,0,0,0,0,0.1,0,0,0,0,0,0]
["hottest",0,0,0,0,0,0,0,0,0,0,0,0,0,0,0,0,0,0,0,0.1,0]
["houses",0.1,0,0,0,0,0,0,0,0,0,0,0,0,0,0,0,0,0,0,0,0]
["hover'd",0,0,0,0,0,0,0,0,0,0,0,0,0,0,0,0,0,0,0,0,0]
["howeuer",0,0,0,0,0,0,0,0,0,0,0,0,0,0,0.1,0,0,0,0,0,0]
["howling",0,0,0,0,0,0,0,0.1,0,0,0,0,0,0,0,0,0,0,0,0,0]
["hued",0,0,0,0,0,0,0,0,0,0,0,0,0,0,0,0,0,0,0,0,0]
["hues",0,0,0,0,0,0,0,0,0,0,0,0,0,0,0,0,0,0,0,0,0]
["hugenesse",0.1,0,0,0,0,0,0,0,0,0,0,0,0,0,0,0,0,0,0,0,0]
["hum",0,0,0,0,0,0,0,0,0,0,0,0,0,0,0,0,0,0,0,0,0]
["humbler",0,0,0,0,0,0,0,0,0,0.1,0,0,0,0,0,0,0,0,0,0,0]
["humours",0,0,0,0,0,0,0,0,0,0,0,0,0.1,0,0,0,0,0,0,0,0]
["hung",0,0,0,0,0,0,0,0,0,0,0,0,0,0,0,0,0,0,0,0,0]
["hunted",0,0,0,0,0,0.1,0,0,0,0,0,0,0,0,0,0,0,0,0,0,0]
["hurls",0,0,0,0,0,0,0,0,0,0,0,0,0,0,0,0,0,0,0,0,0]
["hurting",0,0,0,0,0,0,0,0,0,0,0,0,0,0,0,0,0,0,0,0,0]
["husband's",0,0,0,0,0,0,0,0,0,0,0,0,0,0,0,0,0,0,0,0,0]
["husbands",0,0,0.1,0,0,0,0,0,0,0,0,0,0,0,0,0,0,0,0,0,0]
["i'm",0,0,0,0,0,0,0,0,0,0,0,0,0,0,0,0,0,0,0,0,0]
["iaelous",0,0,0,0,0,0,0,0,0,0,0,0,0,0,0,0,0,0,0,0.1,0]
["idler",0,0,0,0,0,0,0,0,0,0,0,0,0.1,0,0,0,0,0,0,0,0]
["idly",0,0,0,0,0,0,0,0,0,0,0.1,0,0,0,0,0,0,0,0,0,0]
["ielousie",0,0,0,0,0,0,0,0,0,0,0,0,0,0,0,0,0,0.1,0,0,0]
["ignified",0,0,0,0,0,0,0,0.1,0,0,0,0,0,0,0,0,0,0,0,0,0]
["imageries",0.1,0,0,0,0,0,0,0,0,0,0,0,0,0,0,0,0,0,0,0,0]
["imagination",0,0,0,0,0,0,0,0,0,0,0,0,0,0,0,0,0,0,0,0,0]
["immortalitie",0,0,0,0.1,0,0,0,0,0,0,0,0,0,0,0,0,0,0,0,0,0]
["immured",0,0,0,0,0,0,0,0,0,0,0,0,0,0,0,0,0,0,0,0,0]
["impediments",0,0,0,0,0,0,0,0,0,0,0,0,0,0,0,0,0,0,0,0,0]
["impes",0.1,0,0,0,0,0,0,0,0,0,0,0,0,0,0,0,0,0,0,0,0]
["impressest",0,0,0,0,0,0,0,0,0,0,0,0,0,0,0,0,0,0,0,0,0]
["impute",0,0,0,0,0,0,0,0,0,0,0,0,0,0.1,0,0,0,0,0,0,0]
["incessant",0,0,0,0,0,0,0,0,0,0,0,0,0,0,0,0,0,0,0,0,0]
["incessantly",0,0,0,0,0,0,0,0,0,0,0,0,0,0,0,0.1,0,0,0,0,0]
["incomberd",0,0,0,0,0,0.1,0,0,0,0,0,0,0,0,0,0,0,0,0,0,0]
["increse",0,0,0,0,0,0,0,0,0,0,0,0,0,0,0,0,0,0.1,0,0,0]
["indes",0,0,0,0,0,0,0,0,0,0,0,0,0.1,0,0,0,0,0,0,0,0]
["indian",0,0,0,0,0,0,0,0,0,0,0,0,0,0,0,0,0,0,0,0.1,0]
["indignities",0,0,0,0.1,0,0,0,0,0,0,0,0,0,0,0,0,0,0,0,0,0]
["indite",0,0,0,0,0,0,0,0,0,0,0.1,0,0,0,0,0,0,0,0,0,0]
["infection",0,0,0,0,0,0,0,0,0,0,0,0,0,0,0,0,0,0,0,0,0]
["infectious",0,0,0,0,0,0.1,0,0,0,0,0,0,0,0,0,0,0,0,0,0,0]
["infest",0,0,0,0.1,0,0,0,0,0,0,0,0,0,0,0,0,0,0,0,0,0]
["infinit",0,0,0,0,0,0,0,0,0,0,0.1,0,0,0,0,0,0,0,0,0,0]
["infirmity",0,0,0,0,0,0,0,0,0,0,0,0,0,0,0,0,0,0,0,0,0]
["inflame",0,0,0,0,0,0,0,0,0,0,0,0,0,0,0,0,0,0,0,0,0]
["ingate",0.1,0,0,0,0,0,0,0,0,0,0,0,0,0,0,0,0,0,0,0,0]
["inglorious",0,0,0.1,0,0,0,0,0,0,0,0,0,0,0,0,0,0,0,0,0,0]
["iniurie",0,0,0,0,0,0,0,0,0,0,0,0,0,0,0,0,0,0.1,0,0,0]
["injurie",0,0.1,0,0,0,0,0,0,0,0,0,0,0,0,0,0,0,0,0,0,0]
["ink",0,0,0,0,0,0,0,0,0,0,0,0,0,0,0,0,0,0,0,0,0]
["inks",0,0,0,0,0,0,0,0,0,0,0,0,0.1,0,0,0,0,0,0,0,0]
["innocent",0,0,0,0,0,0,0,0.1,0,0,0,0,0,0,0,0,0,0,0,0,0]
["innocently",0,0,0,0,0,0,0,0,0,0,0,0,0,0,0,0,0,0,0,0,0]
["inscitium",0,0,0,0,0,0,0,0.1,0,0,0,0,0,0,0,0,0,0,0,0,0]
["inscrib'd",0,0,0,0,0,0,0,0,0,0,0,0,0,0,0,0,0,0,0,0,0]
["insipidum",0,0,0,0,0,0,0,0.1,0,0,0,0,0,0,0,0,0,0,0,0,0]
["inspir'd",0,0,0,0,0,0,0,0,0,0,0,0,0,0,0,0,0,0.1,0,0,0]
["inspiring",0,0,0,0,0,0,0,0,0,0,0,0,0,0,0,0.1,0,0,0,0,0]
["insteed",0,0,0,0,0,0,0,0,0,0,0,0,0,0,0.1,0,0,0,0,0,0]
["intelligence",0,0,0,0,0,0.1,0,0,0,0,0,0,0,0,0,0,0,0,0,0,0]
["intend",0,0,0,0,0,0,0,0,0,0,0,0,0,0,0,0,0,0,0,0,0]
["interpose",0,0,0,0,0,0,0,0,0,0,0,0,0,0,0,0,0,0,0,0,0]
["interpret",0,0,0,0,0,0,0,0,0,0,0,0,0,0,0,0,0.1,0,0,0,0]
["intrude",0,0,0,0,0,0,0,0,0,0,0,0,0,0,0,0,0,0,0,0,0]
["inuade",0,0,0,0,0,0,0,0,0,0,0,0,0,0,0,0.1,0,0,0,0,0]
["inuention",0,0,0,0,0,0,0,0,0.1,0,0,0,0,0,0,0,0,0,0,0,0]
["inuests",0,0,0,0,0,0,0,0,0,0,0,0,0,0,0,0,0,0.1,0,0,0]
["inuoked",0,0,0,0,0,0,0,0,0,0,0,0,0,0,0,0.1,0,0,0,0,0]
["invented",0,0,0,0,0,0,0,0,0,0,0,0,0,0,0,0,0,0,0,0,0]
["inwardly",0,0,0,0,0,0,0,0,0,0,0,0,0,0,0,0,0,0,0,0,0]
["inwrought",0,0,0,0,0,0,0,0,0,0,0,0,0,0,0,0,0,0,0,0,0]
["iourney",0,0,0,0,0,0,0,0,0,0,0,0,0,0,0,0,0,0,0,0.1,0]
["ioyed",0,0,0,0,0,0,0,0,0,0,0,0,0,0,0,0.1,0,0,0,0,0]
["ioys",0,0,0,0,0,0,0,0,0,0,0,0.1,0,0,0,0,0,0,0,0,0]
["irksom",0,0,0,0,0,0,0,0,0,0,0,0,0,0,0,0,0,0,0,0.1,0]
["itch",0,0,0,0,0,0,0,0,0,0,0,0,0.1,0,0,0,0,0,0,0,0]
["itselfe",0,0,0,0,0,0,0,0,0,0,0,0.1,0,0,0,0,0,0,0,0,0]
["iudgment",0,0,0,0,0,0,0.1,0,0,0,0,0,0,0,0,0,0,0,0,0,0]
["iudgments",0,0,0,0,0,0,0,0,0,0,0,0,0,0,0,0,0,0.1,0,0,0]
["iuuentall",0,0,0,0,0,0.1,0,0,0,0,0,0,0,0,0,0,0,0,0,0,0]
["ivory",0,0,0,0,0,0,0,0,0,0,0,0,0.1,0,0,0,0,0,0,0,0]
["jar",0,0,0,0,0,0,0,0,0,0,0,0,0,0,0,0,0,0,0,0,0]
["jaw",0,0,0,0,0,0,0,0,0,0,0,0,0,0,0,0,0,0,0,0,0]
["jest",0,0,0,0,0,0,0,0,0,0,0,0,0,0,0,0,0,0,0,0,0]
["jets",0,0,0,0,0,0,0,0,0,0,0,0,0,0,0,0,0,0,0,0.1,0]
["jocund",0,0,0,0,0,0,0,0,0,0,0,0,0,0,0,0,0,0,0,0,0]
["join",0,0,0,0,0,0,0,0,0,0,0,0,0,0,0,0,0,0,0,0,0]
["jollitee",0,0.1,0,0,0,0,0,0,0,0,0,0,0,0,0,0,0,0,0,0,0]
["jollity",0,0,0,0,0,0,0,0,0,0,0,0,0,0,0,0,0,0,0,0,0]
["judge",0,0,0,0,0,0,0,0,0,0,0,0,0,0,0,0,0,0,0,0,0]
["judging",0,0,0,0,0,0,0,0,0,0,0,0,0,0,0,0,0,0,0,0,0]
["keen",0,0,0,0,0,0,0,0,0,0,0,0,0,0,0,0,0,0,0,0,0]
["keeper",0,0,0,0,7.4183979999999997E-2,0,0,0,0,0,0,0,0,0,0,0,0,0,0,0,0]
["keys",0,0,0,0,0,0,0,0,0,0,0,0,0,0,0,0,0,0,0,0,0]
["kild",0,0,0,0,0,0,0,0,0,0,0,0,0,0,0,0,0.1,0,0,0,0]
["kils",0,0,0,0,0,0,0,0,0,0,0,0,0,0,0,0,0,0,0,0.1,0]
["kindled",0,0,0,0,0,0,0,0,0,0,0,0,0,0,0,0,0.1,0,0,0,0]
["kinds",0,0,0,0,0,0,0,0,0,0,0,0,0,0,0,0,0,0,0,0,0]
["kingdoms",0,0,0,0,0,0,0,0,0,0,0,0,0,0,0,0,0,0,0,0,0]
["kiss'd",0,0,0,0,0,0,0,0,0,0,0,0,0,0,0,0,0,0,0,0,0]
["kissing",0,0,0,0,0,0,0,0,0,0,0,0,0,0,0,0,0,0,0.1,0,0]
["knat",0,0,0,0,0,0,0,0,0,0,0,0,0,0,0,0,0,0,0,0,0]
["knaue",0,0,0,0,0,0,0,0.1,0,0,0,0,0,0,0,0,0,0,0,0,0]
["knees",0,0,0,0,0,0.1,0,0,0,0,0,0,0,0,0,0,0,0,0,0,0]
["knights",0,0,0,0,0,0,0,0,0,0,0,0,0,0,0,0,0,0,0,0,0]
["l",0,0,0,0,7.4183979999999997E-2,0,0,0,0,0,0,0,0,0,0,0,0,0,0,0,0]
["labored",0,0,0,0.1,0,0,0,0,0,0,0,0,0,0,0,0,0,0,0,0,0]
["lack'd",0,0,0,0,0,0,0,0,0,0,0,0,0,0,0,0,0,0,0,0,0]
["laie",0,0.1,0,0,0,0,0,0,0,0,0,0,0,0,0,0,0,0,0,0,0]
["lamentable",0,0.1,0,0,0,0,0,0,0,0,0,0,0,0,0,0,0,0,0,0,0]
["lamp",0,0,0,0,0,0,0,0,0,0,0,0,0,0,0,0,0,0,0,0,0]
["landlord",0,0,0,0,0,0,0,0,0,0,0,0,0,0,0,0,0,0,0,0,0]
["lands",0,0,0,0,0,0,0,0,0,0,0,0,0,0,0,0,0,0,0,0,0]
["languages",0,0,0,0,0,0,0,0,0,0,0,0,0,0,0,0,0,0,0,0,0]
["languish",0,0,0,0,0,0,0,0,0,0,0,0,0,0,0,0.1,0,0,0,0,0]
["languour",0,0,0,0,7.4183979999999997E-2,0,0,0,0,0,0,0,0,0,0,0,0,0,0,0,0]
["lanterne",0,0.1,0,0,0,0,0,0,0,0,0,0,0,0,0,0,0,0,0,0,0]
["largess",0,0,0,0,0,0,0,0,0,0,0,0,0,0,0,0,0,0,0,0,0]
["lark",0,0,0,0,0,0,0,0,0,0,0,0,0,0,0,0,0,0,0,0,0]
["latine",0,0,0,0,0,0,0.1,0,0,0,0,0,0,0,0,0,0,0,0,0,0]
["lattice",0,0,0,0,0,0,0,0,0,0,0,0,0,0,0,0,0,0,0,0,0]
["laughter",0,0,0,0,0,0,0,0,0,0,0,0,0,0,0,0,0,0,0,0,0]
["launce",0,0,0,0,0,0,0,0,0,0,0,0,0,0.1,0,0,0,0,0,0,0]
["laureate",0,0,0,0,0,0,0,0,0,0,0,0,0,0,0,0,0,0,0,0,0]
["laurels",0,0,0,0,0,0,0,0,0,0,0,0,0,0,0,0,0,0,0,0,0]
["lawes",0,0,0,0,0,0,0,0,0,0,0,0,0,0,0,0,0,0,0.1,0,0]
["lawfull",0,0,0,0,0,0,0,0.1,0,0,0,0,0,0,0,0,0,0,0,0,0]
["layes",0,0,0.1,0,0,0,0,0,0,0,0,0,0,0,0,0,0,0,0,0,0]
["layman",0,0,0,0,0,0,0,0,0,0,0,0,0,0,0,0,0,0.1,0,0,0]
["leades",0,0,0,0,0,0,0,0,0,0,0,0,0,0,0,0,0,0,0,0,7.0372980000000002E-2]
["leads",0,0,0,0,0,0,0,0,0,0,0,0,0,0,0,0,0,0,0,0,0]
["leaps",0,0,0,0,0,0,0,0,0,0,0.1,0,0,0,0,0,0,0,0,0,0]
["learn",0,0,0,0,0,0,0,0,0,0,0,0,0,0,0.1,0,0,0,0,0,0]
["learnings",0,0,0,0,0,0,0,0,0,0,0,0.1,0,0,0,0,0,0,0,0,0]
["lease",0,0,0,0,0,0,0,0,0,0,0,0,0,0,0,0,0,0,0,0,0]
["leauings",0,0,0,0,0,0,0,0.1,0,0,0,0,0,0,0,0,0,0,0,0,0]
["leaving",0,0,0,0,0,0,0,0,0,0,0,0,0,0,0,0,0,0,0,0,0]
["leese",0,0,0,0,0,0,0,0,0,0,0,0,0,0,0,0,0,0,0,0,0]
["legacy",0,0,0,0,0,0,0,0,0,0,0,0,0,0,0,0,0,0,0,0,0]
["legs",0,0,0,0,0,0,0,0,0,0,0,0,0.1,0,0,0,0,0,0,0,0]
["leisure",0,0,0,0,0,0,0,0,0,0,0,0,0,0,0,0,0,0,0,0,0]
["lending",0,0,0,0,0,0,0,0,0,0,0,0,0,0,0,0,0,0,0,0,0]
["lends",0,0,0,0,0,0,0,0,0,0,0,0,0,0,0,0,0,0,0,0,0]
["lest",0,0,0,0,0,0,0,0,0,0,0,0.1,0,0,0,0,0,0,0,0,0]
["lethe",0,0,0,0.1,0,0,0,0,0,0,0,0,0,0,0,0,0,0,0,0,0]
["lewes",0,0,0,0,0,0,0,0,0,0,0,0,0,0,0,0,0,0.1,0,0,0]
["libbard",0.1,0,0,0,0,0,0,0,0,0,0,0,0,0,0,0,0,0,0,0,0]
["lifting",0.1,0,0,0,0,0,0,0,0,0,0,0,0,0,0,0,0,0,0,0,0]
["light'st",0,0,0,0,0,0,0,0,0,0,0,0,0,0,0,0,0,0,0,0,0]
["liked",0,0,0,0,0,0.1,0,0,0,0,0,0,0,0,0,0,0,0,0,0,0]
["likes",0,0,0,0,0,0,0,0,0,0,0,0,0.1,0,0,0,0,0,0,0,0]
["lilium",0,0,0,0,0,0,0,0.1,0,0,0,0,0,0,0,0,0,0,0,0,0]
["limits",0,0,0,0,0,0,0,0,0,0,0,0,0,0,0,0,0,0,0.1,0,0]
["linkes",0,0,0,0,0,0,0,0,0,0,0,0,0,0,0,0,0,0,0.1,0,0]
["linus",0,0,0.1,0,0,0,0,0,0,0,0,0,0,0,0,0,0,0,0,0,0]
["lions",0,0,0,0,0,0,0,0,0.1,0,0,0,0,0,0,0,0,0,0,0,0]
["lipp",0,0,0,0,0,0,0,0,0,0,0,0,0,0,0,0,0,0,0.1,0,0]
["listen",0,0,0,0,0,0,0,0,0,0,0,0,0.1,0,0,0,0,0,0,0,0]
["listens",0,0,0,0,0,0,0,0,0,0,0,0,0,0,0,0,0,0,0,0,0]
["liues",0,0,0,0,0,0,0,0,0,0,0,0,0,0,0,0.1,0,0,0,0,0]
["liueth",0,0,0,0,0,0,0,0.1,0,0,0,0,0,0,0,0,0,0,0,0,0]
["liveth",0,0,0.1,0,0,0,0,0,0,0,0,0,0,0,0,0,0,0,0,0,0]
["livy",0,0,0,0,0,0,0,0,0,0,0,0,0,0,0,0,0,0,0,0,0]
["loath",0,0,0,0,7.4183979999999997E-2,0,0,0,0,0,0,0,0,0,0,0,0,0,0,0,0]
["loathed",0,0,0,0,0,0,0,0,0,0,0,0,0,0,0,0,0,0,0,0,0]
["locked",0,0,0,0,7.4183979999999997E-2,0,0,0,0,0,0,0,0,0,0,0,0,0,0,0,0]
["loco",0,0,0,0,0,0,0,0.1,0,0,0,0,0,0,0,0,0,0,0,0,0]
["lodge",0,0,0,0,0,0,0,0,0,0,0,0,0,0,0,0,0,0,0,0.1,0]
["loe",0,0,0,0,7.4183979999999997E-2,0,0,0,0,0,0,0,0,0,0,0,0,0,0,0,0]
["lonely",0,0,0,0,0,0,0,0,0,0,0,0,0,0,0,0,0,0,0,0,0]
["longs",0,0,0,0,0,0,0,0,0,0,0,0,0,0,0,0,0,0,0,0.1,0]
["lookst",0,0,0,0,0,0,0,0,0,0.1,0,0,0,0,0,0,0,0,0,0,0]
["loosely",0,0,0,0,0,0,0,0,0,0,0,0,0,0,0,0,0,0,0,0,0]
["lordly",0,0.1,0,0,0,0,0,0,0,0,0,0,0,0,0,0,0,0,0,0,0]
["loss",0,0,0,0,0,0,0,0,0,0,0,0,0,0,0,0,0,0,0,0,0]
["louteth",0,0.1,0,0,0,0,0,0,0,0,0,0,0,0,0,0,0,0,0,0,0]
["lov",0,0,0,0,7.4183979999999997E-2,0,0,0,0,0,0,0,0,0,0,0,0,0,0,0,0]
["loveliness",0,0,0,0,0,0,0,0,0,0,0,0,0,0,0,0,0,0,0,0,0]
["lover'd",0,0,0,0,0,0,0,0,0,0,0,0,0,0,0,0,0,0,0,0,0]
["lowre",0,0,0,0,0,0,0,0,0,0,0,0,0,0,0,0,0,0.1,0,0,0]
["loyall",0,0.1,0,0,0,0,0,0,0,0,0,0,0,0,0,0,0,0,0,0,0]
["luck",0,0,0,0,0,0,0,0,0,0,0,0,0,0,0,0,0,0,0,0,0]
["lucke",0,0,0,0,0,0,0,0,0,0,0,0,0,0,0.1,0,0,0,0,0,0]
["lull'd",0,0,0,0,0,0,0,0,0,0,0,0,0,0,0,0,0,0,0,0,0]
["lustre",0,0,0,0,0,0,0,0,0,0.1,0,0,0,0,0,0,0,0,0,0,0]
["lycid",0,0,0,0,0,0,0,0,0,0,0,0,0,0,0,0,0,0,0,0,0]
["lydian",0,0,0,0,0,0,0,0,0,0,0,0,0,0,0,0,0,0,0,0,0]
["lyme",0,0.1,0,0,0,0,0,0,0,0,0,0,0,0,0,0,0,0,0,0,0]
["lyonesse",0.1,0,0,0,0,0,0,0,0,0,0,0,0,0,0,0,0,0,0,0,0]
["madest",0,0,0.1,0,0,0,0,0,0,0,0,0,0,0,0,0,0,0,0,0,0]
["magicke",0,0,0,0,7.4183979999999997E-2,0,0,0,0,0,0,0,0,0,0,0,0,0,0,0,0]
["maides",0,0,0,0,0,0,0,0,0,0,0,0,0,0,0.1,0,0,0,0,0,0]
["maie",0,0,0.1,0,0,0,0,0,0,0,0,0,0,0,0,0,0,0,0,0,0]
["maintain",0,0,0,0,0,0,0,0,0,0,0,0,0,0,0,0,0,0,0,0,0]
["maist",0,0,0,0,0,0,0,0,0,0,0,0,0,0,0,0,0,0,0.1,0,0]
["majestie",0,0,0,0,0,0,0,0,0,0,0,0,0,0.1,0,0,0,0,0,0,0]
["majesty",0,0,0,0,0,0,0,0,0,0,0,0,0,0,0,0,0,0,0,0,0]
["makeless",0,0,0,0,0,0,0,0,0,0,0,0,0,0,0,0,0,0,0,0,0]
["maker",0,0,0.1,0,0,0,0,0,0,0,0,0,0,0,0,0,0,0,0,0,0]
["maladie",0,0,0,0,0,0.1,0,0,0,0,0,0,0,0,0,0,0,0,0,0,0]
["man's",0,0,0,0,0,0,0,0,0,0,0,0,0,0,0,0,0,0,0,0,0]
["manifold",0,0,0,0,0,0,0,0,0,0,0,0,0,0,0,0,0,0,0,0,0]
["mankind",0,0,0,0,0,0,0,0,0,0,0,0,0,0,0,0,0,0,0,0,0]
["mansuetude",0,0,0,0,0,0.1,0,0,0,0,0,0,0,0,0,0,0,0,0,0,0]
["map",0,0,0,0,0,0,0,0,0,0.1,0,0,0,0,0,0,0,0,0,0,0]
["marcheth",0,0,0,0,0,0,0,0,0,0,0,0,0,0,0,0,0,0,0.1,0,0]
["marcht",0,0,0,0,0,0,0,0,0,0,0,0.1,0,0,0,0,0,0,0,0,0]
["maribone",0,0,0,0,0,0,0,0.1,0,0,0,0,0,0,0,0,0,0,0,0,0]
["marshes",0,0.1,0,0,0,0,0,0,0,0,0,0,0,0,0,0,0,0,0,0,0]
["masker",0,0.1,0,0,0,0,0,0,0,0,0,0,0,0,0,0,0,0,0,0,0]
["maskes",0,0,0,0,0,0,0,0,0,0,0,0,0,0,0,0,0.1,0,0,0,0]
["massie",0,0,0,0.1,0,0,0,0,0,0,0,0,0,0,0,0,0,0,0,0,0]
["mastering",0,0,0,0,0,0,0,0,0,0,0,0,0,0,0,0,0,0,0,0,0]
["matin",0,0,0,0,0,0,0,0,0,0,0,0,0,0,0,0,0,0,0,0,0]
["matrimonie",0,0,0,0,0,0.1,0,0,0,0,0,0,0,0,0,0,0,0,0,0,0]
["mayd'n",0,0,0,0,0,0,0,0,0,0,0,0,0,0,0,0,0,0.1,0,0,0]
["maying",0,0,0,0,0,0,0,0,0,0,0,0,0,0,0,0,0,0,0,0,0]
["mazes",0,0,0,0,0,0,0,0,0,0,0,0,0,0,0,0,0,0,0,0,0]
["mead",0,0,0,0,0,0,0,0,0,0,0,0,0,0,0,0,0,0,0,0,0]
["meaner",0,0,0,0,0,0,0,0,0,0,0,0.1,0,0,0,0,0,0,0,0,0]
["meanewhile",0,0,0,0,0,0,0,0,0,0,0,0,0,0,0.1,0,0,0,0,0,0]
["meare",0.1,0,0,0,0,0,0,0,0,0,0,0,0,0,0,0,0,0,0,0,0]
["measures",0,0,0,0,0,0,0,0,0,0,0,0,0,0,0,0,0,0,0,0,0]
["meditate",0,0,0,0,0,0,0,0,0,0,0,0,0,0,0,0,0,0,0,0,0]
["medusaes",0,0,0,0,7.4183979999999997E-2,0,0,0,0,0,0,0,0,0,0,0,0,0,0,0,0]
["meeke",0,0,0,0,7.4183979999999997E-2,0,0,0,0,0,0,0,0,0,0,0,0,0,0,0,0]
["meeker",0,0,0,0,0,0,0,0,0,0,0,0,0,0,0,0,0,0.1,0,0,0]
["melibæ",0,0,0,0.1,0,0,0,0,0,0,0,0,0,0,0,0,0,0,0,0,0]
["melioritie",0,0,0,0,0,0,0,0.1,0,0,0,0,0,0,0,0,0,0,0,0,0]
["melodious",0,0,0,0,0,0,0,0,0,0,0,0,0,0,0,0,0,0,0,0,0]
["melt",0,0,0,0,0,0,0,0,0,0,0,0,0,0,0,0,0,0,0,0,0]
["memonasse",0,0,0,0,0,0.1,0,0,0,0,0,0,0,0,0,0,0,0,0,0,0]
["memories",0,0,0,0.1,0,0,0,0,0,0,0,0,0,0,0,0,0,0,0,0,0]
["mentioneth",0,0.1,0,0,0,0,0,0,0,0,0,0,0,0,0,0,0,0,0,0,0]
["mercurie",0,0,0,0,7.4183979999999997E-2,0,0,0,0,0,0,0,0,0,0,0,0,0,0,0,0]
["mermaid",0,0,0,0,0,0,0,0,0,0,0,0,0,0,0,0,0,0,0,0,0]
["merry",0,0,0,0,0,0,0,0,0,0,0,0,0,0,0,0,0,0,0,0,0]
["messes",0,0,0,0,0,0,0,0,0,0,0,0,0,0,0,0,0,0,0,0,0]
["metal",0,0,0,0,0,0,0,0,0,0,0,0,0,0,0,0,0,0,0,0,0]
["methode",0,0,0,0,0,0,0,0,0,0,0.1,0,0,0,0,0,0,0,0,0,0]
["mettle",0,0,0,0,0,0,0,0,0,0,0,0,0,0,0,0,0,0,0,0,0]
["midas",0,0,0,0,0,0,0,0.1,0,0,0,0,0,0,0,0,0,0,0,0,0]
["middle",0,0,0,0,0,0,0,0,0,0,0,0,0,0,0,0,0,0,0,0,0]
["mincius",0,0,0,0,0,0,0,0,0,0,0,0,0,0,0,0,0,0,0,0,0]
["minding",0,0,0,0,0,0,0,0,0,0.1,0,0,0,0,0,0,0,0,0,0,0]
["minsicall",0,0,0,0,0,0.1,0,0,0,0,0,0,0,0,0,0,0,0,0,0,0]
["minute",0,0,0,0,0,0,0,0,0,0,0,0,0,0,0,0,0,0,0,0,0]
["mire",0,0,0,0,0,0,0,0,0,0,0.1,0,0,0,0,0,0,0,0,0,0]
["mirthful",0,0,0,0,0,0,0,0,0,0,0,0,0,0,0,0,0,0,0,0,0]
["mischiefe",0,0.1,0,0,0,0,0,0,0,0,0,0,0,0,0,0,0,0,0,0,0]
["miserable",0,0.1,0,0,0,0,0,0,0,0,0,0,0,0,0,0,0,0,0,0,0]
["misled",0,0,0,0,0,0,0,0,0,0,0,0,0,0,0,0,0,0,0,0.1,0]
["missed",0,0,0,0.1,0,0,0,0,0,0,0,0,0,0,0,0,0,0,0,0,0]
["mistes",0,0,0,0,0,0,0,0,0,0,0,0,0,0,0,0,0,0,0,0.1,0]
["mistress",0,0,0,0,0,0,0,0,0,0,0,0,0,0,0,0,0,0,0,0,0]
["mitigates",0,0.1,0,0,0,0,0,0,0,0,0,0,0,0,0,0,0,0,0,0,0]
["mitred",0,0,0,0,0,0,0,0,0,0,0,0,0,0,0,0,0,0,0,0,0]
["moderately",0,0,0,0,0,0,0,0,0,0,0,0,0,0,0,0,0,0,0,0,0]
["moderator",0,0,0,0,0,0,0.1,0,0,0,0,0,0,0,0,0,0,0,0,0,0]
["mona",0,0,0,0,0,0,0,0,0,0,0,0,0,0,0,0,0,0,0,0,0]
["monarch's",0,0,0,0,0,0,0,0,0,0,0,0,0,0,0,0,0,0,0,0,0]
["monarchy",0,0,0,0,0,0,0,0,0,0,0,0,0,0,0,0,0,0,0,0,0]
["mones",0,0,0,0,0,0,0,0,0,0,0,0,0,0,0,0,0,0,0,0,7.0372980000000002E-2]
["monster",0,0,0,0,0,0,0,0,0,0,0,0,0,0,0,0,0,0.1,0,0,0]
["monstrous",0,0,0,0,0,0,0,0,0,0,0,0,0,0,0,0,0,0,0,0,0]
["moon",0,0,0,0,0,0,0,0,0,0,0,0,0,0,0,0,0,0,0,0,0]
["moorish",0,0.1,0,0,0,0,0,0,0,0,0,0,0,0,0,0,0,0,0,0,0]
["morall",0,0,0,0,0,0,0,0,0,0,0,0,0,0,0,0,0,0,0,0,7.0372980000000002E-2]
["mornes",0,0,0,0,0,0,0,0,0,0,0,0,0,0,0,0,0,0,0,0,7.0372980000000002E-2]
["mortally",0,0,0,0,7.4183979999999997E-2,0,0,0,0,0,0,0,0,0,0,0,0,0,0,0,0]
["mortals",0,0,0,0,0,0,0,0,0,0,0,0,0,0,0,0,0,0,0,0,0]
["moth",0,0,0,0,0,0,0,0,0,0,0,0,0,0,0,0,0,0,0,0,0]
["mother's",0,0,0,0,0,0,0,0,0,0,0,0,0,0,0,0,0,0,0,0,0]
["motives",0,0,0,0,0,0,0,0,0,0,0,0,0,0,0,0,0,0,0,0,0]
["mountains",0,0,0,0,0,0,0,0,0,0,0,0,0,0,0,0,0,0,0,0,0]
["mouths",0,0,0,0,0,0,0,0,0,0,0,0,0,0,0,0,0,0,0,0,0]
["move",0,0,0,0,0,0,0,0,0,0,0,0,0,0,0,0,0,0,0,0,0]
["mud",0,0,0,0,0,0,0,0,0,0,0,0,0,0,0,0,0,0,0,0,0]
["murmuring",0,0,0,0,0,0,0,0,0,0,0,0,0,0,0,0,0,0,0,0,0]
["muscouy",0,0,0,0,0,0,0,0,0,0,0,0,0.1,0,0,0,0,0,0,0,0]
["musical",0,0,0,0,0,0,0,0,0,0,0,0,0,0,0,0,0,0,0,0,0]
["musk",0,0,0,0,0,0,0,0,0,0,0,0,0,0,0,0,0,0,0,0,0]
["musty",0,0,0,0,0,0,0,0.1,0,0,0,0,0,0,0,0,0,0,0,0,0]
["mutton",0,0,0,0,0,0,0,0,0,0,0,0,0,0,0,0,0,0,0,0,0]
["mutual",0,0,0,0,0,0,0,0,0,0,0,0,0,0,0,0,0,0,0,0,0]
["myne",0,0,0,0,0,0,0,0,0,0,0,0.1,0,0,0,0,0,0,0,0,0]
["myrtles",0,0,0,0,0,0,0,0,0,0,0,0,0,0,0,0,0,0,0,0,0]
["nakd",0,0,0,0,0,0,0,0,0,0,0,0,0,0,0,0,0,0,0.1,0,0]
["namancos",0,0,0,0,0,0,0,0,0,0,0,0,0,0,0,0,0,0,0,0,0]
["napkin",0,0,0,0,0,0,0,0,0,0,0,0,0,0,0,0,0,0,0,0,0]
["naturall",0,0,0,0,0,0,0.1,0,0,0,0,0,0,0,0,0,0,0,0,0,0]
["neck",0,0,0,0,0,0,0,0,0,0,0,0,0,0,0,0,0,0,0.1,0,0]
["neckes",0,0,0,0,0,0,0.1,0,0,0,0,0,0,0,0,0,0,0,0,0,0]
["needy",0,0,0,0,0,0,0,0,0,0,0,0,0.1,0,0,0,0,0,0,0,0]
["neer",0,0,0,0,0,0,0,0,0,0,0,0,0,0,0,0,0,0,0,0,7.0372980000000002E-2]
["negatiues",0,0,0,0,0,0,0,0,0,0,0,0,0,0,0,0,0.1,0,0,0,0]
["neglect",0,0,0,0,0,0,0,0,0,0,0,0,0,0,0,0,0,0,0,0,0]
["neighborhood",0,0.1,0,0,0,0,0,0,0,0,0,0,0,0,0,0,0,0,0,0,0]
["neighbouring",0,0,0,0,0,0,0,0,0,0,0,0,0,0,0,0,0,0,0,0,0]
["nere",0,0,0,0,0,0,0,0,0,0,0,0,0,0,0,0,0,0,0,0,7.0372980000000002E-2]
["nestors",0,0,0,0,0,0,0,0,0,0,0,0,0.1,0,0,0,0,0,0,0,0]
["newly",0,0,0,0,0,0,0,0,0,0,0,0,0,0,0,0,0,0,0,0,0]
["neæra's",0,0,0,0,0,0,0,0,0,0,0,0,0,0,0,0,0,0,0,0,0]
["niggard",0,0,0,0,0,0,0,0,0,0,0,0,0,0,0,0,0,0,0,0,0]
["niggarding",0,0,0,0,0,0,0,0,0,0,0,0,0,0,0,0,0,0,0,0,0]
["nimble",0,0,0,0,0,0,0,0,0,0,0,0,0,0,0,0,0,0.1,0,0,0]
["nimphe",0,0,0,0,0,0,0,0.1,0,0,0,0,0,0,0,0,0,0,0,0,0]
["nobilitie",0,0,0.1,0,0,0,0,0,0,0,0,0,0,0,0,0,0,0,0,0,0]
["nobleness",0,0,0,0,0,0,0,0,0,0,0,0,0,0.1,0,0,0,0,0,0,0]
["nook",0,0,0,0,0,0,0,0,0,0,0,0,0,0,0,0,0,0,0,0,0]
["noone",0,0,0,0,0,0,0,0,0,0,0,0,0,0,0,0,0,0.1,0,0,0]
["northerne",0.1,0,0,0,0,0,0,0,0,0,0,0,0,0,0,0,0,0,0,0,0]
["nostrels",0,0,0.1,0,0,0,0,0,0,0,0,0,0,0,0,0,0,0,0,0,0]
["nowhere",0,0,0,0,0,0,0,0,0,0,0,0,0,0,0,0,0,0,0,0,0]
["noyse",0,0,0,0,7.4183979999999997E-2,0,0,0,0,0,0,0,0,0,0,0,0,0,0,0,0]
["numberless",0,0,0,0,0,0,0,0,0,0,0,0,0,0,0,0,0,0,0,0,0]
["numbred",0,0.1,0,0,0,0,0,0,0,0,0,0,0,0,0,0,0,0,0,0,0]
["nurs'd",0,0,0,0,0,0,0,0,0,0,0,0,0,0,0,0,0,0,0,0,0]
["nurse",0,0,0,0,0,0,0,0,0,0,0.1,0,0,0,0,0,0,0,0,0,0]
["o'ergrown",0,0,0,0,0,0,0,0,0,0,0,0,0,0,0,0,0,0,0,0,0]
["o'ersnow'd",0,0,0,0,0,0,0,0,0,0,0,0,0,0,0,0,0,0,0,0,0]
["oat",0,0,0,0,0,0,0,0,0,0,0,0,0,0,0,0,0,0,0,0,0]
["oath",0,0,0,0,0,0,0,0,0,0,0,0,0,0,0,0,0,0,0,0,0]
["obeys",0,0,0,0,0,0,0,0,0,0,0,0,0,0,0,0,0,0,0,0,0]
["obiects",0,0,0,0,0,0,0,0,0,0.1,0,0,0,0,0,0,0,0,0,0,0]
["oblivions",0.1,0,0,0,0,0,0,0,0,0,0,0,0,0,0,0,0,0,0,0,0]
["observed",0,0,0,0,0,0,0,0,0,0,0,0,0,0,0,0,0,0,0,0,0]
["obtained",0,0,0,0,0,0,0,0,0.1,0,0,0,0,0,0,0,0,0,0,0,0]
["obtuse",0,0,0,0,0,0,0,0.1,0,0,0,0,0,0,0,0,0,0,0,0,0]
["odible",0,0,0,0,0,0,0,0.1,0,0,0,0,0,0,0,0,0,0,0,0,0]
["ods",0,0,0,0,0,0,0,0,0,0,0,0,0,0,0,0,0,0,0,0.1,0]
["offence",0,0,0,0,0,0,0,0,0,0,0,0,0,0,0,0,0,0,0,0,7.0372980000000002E-2]
["offences",0,0,0,0,0,0,0,0,0,0,0,0,0,0,0,0,0,0,0,0,0]
["office",0,0,0,0,0,0,0,0,0,0,0,0,0,0,0,0,0,0,0.1,0,0]
["offred'st",0,0,0,0,0,0,0,0,0,0.1,0,0,0,0,0,0,0,0,0,0,0]
["olde",0,0,0,0,0,0,0.1,0,0,0,0,0,0,0,0,0,0,0,0,0,0]
["olim",0,0,0,0,0,0.1,0,0,0,0,0,0,0,0,0,0,0,0,0,0,0]
["onley",0,0,0,0,0,0,0,0,0,0,0,0,0,0.1,0,0,0,0,0,0,0]
["onward",0,0,0,0,0,0,0,0,0,0,0,0,0,0,0,0,0,0,0.1,0,0]
["ope",0,0,0,0,0,0,0,0,0,0,0,0,0,0,0,0,0,0,0,0,7.0372980000000002E-2]
["opend",0,0,0,0,0,0,0,0,0,0,0,0,0,0.1,0,0,0,0,0,0,0]
["oppresse",0,0,0,0,7.4183979999999997E-2,0,0,0,0,0,0,0,0,0,0,0,0,0,0,0,0]
["oppressed",0,0,0,0,0,0.1,0,0,0,0,0,0,0,0,0,0,0,0,0,0,0]
["orange",0,0,0,0,0,0,0,0,0,0,0,0,0.1,0,0,0,0,0,0,0,0]
["oratio",0,0,0,0,0,0,0,0.1,0,0,0,0,0,0,0,0,0,0,0,0,0]
["orb",0,0,0,0,0,0,0,0,0,0,0,0,0,0,0,0,0,0,0,0,0]
["orbed",0,0,0,0,0,0,0,0,0,0,0,0,0,0,0,0,0,0,0,0,0]
["ordering",0,0,0,0,0,0,0,0,0,0,0,0,0,0,0,0,0,0,0,0,0]
["ordinarie",0,0,0,0,0,0,0,0,0.1,0,0,0,0,0,0,0,0,0,0,0,0]
["organ",0,0,0,0,0,0,0,0,0,0,0,0,0,0,0,0,0,0,0,0,0]
["origin",0,0,0,0,0,0,0,0,0,0,0,0,0,0,0,0,0,0,0,0,0]
["orpheus'",0,0,0,0,0,0,0,0,0,0,0,0,0,0,0,0,0,0,0,0,0]
["ostage",0,0,0,0,0,0,0,0,0,0,0,0,0,0,0,0,0,0.1,0,0,0]
["ouerpasse",0,0,0,0,0,0,0,0,0,0,0,0.1,0,0,0,0,0,0,0,0,0]
["ouerspred",0,0,0,0,0,0,0,0,0,0,0,0,0,0,0,0,0,0,0,0.1,0]
["outrage",0,0.1,0,0,0,0,0,0,0,0,0,0,0,0,0,0,0,0,0,0,0]
["outragiousnesse",0.1,0,0,0,0,0,0,0,0,0,0,0,0,0,0,0,0,0,0,0,0]
["overcome",0,0,0,0,0,0,0,0,0,0,0,0,0,0,0,0,0,0,0,0,0]
["overcomme",0.1,0,0,0,0,0,0,0,0,0,0,0,0,0,0,0,0,0,0,0,0]
["overgrowen",0.1,0,0,0,0,0,0,0,0,0,0,0,0,0,0,0,0,0,0,0,0]
["overkest",0,0,0,0.1,0,0,0,0,0,0,0,0,0,0,0,0,0,0,0,0,0]
["overthrow",0,0,0,0,0,0,0,0,0,0,0,0,0,0,0,0,0,0,0,0,0]
["overthrowe",0.1,0,0,0,0,0,0,0,0,0,0,0,0,0,0,0,0,0,0,0,0]
["owle",0,0.1,0,0,0,0,0,0,0,0,0,0,0,0,0,0,0,0,0,0,0]
["own'd",0,0,0,0,0,0,0,0,0,0,0,0,0,0,0,0,0,0,0,0,0]
["paid",0,0,0,0,0,0,0,0,0,0,0,0,0,0,0,0,0,0.1,0,0,0]
["painfull",0,0,0,0,0,0,0,0,0.1,0,0,0,0,0,0,0,0,0,0,0,0]
["paled",0,0,0,0,0,0,0,0,0,0,0,0,0,0,0,0,0,0,0,0,0]
["paleness",0,0,0,0,0,0,0,0,0,0,0,0,0,0,0,0,0,0,0,0,0]
["pallaces",0.1,0,0,0,0,0,0,0,0,0,0,0,0,0,0,0,0,0,0,0,0]
["pallas",0,0,0,0,0,0,0,0,0,0,0,0,0,0,0,0,0,0,0,0,0]
["pansy",0,0,0,0,0,0,0,0,0,0,0,0,0,0,0,0,0,0,0,0,0]
["panting",0,0,0,0,0,0,0,0,0,0,0,0,0,0,0.1,0,0,0,0,0,0]
["paradize",0,0,0,0,7.4183979999999997E-2,0,0,0,0,0,0,0,0,0,0,0,0,0,0,0,0]
["paragon",0,0.1,0,0,0,0,0,0,0,0,0,0,0,0,0,0,0,0,0,0,0]
["parching",0,0,0,0,0,0,0,0,0,0,0,0,0,0,0,0,0,0,0,0,0]
["parcht",0,0,0,0,0,0,0,0,0,0,0,0.1,0,0,0,0,0,0,0,0,0]
["parreage",0,0,0,0,0,0,0,0.1,0,0,0,0,0,0,0,0,0,0,0,0,0]
["parrot",0,0,0,0,0,0,0,0,0,0,0,0,0,0,0,0,0,0,0,0,0]
["partiall",0,0,0,0,0,0,0,0,0.1,0,0,0,0,0,0,0,0,0,0,0,0]
["particles",0,0,0,0,0,0,0,0.1,0,0,0,0,0,0,0,0,0,0,0,0,0]
["party",0,0,0,0,0,0,0,0,0,0,0,0,0,0,0,0,0,0,0,0,0]
["pass",0,0,0,0,0,0,0,0,0,0,0,0.1,0,0,0,0,0,0,0,0,0]
["passing",0,0,0.1,0,0,0,0,0,0,0,0,0,0,0,0,0,0,0,0,0,0]
["pastimes",0,0,0,0,0,0,0,0,0,0,0,0,0,0,0,0,0,0,0,0.1,0]
["pastures",0,0,0,0,0,0,0,0,0,0,0,0,0,0,0,0,0,0,0,0,0]
["patents",0,0,0,0,0,0,0,0,0,0,0,0,0.1,0,0,0,0,0,0,0,0]
["patrone",0,0,0.1,0,0,0,0,0,0,0,0,0,0,0,0,0,0,0,0,0,0]
["patterns",0,0,0,0,0,0,0,0,0,0,0,0,0,0,0,0,0,0,0,0,0]
["peaceful",0,0,0,0,0,0,0,0,0,0,0,0,0,0,0,0,0,0,0,0,0]
["pealing",0,0,0,0,0,0,0,0,0,0,0,0,0,0,0,0,0,0,0,0,0]
["pearls",0,0,0,0,0,0,0,0,0,0,0,0,0,0,0,0,0,0,0,0,0]
["pecorius",0,0,0,0,0,0.1,0,0,0,0,0,0,0,0,0,0,0,0,0,0,0]
["peer",0,0,0,0,0,0,0,0,0,0,0,0,0,0,0,0,0,0,0,0,0]
["peerles",0,0,0.1,0,0,0,0,0,0,0,0,0,0,0,0,0,0,0,0,0,0]
["pendragon",0.1,0,0,0,0,0,0,0,0,0,0,0,0,0,0,0,0,0,0,0,0]
["penetrancie",0,0,0,0,0,0,0,0.1,0,0,0,0,0,0,0,0,0,0,0,0,0]
["pensiuenesse",0,0,0,0,0,0,0,0,0,0,0,0.1,0,0,0,0,0,0,0,0,0]
["pensived",0,0,0,0,0,0,0,0,0,0,0,0,0,0,0,0,0,0,0,0,0]
["perch'd",0,0,0,0,0,0,0,0,0,0.1,0,0,0,0,0,0,0,0,0,0,0]
["perchaunce",0,0,0,0,0,0,0,0,0,0,0,0,0,0,0,0,0,0,0,0,7.0372980000000002E-2]
["perfections",0,0,0,0,0,0,0,0,0,0,0,0,0,0,0,0,0.1,0,0,0,0]
["perfet",0,0,0,0,0,0,0,0,0,0,0,0,0,0,0,0,0,0,0,0,7.0372980000000002E-2]
["perfumed",0,0,0,0,0,0,0,0,0,0,0,0,0,0,0,0,0,0,0,0,0]
["perilous",0,0,0,0,0,0,0,0,0,0,0,0,0,0,0,0,0,0,0,0,0]
["perishe",0,0,0.1,0,0,0,0,0,0,0,0,0,0,0,0,0,0,0,0,0,0]
["permit",0,0,0,0,0,0,0,0,0,0,0,0,0,0,0,0,0,0,0,0,0]
["perplexity",0,0,0,0,0,0,0,0,0,0,0,0,0,0,0,0,0,0,0,0.1,0]
["perseus",0,0,0,0,7.4183979999999997E-2,0,0,0,0,0,0,0,0,0,0,0,0,0,0,0,0]
["personal",0,0,0,0,0,0,0,0,0,0,0,0,0,0,0,0,0,0,0,0,0]
["persons",0,0,0,0,0,0.1,0,0,0,0,0,0,0,0,0,0,0,0,0,0,0]
["perswasions",0,0,0,0,0,0,0,0,0,0.1,0,0,0,0,0,0,0,0,0,0,0]
["pertakers",0,0,0,0,0,0.1,0,0,0,0,0,0,0,0,0,0,0,0,0,0,0]
["petrarchs",0,0,0,0,0,0,0,0,0,0,0.1,0,0,0,0,0,0,0,0,0,0]
["pheasant",0,0,0,0,0,0,0,0,0,0,0,0,0,0,0,0,0,0,0,0,0]
["philosophy",0,0,0,0,0,0,0,0,0,0,0,0.1,0,0,0,0,0,0,0,0,0]
["phip",0,0,0,0,0,0,0,0,0,0,0,0,0,0,0,0,0,0,0.1,0,0]
["phyllis",0,0,0,0,0,0,0,0,0,0,0,0,0,0,0,0,0,0,0,0,0]
["physic",0,0,0,0,0,0,0,0,0,0,0,0,0,0,0,0,0,0,0,0,0]
["pieced",0,0,0,0,0,0,0,0,0,0,0,0,0,0,0,0,0,0,0,0,0]
["pierian",0,0,0,0.1,0,0,0,0,0,0,0,0,0,0,0,0,0,0,0,0,0]
["pilgrims",0,0,0,0,0,0,0,0,0,0.1,0,0,0,0,0,0,0,0,0,0,0]
["pillars",0,0,0,0,0,0,0,0,0,0,0,0,0,0,0,0,0,0,0,0,0]
["pilot",0,0,0,0,0,0,0,0,0,0,0,0,0,0,0,0,0,0,0,0,0]
["pinch'd",0,0,0,0,0,0,0,0,0,0,0,0,0,0,0,0,0,0,0,0,0]
["pink",0,0,0,0,0,0,0,0,0,0,0,0,0,0,0,0,0,0,0,0,0]
["pinnes",0,0,0,0,0,0,0,0,0,0,0.1,0,0,0,0,0,0,0,0,0,0]
["pitch",0,0,0,0,0,0,0,0,0,0,0,0,0,0,0,0,0,0,0,0,0]
["piteouslie",0.1,0,0,0,0,0,0,0,0,0,0,0,0,0,0,0,0,0,0,0,0]
["pitying",0,0,0,0,0,0,0,0,0,0,0.1,0,0,0,0,0,0,0,0,0,0]
["plagues",0,0,0,0,0,0,0,0,0,0,0,0,0,0,0,0,0,0,0,0,0]
["plaintful",0,0,0,0,0,0,0,0,0,0,0,0,0,0,0,0,0,0,0,0,0]
["planets",0,0,0,0,0,0,0,0,0,0,0,0,0,0,0,0,0,0,0,0,7.0372980000000002E-2]
["platted",0,0,0,0,0,0,0,0,0,0,0,0,0,0,0,0,0,0,0,0,0]
["play'd",0,0,0,0,0,0,0,0,0,0,0,0,0,0,0,0,0,0,0,0,0]
["pleased",0,0,0,0,0,0,0,0,0.1,0,0,0,0,0,0,0,0,0,0,0,0]
["pleasingst",0,0,0,0,0,0,0,0,0,0,0,0,0,0,0,0,0,0.1,0,0,0]
["plenitude",0,0,0,0,0,0,0,0,0,0,0,0,0,0,0,0,0,0,0,0,0]
["plenteous",0,0.1,0,0,0,0,0,0,0,0,0,0,0,0,0,0,0,0,0,0,0]
["plot",0,0,0,0.1,0,0,0,0,0,0,0,0,0,0,0,0,0,0,0,0,0]
["ploughman",0,0,0,0,0,0,0,0,0,0,0,0,0,0,0,0,0,0,0,0,0]
["plumbeous",0,0,0,0,0,0,0,0.1,0,0,0,0,0,0,0,0,0,0,0,0,0]
["plunge",0,0,0,0,0,0,0,0,0,0,0.1,0,0,0,0,0,0,0,0,0,0]
["pluto",0,0,0,0,0,0,0,0,0,0,0,0,0,0,0,0,0,0,0,0,0]
["pluto's",0,0,0,0,0,0,0,0,0,0,0,0,0,0,0,0,0,0,0,0,0]
["pointed",0,0,0,0,0,0,0,0,0,0.1,0,0,0,0,0,0,0,0,0,0,0]
["pointing",0,0,0,0,0,0,0,0,0,0,0,0,0,0,0,0,0,0,0,0,0]
["poison'd",0,0,0,0,0,0,0,0,0,0,0,0,0,0,0,0,0,0,0,0,0]
["poles",0,0,0,0,0,0,0,0,0,0,0,0,0.1,0,0,0,0,0,0,0,0]
["pompous",0.1,0,0,0,0,0,0,0,0,0,0,0,0,0,0,0,0,0,0,0,0]
["pooley",0,0,0,0,0,0,0,0,0,0,0,0,0,0,0,0,0,0,0,0,0]
["porfecto",0,0,0,0,0,0.1,0,0,0,0,0,0,0,0,0,0,0,0,0,0,0]
["porphir",0,0,0,0,0,0,0,0,0,0.1,0,0,0,0,0,0,0,0,0,0,0]
["posied",0,0,0,0,0,0,0,0,0,0,0,0,0,0,0,0,0,0,0,0,0]
["possess",0,0,0,0,0,0,0,0,0,0,0,0,0,0,0,0,0,0,0,0,0]
["potential",0,0,0,0,0,0,0,0,0,0,0,0,0,0,0,0,0,0,0,0,0]
["potentissima",0,0,0,0,0,0.1,0,0,0,0,0,0,0,0,0,0,0,0,0,0,0]
["povertie",0,0,0.1,0,0,0,0,0,0,0,0,0,0,0,0,0,0,0,0,0,0]
["powdered",0,0,0,0,0,0,0,0,0,0,0,0,0,0,0,0,0,0,0,0,0]
["powres",0,0,0,0,0,0,0,0,0,0,0,0,0,0.1,0,0,0,0,0,0,0]
["poyson",0,0,0,0,0,0,0,0,0,0,0.1,0,0,0,0,0,0,0,0,0,0]
["praid",0,0,0,0.1,0,0,0,0,0,0,0,0,0,0,0,0,0,0,0,0,0]
["praie",0,0.1,0,0,0,0,0,0,0,0,0,0,0,0,0,0,0,0,0,0,0]
["prauncing",0,0,0,0,0,0,0,0,0,0,0,0,0,0,0.1,0,0,0,0,0,0]
["praying",0,0,0,0,0,0,0,0,0.1,0,0,0,0,0,0,0,0,0,0,0,0]
["preach'd",0,0,0,0,0,0,0,0,0,0,0,0,0,0,0,0,0,0,0,0,0]
["prease",0,0,0,0,0,0,0,0,0,0,0,0,0,0.1,0,0,0,0,0,0,0]
["prefer",0,0,0,0,0,0,0,0,0,0,0,0,0,0,0,0,0,0,0,0,0]
["prentice",0,0,0,0,0,0,0,0,0,0,0,0,0,0,0,0,0.1,0,0,0,0]
["presenting",0,0,0,0,0,0,0,0,0,0,0,0,0,0,0,0,0,0,0,0,0]
["presse",0,0,0,0,0,0,0,0,0,0,0,0,0,0,0.1,0,0,0,0,0,0]
["presumed",0,0,0,0,0,0,0,0,0,0,0,0,0,0,0,0,0,0,0,0,0]
["pretence",0,0,0,0,0,0,0,0,0,0,0,0,0,0,0.1,0,0,0,0,0,0]
["pretier",0,0,0,0,0,0,0.1,0,0,0,0,0,0,0,0,0,0,0,0,0,0]
["prevailed",0.1,0,0,0,0,0,0,0,0,0,0,0,0,0,0,0,0,0,0,0,0]
["pricking",0,0,0,0,0,0,0,0,0,0,0.1,0,0,0,0,0,0,0,0,0,0]
["prie",0,0,0,0,0,0,0,0,0,0,0,0,0,0,0,0,0.1,0,0,0,0]
["princely",0,0,0,0,0,0,0.1,0,0,0,0,0,0,0,0,0,0,0,0,0,0]
["print",0,0,0,0,0,0,0,0,0,0,0,0,0,0,0,0,0,0,0,0,0]
["prisoner",0,0,0,0,0,0,0,0,0,0,0,0,0,0,0,0,0,0,0,0,0]
["prisoners",0,0,0,0,0,0,0,0,0,0,0,0,0,0.1,0,0,0,0,0,0,0]
["priviledge",0,0,0,0,0,0,0,0,0,0,0,0,0.1,0,0,0,0,0,0,0,0]
["privileged",0,0,0,0,0,0,0,0,0,0,0,0,0,0,0,0,0,0,0,0,0]
["problemes",0,0,0,0,0,0,0,0,0.1,0,0,0,0,0,0,0,0,0,0,0,0]
["problems",0,0,0,0,0,0,0,0,0.1,0,0,0,0,0,0,0,0,0,0,0,0]
["procure",0,0,0,0,0,0,0,0,0,0,0,0.1,0,0,0,0,0,0,0,0,0]
["procured",0,0,0,0,0,0,0,0,0,0,0,0,0,0,0,0,0,0,0,0,0]
["profession",0,0,0,0,0,0,0.1,0,0,0,0,0,0,0,0,0,0,0,0,0,0]
["profitless",0,0,0,0,0,0,0,0,0,0,0,0,0,0,0,0,0,0,0,0,0]
["proller",0,0,0,0,0,0,0,0.1,0,0,0,0,0,0,0,0,0,0,0,0,0]
["promised",0,0,0,0,0,0,0,0,0,0,0,0,0,0,0,0,0,0,0,0,0]
["promontory",0,0,0,0,0,0,0,0,0,0,0,0,0,0,0,0,0,0,0,0,0]
["prompt",0,0,0,0,0,0,0,0,0,0,0,0,0,0,0,0,0,0,0,0,0]
["proofs",0,0,0,0,0,0,0,0,0,0,0,0,0,0,0,0,0,0,0,0,0]
["prooue",0,0,0,0,0,0,0,0,0,0.1,0,0,0,0,0,0,0,0,0,0,0]
["propertis",0,0,0.1,0,0,0,0,0,0,0,0,0,0,0,0,0,0,0,0,0,0]
["prophecie",0,0,0,0,7.4183979999999997E-2,0,0,0,0,0,0,0,0,0,0,0,0,0,0,0,0]
["prophetic",0,0,0,0,0,0,0,0,0,0,0,0,0,0,0,0,0,0,0,0,0]
["proposed",0,0,0,0,0,0,0,0,0.1,0,0,0,0,0,0,0,0,0,0,0,0]
["protected",0,0,0,0,0,0.1,0,0,0,0,0,0,0,0,0,0,0,0,0,0,0]
["protection",0,0,0,0,0,0,0,0,0,0,0,0,0,0,0,0,0,0,0,0,0]
["provide",0,0,0.1,0,0,0,0,0,0,0,0,0,0,0,0,0,0,0,0,0,0]
["proving",0,0,0,0,0,0,0,0,0,0,0,0,0,0,0,0,0,0,0,0,0]
["puella",0,0,0,0,0,0.1,0,0,0,0,0,0,0,0,0,0,0,0,0,0,0]
["puissant",0,0,0.1,0,0,0,0,0,0,0,0,0,0,0,0,0,0,0,0,0,0]
["pull'd",0,0,0,0,0,0,0,0,0,0,0,0,0,0,0,0,0,0,0,0,0]
["pulling",0,0,0,0,0,0.1,0,0,0,0,0,0,0,0,0,0,0,0,0,0,0]
["punisht",0,0,0,0,0,0,0,0,0,0,0,0,0.1,0,0,0,0,0,0,0,0]
["purchas",0,0,0,0,7.4183979999999997E-2,0,0,0,0,0,0,0,0,0,0,0,0,0,0,0,0]
["puritie",0,0,0,0,0,0.1,0,0,0,0,0,0,0,0,0,0,0,0,0,0,0]
["purling",0,0,0,0,0,0,0,0,0,0,0.1,0,0,0,0,0,0,0,0,0,0]
["purse",0,0,0,0,0,0,0,0,0,0,0,0,0,0,0,0,0,0.1,0,0,0]
["pursued",0,0,0,0,0,0.1,0,0,0,0,0,0,0,0,0,0,0,0,0,0,0]
["pyramides",0,0,0,0.1,0,0,0,0,0,0,0,0,0,0,0,0,0,0,0,0,0]
["pæn",0,0,0,0,0,0,0,0,0,0,0,0,0,0,0,0,0.1,0,0,0,0]
["quake",0,0,0,0,0,0,0,0,0,0,0,0,0,0,0,0.1,0,0,0,0,0]
["quaking",0,0,0,0,0,0,0,0,0,0.1,0,0,0,0,0,0,0,0,0,0,0]
["quarters",0,0,0,0,0,0.1,0,0,0,0,0,0,0,0,0,0,0,0,0,0,0]
["quench",0,0,0,0,0,0,0,0,0,0,0,0,0,0,0,0,0.1,0,0,0,0]
["questione",0,0,0,0,0,0,0,0,0.1,0,0,0,0,0,0,0,0,0,0,0,0]
["quick",0,0,0,0,0,0,0,0,0,0,0,0,0,0,0,0,0.1,0,0,0,0]
["quicklie",0,0,0.1,0,0,0,0,0,0,0,0,0,0,0,0,0,0,0,0,0,0]
["quietly",0,0,0,0,0,0,0,0.1,0,0,0,0,0,0,0,0,0,0,0,0,0]
["quills",0,0,0,0,0,0,0,0,0,0,0,0,0,0,0,0,0,0,0,0,0]
["quips",0,0,0,0,0,0,0,0,0,0,0,0,0,0,0,0,0,0,0,0,0]
["quiuer",0,0,0,0,0,0,0,0,0,0,0.1,0,0,0,0,0,0,0,0,0,0]
["quiuers",0,0,0,0,0,0,0,0,0,0,0,0,0,0,0,0,0,0,0,0,7.0372980000000002E-2]
["raced",0,0.1,0,0,0,0,0,0,0,0,0,0,0,0,0,0,0,0,0,0,0]
["rack",0,0,0,0,0,0,0,0,0,0,0,0,0,0,0,0,0,0,0,0,0]
["rages",0,0,0,0,0,0,0.1,0,0,0,0,0,0,0,0,0,0,0,0,0,0]
["rail",0,0,0,0,0,0,0,0,0,0,0,0,0,0,0,0,0,0,0,0,0]
["rainbowe",0,0,0,0,7.4183979999999997E-2,0,0,0,0,0,0,0,0,0,0,0,0,0,0,0,0]
["raisd",0,0,0,0,0,0,0,0,0,0,0,0,0.1,0,0,0,0,0,0,0,0]
["rapt",0,0,0,0,0,0,0,0,0,0,0,0,0,0,0,0,0,0,0,0,0]
["rate",0,0,0,0,0,0,0,0,0,0,0,0,0,0,0,0,0,0,0,0.1,0]
["rauishing",0,0,0,0,0,0,0,0,0,0,0,0,0,0,0,0.1,0,0,0,0,0]
["raven",0,0,0,0,0,0,0,0,0,0,0,0,0,0,0,0,0,0,0,0,0]
["ray",0,0,0,0,7.4183979999999997E-2,0,0,0,0,0,0,0,0,0,0,0,0,0,0,0,0]
["razde",0,0,0,0,0,0,0,0,0,0,0,0,0.1,0,0,0,0,0,0,0,0]
["real",0,0,0,0,0,0,0,0,0,0,0,0,0,0,0,0,0,0,0,0,0]
["realme",0,0,0,0,0,0,0,0,0,0,0,0,0,0,0,0,0.1,0,0,0,0]
["rear",0,0,0,0,0,0,0,0,0,0,0,0,0,0,0,0,0,0,0,0,0]
["reard",0,0,0,0,7.4183979999999997E-2,0,0,0,0,0,0,0,0,0,0,0,0,0,0,0,0]
["rebecks",0,0,0,0,0,0,0,0,0,0,0,0,0,0,0,0,0,0,0,0,0]
["rebels",0,0,0,0,0,0,0,0,0,0.1,0,0,0,0,0,0,0,0,0,0,0]
["receives",0,0,0,0,0,0,0,0,0,0,0,0,0,0,0,0,0,0,0,0,0]
["reck'ning",0,0,0,0,0,0,0,0,0,0,0,0,0,0,0,0,0,0,0,0,0]
["recompense",0,0,0,0,0,0,0,0,0,0,0,0,0,0,0,0,0,0,0,0,0]
["reconciled",0,0,0,0,0,0,0,0,0,0,0,0,0,0,0,0,0,0,0,0,0]
["recordes",0,0,0,0,0,0,0.1,0,0,0,0,0,0,0,0,0,0,0,0,0,0]
["recording",0,0,0,0.1,0,0,0,0,0,0,0,0,0,0,0,0,0,0,0,0,0]
["reddest",0,0,0,0,0,0,0,0,0,0,0,0,0,0,0,0,0,0,0,0,7.0372980000000002E-2]
["redress",0,0,0,0,0,0,0,0,0,0,0,0.1,0,0,0,0,0,0,0,0,0]
["reeds",0,0,0,0,0,0,0,0,0,0,0,0,0,0,0,0,0,0,0,0,0]
["reeleth",0,0,0,0,0,0,0,0,0,0,0,0,0,0,0,0,0,0,0,0,0]
["refreshing",0,0,0,0,0,0,0,0.1,0,0,0,0,0,0,0,0,0,0,0,0,0]
["reft",0,0,0,0,0,0,0,0,0,0,0,0,0,0,0,0,0,0,0,0,0]
["refused",0,0,0,0,0,0,0,0,0,0,0,0,0,0,0,0,0,0,0,0,0]
["regain'd",0,0,0,0,0,0,0,0,0,0,0,0,0,0,0,0,0,0,0,0,0]
["register",0,0,0,0,0,0,0,0,0,0,0,0,0,0,0,0,0,0,0,0,0]
["rehearse",0,0,0.1,0,0,0,0,0,0,0,0,0,0,0,0,0,0,0,0,0,0]
["reign'd",0,0,0,0,0,0,0,0,0,0,0,0,0,0,0,0,0,0,0,0,0]
["reioice",0,0,0,0,0,0,0,0,0.1,0,0,0,0,0,0,0,0,0,0,0,0]
["rejoyce",0,0,0.1,0,0,0,0,0,0,0,0,0,0,0,0,0,0,0,0,0,0]
["release",0,0,0,0,0,0,0,0,0,0,0,0,0,0.1,0,0,0,0,0,0,0]
["remain",0,0,0,0,0,0,0,0,0,0,0,0,0,0,0,0,0,0,0,0,0]
["remain'd",0,0,0,0,0,0,0,0,0,0,0,0,0,0,0,0,0,0,0,0,0]
["removed",0,0,0,0,0,0,0,0,0,0,0,0,0,0,0,0,0,0,0,0,0]
["rend",0,0,0,0,0,0,0,0,0,0,0,0,0.1,0,0,0,0,0,0,0,0]
["renewe",0,0,0,0,0,0,0,0,0,0,0,0,0,0,0,0,0,0,0.1,0,0]
["renewest",0,0,0,0,0,0,0,0,0,0,0,0,0,0,0,0,0,0,0,0,0]
["renownd",0,0,0,0.1,0,0,0,0,0,0,0,0,0,0,0,0,0,0,0,0,0]
["rents",0,0,0,0,0,0,0,0,0,0,0,0,0,0,0,0,0,0,0,0,0]
["repeat",0,0,0,0,0,0,0,0,0,0,0,0,0,0,0,0,0,0,0,0,0]
["repent",0,0,0,0,0,0,0,0,0,0,0.1,0,0,0,0,0,0,0,0,0,0]
["replied",0,0,0,0,0,0,0,0,0,0,0,0,0,0,0,0,0,0,0,0,0]
["reply",0,0,0,0,0,0,0,0,0,0,0,0,0,0,0,0.1,0,0,0,0,0]
["reproof",0,0,0,0,0,0,0,0,0,0,0,0,0,0,0,0,0,0,0,0,0]
["reproue",0,0,0,0,0,0,0,0,0,0,0,0,0,0,0,0,0,0,0,0,7.0372980000000002E-2]
["requiem",0,0.1,0,0,0,0,0,0,0,0,0,0,0,0,0,0,0,0,0,0,0]
["require",0,0,0,0,0,0,0,0,0.1,0,0,0,0,0,0,0,0,0,0,0,0]
["resolu'd",0,0,0,0,0,0,0,0,0,0,0,0,0,0,0,0,0.1,0,0,0,0]
["resolved",0,0,0,0,0,0,0,0,0,0,0,0,0,0,0,0,0,0,0,0,0]
["resownd",0,0,0.1,0,0,0,0,0,0,0,0,0,0,0,0,0,0,0,0,0,0]
["respects",0,0,0,0,0,0,0,0,0,0,0,0,0.1,0,0,0,0,0,0,0,0]
["restlesse",0,0,0,0,0,0,0,0,0,0,0.1,0,0,0,0,0,0,0,0,0,0]
["rests",0,0,0,0,0,0,0,0,0,0,0,0,0,0,0,0,0,0,0,0,0]
["retires",0,0,0,0,0,0,0,0,0,0.1,0,0,0,0,0,0,0,0,0,0,0]
["retrait",0,0,0,0,0,0,0,0,0,0,0,0,0,0,0,0,0,0.1,0,0,0]
["reuertebo",0,0,0,0,0,0.1,0,0,0,0,0,0,0,0,0,0,0,0,0,0,0]
["revelry",0,0,0,0,0,0,0,0,0,0,0,0,0,0,0,0,0,0,0,0,0]
["rhetoricall",0,0,0,0,0,0,0,0.1,0,0,0,0,0,0,0,0,0,0,0,0,0]
["rhubarbe",0,0,0,0,0,0,0,0,0,0,0.1,0,0,0,0,0,0,0,0,0,0]
["richer",0,0,0,0,0,0,0.1,0,0,0,0,0,0,0,0,0,0,0,0,0,0]
["richly",0,0,0,0,0,0,0,0,0,0,0,0,0,0,0,0,0,0,0,0,0]
["rie",0.1,0,0,0,0,0,0,0,0,0,0,0,0,0,0,0,0,0,0,0,0]
["rife",0,0,0,0,7.4183979999999997E-2,0,0,0,0,0,0,0,0,0,0,0,0,0,0,0,0]
["rigours",0,0,0,0,0,0,0,0,0,0,0,0,0,0,0,0,0,0,0,0,7.0372980000000002E-2]
["rill",0,0,0,0,0,0,0,0,0,0,0,0,0,0,0,0,0,0,0,0,0]
["riper",0,0,0,0,0,0,0,0,0,0,0,0,0,0,0,0,0,0,0,0,0]
["ris",0,0,0,0,0,0,0.1,0,0,0,0,0,0,0,0,0,0,0,0,0,0]
["rithmes",0,0,0,0,0,0,0,0,0,0,0,0,0,0,0,0,0,0,0,0,0]
["riven",0.1,0,0,0,0,0,0,0,0,0,0,0,0,0,0,0,0,0,0,0,0]
["robes",0,0,0,0,0,0,0,0,0,0,0,0,0,0,0,0,0,0,0,0,0]
["rocking",0,0,0,0,0,0,0,0,0,0,0,0,0,0,0,0,0,0,0,0,0]
["rod",0.1,0,0,0,0,0,0,0,0,0,0,0,0,0,0,0,0,0,0,0,0]
["rodde",0,0,0,0,0,0,0,0,0,0,0,0,0,0,0,0,0,0.1,0,0,0]
["romane",0.1,0,0,0,0,0,0,0,0,0,0,0,0,0,0,0,0,0,0,0,0]
["romanes",0.1,0,0,0,0,0,0,0,0,0,0,0,0,0,0,0,0,0,0,0,0]
["rounds",0,0,0,0,0,0,0,0,0,0,0,0,0,0,0,0,0,0,0,0,0]
["rouse",0,0,0,0,0,0,0,0,0,0,0,0,0,0,0,0,0,0,0,0,0]
["ruddie",0,0,0,0,0,0,0,0,0,0,0,0,0,0,0,0,0,0,0.1,0,0]
["rudeness",0,0,0,0,0,0,0,0,0,0,0,0,0,0,0,0,0,0,0,0,0]
["ruff",0,0,0,0,0,0,0,0,0,0,0,0,0,0,0,0,0,0,0,0,0]
["ruffle",0,0,0,0,0,0,0,0,0,0,0,0,0,0,0,0,0,0,0,0,0]
["ruinate",0,0,0,0,0,0,0,0,0,0,0,0,0,0,0,0,0,0,0,0,0]
["ruinous",0,0,0,0.1,0,0,0,0,0,0,0,0,0,0,0,0,0,0,0,0,0]
["runs",0,0,0,0,0,0,0,0,0,0,0,0,0,0,0,0,0,0,0,0,7.0372980000000002E-2]
["rural",0,0,0,0,0,0,0,0,0,0,0,0,0,0,0,0,0,0,0,0,0]
["rustie",0,0,0.1,0,0,0,0,0,0,0,0,0,0,0,0,0,0,0,0,0,0]
["rustish",0,0,0,0,0,0,0,0.1,0,0,0,0,0,0,0,0,0,0,0,0,0]
["sacrifise",0,0,0.1,0,0,0,0,0,0,0,0,0,0,0,0,0,0,0,0,0,0]
["sadded",0,0,0,0,0,0,0,0,0,0,0,0,0,0,0,0,0,0,0.1,0,0]
["saffron",0,0,0,0,0,0,0,0,0,0,0,0,0,0,0,0,0,0,0,0,0]
["sager",0,0,0,0,0,0,0,0,0,0,0,0,0,0,0,0,0,0,0,0,0]
["saile",0,0.1,0,0,0,0,0,0,0,0,0,0,0,0,0,0,0,0,0,0,0]
["sailes",0,0,0,0,0,0,0,0,0,0,0,0,0,0,0,0,0,0,0.1,0,0]
["saints",0,0,0,0,0,0,0,0,0,0,0,0,0,0,0,0,0,0,0,0,0]
["saist",0,0,0,0,0,0,0,0,0,0,0,0,0,0,0,0,0,0,0,0,7.0372980000000002E-2]
["salomon",0,0,0,0.1,0,0,0,0,0,0,0,0,0,0,0,0,0,0,0,0,0]
["salt",0,0,0,0,0,0,0,0,0,0,0,0,0,0,0,0,0,0,0,0,0]
["salvage",0,0,0,0,7.4183979999999997E-2,0,0,0,0,0,0,0,0,0,0,0,0,0,0,0,0]
["sanctified",0,0,0,0,0,0,0,0,0,0,0,0,0,0,0,0,0,0,0,0,0]
["sandie",0,0,0,0.1,0,0,0,0,0,0,0,0,0,0,0,0,0,0,0,0,0]
["sandiferous",0,0,0,0,0,0.1,0,0,0,0,0,0,0,0,0,0,0,0,0,0,0]
["sanguinolent",0,0,0,0,0,0.1,0,0,0,0,0,0,0,0,0,0,0,0,0,0,0]
["sap",0,0,0,0,0,0,0,0,0,0,0,0,0,0,0,0,0,0,0,0,0]
["sapphire",0,0,0,0,0,0,0,0,0,0,0,0,0,0,0,0,0,0,0,0,0]
["sat",0,0,0,0,0,0,0,0,0,0,0,0,0,0,0,0,0,0,0,0,0]
["satisfie",0,0,0,0,0,0,0.1,0,0,0,0,0,0,0,0,0,0,0,0,0,0]
["satisfies",0,0,0,0,0,0,0,0,0,0,0,0,0,0,0,0,0,0,0,0.1,0]
["saturn's",0,0,0,0,0,0,0,0,0,0,0,0,0,0,0,0,0,0,0,0,0]
["satyrs",0,0,0,0,0,0,0,0,0,0,0,0,0,0,0,0,0,0,0,0,0]
["savoury",0,0,0,0,0,0,0,0,0,0,0,0,0,0,0,0,0,0,0,0,0]
["saw'st",0,0,0,0,0,0,0,0,0,0.1,0,0,0,0,0,0,0,0,0,0,0]
["saxons",0.1,0,0,0,0,0,0,0,0,0,0,0,0,0,0,0,0,0,0,0,0]
["sayne",0,0,0,0,0,0,0,0.1,0,0,0,0,0,0,0,0,0,0,0,0,0]
["scant",0,0,0,0,0,0,0,0,0,0,0,0,0,0,0,0,0,0,0,0,0]
["scape",0,0,0,0,0,0,0,0,0,0,0,0,0.1,0,0,0,0,0,0,0,0]
["scarlet",0,0,0,0,0,0,0,0,0,0,0,0,0,0,0,0,0,0.1,0,0,0]
["scars",0,0,0,0,0,0,0,0,0,0,0,0,0,0,0,0,0,0,0,0,0]
["sceptr'd",0,0,0,0,0,0,0,0,0,0,0,0,0,0,0,0,0,0,0,0,0]
["schedules",0,0,0,0,0,0,0,0,0,0,0,0,0,0,0,0,0,0,0,0,0]
["school'd",0,0,0,0,0,0,0,0,0,0,0,0,0,0,0,0,0,0.1,0,0,0]
["schoolmistresse",0,0,0,0,0,0,0,0,0,0,0,0,0,0,0.1,0,0,0,0,0,0]
["scornes",0,0,0,0,0,0,0,0,0,0,0,0,0,0,0,0,0,0.1,0,0,0]
["scorning",0,0,0,0,0,0,0,0,0,0,0,0,0,0,0,0,0,0,0,0,7.0372980000000002E-2]
["scotch",0,0,0,0,0,0,0,0,0,0,0,0,0.1,0,0,0,0,0,0,0,0]
["scramble",0,0,0,0,0,0,0,0,0,0,0,0,0,0,0,0,0,0,0,0,0]
["seal",0,0,0,0,0,0,0,0,0,0,0,0,0,0,0,0,0,0,0,0,0]
["seal'd",0,0,0,0,0,0,0,0,0,0,0,0,0,0,0,0,0,0,0,0,0]
["season'd",0,0,0,0,0,0,0,0,0,0,0,0,0,0,0,0,0,0,0,0,0]
["seasons'",0,0,0,0,0,0,0,0,0,0,0,0,0,0,0,0,0,0,0,0,0]
["seats",0,0,0,0,0,0,0,0,0,0,0,0,0,0,0,0,0,0,0,0,0]
["seaven",0.1,0,0,0,0,0,0,0,0,0,0,0,0,0,0,0,0,0,0,0,0]
["secundum",0,0,0,0,0,0,0,0.1,0,0,0,0,0,0,0,0,0,0,0,0,0]
["secure",0,0,0,0,0,0,0,0,0,0,0,0,0,0,0,0,0,0,0,0,0]
["seed",0,0,0,0,7.4183979999999997E-2,0,0,0,0,0,0,0,0,0,0,0,0,0,0,0,0]
["seekst",0,0,0,0,0,0,0,0,0,0.1,0,0,0,0,0,0,0,0,0,0,0]
["seemde",0,0,0,0,0,0,0,0,0.1,0,0,0,0,0,0,0,0,0,0,0,0]
["seems",0,0,0,0,0,0,0,0,0,0.1,0,0,0,0,0,0,0,0,0,0,0]
["selfenesse",0,0,0,0,0,0,0,0,0,0,0,0,0,0,0,0.1,0,0,0,0,0]
["selfes",0,0,0.1,0,0,0,0,0,0,0,0,0,0,0,0,0,0,0,0,0,0]
["sencelesse",0,0,0,0.1,0,0,0,0,0,0,0,0,0,0,0,0,0,0,0,0,0]
["sences",0,0,0,0,0,0,0,0,0,0,0,0,0.1,0,0,0,0,0,0,0,0]
["sepulchers",0.1,0,0,0,0,0,0,0,0,0,0,0,0,0,0,0,0,0,0,0,0]
["sepulchres",0,0,0,0,0,0,0,0,0,0,0,0,0,0,0,0,0,0,0,0,0]
["seru'd",0,0,0,0,0,0,0,0,0,0.1,0,0,0,0,0,0,0,0,0,0,0]
["serues",0,0,0,0,0,0,0,0,0,0,0,0,0,0,0,0,0,0.1,0,0,0]
["serve",0,0,0,0,0,0,0,0,0,0,0,0,0,0,0,0,0,0,0,0,0]
["service",0,0,0,0,0,0,0,0,0,0,0,0,0,0,0,0,0,0,0,0,0]
["sets",0,0,0,0,0,0,0,0,0,0,0,0,0,0,0,0,0,0,0,0.1,0]
["setst",0,0,0,0,0,0,0,0,0,0.1,0,0,0,0,0,0,0,0,0,0,0]
["sever",0,0,0.1,0,0,0,0,0,0,0,0,0,0,0,0,0,0,0,0,0,0]
["sexes",0,0,0,0,0,0,0,0,0,0,0,0,0,0,0,0,0,0,0,0,0]
["shadowy",0,0,0,0,0,0,0,0,0,0,0,0,0,0,0,0,0,0,0,0,0]
["shaft",0,0,0,0,0,0,0,0,0,0,0,0,0,0,0,0,0,0,0,0,0]
["sham'd",0,0,0,0,0,0,0,0,0,0,0,0,0,0,0,0,0,0,0.1,0,0]
["share",0,0,0,0,0,0,0,0.1,0,0,0,0,0,0,0,0,0,0,0,0,0]
["sharpnesse",0,0,0,0,0,0,0,0,0,0,0,0,0,0,0,0.1,0,0,0,0,0]
["shatter",0,0,0,0,0,0,0,0,0,0,0,0,0,0,0,0,0,0,0,0,0]
["shearers'",0,0,0,0,0,0,0,0,0,0,0,0,0,0,0,0,0,0,0,0,0]
["shears",0,0,0,0,0,0,0,0,0,0,0,0,0,0,0,0,0,0,0,0,0]
["sheddeth",0,0.1,0,0,0,0,0,0,0,0,0,0,0,0,0,0,0,0,0,0,0]
["shedding",0.1,0,0,0,0,0,0,0,0,0,0,0,0,0,0,0,0,0,0,0,0]
["shent",0,0,0,0,0,0,0,0,0,0,0.1,0,0,0,0,0,0,0,0,0,0]
["shepeheard",0,0,0,0,0,0,0.1,0,0,0,0,0,0,0,0,0,0,0,0,0,0]
["shielded",0,0,0,0,0,0,0,0,0,0,0,0,0,0,0,0,0,0,0,0,0]
["shifts",0,0,0,0,0,0,0,0,0,0,0,0,0,0,0,0,0,0,0,0,0]
["ship",0,0.1,0,0,0,0,0,0,0,0,0,0,0,0,0,0,0,0,0,0,0]
["ships",0,0.1,0,0,0,0,0,0,0,0,0,0,0,0,0,0,0,0,0,0,0]
["shold",0,0,0,0,7.4183979999999997E-2,0,0,0,0,0,0,0,0,0,0,0,0,0,0,0,0]
["shoot",0,0,0,0.1,0,0,0,0,0,0,0,0,0,0,0,0,0,0,0,0,0]
["shortlie",0,0,0,0,7.4183979999999997E-2,0,0,0,0,0,0,0,0,0,0,0,0,0,0,0,0]
["shouts",0,0,0,0,0,0,0,0,0,0,0,0,0,0,0.1,0,0,0,0,0,0]
["showe",0,0,0,0,0,0,0,0,0,0,0.1,0,0,0,0,0,0,0,0,0,0]
["showing",0,0,0,0,0,0,0,0,0,0,0,0,0,0,0,0,0,0,0,0,0]
["shrewd",0,0,0,0,0,0,0,0,0,0,0.1,0,0,0,0,0,0,0,0,0,0]
["shriche",0,0.1,0,0,0,0,0,0,0,0,0,0,0,0,0,0,0,0,0,0,0]
["shrikes",0,0,0,0.1,0,0,0,0,0,0,0,0,0,0,0,0,0,0,0,0,0]
["shroud",0,0,0,0,0,0,0,0,0,0,0,0,0,0,0,0,0,0,0,0,0]
["shun",0,0,0,0,0,0,0,0,0,0,0,0,0,0,0,0,0,0,0,0,0]
["shunn'd",0,0,0,0,0,0,0,0,0,0,0,0,0,0,0,0,0,0,0,0,0]
["shuts",0,0,0,0,0,0,0,0,0,0,0,0,0,0,0,0,0,0,0,0,0]
["sicilian",0,0,0,0,0,0,0,0,0,0,0,0,0,0,0,0,0,0,0,0,0]
["siege",0.1,0,0,0,0,0,0,0,0,0,0,0,0,0,0,0,0,0,0,0,0]
["sigh",0,0,0,0,0,0,0,0,0,0,0,0,0,0,0,0,0,0,0,0,7.0372980000000002E-2]
["silk",0,0,0,0,0,0,0,0,0,0,0,0,0,0,0,0,0,0,0,0,0]
["sillogisme",0,0,0,0,0,0,0,0.1,0,0,0,0,0,0,0,0,0,0,0,0,0]
["silver'd",0,0,0,0,0,0,0,0,0,0,0,0,0,0,0,0,0,0,0,0,0]
["simplicitie",0,0,0,0,0,0,0,0,0,0,0,0.1,0,0,0,0,0,0,0,0,0]
["singeth",0,0,0,0,0,0,0,0,0,0,0,0,0,0,0,0,0,0,0,0,0]
["singleness",0,0,0,0,0,0,0,0,0,0,0,0,0,0,0,0,0,0,0,0,0]
["sips",0,0,0,0,0,0,0,0,0,0,0,0,0,0,0,0,0,0,0,0,0]
["sires",0,0,0,0,0,0,0,0,0,0,0,0,0,0,0,0,0,0.1,0,0,0]
["skinnes",0,0,0,0,0,0,0,0,0,0,0,0.1,0,0,0,0,0,0,0,0,0]
["slack",0,0,0,0,0,0,0,0,0,0,0,0,0,0,0,0.1,0,0,0,0,0]
["slain",0,0,0,0,0,0,0,0,0,0,0,0,0,0.1,0,0,0,0,0,0,0]
["slake",0,0,0,0,0,0,0,0,0,0,0,0.1,0,0,0,0,0,0,0,0,0]
["slaye",0,0,0,0,0,0,0,0,0,0,0,0,0,0,0.1,0,0,0,0,0,0]
["sleep'st",0,0,0,0,0,0,0,0,0,0,0,0,0,0,0,0,0,0,0,0,0]
["sleight",0,0,0,0,0,0,0,0,0,0,0,0,0,0.1,0,0,0,0,0,0,0]
["slender",0,0,0,0.1,0,0,0,0,0,0,0,0,0,0,0,0,0,0,0,0,0]
["sliding",0,0,0,0,0,0,0,0,0,0,0,0,0,0,0,0,0,0,0,0,0]
["slight",0,0,0,0,0,0,0,0,0,0,0,0,0,0,0,0,0,0,0,0,0]
["slime",0,0,0.1,0,0,0,0,0,0,0,0,0,0,0,0,0,0,0,0,0,0]
["slipperie",0,0,0,0,0,0,0,0,0,0,0,0.1,0,0,0,0,0,0,0,0,0]
["sloth",0,0,0,0,0,0,0,0,0,0,0,0,0,0,0,0,0,0,0,0,0]
["slower",0,0,0,0,0,0,0,0,0,0,0,0,0,0,0,0,0,0,0,0,0]
["smal",0,0,0,0,0,0,0,0,0.1,0,0,0,0,0,0,0,0,0,0,0,0]
["smallest",0,0,0,0,0,0,0,0,0,0,0,0,0,0,0,0,0,0,0,0,0]
["smoake",0.1,0,0,0,0,0,0,0,0,0,0,0,0,0,0,0,0,0,0,0,0]
["smokes",0,0,0,0,0,0,0,0,0,0,0,0,0,0,0,0,0,0,0,0,0]
["smote",0,0,0,0,7.4183979999999997E-2,0,0,0,0,0,0,0,0,0,0,0,0,0,0,0,0]
["snowie",0,0,0,0,7.4183979999999997E-2,0,0,0,0,0,0,0,0,0,0,0,0,0,0,0,0]
["societies",0,0,0,0,0,0,0,0,0,0,0,0,0,0,0,0,0,0,0,0,0]
["sock",0,0,0,0,0,0,0,0,0,0,0,0,0,0,0,0,0,0,0,0,0]
["soere",0,0,0,0,0,0,0,0,0,0,0.1,0,0,0,0,0,0,0,0,0,0]
["softly",0,0,0,0,0,0,0,0,0,0,0,0,0,0,0,0,0,0,0,0,0]
["soiorned",0,0,0,0,0,0.1,0,0,0,0,0,0,0,0,0,0,0,0,0,0,0]
["sol's",0,0,0,0,0,0,0,0,0,0,0,0,0,0,0,0,0,0,0,0,0]
["solitary",0,0,0,0,0,0,0,0,0,0,0,0,0,0,0,0,0,0,0,0,0]
["solumm",0,0,0,0,0,0.1,0,0,0,0,0,0,0,0,0,0,0,0,0,0,0]
["somme",0.1,0,0,0,0,0,0,0,0,0,0,0,0,0,0,0,0,0,0,0,0]
["sommer",0,0,0,0,0,0,0,0,0,0,0,0,0,0,0,0,0,0,0,0.1,0]
["sonnes",0,0,0,0,0,0,0,0,0,0,0,0,0,0,0,0,0,0,0,0,7.0372980000000002E-2]
["sophistrie",0,0,0,0,0,0,0,0,0,0,0,0,0,0,0,0.1,0,0,0,0,0]
["sorrowfullie",0.1,0,0,0,0,0,0,0,0,0,0,0,0,0,0,0,0,0,0,0,0]
["soueraigntie",0,0,0,0,0,0,0,0,0,0,0,0,0,0,0,0,0.1,0,0,0,0]
["sounded",0,0,0,0,0,0,0,0.1,0,0,0,0,0,0,0,0,0,0,0,0,0]
["sounding",0,0,0,0,0,0,0,0,0,0,0,0,0,0,0,0,0,0,0,0,0]
["soyle",0,0,0,0.1,0,0,0,0,0,0,0,0,0,0,0,0,0,0,0,0,0]
["space",0,0,0,0,0,0,0,0,0,0,0,0,0,0,0,0,0,0,0,0,0]
["spangled",0,0,0,0,0,0,0,0,0,0,0,0,0,0,0,0,0,0,0,0,0]
["spar'd",0,0,0,0,0,0,0,0,0,0,0,0,0,0,0,0,0,0,0,0,0]
["sparke",0,0,0,0,0,0,0,0,0,0,0,0,0,0,0,0,0,0,0,0,7.0372980000000002E-2]
["spartanes",0,0,0,0,0,0,0,0,0,0,0,0,0,0,0,0,0,0,0,0.1,0]
["species",0,0,0,0,0,0,0,0.1,0,0,0,0,0,0,0,0,0,0,0,0,0]
["spectacle",0.1,0,0,0,0,0,0,0,0,0,0,0,0,0,0,0,0,0,0,0,0]
["speechless",0,0,0,0,0,0,0,0,0,0,0,0,0,0,0,0,0,0,0,0,0]
["speed",0,0,0,0,0,0,0,0,0,0,0,0,0,0,0.1,0,0,0,0,0,0]
["spight",0,0,0,0.1,0,0,0,0,0,0,0,0,0,0,0,0,0,0,0,0,0]
["spoiled",0,0,0,0,0,0,0,0,0,0,0,0,0,0,0,0,0,0,0,0,0]
["sponge",0,0,0.1,0,0,0,0,0,0,0,0,0,0,0,0,0,0,0,0,0,0]
["spongy",0,0,0,0,0,0,0,0,0,0,0,0,0,0,0,0,0,0,0,0,0]
["spotles",0,0,0.1,0,0,0,0,0,0,0,0,0,0,0,0,0,0,0,0,0,0]
["spotlesse",0,0,0,0,0,0,0,0,0,0,0,0,0,0,0,0,0,0,0.1,0,0]
["sprights",0,0,0,0,7.4183979999999997E-2,0,0,0,0,0,0,0,0,0,0,0,0,0,0,0,0]
["sprited",0,0,0,0,0,0,0,0,0,0,0,0,0,0,0,0,0,0,0,0.1,0]
["spurres",0,0,0,0,0,0,0,0,0,0,0,0,0,0,0.1,0,0,0,0,0,0]
["squire",0,0,0,0,7.4183979999999997E-2,0,0,0,0,0,0,0,0,0,0,0,0,0,0,0,0]
["staide",0,0,0,0,0,0,0,0,0,0.1,0,0,0,0,0,0,0,0,0,0,0]
["stain",0,0,0,0,0,0,0,0,0,0,0,0,0,0,0,0,0,0,0,0,0]
["stalk",0,0,0,0,0,0,0,0,0,0,0,0,0,0,0,0,0,0,0,0,0]
["stall",0,0,0,0,0,0,0,0,0,0,0,0,0,0,0,0,0,0,0.1,0,0]
["starr'd",0,0,0,0,0,0,0,0,0,0,0,0,0,0,0,0,0,0,0,0,0]
["starry",0,0,0,0,0,0,0,0,0,0,0,0,0,0,0,0,0,0,0,0,7.0372980000000002E-2]
["starue",0,0,0,0,0,0,0,0,0,0.1,0,0,0,0,0,0,0,0,0,0,0]
["starveling",0,0,0,0,0,0,0,0,0,0,0,0,0,0,0,0,0,0,0,0,0]
["statlier",0,0,0,0,0,0,0,0,0.1,0,0,0,0,0,0,0,0,0,0,0,0]
["stature",0,0,0,0,7.4183979999999997E-2,0,0,0,0,0,0,0,0,0,0,0,0,0,0,0,0]
["stayes",0,0,0,0,0,0,0,0,0,0.1,0,0,0,0,0,0,0,0,0,0,0]
["steal",0,0,0,0,0,0,0,0,0,0,0,0,0.1,0,0,0,0,0,0,0,0]
["steeples",0.1,0,0,0,0,0,0,0,0,0,0,0,0,0,0,0,0,0,0,0,0]
["stepped",0,0,0,0,0,0.1,0,0,0,0,0,0,0,0,0,0,0,0,0,0,0]
["stick'st",0,0,0,0,0,0,0,0,0,0,0,0,0,0,0,0,0,0,0,0,0]
["stilts",0,0,0,0,0,0,0,0,0,0,0,0,0,0,0,0,0.1,0,0,0,0]
["stirre",0,0,0,0,0,0,0,0,0,0,0,0,0,0,0,0,0,0.1,0,0,0]
["stirred",0,0,0,0,7.4183979999999997E-2,0,0,0,0,0,0,0,0,0,0,0,0,0,0,0,0]
["stomakes",0,0,0,0,0,0,0,0,0,0,0,0,0,0,0,0,0,0,0.1,0,0]
["stone's",0,0,0,0,0,0,0,0,0,0,0,0,0,0,0,0,0,0,0,0,0]
["stops",0,0,0,0,0,0,0,0,0,0,0,0,0,0,0,0,0,0,0,0,0]
["stopt",0,0,0,0,0,0,0,0,0,0,0,0,0,0,0.1,0,0,0,0,0,0]
["storie",0,0,0,0,0,0,0,0,0,0,0,0,0,0,0,0,0,0,0,0,7.0372980000000002E-2]
["storied",0,0,0,0,0,0,0,0,0,0,0,0,0,0,0,0,0,0,0,0,0]
["storme",0,0,0,0.1,0,0,0,0,0,0,0,0,0,0,0,0,0,0,0,0,0]
["stormed",0,0,0,0,0,0,0,0,0,0,0,0,0,0,0,0,0,0,0,0,7.0372980000000002E-2]
["storms",0,0,0,0,0,0,0,0,0,0.1,0,0,0,0,0,0,0,0,0,0,0]
["stout",0.1,0,0,0,0,0,0,0,0,0,0,0,0,0,0,0,0,0,0,0,0]
["strain'd",0,0,0,0,0,0,0,0,0,0,0,0,0,0,0,0,0,0,0,0,7.0372980000000002E-2]
["straine",0,0,0,0,0,0,0,0,0,0,0,0,0,0,0,0,0,0,0.1,0,0]
["strangers",0,0,0,0,0,0,0,0,0.1,0,0,0,0,0,0,0,0,0,0,0,0]
["stratagems",0,0,0,0,0,0,0,0,0,0,0,0,0.1,0,0,0,0,0,0,0,0]
["straying",0,0,0,0,0,0,0,0,0,0,0,0,0,0,0.1,0,0,0,0,0,0]
["streame",0,0,0,0,7.4183979999999997E-2,0,0,0,0,0,0,0,0,0,0,0,0,0,0,0,0]
["stretch",0,0,0,0,7.4183979999999997E-2,0,0,0,0,0,0,0,0,0,0,0,0,0,0,0,0]
["strew",0,0,0,0,0,0,0,0,0,0,0,0,0,0,0,0,0,0,0,0,0]
["stripes",0,0,0,0,0,0,0,0,0,0,0.1,0,0,0,0,0,0,0,0,0,0]
["strives",0,0,0,0,0,0,0,0,0,0,0,0,0,0,0,0,0,0,0,0,0]
["stronger",0,0,0,0,0,0,0,0,0,0,0,0,0,0,0,0,0,0,0,0.1,0]
["strongest",0,0,0,0,0,0,0,0,0,0,0,0,0,0,0,0.1,0,0,0,0,0]
["stroong",0,0,0,0,7.4183979999999997E-2,0,0,0,0,0,0,0,0,0,0,0,0,0,0,0,0]
["strove",0,0,0,0,0,0,0,0,0,0,0,0,0,0,0,0,0,0,0,0,0]
["struts",0,0,0,0,0,0,0,0,0,0,0,0,0,0,0,0,0,0,0,0,0]
["stuck",0,0,0,0,0,0,0,0,0,0,0,0,0,0,0,0,0,0,0,0,0]
["studying",0,0,0,0,0,0,0,0,0.1,0,0,0,0,0,0,0,0,0,0,0,0]
["stumbling",0,0,0,0,0,0,0,0,0,0,0,0,0,0,0,0,0,0,0,0.1,0]
["subdiuisionated",0,0,0,0,0,0,0,0.1,0,0,0,0,0,0,0,0,0,0,0,0,0]
["subduing",0,0,0,0,0,0,0,0,0,0,0,0,0,0,0,0,0,0,0,0,0]
["subjection",0,0,0,0,0,0,0,0,0,0,0,0,0,0,0,0,0,0,0,0,0]
["sublime",0,0,0,0,0,0,0,0,0,0,0,0,0,0,0,0,0,0.1,0,0,0]
["substance",0,0,0,0,0,0,0,0,0,0,0,0,0,0,0,0,0,0,0,0,0]
["substantial",0,0,0,0,0,0,0,0,0,0,0,0,0,0,0,0,0,0,0,0,0]
["succeeding",0,0.1,0,0,0,0,0,0,0,0,0,0,0,0,0,0,0,0,0,0,0]
["successe",0,0,0,0,0,0,0,0,0,0,0,0,0,0,0,0,0.1,0,0,0,0]
["suck",0,0,0,0,0,0,0,0,0,0,0,0,0,0,0,0,0,0,0,0,0]
["sucke",0,0,0,0,0,0,0,0,0,0,0,0,0,0,0,0,0,0,0.1,0,0]
["suddein",0,0,0,0,7.4183979999999997E-2,0,0,0,0,0,0,0,0,0,0,0,0,0,0,0,0]
["suddeinly",0,0,0,0,7.4183979999999997E-2,0,0,0,0,0,0,0,0,0,0,0,0,0,0,0,0]
["suff'ring",0,0,0,0,0,0,0,0,0,0,0,0,0,0,0,0,0,0,0,0.1,0]
["suffer",0,0,0,0,0,0,0,0,0.1,0,0,0,0,0,0,0,0,0,0,0,0]
["suffred",0,0,0,0,0,0,0,0,0,0,0,0,0,0,0,0,0,0,0.1,0,0]
["sugring",0,0,0,0,0,0,0,0,0,0,0,0,0,0,0,0.1,0,0,0,0,0]
["suitor",0,0,0,0,0,0.1,0,0,0,0,0,0,0,0,0,0,0,0,0,0,0]
["sulkes",0,0,0,0,0,0.1,0,0,0,0,0,0,0,0,0,0,0,0,0,0,0]
["summe",0,0,0,0,0,0,0,0,0,0,0,0,0,0,0,0,0,0,0.1,0,0]
["summers",0,0,0,0,7.4183979999999997E-2,0,0,0,0,0,0,0,0,0,0,0,0,0,0,0,0]
["sunlight",0,0,0,0,0,0,0,0,0,0,0,0,0,0,0,0,0,0,0,0.1,0]
["sunlike",0,0,0,0,0,0,0,0,0,0.1,0,0,0,0,0,0,0,0,0,0,0]
["sup",0,0,0,0,0,0,0,0,0,0,0,0,0,0,0,0,0,0,0,0,0]
["superancy",0,0,0,0,0,0,0,0.1,0,0,0,0,0,0,0,0,0,0,0,0,0]
["superfluous",0,0,0,0,0,0.1,0,0,0,0,0,0,0,0,0,0,0,0,0,0,0]
["superscription",0,0,0,0,0,0,0.1,0,0,0,0,0,0,0,0,0,0,0,0,0,0]
["surely",0,0.1,0,0,0,0,0,0,0,0,0,0,0,0,0,0,0,0,0,0,0]
["surging",0,0,0,0,0,0.1,0,0,0,0,0,0,0,0,0,0,0,0,0,0,0]
["survive",0,0,0.1,0,0,0,0,0,0,0,0,0,0,0,0,0,0,0,0,0,0]
["sute",0,0,0,0,0,0,0,0,0,0,0,0,0,0,0.1,0,0,0,0,0,0]
["swaine",0,0.1,0,0,0,0,0,0,0,0,0,0,0,0,0,0,0,0,0,0,0]
["swam",0,0,0,0,0,0,0,0,0,0,0,0,0,0,0,0,0,0,0.1,0,0]
["sweat",0,0,0,0,0,0,0,0,0,0,0,0,0,0,0,0,0,0,0,0,0]
["sweates",0,0,0,0,0,0,0,0,0,0,0,0,0,0,0,0,0,0,0,0,7.0372980000000002E-2]
["sweeping",0,0,0,0,0,0,0,0,0,0,0,0,0,0,0,0,0,0,0,0,0]
["sweeten",0,0,0,0,0,0,0,0,0,0,0,0,0,0,0,0,0,0,0,0.1,0]
["sweetned",0,0,0,0,0,0,0,0,0,0,0,0,0,0,0,0,0,0,0,0,7.0372980000000002E-2]
["sweetnes",0,0,0.1,0,0,0,0,0,0,0,0,0,0,0,0,0,0,0,0,0,0]
["swept",0,0.1,0,0,0,0,0,0,0,0,0,0,0,0,0,0,0,0,0,0,0]
["swerue",0,0,0,0,0,0,0,0,0,0.1,0,0,0,0,0,0,0,0,0,0,0]
["swimming",0,0,0,0,7.4183979999999997E-2,0,0,0,0,0,0,0,0,0,0,0,0,0,0,0,0]
["swinging",0,0,0,0,0,0,0,0,0,0,0,0,0,0,0,0,0,0,0,0,0]
["swooning",0,0,0,0,0,0,0,0,0,0,0,0,0,0,0,0,0,0,0,0,0]
["sylent",0,0,0,0,0,0,0,0,0,0,0,0,0,0,0,0,0,0,0,0,7.0372980000000002E-2]
["syr",0,0,0,0,0,0,0,0,0,0,0,0,0,0,0,0,0,0,0.1,0,0]
["t'",0,0,0,0,0,0,0,0,0,0,0,0,0,0,0,0.1,0,0,0,0,0]
["taketh",0,0,0,0,0,0,0,0,0,0,0,0,0,0,0,0,0,0,0,0,0]
["talents",0,0,0,0,0,0,0,0,0,0,0,0,0,0,0,0,0,0,0,0,0]
["tangles",0,0,0,0,0,0,0,0,0,0,0,0,0,0,0,0,0,0,0,0,0]
["tann'd",0,0,0,0,0,0,0,0,0,0,0,0,0,0,0,0,0,0,0,0,0]
["tarry",0,0,0,0,0,0,0,0,0,0,0,0,0,0,0,0,0,0,0,0.1,0]
["tartar",0,0,0,0,0,0,0,0,0,0,0,0,0,0,0,0,0,0,0,0,0]
["tatter'd",0,0,0,0,0,0,0,0,0,0,0,0,0,0,0,0,0,0,0,0,0]
["teare",0,0,0,0,0,0,0,0,0,0,0,0,0,0,0,0,0,0,0,0,7.0372980000000002E-2]
["tearmes",0,0,0,0,7.4183979999999997E-2,0,0,0,0,0,0,0,0,0,0,0,0,0,0,0,0]
["teen",0,0,0,0,0,0,0,0,0,0,0,0,0,0,0,0,0,0,0,0,0]
["tempe",0,0,0,0,0,0,0,0,0,0,0,0,0,0,0,0,0,0.1,0,0,0]
["temper'd",0,0,0,0,0,0,0,0,0,0,0,0,0,0,0,0,0,0,0,0,0]
["templars",0,0,0,0,0,0,0,0.1,0,0,0,0,0,0,0,0,0,0,0,0,0]
["templation",0,0,0,0,0,0,0,0.1,0,0,0,0,0,0,0,0,0,0,0,0,0]
["tempted",0,0,0,0,0,0,0,0,0,0,0,0,0,0,0,0,0,0,0,0,0]
["tempter",0,0,0,0,0,0,0,0,0,0,0,0,0,0,0,0,0,0,0,0,0]
["termless",0,0,0,0,0,0,0,0,0,0,0,0,0,0,0,0,0,0,0,0,0]
["terms",0,0,0,0,0,0,0,0,0,0,0,0,0,0,0,0,0,0,0,0,0]
["testifies",0.1,0,0,0,0,0,0,0,0,0,0,0,0,0,0,0,0,0,0,0,0]
["text",0,0,0,0,0,0,0,0,0,0,0,0,0,0,0,0,0.1,0,0,0,0]
["th'adulteries",0,0,0,0,0,0,0,0,0,0,0,0,0,0,0,0,0,0,0,0,0]
["th'eclipse",0,0,0,0,0,0,0,0,0,0,0,0,0,0,0,0,0,0,0,0,0]
["th'effect",0,0,0,0,0,0,0,0,0,0.1,0,0,0,0,0,0,0,0,0,0,0]
["th'eternall",0,0,0,0,0,0,0,0,0,0,0,0,0.1,0,0,0,0,0,0,0,0]
["th'oaks",0,0,0,0,0,0,0,0,0,0,0,0,0,0,0,0,0,0,0,0,0]
["th'oaten",0,0,0,0,0,0,0,0,0,0,0,0,0,0,0,0,0,0,0,0,0]
["th'other",0,0,0,0,0,0,0,0,0,0,0,0,0,0,0.1,0,0,0,0,0,0]
["th'world",0,0,0,0,0,0,0,0,0,0,0,0,0,0,0,0,0,0,0,0,0]
["thames",0,0,0,0,0,0,0,0,0,0,0,0,0,0,0,0,0,0,0,0,7.0372980000000002E-2]
["thamesis",0.1,0,0,0,0,0,0,0,0,0,0,0,0,0,0,0,0,0,0,0,0]
["thamis",0,0.1,0,0,0,0,0,0,0,0,0,0,0,0,0,0,0,0,0,0,0]
["thank",0,0,0,0,0,0,0,0,0,0,0,0,0,0,0,0,0,0,0,0.1,0]
["thanke",0,0,0,0,0,0,0,0,0,0,0,0,0,0,0,0,0,0,0,0.1,0]
["thankes",0,0,0,0,0,0,0,0,0,0,0,0,0,0,0,0,0,0,0.1,0,0]
["thankfull",0,0,0,0,0,0,0,0,0,0,0,0,0,0,0,0,0,0,0,0.1,0]
["thankfully",0,0,0,0,0,0,0,0,0,0,0,0,0,0,0,0,0,0,0.1,0,0]
["thankless",0,0,0,0,0,0,0,0,0,0,0,0,0,0,0,0,0,0,0,0,0]
["theaters",0.1,0,0,0,0,0,0,0,0,0,0,0,0,0,0,0,0,0,0,0,0]
["thebes'",0,0,0,0,0,0,0,0,0,0,0,0,0,0,0,0,0,0,0,0,0]
["theefe",0,0,0,0,0,0,0,0,0,0,0.1,0,0,0,0,0,0,0,0,0,0]
["theeuish",0,0,0,0,0,0,0,0.1,0,0,0,0,0,0,0,0,0,0,0,0,0]
["theirs",0,0,0,0,0,0,0,0,0,0,0,0,0,0,0,0,0,0,0,0,0]
["there'",0,0,0,0,0,0,0,0,0,0,0,0,0,0,0,0,0,0,0,0,0]
["thereabouts",0,0,0,0,0,0,0,0,0,0,0.1,0,0,0,0,0,0,0,0,0,0]
["thereto",0,0,0.1,0,0,0,0,0,0,0,0,0,0,0,0,0,0,0,0,0,0]
["theretoo",0.1,0,0,0,0,0,0,0,0,0,0,0,0,0,0,0,0,0,0,0,0]
["therevpon",0,0,0,0,0,0,0.1,0,0,0,0,0,0,0,0,0,0,0,0,0,0]
["therions",0,0,0,0,0,0,0.1,0,0,0,0,0,0,0,0,0,0,0,0,0,0]
["thespia",0,0,0,0,0,0,0,0,0,0,0,0,0,0,0,0,0,0,0,0,0]
["thespian",0,0,0,0,0,0,0,0,0,0,0,0,0,0,0,0,0,0,0,0,0]
["thestylis",0,0,0,0,0,0,0,0,0,0,0,0,0,0,0,0,0,0,0,0,0]
["thetis",0,0,0,0.1,0,0,0,0,0,0,0,0,0,0,0,0,0,0,0,0,0]
["thick",0,0,0,0,0,0,0,0,0,0,0,0,0,0,0,0,0,0,0,0,0]
["thigh",0,0,0,0,0,0,0,0,0,0,0,0,0,0,0,0,0,0,0,0,0]
["thighes",0,0,0,0,7.4183979999999997E-2,0,0,0,0,0,0,0,0,0,0,0,0,0,0,0,0]
["thinks",0,0,0,0,0,0,0,0,0,0,0,0,0,0,0,0,0,0,0,0,0]
["thirsty",0,0,0,0,0,0,0,0,0,0,0,0,0,0,0,0,0,0,0,0,7.0372980000000002E-2]
["thorn",0,0,0,0,0,0,0,0,0,0,0,0,0,0,0,0,0,0,0,0,0]
["thornes",0,0,0,0,0,0,0,0,0,0,0,0,0,0,0,0,0,0.1,0,0,0]
["thorny",0,0,0,0,0,0,0,0,0,0.1,0,0,0,0,0,0,0,0,0,0,0]
["thorowest",0,0,0,0,0,0,0,0,0,0,0,0,0,0,0,0.1,0,0,0,0,0]
["thraldome",0,0,0,0,0,0,0,0,0,0,0,0,0,0,0,0,0,0,0,0,7.0372980000000002E-2]
["thrall",0.1,0,0,0,0,0,0,0,0,0,0,0,0,0,0,0,0,0,0,0,0]
["threaden",0,0,0,0,0,0,0,0,0,0,0,0,0,0,0,0,0,0,0,0,0]
["threat",0,0,0,0,0,0,0,0,0,0,0,0,0,0,0,0,0,0.1,0,0,0]
["threate",0,0,0,0.1,0,0,0,0,0,0,0,0,0,0,0,0,0,0,0,0,0]
["threatned",0,0,0,0,0,0,0,0,0,0,0.1,0,0,0,0,0,0,0,0,0,0]
["thred",0,0.1,0,0,0,0,0,0,0,0,0,0,0,0,0,0,0,0,0,0,0]
["threescore",0,0,0,0,0,0,0,0,0,0,0,0,0,0,0,0,0,0,0,0,0]
["thresh'd",0,0,0,0,0,0,0,0,0,0,0,0,0,0,0,0,0,0,0,0,0]
["thretning",0,0,0,0,0,0,0,0,0,0,0,0,0,0,0,0,0,0.1,0,0,0]
["thriftless",0,0,0,0,0,0,0,0,0,0,0,0,0,0,0,0,0,0,0,0,0]
["thrise",0,0,0,0,0,0,0,0,0,0,0,0,0,0.1,0,0,0,0,0,0,0]
["thrive",0,0,0,0,0,0,0,0,0,0,0,0,0,0,0,0,0,0,0,0,0]
["thrones",0,0,0.1,0,0,0,0,0,0,0,0,0,0,0,0,0,0,0,0,0,0]
["throng",0,0,0.1,0,0,0,0,0,0,0,0,0,0,0,0,0,0,0,0,0,0]
["throngs",0,0,0,0,0,0,0,0,0,0,0,0,0,0,0,0,0,0,0,0,0]
["throughly",0,0,0,0,0,0,0,0,0,0,0.1,0,0,0,0,0,0,0,0,0,0]
["thumbs",0,0,0,0,0,0,0,0.1,0,0,0,0,0,0,0,0,0,0,0,0,0]
["thumping",0,0,0,0,0,0.1,0,0,0,0,0,0,0,0,0,0,0,0,0,0,0]
["thunderbolt",0,0,0,0,0,0,0,0,0,0,0.1,0,0,0,0,0,0,0,0,0,0]
["thundring",0,0,0,0,0,0,0,0,0,0,0,0,0,0,0,0.1,0,0,0,0,0]
["thyme",0,0,0,0,0,0,0,0,0,0,0,0,0,0,0,0,0,0,0,0,0]
["thyrsis",0,0,0,0,0,0,0,0,0,0,0,0,0,0,0,0,0,0,0,0,0]
["tide",0,0,0,0,0,0,0,0,0,0,0,0,0,0,0,0,0,0,0,0,0]
["tides",0,0,0,0,0,0,0,0,0,0,0,0,0,0,0.1,0,0,0,0,0,0]
["tillage",0,0,0,0,0,0,0,0,0,0,0,0,0,0,0,0,0,0,0,0,0]
["time's",0,0,0,0,0,0,0,0,0,0,0,0,0,0,0,0,0,0,0,0,0]
["timelie",0,0,0.1,0,0,0,0,0,0,0,0,0,0,0,0,0,0,0,0,0,0]
["tip",0,0,0,0,0,0,0,0,0,0,0,0,0,0,0,0,0,0,0,0,0]
["tire",0,0,0,0,0,0,0,0,0,0,0.1,0,0,0,0,0,0,0,0,0,0]
["toade",0,0,0,0,0,0,0,0.1,0,0,0,0,0,0,0,0,0,0,0,0,0]
["tobacco",0,0,0,0,0,0,0,0,0,0,0,0,0,0,0,0,0,0,0,0,0]
["toil",0,0,0,0,0,0,0,0,0,0.1,0,0,0,0,0,0,0,0,0,0,0]
["toiles",0,0,0,0,0,0,0,0,0,0,0,0,0,0,0,0,0,0,0,0.1,0]
["token",0,0,0.1,0,0,0,0,0,0,0,0,0,0,0,0,0,0,0,0,0,0]
["toldst",0,0,0,0,0,0,0,0,0,0,0,0,0,0,0,0,0,0,0,0,7.0372980000000002E-2]
["tomb",0,0,0,0,0,0,0,0,0,0,0,0,0,0,0,0,0,0,0,0,0]
["tomb'd",0,0,0,0,0,0,0,0,0,0,0,0,0,0,0,0,0,0,0,0,0]
["tombe",0,0,0,0,0,0,0,0,0,0,0,0,0,0,0,0,0,0,0,0,7.0372980000000002E-2]
["tongued",0,0,0,0,0,0,0,0,0,0,0,0,0,0,0,0,0,0,0,0,0]
["toomb",0.1,0,0,0,0,0,0,0,0,0,0,0,0,0,0,0,0,0,0,0,0]
["toong",0,0,0,0,0,0,0,0,0,0,0,0,0,0,0,0,0,0,0.1,0,0]
["topographicall",0,0,0,0,0,0.1,0,0,0,0,0,0,0,0,0,0,0,0,0,0,0]
["torch",0,0,0,0,0,0,0,0,0,0,0,0,0,0,0,0,0,0,0,0,7.0372980000000002E-2]
["tore",0,0,0,0,0,0,0,0,0,0,0,0,0,0,0,0,0,0,0,0,0]
["tormented",0,0,0,0,0,0,0,0,0,0,0,0,0,0,0,0,0,0,0,0,0]
["torments",0,0,0,0,0,0,0,0,0,0,0,0,0,0,0,0,0,0,0.1,0,0]
["torne",0,0,0,0.1,0,0,0,0,0,0,0,0,0,0,0,0,0,0,0,0,0]
["tort",0,0.1,0,0,0,0,0,0,0,0,0,0,0,0,0,0,0,0,0,0,0]
["tosse",0,0,0,0,0,0,0,0,0,0,0,0,0,0,0,0,0,0,0,0,7.0372980000000002E-2]
["tottring",0,0,0,0,0,0,0,0,0,0,0,0,0,0,0,0,0,0,0.1,0,0]
["tourneys",0,0,0,0,0,0,0,0,0,0,0,0,0,0,0,0,0,0,0,0,0]
["tow'r",0,0,0,0,0,0,0,0,0,0,0,0,0,0,0,0,0,0,0,0,0]
["tower",0,0,0,0,0,0,0,0,0,0,0,0,0,0,0,0,0,0,0,0,0]
["tower'd",0,0,0,0,0,0,0,0,0,0,0,0,0,0,0,0,0,0,0,0,0]
["town",0,0,0,0,0,0,0,0.1,0,0,0,0,0,0,0,0,0,0,0,0,0]
["townes",0,0,0,0,0,0,0,0,0,0,0,0,0.1,0,0,0,0,0,0,0,0]
["toyes",0,0,0,0,0,0,0,0,0,0,0.1,0,0,0,0,0,0,0,0,0,0]
["toyle",0,0,0,0.1,0,0,0,0,0,0,0,0,0,0,0,0,0,0,0,0,0]
["toys",0,0,0,0,0,0,0,0,0,0,0,0,0,0,0,0,0,0,0,0,0]
["trace",0,0,0,0,0,0,0,0,0,0,0,0,0,0,0,0,0.1,0,0,0,0]
["trade",0,0,0,0,0,0,0,0,0,0,0,0,0,0,0,0,0,0,0,0,0]
["traffic",0,0,0,0,0,0,0,0,0,0,0,0,0,0,0,0,0,0,0,0,0]
["tragedie",0,0,0,0,0,0,0,0,0,0,0,0,0,0.1,0,0,0,0,0,0,0]
["tragedy",0,0,0,0,0,0,0,0,0,0,0,0,0,0,0,0,0,0,0,0,0]
["tragic",0,0,0,0,0,0,0,0,0,0,0,0,0,0,0,0,0,0,0,0,0]
["tragicke",0,0,0,0.1,0,0,0,0,0,0,0,0,0,0,0,0,0,0,0,0,0]
["trailing",0.1,0,0,0,0,0,0,0,0,0,0,0,0,0,0,0,0,0,0,0,0]
["train'd",0,0,0,0,0,0,0,0,0,0,0,0,0,0,0,0,0,0,0,0,7.0372980000000002E-2]
["trajan",0,0,0,0,7.4183979999999997E-2,0,0,0,0,0,0,0,0,0,0,0,0,0,0,0,0]
["trampling",0,0,0,0,0,0,0,0,0,0,0,0,0,0,0,0,0,0,0.1,0,0]
["transform",0,0,0,0,7.4183979999999997E-2,0,0,0,0,0,0,0,0,0,0,0,0,0,0,0,0]
["transfund",0,0,0,0,0,0.1,0,0,0,0,0,0,0,0,0,0,0,0,0,0,0]
["translated",0,0,0,0,0,0,0,0,0,0,0,0,0,0,0,0,0.1,0,0,0,0]
["travailer",0.1,0,0,0,0,0,0,0,0,0,0,0,0,0,0,0,0,0,0,0,0]
["travailes",0,0,0,0.1,0,0,0,0,0,0,0,0,0,0,0,0,0,0,0,0,0]
["traytor",0,0,0,0,0,0,0,0,0,0,0,0,0,0,0,0,0,0,0.1,0,0]
["treate",0,0,0,0,0,0,0,0,0,0,0,0,0,0,0,0,0,0,0.1,0,0]
["trebles",0,0,0,0,0,0,0,0,0,0,0,0,0,0,0,0,0.1,0,0,0,0]
["trenches",0,0,0,0,0,0,0,0,0,0,0,0,0,0,0,0,0,0,0,0,0]
["trewand",0,0,0,0,0,0,0,0,0.1,0,0,0,0,0,0,0,0,0,0,0,0]
["tributes",0,0,0,0,0,0,0,0,0,0,0,0,0,0,0,0,0,0,0,0,0]
["trick'd",0,0,0,0,0,0,0,0,0,0,0,0,0,0,0,0,0,0,0,0,0]
["tricks",0,0,0,0,0,0,0,0,0,0,0,0,0,0,0,0,0,0,0,0,0]
["tride",0,0,0,0,0,0,0,0,0,0,0,0,0,0,0.1,0,0,0,0,0,0]
["trip",0,0,0,0,0,0,0,0,0,0,0,0,0,0,0,0,0,0,0,0,0]
["triumphall",0,0,0,0,0,0,0,0,0,0,0,0,0.1,0,0,0,0,0,0,0,0]
["triumphing",0,0,0,0,0,0,0,0,0,0,0,0,0,0,0,0,0.1,0,0,0,0]
["trod",0,0,0,0,0,0,0,0,0,0,0,0,0,0,0,0,0,0,0,0,0]
["trompe",0,0,0,0.1,0,0,0,0,0,0,0,0,0,0,0,0,0,0,0,0,0]
["troops",0,0,0,0,0,0,0,0,0,0,0,0,0,0,0,0,0,0,0,0,0]
["trophee",0.1,0,0,0,0,0,0,0,0,0,0,0,0,0,0,0,0,0,0,0,0]
["troupes",0,0,0,0,0,0,0,0,0,0,0,0,0,0,0,0.1,0,0,0,0,0]
["trow",0,0.1,0,0,0,0,0,0,0,0,0,0,0,0,0,0,0,0,0,0,0]
["troy",0,0,0,0,0,0,0,0,0,0,0,0,0,0,0,0,0,0,0,0,0]
["troynovant",0.1,0,0,0,0,0,0,0,0,0,0,0,0,0,0,0,0,0,0,0,0]
["trumpets",0,0,0,0,0,0,0,0,0,0,0,0,0,0,0.1,0,0,0,0,0,0]
["trustie",0,0.1,0,0,0,0,0,0,0,0,0,0,0,0,0,0,0,0,0,0,0]
["trustlesse",0,0.1,0,0,0,0,0,0,0,0,0,0,0,0,0,0,0,0,0,0,0]
["truth's",0,0,0,0,0,0,0,0,0,0,0,0,0,0,0,0,0,0,0,0,0]
["try",0,0,0,0,0,0,0,0,0,0,0,0,0,0,0,0.1,0,0,0,0,0]
["trye",0,0,0,0,0,0,0,0,0,0,0,0,0,0,0,0,0,0.1,0,0,0]
["tumor",0,0,0,0,0,0,0,0,0,0,0,0,0,0,0,0,0,0,0,0,0]
["tune",0,0,0,0,0,0,0.1,0,0,0,0,0,0,0,0,0,0,0,0,0,0]
["turf",0,0,0,0,0,0,0,0,0,0,0,0,0,0,0,0,0,0,0,0,0]
["turne",0,0,0,0,0,0,0,0,0,0,0,0,0,0,0,0,0,0,0,0,7.0372980000000002E-2]
["turning",0,0,0,0,0,0,0,0,0.1,0,0,0,0,0,0,0,0,0,0,0,0]
["turns",0,0,0,0,0,0,0,0,0,0,0.1,0,0,0,0,0,0,0,0,0,0]
["turpifie",0,0,0,0,0,0,0.1,0,0,0,0,0,0,0,0,0,0,0,0,0,0]
["tush",0,0,0,0,0,0,0,0,0,0,0,0,0,0,0,0,0,0,0,0.1,0]
["twilight",0,0,0,0,0,0,0,0,0,0,0,0,0,0,0,0,0,0,0,0,0]
["twine",0,0,0,0,0,0,0,0,0,0,0,0,0,0,0,0,0,0,0,0,7.0372980000000002E-2]
["twins",0,0,0,0,0,0,0,0,0,0,0,0,0,0,0,0,0,0.1,0,0,0]
["twise",0,0,0,0,0,0,0,0,0,0,0,0,0,0,0,0,0.1,0,0,0,0]
["twitch'd",0,0,0,0,0,0,0,0,0,0,0,0,0,0,0,0,0,0,0,0,0]
["twyne",0,0,0,0,7.4183979999999997E-2,0,0,0,0,0,0,0,0,0,0,0,0,0,0,0,0]
["tygres",0,0,0,0,0,0,0,0,0,0,0,0,0,0.1,0,0,0,0,0,0,0]
["tygrish",0,0,0,0,0,0,0,0,0,0,0,0,0,0,0,0,0.1,0,0,0,0]
["tyme",0,0,0,0,7.4183979999999997E-2,0,0,0,0,0,0,0,0,0,0,0,0,0,0,0,0]
["tyr'd",0,0,0,0,0,0,0,0,0,0,0,0,0,0,0,0.1,0,0,0,0,0]
["tyran",0,0,0,0,0,0,0,0,0,0,0.1,0,0,0,0,0,0,0,0,0,0]
["tyranniseth",0,0,0,0,0,0,0,0,0,0,0,0,0,0.1,0,0,0,0,0,0,0]
["tyrans",0,0,0,0,0,0,0,0,0,0,0,0,0,0.1,0,0,0,0,0,0,0]
["tyrants",0,0,0,0,0,0,0,0,0,0,0,0,0,0,0,0,0,0,0,0,0]
["tyrd",0,0,0,0,0,0,0,0,0,0,0,0,0,0,0.1,0,0,0,0,0,0]
["unapproved",0,0,0,0,0,0,0,0,0,0,0,0,0,0,0,0,0,0,0,0,0]
["unbless",0,0,0,0,0,0,0,0,0,0,0,0,0,0,0,0,0,0,0,0,0]
["unconstrained",0,0,0,0,0,0,0,0,0,0,0,0,0,0,0,0,0,0,0,0,0]
["underneath",0,0,0,0,0,0,0,0,0,0,0,0,0,0,0,0,0,0,0,0,0]
["understood",0,0,0,0,0,0,0,0,0,0,0,0,0,0,0,0,0,0,0,0,0]
["undertake",0,0,0,0,0,0,0,0,0,0,0,0,0,0,0,0,0,0,0,0,0]
["undistinguish'd",0,0,0,0,0,0,0,0,0,0,0,0,0,0,0,0,0,0,0,0,0]
["unear'd",0,0,0,0,0,0,0,0,0,0,0,0,0,0,0,0,0,0,0,0,0]
["unexperient",0,0,0,0,0,0,0,0,0,0,0,0,0,0,0,0,0,0,0,0,0]
["unexpressive",0,0,0,0,0,0,0,0,0,0,0,0,0,0,0,0,0,0,0,0,0]
["unfair",0,0,0,0,0,0,0,0,0,0,0,0,0,0,0,0,0,0,0,0,0]
["unfold",0,0,0,0,0,0,0,0,0,0,0,0,0,0,0,0,0,0,0,0,0]
["unholy",0,0,0,0,0,0,0,0,0,0,0,0,0,0,0,0,0,0,0,0,0]
["unions",0,0,0,0,0,0,0,0,0,0,0,0,0,0,0,0,0,0,0,0,0]
["universal",0,0,0,0,0,0,0,0,0,0,0,0,0,0,0,0,0,0,0,0,0]
["unjust",0.1,0,0,0,0,0,0,0,0,0,0,0,0,0,0,0,0,0,0,0,0]
["unles",0,0,0.1,0,0,0,0,0,0,0,0,0,0,0,0,0,0,0,0,0,0]
["unless",0,0,0,0,0,0,0,0,0,0,0,0,0,0,0,0,0,0,0,0,0]
["unlook'd",0,0,0,0,0,0,0,0,0,0,0,0,0,0,0,0,0,0,0,0,0]
["unprovident",0,0,0,0,0,0,0,0,0,0,0,0,0,0,0,0,0,0,0,0,0]
["unregarded",0,0,0,0.1,0,0,0,0,0,0,0,0,0,0,0,0,0,0,0,0,0]
["unreproved",0,0,0,0,0,0,0,0,0,0,0,0,0,0,0,0,0,0,0,0,0]
["unrewarded",0,0,0,0.1,0,0,0,0,0,0,0,0,0,0,0,0,0,0,0,0,0]
["unshorn",0,0,0,0,0,0,0,0,0,0,0,0,0,0,0,0,0,0,0,0,0]
["unsounder",0,0,0,0,0,0,0,0,0,0,0,0,0,0,0,0,0,0,0,0,0]
["unsphere",0,0,0,0,0,0,0,0,0,0,0,0,0,0,0,0,0,0,0,0,0]
["unstedfast",0.1,0,0,0,0,0,0,0,0,0,0,0,0,0,0,0,0,0,0,0,0]
["unthrift",0,0,0,0,0,0,0,0,0,0,0,0,0,0,0,0,0,0,0,0,0]
["unthrifts",0,0,0,0,0,0,0,0,0,0,0,0,0,0,0,0,0,0,0,0,0]
["unthrifty",0,0,0,0,0,0,0,0,0,0,0,0,0,0,0,0,0,0,0,0,0]
["untidy",0,0,0,0,0,0,0,0,0,0,0,0,0,0,0,0,0,0,0,0,0]
["untrue",0,0,0,0,0,0,0,0,0,0,0,0,0,0,0,0,0,0,0,0,0]
["untuck'd",0,0,0,0,0,0,0,0,0,0,0,0,0,0,0,0,0,0,0,0,0]
["untwisting",0,0,0,0,0,0,0,0,0,0,0,0,0,0,0,0,0,0,0,0,0]
["unwept",0,0,0,0,0,0,0,0,0,0,0,0,0,0,0,0,0,0,0,0,0]
["upbraid",0,0.1,0,0,0,0,0,0,0,0,0,0,0,0,0,0,0,0,0,0,0]
["uphold",0,0,0,0,0,0,0,0,0,0,0,0,0,0,0,0,0,0,0,0,0]
["upholde",0,0,0,0,7.4183979999999997E-2,0,0,0,0,0,0,0,0,0,0,0,0,0,0,0,0]
["uplaid",0,0.1,0,0,0,0,0,0,0,0,0,0,0,0,0,0,0,0,0,0,0]
["upland",0,0,0,0,0,0,0,0,0,0,0,0,0,0,0,0,0,0,0,0,0]
["upreared",0,0,0,0.1,0,0,0,0,0,0,0,0,0,0,0,0,0,0,0,0,0]
["urn",0,0,0,0,0,0,0,0,0,0,0,0,0,0,0,0,0,0,0,0,0]
["used",0,0,0,0,0,0,0,0,0,0,0,0,0,0,0,0,0,0,0,0,0]
["user",0,0,0,0,0,0,0,0,0,0,0,0,0,0,0,0,0,0,0,0,0]
["usher'd",0,0,0,0,0,0,0,0,0,0,0,0,0,0,0,0,0,0,0,0,0]
["ushering",0,0,0,0,0,0,0,0,0,0,0,0,0,0,0,0,0,0,0,0,0]
["usurer",0,0,0,0,0,0,0,0,0,0,0,0,0,0,0,0,0,0,0,0,0]
["utmost",0.1,0,0,0,0,0,0,0,0,0,0,0,0,0,0,0,0,0,0,0,0]
["uttered",0,0,0,0,0,0,0,0,0,0,0,0,0,0,0,0,0,0,0,0,0]
["vade",0,0,0,0,0,0,0,0,0,0,0,0,0,0,0,0,0,0,0,0,7.0372980000000002E-2]
["vainely",0,0,0,0,0,0,0,0,0,0,0.1,0,0,0,0,0,0,0,0,0,0]
["vainesse",0,0,0,0.1,0,0,0,0,0,0,0,0,0,0,0,0,0,0,0,0,0]
["vainly",0,0.1,0,0,0,0,0,0,0,0,0,0,0,0,0,0,0,0,0,0,0]
["vale",0,0,0,0,0,0,0,0,0,0,0,0,0,0,0,0,0,0,0,0,0]
["valiance",0,0,0.1,0,0,0,0,0,0,0,0,0,0,0,0,0,0,0,0,0,0]
["valleys",0,0,0,0,0,0,0,0,0,0,0,0,0,0,0,0,0,0,0,0,0]
["vanish",0.1,0,0,0,0,0,0,0,0,0,0,0,0,0,0,0,0,0,0,0,0]
["vanish'd",0,0,0,0,0,0,0,0,0,0,0,0,0,0,0,0,0,0,0,0,0]
["vanished",0,0,0,0.1,0,0,0,0,0,0,0,0,0,0,0,0,0,0,0,0,0]
["vanitie",0,0,0,0,7.4183979999999997E-2,0,0,0,0,0,0,0,0,0,0,0,0,0,0,0,0]
["vapour",0.1,0,0,0,0,0,0,0,0,0,0,0,0,0,0,0,0,0,0,0,0]
["vapoured",0,0.1,0,0,0,0,0,0,0,0,0,0,0,0,0,0,0,0,0,0,0]
["vapours",0,0,0,0,0,0,0,0,0,0,0,0,0,0,0,0,0,0.1,0,0,0]
["vapuors",0,0,0,0,0,0,0,0,0,0,0,0,0,0,0,0,0,0,0,0.1,0]
["various",0,0,0,0,0,0,0,0,0,0,0,0,0,0,0,0,0,0,0,0,0]
["vassals",0.1,0,0,0,0,0,0,0,0,0,0,0,0,0,0,0,0,0,0,0,0]
["vast",0,0,0,0,0,0,0,0,0,0,0,0,0,0,0,0,0,0,0,0,0]
["veil'd",0,0,0,0,0,0,0,0,0,0,0,0,0,0,0,0,0,0,0,0,0]
["veils",0,0,0,0,0,0,0,0,0,0,0.1,0,0,0,0,0,0,0,0,0,0]
["veines",0,0,0,0,0,0,0,0,0,0,0,0,0,0,0.1,0,0,0,0,0,0]
["vellum",0,0,0,0,0,0,0,0,0,0.1,0,0,0,0,0,0,0,0,0,0,0]
["velvet",0,0,0,0,0,0,0,0,0,0,0,0,0,0,0,0,0,0,0,0,0]
["venison",0,0,0,0,0,0,0.1,0,0,0,0,0,0,0,0,0,0,0,0,0,0]
["vent",0,0,0,0,0,0.1,0,0,0,0,0,0,0,0,0,0,0,0,0,0,0]
["verbus",0,0,0,0,0,0.1,0,0,0,0,0,0,0,0,0,0,0,0,0,0,0]
["verdict",0,0,0,0,0,0,0,0,0,0,0,0,0,0,0,0,0,0,0,0,0]
["vermilion",0,0,0,0,0,0,0,0,0,0,0,0,0,0,0,0,0,0,0,0,7.0372980000000002E-2]
["vernal",0,0,0,0,0,0,0,0,0,0,0,0,0,0,0,0,0,0,0,0,0]
["versed",0,0,0,0,0,0.1,0,0,0,0,0,0,0,0,0,0,0,0,0,0,0]
["vert",0,0,0,0,0,0,0,0,0,0,0.1,0,0,0,0,0,0,0,0,0,0]
["vesta",0,0,0,0,0,0,0,0,0,0,0,0,0,0,0,0,0,0,0,0,0]
["vewing",0,0,0,0,7.4183979999999997E-2,0,0,0,0,0,0,0,0,0,0,0,0,0,0,0,0]
["vexing",0,0,0,0,0,0,0,0,0,0,0,0,0.1,0,0,0,0,0,0,0,0]
["vial",0,0,0,0,0,0,0,0,0,0,0,0,0,0,0,0,0,0,0,0,0]
["vices",0,0,0,0,0,0,0,0,0,0,0,0,0,0,0,0,0.1,0,0,0,0]
["victories",0,0,0,0,7.4183979999999997E-2,0,0,0,0,0,0,0,0,0,0,0,0,0,0,0,0]
["victorious",0.1,0,0,0,0,0,0,0,0,0,0,0,0,0,0,0,0,0,0,0,0]
["victors",0.1,0,0,0,0,0,0,0,0,0,0,0,0,0,0,0,0,0,0,0,0]
["victory",0,0,0,0,0,0,0,0,0,0,0,0,0,0,0,0,0,0,0,0,0]
["viewest",0,0,0,0,0,0,0,0,0,0,0,0,0,0,0,0,0,0,0,0,0]
["viewing",0,0,0,0,0,0,0,0,0,0,0,0,0,0,0,0,0,0,0,0,7.0372980000000002E-2]
["village",0,0,0,0,0,0.1,0,0,0,0,0,0,0,0,0,0,0,0,0,0,0]
["violent",0,0,0,0,0,0,0,0.1,0,0,0,0,0,0,0,0,0,0,0,0,0]
["violets",0,0,0,0,0,0,0,0,0,0,0,0,0,0,0,0,0,0,0,0,0]
["virgil",0,0,0,0,0,0,0,0,0,0,0,0,0,0,0,0,0,0,0,0,0]
["virgin",0,0,0,0,0,0,0,0,0,0,0,0,0,0,0,0,0,0,0,0,0]
["virgine",0,0,0,0,7.4183979999999997E-2,0,0,0,0,0,0,0,0,0,0,0,0,0,0,0,0]
["virtues",0,0,0,0,0,0,0,0,0,0.1,0,0,0,0,0,0,0,0,0,0,0]
["virtuous",0,0,0,0,0,0,0,0,0,0,0,0,0,0,0,0,0,0,0,0,0]
["vision",0,0,0,0,0,0,0,0,0,0,0,0,0,0,0,0,0,0,0,0,0]
["visit'st",0,0,0,0,0,0,0,0,0,0,0,0,0,0,0,0,0,0,0,0,0]
["vlster",0,0,0,0,0,0,0,0,0,0,0,0,0.1,0,0,0,0,0,0,0,0]
["vn'wares",0,0,0,0,0,0,0,0,0,0.1,0,0,0,0,0,0,0,0,0,0,0]
["vnable",0,0,0,0,0,0,0,0,0,0,0.1,0,0,0,0,0,0,0,0,0,0]
["vnarmed",0,0,0,0,0,0,0,0,0,0,0,0.1,0,0,0,0,0,0,0,0,0]
["vnbid",0,0,0,0,0,0,0,0,0,0,0,0,0,0,0,0.1,0,0,0,0,0]
["vnbidden",0,0,0,0,0,0,0,0,0,0,0,0,0,0,0,0,0,0,0,0,7.0372980000000002E-2]
["vnbitted",0,0,0,0,0,0,0,0,0,0,0,0,0,0.1,0,0,0,0,0,0,0]
["vncalled",0,0,0,0,0,0,0,0,0,0,0,0,0,0,0,0.1,0,0,0,0,0]
["vnchastitie",0,0,0,0,0,0,0,0,0,0,0.1,0,0,0,0,0,0,0,0,0,0]
["vnder",0,0,0,0,0,0,0,0.1,0,0,0,0,0,0,0,0,0,0,0,0,0]
["vndercharge",0,0,0,0,0,0,0,0,0,0,0,0,0,0,0,0,0,0,0.1,0,0]
["vnderstanding",0,0,0,0,0,0,0,0.1,0,0,0,0,0,0,0,0,0,0,0,0,0]
["vndertaken",0,0,0,0,0,0,0,0,0,0,0,0,0,0,0,0,0,0,0,0,7.0372980000000002E-2]
["vnflatt'ring",0,0,0,0,0,0,0,0,0,0,0,0.1,0,0,0,0,0,0,0,0,0]
["vngratefulnesse",0,0,0,0,0,0,0,0,0,0,0,0,0.1,0,0,0,0,0,0,0,0]
["vnhappie",0,0,0,0,0,0,0,0,0,0,0,0,0,0,0,0,0,0,0,0,7.0372980000000002E-2]
["vnhappily",0,0,0,0,0,0.1,0,0,0,0,0,0,0,0,0,0,0,0,0,0,0]
["vnhappy",0,0,0,0,0,0,0,0,0,0,0,0,0.1,0,0,0,0,0,0,0,0]
["vnheard",0,0,0,0,0,0,0,0,0,0,0,0.1,0,0,0,0,0,0,0,0,0]
["vnidle",0,0,0,0,0,0,0,0,0,0,0,0.1,0,0,0,0,0,0,0,0,0]
["vniforme",0,0,0,0,0,0,0,0.1,0,0,0,0,0,0,0,0,0,0,0,0,0]
["vnited",0,0,0,0,0,0,0,0,0,0,0,0,0,0,0,0,0,0,0,0.1,0]
["vnlearned",0,0,0,0,0,0.1,0,0,0,0,0,0,0,0,0,0,0,0,0,0,0]
["vnseene",0,0,0,0,0,0,0,0,0,0,0,0.1,0,0,0,0,0,0,0,0,0]
["vnspilling",0,0,0,0,0,0,0,0,0,0,0,0,0,0,0,0,0,0,0,0,7.0372980000000002E-2]
["vnsuted",0,0,0,0,0,0,0,0,0,0,0,0,0,0,0.1,0,0,0,0,0,0]
["vnsweet",0,0,0,0,0,0,0,0,0,0,0,0,0,0,0,0,0,0,0.1,0,0]
["vntill",0,0,0,0,0,0,0,0,0,0,0,0,0,0,0,0.1,0,0,0,0,0]
["vocal",0,0,0,0,0,0,0,0,0,0,0,0,0,0,0,0,0,0,0,0,0]
["vocation",0,0,0,0,0,0,0,0.1,0,0,0,0,0,0,0,0,0,0,0,0,0]
["voic'd",0,0,0,0,0,0,0,0,0,0,0,0,0,0,0,0,0,0,0,0,0]
["vow",0,0,0,0,0,0,0,0,0,0,0,0,0,0,0,0,0,0,0,0,0]
["vowels",0,0,0,0,0,0,0,0,0,0,0,0,0,0,0,0,0,0,0,0,0]
["vppon",0,0,0,0,0,0,0,0,0,0,0,0,0,0,0,0,0,0,0,0,7.0372980000000002E-2]
["vs",0,0,0,0,0,0,0,0,0,0,0,0,0,0,0.1,0,0,0,0,0,0]
["vsde",0,0,0,0,0,0,0,0,0,0.1,0,0,0,0,0,0,0,0,0,0,0]
["vsurping",0,0,0,0,0,0,0,0,0,0.1,0,0,0,0,0,0,0,0,0,0,0]
["vulgorum",0,0,0,0,0,0,0,0.1,0,0,0,0,0,0,0,0,0,0,0,0,0]
["waft",0,0,0,0,0,0,0,0,0,0,0,0,0,0,0,0,0,0,0,0,0]
["wag",0,0,0,0,0,0,0,0,0,0,0,0,0,0,0.1,0,0,0,0,0,0]
["wags",0,0,0,0,0,0,0,0,0,0,0.1,0,0,0,0,0,0,0,0,0,0]
["waie",0,0.1,0,0,0,0,0,0,0,0,0,0,0,0,0,0,0,0,0,0,0]
["wail",0,0,0,0,0,0,0,0,0,0,0,0,0,0,0,0,0,0,0,0,0]
["wailed",0,0,0,0,0,0,0,0,0,0,0,0,0,0,0,0,0,0,0.1,0,0]
["waits",0,0,0,0,0,0,0,0,0,0,0,0,0,0,0,0,0,0,0,0,0]
["wakefull",0,0.1,0,0,0,0,0,0,0,0,0,0,0,0,0,0,0,0,0,0,0]
["walk'd",0,0,0,0,0,0,0,0,0,0,0,0,0,0,0,0,0,0,0,0,0]
["walke",0,0,0,0,0,0,0,0,0,0,0,0,0,0,0,0,0,0,0,0.1,0]
["walks",0,0,0,0,0,0,0,0,0,0,0,0,0,0,0,0,0,0,0,0,0]
["wan",0,0,0,0,0,0,0,0,0,0,0,0,0,0,0,0,0,0,0,0,0]
["wand",0,0,0,0,0,0,0,0,0,0,0,0,0,0,0.1,0,0,0,0,0,0]
["wand'ring",0,0,0,0,0,0,0,0,0,0,0,0,0,0,0,0,0,0,0,0,0]
["wane",0,0,0,0,0,0,0,0,0,0,0,0,0,0,0,0,0,0,0,0,0]
["wanne",0,0,0,0,0,0,0,0,0,0,0,0,0.1,0,0,0,0,0,0,0,0]
["wansteed",0,0,0,0,0,0.1,0,0,0,0,0,0,0,0,0,0,0,0,0,0,0]
["wanted",0,0,0,0,0,0.1,0,0,0,0,0,0,0,0,0,0,0,0,0,0,0]
["warble",0,0,0,0,0,0,0,0,0,0,0,0,0,0,0,0,0,0,0,0,0]
["warbled",0,0,0,0,0,0,0,0,0,0,0,0,0,0,0,0,0,0,0,0,0]
["wardrobe",0,0,0,0,0,0,0,0,0,0,0,0,0,0,0,0,0,0,0,0,0]
["warlick",0,0,0.1,0,0,0,0,0,0,0,0,0,0,0,0,0,0,0,0,0,0]
["warm'd",0,0,0,0,0,0,0,0,0,0,0,0,0,0,0,0,0,0,0,0,0]
["warme",0,0,0,0,0,0,0.1,0,0,0,0,0,0,0,0,0,0,0,0,0,0]
["warmed",0,0,0,0,0,0,0,0,0,0,0,0,0,0,0,0,0,0,0,0,0]
["warriors",0.1,0,0,0,0,0,0,0,0,0,0,0,0,0,0,0,0,0,0,0,0]
["wars",0,0,0,0,0,0,0,0,0,0,0,0,0,0.1,0,0,0,0,0,0,0]
["wash'd",0,0,0,0,0,0,0,0,0,0,0,0,0,0,0,0,0,0,0,0,0]
["washt",0,0,0,0.1,0,0,0,0,0,0,0,0,0,0,0,0,0,0,0,0,0]
["wastes",0,0,0,0,0,0,0,0,0,0,0,0,0,0,0,0,0,0,0,0,0]
["wastfull",0.1,0,0,0,0,0,0,0,0,0,0,0,0,0,0,0,0,0,0,0,0]
["water'd",0,0,0,0,0,0,0,0,0,0,0,0,0,0,0,0,0,0,0,0,0]
["watery",0,0,0,0,0,0,0,0,0,0,0,0,0,0,0,0,0,0,0,0,0]
["watred",0,0,0,0,0,0,0,0,0,0,0,0,0,0,0,0.1,0,0,0,0,0]
["watrie",0,0,0,0,0,0,0,0,0,0,0,0,0,0,0,0,0,0,0.1,0,0]
["wavering",0,0,0,0,0,0,0,0,0,0,0,0,0,0,0,0,0,0,0,0,0]
["wayling",0,0,0,0,0,0,0,0,0,0,0,0,0,0.1,0,0,0,0,0,0,0]
["wayment",0,0,0,0.1,0,0,0,0,0,0,0,0,0,0,0,0,0,0,0,0,0]
["ways",0,0,0,0,0,0,0,0,0,0.1,0,0,0,0,0,0,0,0,0,0,0]
["weaken'd",0,0,0,0,0,0,0,0,0,0,0,0,0,0,0,0,0.1,0,0,0,0]
["weaker",0,0,0,0,0,0,0,0,0,0,0,0,0,0,0,0,0,0,0,0,0]
["weaknes",0.1,0,0,0,0,0,0,0,0,0,0,0,0,0,0,0,0,0,0,0,0]
["weanling",0,0,0,0,0,0,0,0,0,0,0,0,0,0,0,0,0,0,0,0,0]
["weapons",0,0,0,0,0,0,0,0,0,0,0,0,0,0.1,0,0,0,0,0,0,0]
["wears",0,0,0,0,0,0,0,0,0,0,0,0,0,0,0,0,0,0,0,0,0]
["web",0,0,0,0,0,0,0,0,0,0,0,0,0,0,0,0,0,0,0,0,0]
["wed",0,0,0,0,0,0,0,0,0,0,0,0,0,0,0,0,0.1,0,0,0,0]
["weed",0,0,0,0,0,0,0,0,0,0,0,0,0,0,0,0,0,0,0,0,0]
["weede",0,0,0,0,0,0,0,0,0,0.1,0,0,0,0,0,0,0,0,0,0,0]
["weeke",0,0,0,0,0,0,0,0,0,0,0,0,0,0,0,0.1,0,0,0,0,0]
["weeper",0,0,0,0,0,0,0,0,0,0,0,0,0,0,0,0,0,0,0,0,0]
["weepingly",0,0,0,0,0,0,0,0,0,0,0,0,0,0,0,0,0,0,0,0,0]
["weigh",0,0,0,0,0,0,0,0,0,0,0,0,0,0.1,0,0,0,0,0,0,0]
["weigh'd",0,0,0,0,0,0,0,0,0,0,0,0,0,0,0,0,0,0.1,0,0,0]
["weighs",0,0,0,0,0,0,0,0,0,0,0,0,0,0,0,0,0,0,0,0,0]
["weightinesse",0,0,0,0,7.4183979999999997E-2,0,0,0,0,0,0,0,0,0,0,0,0,0,0,0,0]
["weld",0.1,0,0,0,0,0,0,0,0,0,0,0,0,0,0,0,0,0,0,0,0]
["welds",0,0,0,0.1,0,0,0,0,0,0,0,0,0,0,0,0,0,0,0,0,0]
["wells",0,0,0,0,0,0,0,0,0,0,0,0,0,0,0,0,0,0,0,0,0]
["welter",0,0,0,0,0,0,0,0,0,0,0,0,0,0,0,0,0,0,0,0,0]
["welth",0.1,0,0,0,0,0,0,0,0,0,0,0,0,0,0,0,0,0,0,0,0]
["weltring",0,0,0,0,0,0,0,0,0,0,0,0,0.1,0,0,0,0,0,0,0,0]
["wench",0,0,0,0,0,0,0.1,0,0,0,0,0,0,0,0,0,0,0,0,0,0]
["wept",0,0,0,0,0,0,0,0,0,0,0,0,0,0,0,0,0,0,0.1,0,0]
["westering",0,0,0,0,0,0,0,0,0,0,0,0,0,0,0,0,0,0,0,0,0]
["western",0,0,0,0,0,0,0,0,0,0,0,0,0,0,0,0,0,0,0,0,0]
["wexen",0,0,0,0.1,0,0,0,0,0,0,0,0,0,0,0,0,0,0,0,0,0]
["what's",0,0,0,0,0,0,0,0,0,0,0,0,0,0,0,0,0,0,0,0,0]
["whateuer",0,0,0,0,0,0,0,0,0,0,0,0,0,0,0.1,0,0,0,0,0,0]
["wheel",0,0,0,0,0,0,0,0,0,0,0,0,0,0,0,0,0,0,0,0,0]
["wheeled",0,0,0,0,0,0,0,0,0,0,0,0,0,0,0,0,0,0,0,0,0]
["wheeles",0,0,0,0,0,0,0,0,0,0,0,0,0,0,0,0,0.1,0,0,0,0]
["whelming",0,0,0,0,0,0,0,0,0,0,0,0,0,0,0,0,0,0,0,0,0]
["whelps",0.1,0,0,0,0,0,0,0,0,0,0,0,0,0,0,0,0,0,0,0,0]
["where'er",0,0,0,0,0,0,0,0,0,0,0,0,0,0,0,0,0,0,0,0,0]
["whereas",0,0,0,0,0,0,0,0,0,0.1,0,0,0,0,0,0,0,0,0,0,0]
["whereon",0,0,0,0,0,0,0,0,0,0,0,0,0,0,0,0,0,0,0,0,0]
["whets",0,0,0,0,0,0,0,0,0,0,0,0,0,0,0,0,0,0,0,0,0]
["whie",0,0.1,0,0,0,0,0,0,0,0,0,0,0,0,0,0,0,0,0,0,0]
["whilste",0,0.1,0,0,0,0,0,0,0,0,0,0,0,0,0,0,0,0,0,0,0]
["whine",0,0,0,0,0,0,0,0,0,0,0.1,0,0,0,0,0,0,0,0,0,0]
["whining",0,0.1,0,0,0,0,0,0,0,0,0,0,0,0,0,0,0,0,0,0,0]
["whispering",0,0,0,0,0,0,0,0,0,0,0,0,0,0,0,0,0,0,0,0,0]
["whispers",0,0,0,0,0,0,0,0,0,0,0,0,0,0,0,0,0,0,0,0,0]
["whistles",0,0,0,0,0,0,0,0,0,0,0,0,0,0,0,0,0,0,0,0,0]
["whit",0,0,0,0,0,0,0,0,0,0,0,0,0,0,0,0,0.1,0,0,0,0]
["whorthie",0,0,0,0,0,0,0,0,0.1,0,0,0,0,0,0,0,0,0,0,0,0]
["wich",0,0,0,0,0,0,0,0,0,0,0,0,0,0,0.1,0,0,0,0,0,0]
["widow's",0,0,0,0,0,0,0,0,0,0,0,0,0,0,0,0,0,0,0,0,0]
["wildest",0,0,0,0,0,0,0.1,0,0,0,0,0,0,0,0,0,0,0,0,0,0]
["wiles",0,0,0,0,0,0,0,0,0,0,0,0,0,0,0,0,0,0,0,0,0]
["will'd",0,0,0,0,0,0,0,0,0,0,0,0,0,0,0,0,0,0,0,0,0]
["willows",0,0,0,0,0,0,0,0,0,0,0,0,0,0,0,0,0,0,0,0,0]
["windes",0,0,0,0.1,0,0,0,0,0,0,0,0,0,0,0,0,0,0,0,0,0]
["winding",0,0,0,0,0,0,0,0,0,0,0,0,0,0,0,0,0,0,0,0,0]
["windlas",0,0,0,0,0,0,0,0,0,0,0,0.1,0,0,0,0,0,0,0,0,0]
["wing'd",0,0,0,0,0,0,0,0,0,0,0,0,0,0,0,0,0,0,0,0,7.0372980000000002E-2]
["winke",0,0,0,0,0,0,0,0,0,0,0,0,0,0,0,0,0,0,0,0,7.0372980000000002E-2]
["winters",0,0,0,0,0,0,0,0,0,0,0,0,0,0,0,0,0,0,0,0,0]
["wipt",0,0,0.1,0,0,0,0,0,0,0,0,0,0,0,0,0,0,0,0,0,0]
["wisdom",0,0,0,0,0,0,0,0,0,0,0,0,0,0,0,0,0,0,0,0,0]
["wisdom's",0,0,0,0,0,0,0,0,0,0,0,0,0,0,0,0,0,0,0,0,0]
["wisdome",0,0,0,0,0,0.1,0,0,0,0,0,0,0,0,0,0,0,0,0,0,0]
["wisedoms",0,0,0,0,0,0,0,0,0,0,0,0,0,0,0.1,0,0,0,0,0,0]
["wish'd",0,0,0,0,0,0,0,0,0,0,0,0,0,0,0,0,0,0,0,0,0]
["wished",0,0,0,0,0,0,0,0,0.1,0,0,0,0,0,0,0,0,0,0,0,0]
["wishes",0,0,0,0,0,0,0,0,0,0,0,0,0,0,0,0,0,0,0.1,0,0]
["wishing",0,0,0,0,0,0,0,0,0,0,0,0,0,0,0,0,0,0,0.1,0,0]
["wisht",0,0,0,0,0,0,0,0,0,0.1,0,0,0,0,0,0,0,0,0,0,0]
["witchcraft",0,0,0,0,0,0,0,0,0,0,0,0,0,0,0,0,0,0,0,0,0]
["withall",0,0,0,0,0,0,0,0,0,0,0,0,0,0,0,0,0,0,0.1,0,0]
["withdraw",0,0,0,0,0,0,0,0.1,0,0,0,0,0,0,0,0,0,0,0,0,0]
["wither",0,0,0,0,0,0,0,0,0,0,0,0,0,0,0,0,0,0,0,0,0]
["withered",0,0,0,0,0,0,0,0,0,0,0,0,0,0,0,0,0,0,0,0,0]
["withholde",0,0,0,0,7.4183979999999997E-2,0,0,0,0,0,0,0,0,0,0,0,0,0,0,0,0]
["withouten",0,0,0,0,7.4183979999999997E-2,0,0,0,0,0,0,0,0,0,0,0,0,0,0,0,0]
["witlesse",0,0,0,0,0,0,0,0,0,0,0,0,0,0,0,0.1,0,0,0,0,0]
["wittie",0,0,0,0,0,0,0,0,0,0,0,0,0,0,0,0,0,0.1,0,0,0]
["wizard",0,0,0,0,0,0,0,0,0,0,0,0,0,0,0,0,0,0,0,0,0]
["wofully",0,0,0,0,0,0,0,0,0.1,0,0,0,0,0,0,0,0,0,0,0,0]
["wold",0,0,0,0,0,0,0.1,0,0,0,0,0,0,0,0,0,0,0,0,0,0]
["wolf",0,0,0,0,0,0,0,0,0,0,0,0,0,0,0,0,0,0,0,0,0]
["wolf's",0,0,0,0,0,0,0,0,0,0,0,0,0,0,0,0,0,0,0,0,0]
["wolfe",0,0,0,0,0,0,0,0.1,0,0,0,0,0,0,0,0,0,0,0,0,0]
["womans",0,0,0,0.1,0,0,0,0,0,0,0,0,0,0,0,0,0,0,0,0,0]
["women",0,0,0,0,0,0.1,0,0,0,0,0,0,0,0,0,0,0,0,0,0,0]
["womens",0.1,0,0,0,0,0,0,0,0,0,0,0,0,0,0,0,0,0,0,0,0]
["won",0,0,0,0,0,0,0,0,0,0,0,0,0,0,0,0,0,0,0,0,0]
["wond'rous",0,0,0,0,0,0,0,0,0,0,0,0,0,0,0,0,0,0,0,0,0]
["wonders",0,0,0,0,0,0,0,0,0,0,0,0.1,0,0,0,0,0,0,0,0,0]
["wonne",0.1,0,0,0,0,0,0,0,0,0,0,0,0,0,0,0,0,0,0,0,0]
["woodbine",0,0,0,0,0,0,0,0,0,0,0,0,0,0,0,0,0,0,0,0,0]
["woodcock",0,0,0,0,0,0,0,0,0,0,0,0,0,0,0,0,0,0,0,0,0]
["woody",0,0,0,0,0,0,0,0,0,0,0,0,0,0,0,0,0,0,0,0,0]
["wooes",0,0,0,0,0,0,0,0,0,0,0,0,0,0,0,0,0,0,0,0.1,0]
["woomb",0.1,0,0,0,0,0,0,0,0,0,0,0,0,0,0,0,0,0,0,0,0]
["worded",0,0,0,0,0,0,0,0,0,0,0,0,0,0,0,0,0,0,0,0,0]
["workes",0,0,0,0,0,0,0,0,0,0,0,0,0,0,0,0,0,0,0,0,7.0372980000000002E-2]
["worldlie",0,0.1,0,0,0,0,0,0,0,0,0,0,0,0,0,0,0,0,0,0,0]
["worldy",0,0,0,0,0,0,0,0,0,0,0,0,0,0.1,0,0,0,0,0,0,0]
["worm",0,0,0,0,0,0,0,0,0,0,0,0,0,0,0,0,0,0,0,0,0]
["wormes",0,0,0,0,0,0,0,0,0,0,0,0,0,0,0,0,0,0,0,0,7.0372980000000002E-2]
["worms",0,0,0,0,0,0,0,0,0,0,0,0,0,0,0,0,0,0,0,0,0]
["worshipped",0,0,0,0.1,0,0,0,0,0,0,0,0,0,0,0,0,0,0,0,0,0]
["worst",0,0,0,0,0,0,0,0,0,0,0,0,0,0,0,0,0.1,0,0,0,0]
["worthiest",0,0,0,0,0,0,0,0,0,0,0,0,0,0,0,0,0,0,0,0.1,0]
["worthines",0,0,0,0,0,0,0.1,0,0,0,0,0,0,0,0,0,0,0,0,0,0]
["wounded",0,0,0,0,0,0,0,0,0,0,0,0,0,0,0,0,0,0,0,0,0]
["wraceks",0,0,0,0,0,0,0,0,0,0,0,0,0,0.1,0,0,0,0,0,0,0]
["wracked",0,0,0,0,0,0,0,0,0,0,0,0,0,0,0,0,0.1,0,0,0,0]
["wraps",0,0,0,0,0,0,0,0,0,0,0,0,0,0,0,0,0,0,0,0,7.0372980000000002E-2]
["wrate",0,0,0,0,0,0,0,0,0,0,0,0,0,0,0,0.1,0,0,0,0,0]
["wreake",0,0,0,0,0,0,0,0,0,0,0,0,0.1,0,0,0,0,0,0,0,0]
["wreakes",0,0,0,0.1,0,0,0,0,0,0,0,0,0,0,0,0,0,0,0,0,0]
["wreathed",0,0,0,0,0,0,0,0,0,0,0,0,0,0,0,0,0,0,0,0,0]
["wreckes",0,0,0,0,0,0,0,0,0,0,0,0,0,0.1,0,0,0,0,0,0,0]
["wreste",0,0,0,0.1,0,0,0,0,0,0,0,0,0,0,0,0,0,0,0,0,0]
["wresting",0,0,0,0,0,0,0,0,0,0,0,0,0,0,0,0,0,0,0,0,0]
["wretchednesse",0,0,0,0,0,0,0,0,0,0,0,0,0,0,0,0,0,0,0,0.1,0]
["wring",0,0,0,0,0,0,0,0,0,0,0.1,0,0,0,0,0,0,0,0,0,0]
["wrinkles",0,0,0,0,0,0,0,0,0,0,0,0,0,0,0,0,0,0,0,0,0]
["writers",0,0,0,0,0,0,0,0,0,0.1,0,0,0,0,0,0,0,0,0,0,0]
["writes",0,0,0,0,0,0,0,0,0,0.1,0,0,0,0,0,0,0,0,0,0,0]
["writings",0,0,0,0,0,0,0,0,0,0,0,0.1,0,0,0,0,0,0,0,0,0]
["wrong'd",0,0,0,0,0,0,0,0,0,0,0,0,0,0,0,0,0,0,0.1,0,0]
["wrongfull",0,0,0,0,0,0,0,0,0,0,0.1,0,0,0,0,0,0,0,0,0,0]
["wrongsthat",0,0,0,0,0,0,0,0,0,0,0.1,0,0,0,0,0,0,0,0,0,0]
["wroong",0,0,0,0,0,0,0,0,0,0,0,0,0,0,0,0,0,0,0.1,0,0]
["wurst",0,0,0,0,0,0,0,0,0,0,0,0,0,0,0,0,0,0,0,0.1,0]
["wylde",0,0,0,0,7.4183979999999997E-2,0,0,0,0,0,0,0,0,0,0,0,0,0,0,0,0]
["wyrie",0.1,0,0,0,0,0,0,0,0,0,0,0,0,0,0,0,0,0,0,0,0]
["yclep'd",0,0,0,0,0,0,0,0,0,0,0,0,0,0,0,0,0,0,0,0,0]
["yeelded",0,0,0,0,0,0.1,0,0,0,0,0,0,0,0,0,0,0,0,0,0,0]
["yeelding",0,0,0,0,0,0,0,0,0,0,0,0,0.1,0,0,0,0,0,0,0,0]
["yeere",0,0,0,0,0,0,0,0,0,0,0,0,0.1,0,0,0,0,0,0,0,0]
["yelling",0,0.1,0,0,0,0,0,0,0,0,0,0,0,0,0,0,0,0,0,0,0]
["yeolow",0.1,0,0,0,0,0,0,0,0,0,0,0,0,0,0,0,0,0,0,0,0]
["yeres",0.1,0,0,0,0,0,0,0,0,0,0,0,0,0,0,0,0,0,0,0,0]
["yf",0,0,0,0,0,0,0,0,0,0,0,0,0,0,0,0,0.1,0,0,0,0]
["yield",0,0,0,0,0,0,0,0,0,0,0,0,0,0,0,0,0,0,0,0,0]
["yielded",0,0,0,0,0,0,0,0,0,0,0,0,0,0,0,0,0,0,0,0,0]
["yon",0,0,0,0,0,0,0,0,0,0,0,0,0,0,0,0,0,0,0,0,0]
["youngest",0,0,0,0,0,0,0,0,0,0,0,0,0,0,0,0,0,0,0,0,0]
["youngly",0,0,0,0,0,0,0,0,0,0,0,0,0,0,0,0,0,0,0,0,0]
["yourself's",0,0,0,0,0,0,0,0,0,0,0,0,0,0,0,0,0,0,0,0,0]
["youth's",0,0,0,0,0,0,0,0,0,0,0,0,0,0,0,0,0,0,0,0,0]
["yron",0,0,0.1,0,0,0,0,0,0,0,0,0,0,0,0,0,0,0,0,0,0]
["yvorie",0,0,0,0,7.4183979999999997E-2,0,0,0,0,0,0,0,0,0,0,0,0,0,0,0,0]
["ywounded",0,0,0,0,7.4183979999999997E-2,0,0,0,0,0,0,0,0,0,0,0,0,0,0,0,0]
["zenith",0,0,0,0,0,0,0,0,0,0,0,0,0,0.1,0,0,0,0,0,0,0]
["zephires",0,0,0,0,0,0,0,0,0,0,0,0,0,0,0,0,0,0,0,0,7.0372980000000002E-2]
["zephyr",0,0,0,0,0,0,0,0,0,0,0,0,0,0,0,0,0,0,0,0,0]
["æols",0,0,0,0,0,0,0,0,0,0,0,0,0,0,0,0,0,0,0,0,7.0372980000000002E-2]
["WORD TYPES:",507,482,483,506,617,492,445,465,494,516,507,530,491,478,474,458,459,514,508,482,643]
["SIZE:",1000,1000,1000,1000,1348,1000,1000,1000,1000,1000,1000,1000,1000,1000,1000,1000,1000,1000,1000,1000,1421]

{"sheet":"Author2","index":2,"n_rows":6313,"n_cols":8,"rows_kept":6313,"cut":false,"hidden":false,"merged":[]}
["Writings from 1600-1650 (1)","Writings between 1600-1650 (1)","Writings between 1600-1650 (2)","Writings between 1600-1650 (3)","Writings during 1600-1650 (1)","Writings during 1600-1650 (2)","Writings during 1600-1650 (3)","Writings during 1600-1650 (4)"]
[2.4374177000000001,6.6,5,7.7131257,3.1,2.4,2.7,2.9255319000000002]
[3.4914360000000002,5.6,4.2,5.3450610000000003,2.2000000000000002,3.9,3.5,3.4574468]
[2.0421607000000002,2.2999999999999998,2.7,2.097429,1.4,2.7,2.6,2.748227]
[2.3056652999999998,1.9,2.1,2.1650879999999999,2.2999999999999998,2.1,2.5,2.3936169999999999]
[1.6469039000000001,0.6,1.6,2.0297700000000001,1.4,1.8,1.4,2.0390071999999999]
[0.92226609999999998,2.2000000000000002,2,0.87956696999999995,1.9,2.1,2.9,1.8617021]
[1.3833991999999999,0.2,0.7,0.27063599999999999,0,1.3,0.9,0.8865248]
[1.0540185,0.1,0.4,0.33829498000000002,0.2,0.5,1,1.1524823]
[0.85638999999999998,2,2.1,1.894452,1.3,0.6,0.6,0.8865248]
[1.7786561000000001,1,1.2,0.33829498000000002,0.7,1.6,0.8,1.0638297999999999]
[1.1198946000000001,0.2,0.6,0.54127199999999998,1,0.7,0.4,0.62056739999999999]
[0.85638999999999998,1.5,0.6,1.1502030000000001,1.2,0.2,3.2,0.97517730000000002]
[0.59288540000000001,0.5,0.8,0.27063599999999999,0.2,1.3,0.8,0.70921990000000001]
[0.72463770000000005,0,0,0.74424900000000005,1,0.5,0.9,0.53191489999999997]
[0.85638999999999998,0.1,0.1,0.33829498000000002,0.5,0.3,0.4,0.4432624]
[0.46113305999999998,0.2,0.4,0.20297699999999999,0,0.1,0.5,1.4184397]
[1.4492754000000001,0.2,0.3,0.74424900000000005,0.9,0.8,0.9,0.8865248]
[0.79051380000000004,0.1,0,0.40595399999999998,0.8,0.7,0.5,0.62056739999999999]
[1.2516468999999999,0.1,0.1,0.33829498000000002,1.4,0.3,0.4,0.4432624]
[0.92226609999999998,0.4,0.3,0.608931,0.4,0.7,0.7,1.3297873]
[0.6587615,0.1,0.1,0,0.4,1.1000000000000001,0.4,0.62056739999999999]
[1.317523,1.1000000000000001,0.8,0.40595399999999998,0.1,0.8,0.6,0.4432624]
[0.46113305999999998,0.3,0.6,0.40595399999999998,2.1,0.5,0.1,0]
[0.19762845000000001,0.3,0.2,0.40595399999999998,3.1,1.7,0,0.26595743999999999]
[0.26350462000000002,0.3,0.1,0.81190799999999996,0.2,0.1,1.4,0.79787235999999995]
[0.72463770000000005,0.3,0,0.27063599999999999,0.8,0.4,0.7,0.26595743999999999]
[0.85638999999999998,0.9,1.8,0.33829498000000002,0.4,0.7,0.4,0.62056739999999999]
[0.39525690000000002,0.6,0.3,0.27063599999999999,0.6,0.2,1.3,0.26595743999999999]
[0.39525690000000002,0.1,0,0,0,0.8,0.2,0.70921990000000001]
[0.32938075,0,0.2,0.13531799999999999,0.1,0.4,1.1000000000000001,1.0638297999999999]
[0.39525690000000002,0,0.1,6.7658999999999997E-2,0.4,0.5,0.3,0.17730497000000001]
[0.52700924999999998,0.1,0.2,0.67658996999999999,0.2,0.6,0.7,1.0638297999999999]
[0.26350462000000002,0.4,0.6,0.33829498000000002,0.4,1.1000000000000001,0.3,0.4432624]
[0.52700924999999998,0,0,0.54127199999999998,0.5,0,0.1,0.17730497000000001]
[0.39525690000000002,0.1,0.3,0.13531799999999999,0.5,0,0.1,0]
[0.32938075,0.2,0.1,0,0.4,0.5,0.2,0.35460994000000001]
[0.19762845000000001,0,0.4,0.54127199999999998,0.4,0.2,0.8,0.79787235999999995]
[0,0,0,0,0,0,0,0]
[0.46113305999999998,0,0.2,0.40595399999999998,0.3,0.2,0.1,8.8652484000000004E-2]
[0.19762845000000001,0.9,0.8,0.608931,0.5,0.3,0.4,0.17730497000000001]
[0.26350462000000002,0.3,0.3,0,0.3,1.1000000000000001,0.4,0.35460994000000001]
[0.26350462000000002,0,0.1,0.27063599999999999,0,0.3,0.1,0.79787235999999995]
[0.26350462000000002,0.6,0,6.7658999999999997E-2,0.6,0.2,0,0.26595743999999999]
[0.32938075,0.7,0.6,0.27063599999999999,1.4,0.5,0,8.8652484000000004E-2]
[0.46113305999999998,0.1,0.1,0.40595399999999998,0.2,0.3,0.3,0.4432624]
[0.32938075,0.1,0,0.47361300000000001,0,0.4,0.1,0.62056739999999999]
[6.5876156000000005E-2,0.6,0.6,0.54127199999999998,0.6,0.2,0.2,0.17730497000000001]
[0.39525690000000002,0.1,0.4,0.40595399999999998,0.1,0.1,1,0.35460994000000001]
[0.6587615,0,0.3,0.13531799999999999,0.2,0.2,0.5,0.17730497000000001]
[0.19762845000000001,0.2,0.2,0.20297699999999999,0.4,0.3,0.2,0.35460994000000001]
[0.32938075,0.4,0.3,0,0.7,0.4,0.4,0]
[6.5876156000000005E-2,0.1,0.2,0.13531799999999999,0.1,0.1,1,0.26595743999999999]
[0.26350462000000002,0.4,0.4,0.13531799999999999,0.1,0.1,0.1,8.8652484000000004E-2]
[0.19762845000000001,0.2,0.2,0.33829498000000002,0.7,0.6,0.4,0.26595743999999999]
[0.6587615,0.2,0.5,6.7658999999999997E-2,0.1,0.2,0.4,8.8652484000000004E-2]
[0.32938075,0.5,0.6,0.13531799999999999,0.3,0.5,0.2,8.8652484000000004E-2]
[0.13175231000000001,0,0.1,6.7658999999999997E-2,0.3,0.1,0,8.8652484000000004E-2]
[0.19762845000000001,0.1,0.1,0,0.5,0.4,0.2,0.17730497000000001]
[0.26350462000000002,0.5,0.4,0.27063599999999999,0,0.2,0,0.26595743999999999]
[0.13175231000000001,0.1,0.1,0.47361300000000001,0.1,0.3,0.2,0]
[0.13175231000000001,0,0,0.27063599999999999,0.2,0.4,0.2,0.35460994000000001]
[0.13175231000000001,0,0.1,0.13531799999999999,0.4,0.1,0.1,0.26595743999999999]
[0.59288540000000001,0.1,0.4,0,0.5,0,0.4,8.8652484000000004E-2]
[0.19762845000000001,0.3,0.1,6.7658999999999997E-2,0.3,0.2,0.1,0.4432624]
[0.19762845000000001,0,0.2,0,0,0.1,0,0.17730497000000001]
[0.13175231000000001,0,0.1,0,0.2,0.3,0.2,0]
[6.5876156000000005E-2,0.1,0.5,6.7658999999999997E-2,0.1,0.4,0.2,0]
[0.46113305999999998,0.1,0.2,0.20297699999999999,0.2,0.2,0.1,0.35460994000000001]
[6.5876156000000005E-2,0,0.2,0.13531799999999999,0,0.2,0.4,0.53191489999999997]
[6.5876156000000005E-2,0.1,0,0,0,0,0.2,0.4432624]
[0.19762845000000001,0.2,0.2,6.7658999999999997E-2,0.5,0.3,0.2,0.17730497000000001]
[0,0.4,0,0.20297699999999999,0.3,0,0.1,0.26595743999999999]
[0.19762845000000001,0.1,0.2,0,0.1,0,0.1,0.53191489999999997]
[0.19762845000000001,0.3,0.4,6.7658999999999997E-2,0.1,0,0.2,0.17730497000000001]
[0.19762845000000001,0.2,0.4,0.20297699999999999,0.1,0.1,0.2,0.26595743999999999]
[0.52700924999999998,0,0.3,6.7658999999999997E-2,0.4,0.2,0.1,0]
[0.19762845000000001,0,0,0,0,0.2,0,0]
[0,0.3,0.4,6.7658999999999997E-2,0,0,0,0]
[6.5876156000000005E-2,0.2,0.7,6.7658999999999997E-2,0,0.2,0.1,0]
[6.5876156000000005E-2,0.1,0,0.20297699999999999,0.2,0.1,0.1,0.17730497000000001]
[0.13175231000000001,0.4,0.2,0.20297699999999999,0.1,0,0.1,8.8652484000000004E-2]
[0.32938075,0,0,6.7658999999999997E-2,0.3,0.4,0.2,0.17730497000000001]
[0,0,0.1,6.7658999999999997E-2,0.1,0.1,0.4,0.17730497000000001]
[6.5876156000000005E-2,0.1,0.1,6.7658999999999997E-2,0,0.1,0.1,0]
[6.5876156000000005E-2,0.1,0.2,6.7658999999999997E-2,0.1,0,0,0]
[0.72463770000000005,0.2,0.1,0.20297699999999999,0,0.2,0.5,0.4432624]
[0.19762845000000001,0,0.2,6.7658999999999997E-2,0.2,0.1,0.2,8.8652484000000004E-2]
[0.32938075,0,0.1,6.7658999999999997E-2,0.1,0.1,0.2,8.8652484000000004E-2]
[0.13175231000000001,0,0.1,0.27063599999999999,0.6,0.3,0.3,0.17730497000000001]
[0.32938075,0.2,0,0.13531799999999999,0,0.1,0.1,0.17730497000000001]
[0,0,0,0,0,0,0,0]
[0.13175231000000001,0.2,0.1,6.7658999999999997E-2,0,0.1,0.1,0]
[6.5876156000000005E-2,0,0.2,6.7658999999999997E-2,0.2,0.2,0.1,8.8652484000000004E-2]
[0.6587615,0,0.1,0.27063599999999999,0,0,0.3,8.8652484000000004E-2]
[0.39525690000000002,0,0,6.7658999999999997E-2,0.3,0.3,0,8.8652484000000004E-2]
[0.13175231000000001,0,0,0.33829498000000002,0.5,0.3,0.6,8.8652484000000004E-2]
[0.26350462000000002,0,0,0,0,0.1,0,8.8652484000000004E-2]
[0,0,0,0,0,0,0,0]
[0.13175231000000001,0.1,0,0.13531799999999999,0,0.3,0.2,0.53191489999999997]
[0,0,0,0.13531799999999999,0.1,0.1,0.2,0.26595743999999999]
[6.5876156000000005E-2,0,0,0,0.1,0.2,0.3,0]
[0,0,0,0,0,0,0,0]
[0.32938075,0,0,6.7658999999999997E-2,0.2,0,0,0.26595743999999999]
[0,0,0,0,0,0,0,0]
[0.26350462000000002,0,0,0,0.2,0.5,0,8.8652484000000004E-2]
[0.19762845000000001,0.1,0.2,0,0,0.1,0.1,0.4432624]
[0.13175231000000001,0,0,6.7658999999999997E-2,0,0,0.1,0]
[0.13175231000000001,0,0,0,0.2,0,0.1,8.8652484000000004E-2]
[0.13175231000000001,0.1,0,0,0,0,0.3,0.26595743999999999]
[0,0,0.1,0,0.2,0.1,0.2,0.26595743999999999]
[0,0.1,0.1,6.7658999999999997E-2,0,0,0.1,0]
[0.13175231000000001,0,0.2,0.20297699999999999,0,0.5,0.3,8.8652484000000004E-2]
[0.19762845000000001,0.1,0,0,0,0,0,8.8652484000000004E-2]
[6.5876156000000005E-2,0,0,0.13531799999999999,0.3,0.1,0.1,0.26595743999999999]
[0,0.3,0.2,6.7658999999999997E-2,0,0.1,0,0]
[0.19762845000000001,0.1,0,0.20297699999999999,0,0.1,0,0]
[0.26350462000000002,0,0.1,0,0.1,0.1,0.1,0.17730497000000001]
[0.32938075,0.1,0,0.20297699999999999,0.1,0,0.2,8.8652484000000004E-2]
[6.5876156000000005E-2,0.3,0.3,0.20297699999999999,0,0.1,0,0]
[0.39525690000000002,0.1,0.2,6.7658999999999997E-2,0.3,0.4,0.5,0.35460994000000001]
[0.19762845000000001,0,0.1,6.7658999999999997E-2,0.2,0,0,8.8652484000000004E-2]
[6.5876156000000005E-2,0.2,0,6.7658999999999997E-2,0,0.2,0,8.8652484000000004E-2]
[6.5876156000000005E-2,0.2,0.2,0,0.1,0,0.1,0]
[0,0.1,0.1,6.7658999999999997E-2,0.1,0.2,0.3,0]
[0,0,0.1,6.7658999999999997E-2,1,0.4,0,8.8652484000000004E-2]
[6.5876156000000005E-2,0.3,0.4,6.7658999999999997E-2,0.1,0.1,0,8.8652484000000004E-2]
[0.72463770000000005,0,0,0.20297699999999999,0.1,0,0.2,8.8652484000000004E-2]
[0.13175231000000001,0,0,6.7658999999999997E-2,0.7,0.2,0,0]
[0.13175231000000001,0.4,0.3,6.7658999999999997E-2,0,0,0,0]
[6.5876156000000005E-2,0,0,6.7658999999999997E-2,0.1,0.1,0,0.26595743999999999]
[0,0,0,0,0,0,0,0]
[0,0,0.1,0,0.1,0.1,0,0]
[0,0.1,0.1,6.7658999999999997E-2,0,0.3,0.2,8.8652484000000004E-2]
[0.13175231000000001,0,0,0,0,0,0.1,0]
[0.19762845000000001,0,0,0,0,0.1,0.2,8.8652484000000004E-2]
[6.5876156000000005E-2,0.1,0,6.7658999999999997E-2,0.1,0.2,0,0]
[6.5876156000000005E-2,0,0,6.7658999999999997E-2,0.1,0,0.1,0]
[0.13175231000000001,0,0,6.7658999999999997E-2,0,0.1,0.1,0]
[0,0.4,0,0,0.1,0.3,0.3,0.17730497000000001]
[0.13175231000000001,0.1,0.3,0.20297699999999999,0.1,0,0,0]
[6.5876156000000005E-2,0.2,0.3,6.7658999999999997E-2,0,0,0.2,8.8652484000000004E-2]
[0.13175231000000001,0,0,6.7658999999999997E-2,0.4,0.3,0,0]
[6.5876156000000005E-2,0.1,0,0,0,0,0,0]
[0.19762845000000001,0,0,0,0.3,0.2,0,0]
[0,0,0,0,0,0,0,0]
[0,0.2,0,6.7658999999999997E-2,0,0,0.3,8.8652484000000004E-2]
[0,0,0,0,0,0,0,0]
[6.5876156000000005E-2,0.5,0.1,6.7658999999999997E-2,0.2,0.2,0,0]
[6.5876156000000005E-2,0.1,0,0.13531799999999999,0.2,0,0.2,8.8652484000000004E-2]
[6.5876156000000005E-2,0,0,0,0,0.1,0,0]
[0.19762845000000001,0,0,0,0,0,0,8.8652484000000004E-2]
[6.5876156000000005E-2,0,0,0,0,0.2,0,0.17730497000000001]
[0,0.2,0,0.13531799999999999,0,0,0,0]
[0,0.1,0.3,0,0.3,0,0.1,0.26595743999999999]
[6.5876156000000005E-2,0.1,0.1,0,0,0.1,0,0]
[0,0,0,0,0,0,0,0]
[6.5876156000000005E-2,0,0,0,0,0,0.1,8.8652484000000004E-2]
[6.5876156000000005E-2,0,0.2,0.13531799999999999,0,0.1,0,8.8652484000000004E-2]
[0.19762845000000001,0,0,0,0.1,0.2,0.1,8.8652484000000004E-2]
[0,0,0,6.7658999999999997E-2,0,0,0,0]
[0,0.1,0,6.7658999999999997E-2,0.6,0.7,0,0]
[6.5876156000000005E-2,0.2,0,0.13531799999999999,0.2,0.1,0,8.8652484000000004E-2]
[6.5876156000000005E-2,0,0,6.7658999999999997E-2,0,0,0.1,0]
[0.26350462000000002,0.1,0,0,0.2,0,0.1,0]
[0.13175231000000001,0,0,0,0.3,0,0,8.8652484000000004E-2]
[0,0,0,0,0.3,0,0.2,8.8652484000000004E-2]
[6.5876156000000005E-2,0,0,0,0.1,0.1,0.1,0]
[6.5876156000000005E-2,0.1,0,0,0,0,0,8.8652484000000004E-2]
[0.19762845000000001,0.2,0,0,0.1,0.1,0.1,8.8652484000000004E-2]
[0,0,0.1,0.20297699999999999,0,0,0,8.8652484000000004E-2]
[6.5876156000000005E-2,0.2,0,0,0,0,0.2,0]
[0.26350462000000002,0,0,0.33829498000000002,0,0,0,0]
[0.13175231000000001,0,0.2,0.13531799999999999,0.2,0,0.2,0]
[6.5876156000000005E-2,0,0,0,0.1,0,0,0]
[0.13175231000000001,0,0,0.13531799999999999,0.1,0.2,0.5,8.8652484000000004E-2]
[6.5876156000000005E-2,0,0,0,0,0,0,0]
[0.32938075,0.3,0,0,0.1,0,0.1,8.8652484000000004E-2]
[0,0,0,0,0,0.1,0,8.8652484000000004E-2]
[0.13175231000000001,0,0,6.7658999999999997E-2,0,0,0,0]
[0,0,0,0,0,0,0.1,0]
[0,0.1,0.1,0.20297699999999999,0.2,0,0.2,0]
[6.5876156000000005E-2,0.2,0,0,0,0.1,0,0]
[0,0,0,0,0,0,0,0]
[0,0,0,0,0,0,0,0]
[0,0,0,0,0,0,0,0]
[0.19762845000000001,0,0.2,0,0.3,0.2,0.3,0]
[6.5876156000000005E-2,0,0,0.13531799999999999,0,0.1,0,0]
[0,0,0,0,0,0,0,0]
[6.5876156000000005E-2,0.2,0,0.13531799999999999,0.3,0.1,0.1,0.26595743999999999]
[0.13175231000000001,0,0,0,0,0.1,0.1,0]
[0,0,0,0,0,0,0,0]
[0,0,0,0,0,0.1,0.2,0]
[0,0,0,0,0.3,0,0,0.35460994000000001]
[6.5876156000000005E-2,0,0,6.7658999999999997E-2,0,0.2,0.2,0]
[0.19762845000000001,0,0,0,0,0,0.1,0]
[6.5876156000000005E-2,0.1,0,0.13531799999999999,0,0,0.1,8.8652484000000004E-2]
[0.26350462000000002,0,0,0,0,0,0,0]
[0.19762845000000001,0,0,0,0.1,0,0,0]
[6.5876156000000005E-2,0,0,0,0.5,0.1,0,0]
[0.13175231000000001,0,0.1,6.7658999999999997E-2,0.2,0.1,0,8.8652484000000004E-2]
[6.5876156000000005E-2,0.1,0.1,6.7658999999999997E-2,0,0,0,0]
[0,0,0,0,0,0,0,0]
[6.5876156000000005E-2,0,0,6.7658999999999997E-2,0.1,0.1,0,0]
[6.5876156000000005E-2,0,0,0,0,0,0,0]
[0,0,0,0,0,0,0,0]
[0.19762845000000001,0,0.1,6.7658999999999997E-2,0.1,0.2,0.1,0]
[0,0,0,0,0,0,0,0]
[6.5876156000000005E-2,0,0.1,0,0.1,0,0.1,0]
[0,0.1,0,0.13531799999999999,0,0,0.1,0]
[0,0,0,0.13531799999999999,0,0.2,0,0.35460994000000001]
[0.26350462000000002,0,0,6.7658999999999997E-2,0,0,0,0]
[6.5876156000000005E-2,0,0,0.13531799999999999,0,0,0.1,8.8652484000000004E-2]
[0.19762845000000001,0,0,0,0.1,0.2,0,0.4432624]
[0,0,0,0.20297699999999999,0,0,0,0]
[0,0,0,0,0,0,0,0]
[0,0,0,0,0,0,0,0]
[0,0,0,0,0,0,0,0]
[0,0,0,0.20297699999999999,0,0,0,0.17730497000000001]
[0,0.1,0.1,6.7658999999999997E-2,0.2,0,0,0]
[0,0,0,0,0,0,0,0]
[6.5876156000000005E-2,0,0.1,0,0.9,0.3,0,0]
[0,0.1,0,0.47361300000000001,0,0,0.1,0]
[6.5876156000000005E-2,0,0.1,6.7658999999999997E-2,0,0.1,0,0]
[0.13175231000000001,0,0,0,0,0.2,0,0]
[0,0,0,0.13531799999999999,0.2,0,0,0]
[0,0,0,0,0,0,0,0]
[6.5876156000000005E-2,0,0,0,0,0,0,0]
[0,0,0.1,0.27063599999999999,0,0,0.1,0]
[0,0,0.1,6.7658999999999997E-2,0.2,0,0,0]
[0,0,0,0,0,0,0,0]
[0,0.1,0,0.20297699999999999,0,0.1,0,0]
[6.5876156000000005E-2,0,0,0,0,0,0.1,0]
[0,0,0,0,0,0,0,0]
[0,0,0,0.13531799999999999,0.1,0,0,0]
[0,0.1,0,6.7658999999999997E-2,0.6,0.1,0.2,0]
[0.13175231000000001,0,0,0,0.1,0,0.1,0]
[0,0,0,0,0,0,0,0]
[0,0,0,0,0,0,0,8.8652484000000004E-2]
[0,0,0,0,0,0,0.1,0]
[6.5876156000000005E-2,0,0,0,0.5,0,0,8.8652484000000004E-2]
[0,0,0,0,0,0,0,0]
[0,0.1,0,0.13531799999999999,0,0,0,0]
[6.5876156000000005E-2,0,0.1,0.13531799999999999,0,0,0.1,0]
[0,0,0,0,0,0,0,0]
[0,0,0,0,0,0,0,8.8652484000000004E-2]
[0,0,0,0,0,0,0,0]
[0.19762845000000001,0,0,6.7658999999999997E-2,0,0,0,0]
[0,0,0,0,0,0,0,0]
[0,0.1,0,6.7658999999999997E-2,0,0.1,0.1,8.8652484000000004E-2]
[6.5876156000000005E-2,0.1,0,0,0,0,0,8.8652484000000004E-2]
[0,0.1,0,0,0,0,0,0]
[0.13175231000000001,0,0,0,0,0,0,0]
[0.13175231000000001,0,0.1,6.7658999999999997E-2,0.2,0.1,0,8.8652484000000004E-2]
[0,0,0,0,0,0,0,0]
[0,0,0,0,0,0,0,0]
[0,0.1,0,6.7658999999999997E-2,0,0.1,0.1,0]
[0,0,0,0,0,0.1,0,0]
[0,0.1,0,0,0,0,0,0.17730497000000001]
[0,0,0,0,0,0,0,8.8652484000000004E-2]
[6.5876156000000005E-2,0,0,0,0,0,0,0]
[0,0,0,0,0,0,0,0]
[0,0,0,0,0,0,0,0]
[0,0.1,0,0,0,0.1,0.2,0]
[0,0,0,6.7658999999999997E-2,0,0,0.1,8.8652484000000004E-2]
[0,0,0,0,0.1,0.2,0.2,0]
[6.5876156000000005E-2,0,0,0,0.3,0,0.3,0.17730497000000001]
[6.5876156000000005E-2,0,0,0,0,0.1,0.1,0]
[0,0.1,0,0,0,0,0.2,0]
[6.5876156000000005E-2,0.1,0.1,0,0,0,0,0]
[0,0,0,0,0,0,0,0]
[0,0,0,0,0,0,0,0]
[0,0,0,0,0,0,0,0]
[0,0,0.2,6.7658999999999997E-2,0,0,0,8.8652484000000004E-2]
[0,0,0,0,0,0,0,0]
[0,0,0,0,0,0,0,0]
[6.5876156000000005E-2,0.1,0.1,6.7658999999999997E-2,0,0,0,0]
[0,0,0,0,0.1,0.3,0.2,8.8652484000000004E-2]
[6.5876156000000005E-2,0,0.1,0,0,0,0,0]
[0,0,0.1,0,0,0.1,0,0]
[0,0.2,0,0.13531799999999999,0.2,0.1,0.1,0]
[0.19762845000000001,0.1,0.2,0.13531799999999999,0.3,0.1,0.1,0]
[0,0,0,0,0,0,0,0.17730497000000001]
[0.26350462000000002,0.2,0.1,0,0.1,0.1,0,0]
[0,0,0.1,0,0,0,0,0]
[0,0.1,0.1,0.13531799999999999,0,0.1,0,0]
[0,0,0,0,0,0,0,0]
[0,0,0,6.7658999999999997E-2,0,0,0,0]
[0,0,0,0,0,0,0,0]
[0,0,0,0,0,0,0,0]
[0,0,0,0,0,0,0,0]
[0,0.3,0.1,6.7658999999999997E-2,0,0.1,0.1,0]
[0,0,0.2,0.13531799999999999,0.1,0,0,0]
[0,0,0,0,0,0,0,0]
[0,0,0,0,0,0,0,0]
[6.5876156000000005E-2,0,0,6.7658999999999997E-2,0,0.2,0.2,0]
[0,0.1,0,6.7658999999999997E-2,0.1,0.3,0.4,0]
[0,0,0,0,0,0.1,0,0]
[0,0,0,6.7658999999999997E-2,0.1,0,0.1,0]
[0,0,0,0,0,0,0,0]
[0,0,0.1,0,0,0,0,0]
[0,0,0,0,0,0,0,0]
[0,0,0,0,0,0,0.1,0]
[0,0.1,0.1,0.13531799999999999,0,0.1,0.2,8.8652484000000004E-2]
[6.5876156000000005E-2,0.1,0.1,0,0,0,0,0.17730497000000001]
[6.5876156000000005E-2,0.1,0,0.20297699999999999,0.2,0.1,0.1,8.8652484000000004E-2]
[0,0,0,0,0,0,0,0]
[0,0.1,0,0,0,0,0,0]
[0,0,0,0,0,0,0,0]
[0,0,0,0,0,0,0,0]
[0,0,0,6.7658999999999997E-2,0,0,0,0.17730497000000001]
[6.5876156000000005E-2,0.1,0.1,6.7658999999999997E-2,0,0,0,8.8652484000000004E-2]
[0,0,0.2,0,0,0,0.2,8.8652484000000004E-2]
[0,0.1,0,0,0.1,0,0,0]
[0,0,0,0.13531799999999999,0.1,0,0,8.8652484000000004E-2]
[0,0,0,0,0,0,0,0]
[0,0.1,0.1,0,0,0,0,0]
[0,0.1,0,6.7658999999999997E-2,0,0,0.1,0]
[0,0,0,0,0,0,0,0]
[6.5876156000000005E-2,0,0.2,0,0.1,0,0.1,8.8652484000000004E-2]
[0.13175231000000001,0,0,0,0,0,0,0.17730497000000001]
[0,0,0,0,0,0,0,0]
[0,0,0,0,0,0,0,0]
[0.13175231000000001,0,0,0,0,0.1,0,0]
[0,0,0.1,0,0,0,0,0]
[6.5876156000000005E-2,0,0,0,0.1,0,0,8.8652484000000004E-2]
[0,0,0,0,0,0,0,0]
[0,0,0.1,0,0,0.1,0.1,8.8652484000000004E-2]
[6.5876156000000005E-2,0.1,0.3,6.7658999999999997E-2,0,0,0,0]
[0,0,0,0,0,0,0,0]
[0,0,0,0,0,0,0,0]
[0,0,0,0,0,0,0,0]
[0,0,0,0,0,0,0,0]
[0,0,0.2,0,0,0.3,0,0]
[0,0,0.1,0,0,0,0,0]
[0,0,0,0,0,0,0,0]
[6.5876156000000005E-2,0,0,0.13531799999999999,0.1,0.1,0,0]
[6.5876156000000005E-2,0,0,0,0,0.1,0,0]
[0,0.1,0.1,0.27063599999999999,0.1,0.1,0,0]
[6.5876156000000005E-2,0,0,6.7658999999999997E-2,0.2,0,0,0]
[0,0.1,0,0.13531799999999999,0,0,0.1,0]
[0,0,0,0,0.1,0,0,8.8652484000000004E-2]
[6.5876156000000005E-2,0,0.1,0.13531799999999999,0.3,0.1,0,0]
[6.5876156000000005E-2,0,0.1,0,0,0,0,0]
[0,0,0,0,0,0,0.1,0]
[0,0.1,0,0,0,0.5,0.2,0]
[6.5876156000000005E-2,0.1,0,0,0,0,0,0]
[0,0,0.1,0,0,0,0,0]
[6.5876156000000005E-2,0.1,0,6.7658999999999997E-2,0,0,0,8.8652484000000004E-2]
[6.5876156000000005E-2,0,0,0,0,0,0.1,0]
[0,0.1,0.1,0,0,0,0,0]
[0,0,0,0,0,0.1,0,8.8652484000000004E-2]
[0,0,0.1,0,0,0,0,0]
[0,0,0,0,0,0.1,0.1,0]
[0,0,0,0,0,0,0,0]
[0,0,0,0,0,0,0,0]
[0,0,0,0,0,0,0,0]
[0,0.2,0,0,0,0.2,0,8.8652484000000004E-2]
[0,0.2,0,6.7658999999999997E-2,0,0,0,0]
[6.5876156000000005E-2,0,0,0.13531799999999999,0,0,0,0]
[0,0,0,0,0.1,0.1,0,0]
[0,0,0,0,0,0,0,0]
[0,0,0.3,6.7658999999999997E-2,0,0,0,0]
[6.5876156000000005E-2,0.1,0,0,0,0.1,0,8.8652484000000004E-2]
[0,0,0,0,0,0,0,0]
[6.5876156000000005E-2,0,0.1,0,0,0.1,0,0]
[0,0,0,0,0.1,0,0,0]
[0,0,0,0,0,0,0,0]
[0,0,0,0,0,0,0,0]
[0,0,0,6.7658999999999997E-2,0,0.1,0,0]
[0,0.1,0,0.20297699999999999,0.1,0.1,0,0]
[0,0,0,6.7658999999999997E-2,0.1,0.1,0,0]
[0,0,0,0,0,0,0,0]
[6.5876156000000005E-2,0,0.1,0.13531799999999999,0,0,0,8.8652484000000004E-2]
[0,0,0,0,0,0,0,0]
[6.5876156000000005E-2,0,0,0,0,0,0.2,8.8652484000000004E-2]
[6.5876156000000005E-2,0,0,6.7658999999999997E-2,0,0,0,8.8652484000000004E-2]
[0,0.1,0,0.13531799999999999,0,0,0,0]
[0,0,0,0,0,0,0,0]
[0,0,0,0,0,0,0,0]
[6.5876156000000005E-2,0.1,0,6.7658999999999997E-2,0.1,0,0,0]
[0,0,0.1,0,0,0,0,8.8652484000000004E-2]
[0,0,0,0,0.1,0,0.1,0.26595743999999999]
[0,0.1,0.1,6.7658999999999997E-2,0,0.1,0,0]
[0,0,0,0,0,0,0.1,0]
[0,0.2,0.1,0.13531799999999999,0.1,0,0,8.8652484000000004E-2]
[0.13175231000000001,0.1,0,0,0,0,0,0]
[0,0,0,0,0,0,0,0]
[0,0,0,0,0,0,0,8.8652484000000004E-2]
[0,0.1,0.1,6.7658999999999997E-2,0,0,0,0]
[6.5876156000000005E-2,0,0,6.7658999999999997E-2,0,0,0,0]
[0,0,0.2,0,0,0,0,0]
[0,0,0,0,0,0,0,8.8652484000000004E-2]
[0.26350462000000002,0,0,0,0,0.1,0.1,0.17730497000000001]
[0,0,0,0,0,0,0.1,0]
[0,0,0.1,0,0.7,0.1,0,0]
[0.13175231000000001,0,0.1,0,0,0,0.2,0]
[0,0,0,0,0,0,0,0]
[0,0,0,0,0,0.2,0,0]
[0,0,0,0,0,0,0,8.8652484000000004E-2]
[0,0,0,0,0,0,0.1,0]
[6.5876156000000005E-2,0,0,0,0,0,0,0]
[0,0,0,0.13531799999999999,0,0.1,0.1,0.17730497000000001]
[0,0,0,6.7658999999999997E-2,0.2,0,0.1,0.17730497000000001]
[0,0,0,0,0,0,0,0]
[0,0.1,0,0.13531799999999999,0,0.1,0,8.8652484000000004E-2]
[0,0,0,0,0,0,0,0]
[6.5876156000000005E-2,0.1,0,0,0.1,0.2,0,0]
[0.13175231000000001,0,0.1,0,0,0,0,0]
[6.5876156000000005E-2,0.1,0,6.7658999999999997E-2,0,0,0,0]
[0.13175231000000001,0,0,6.7658999999999997E-2,0,0,0,0.17730497000000001]
[6.5876156000000005E-2,0,0,0,0,0.1,0,0]
[0,0.1,0,6.7658999999999997E-2,0,0.2,0.1,0]
[0,0.1,0,6.7658999999999997E-2,0,0,0,8.8652484000000004E-2]
[0.13175231000000001,0,0,0,0,0,0,0.26595743999999999]
[0.13175231000000001,0.2,0,6.7658999999999997E-2,0,0.1,0.1,8.8652484000000004E-2]
[0,0,0,0,0,0,0,0]
[0,0,0,0,0,0,0,0]
[0,0,0,0,0,0,0,0]
[0,0,0.2,0.13531799999999999,0,0.1,0,8.8652484000000004E-2]
[0.13175231000000001,0,0,6.7658999999999997E-2,0,0,0,0]
[6.5876156000000005E-2,0,0,0,0,0.1,0,0]
[0,0,0,0,0,0.1,0,0]
[6.5876156000000005E-2,0,0,0,0,0.3,0.1,0]
[6.5876156000000005E-2,0.1,0.1,6.7658999999999997E-2,0,0,0,0]
[0,0,0.1,0,0,0,0,0]
[0,0,0,6.7658999999999997E-2,0.2,0,0,8.8652484000000004E-2]
[6.5876156000000005E-2,0,0,0,0.3,0,0,0]
[6.5876156000000005E-2,0.1,0,0,0,0,0,0]
[6.5876156000000005E-2,0,0,0,0.1,0,0,0]
[0,0.1,0,6.7658999999999997E-2,0,0.1,0,0]
[0,0,0,0,0,0,0,0]
[6.5876156000000005E-2,0,0,0,0,0,0,0]
[0.13175231000000001,0,0,0,0.1,0,0,0.17730497000000001]
[0,0,0,0,0,0,0,0]
[0,0,0.1,0,0,0.1,0,8.8652484000000004E-2]
[0,0,0,0.13531799999999999,0,0,0,0.17730497000000001]
[0,0,0,0,0,0,0,0]
[0,0.1,0.1,0.20297699999999999,0,0,0,0]
[6.5876156000000005E-2,0,0.2,0,0,0.1,0,0]
[0,0.2,0.1,6.7658999999999997E-2,0.1,0,0,0]
[0,0,0,6.7658999999999997E-2,0,0,0,8.8652484000000004E-2]
[0,0,0,0,0,0,0,0]
[0,0,0,0,0,0,0.2,8.8652484000000004E-2]
[0,0.2,0,0,0.1,0,0.1,0]
[6.5876156000000005E-2,0,0,6.7658999999999997E-2,0,0,0,0]
[0,0,0,0,0,0,0,0]
[0.13175231000000001,0,0,6.7658999999999997E-2,0,0.1,0.1,8.8652484000000004E-2]
[0,0,0,0,0,0,0,0]
[0,0,0,0,0.1,0,0,0]
[0,0,0,0,0,0,0,0]
[6.5876156000000005E-2,0,0,0,0.1,0,0.1,0]
[0,0,0,0,0,0,0,0]
[0,0,0,0,0,0.1,0,0]
[6.5876156000000005E-2,0,0.2,6.7658999999999997E-2,0,0,0,0]
[0,0,0,0,0,0,0,0]
[0,0,0.2,0,0.1,0,0.1,0]
[0,0,0.1,0,0,0,0,8.8652484000000004E-2]
[0,0,0.1,0,0,0,0.2,0]
[0,0,0,0,0.1,0,0,0]
[0,0,0,0,0,0,0,0]
[0,0,0,0,0,0.2,0,0.26595743999999999]
[6.5876156000000005E-2,0,0,0,0.1,0,0,0.17730497000000001]
[0,0,0,0,0,0,0,0]
[0,0,0,0,0.1,0,0,0.17730497000000001]
[0,0,0,0,0,0,0,0]
[0,0,0.1,0.13531799999999999,0.2,0,0,0]
[0,0,0,0.54127199999999998,0,0,0,0]
[0,0,0,0,0,0,0,0]
[0,0,0,0,0,0,0,0]
[0,0,0,0,0,0,0,0]
[0,0,0,0,0,0,0,0]
[0,0,0,0,0,0,0,0]
[0,0,0,0,0,0,0,0]
[0,0,0,0,0,0,0,0]
[0,0,0,0,0,0,0,0]
[0,0,0,0,0,0,0,0]
[0.46113305999999998,0,0,0,0,0,0,0]
[0,0,0,0,0,0,0,0]
[0,0,0.1,6.7658999999999997E-2,0,0,0,0.17730497000000001]
[0,0,0,0,0,0,0,0]
[0,0,0,0,0,0,0,0.17730497000000001]
[0,0.2,0,0,0,0,0,0.17730497000000001]
[0,0,0,0,0,0,0.1,0]
[0,0.2,0.2,0,0,0,0,8.8652484000000004E-2]
[0,0.1,0,0,0,0.1,0,0]
[6.5876156000000005E-2,0.1,0,6.7658999999999997E-2,0,0.1,0,0]
[0,0,0,0.13531799999999999,0,0,0.1,0]
[0,0.1,0,0.13531799999999999,0,0.2,0.1,0]
[0,0,0,0,0,0,0,8.8652484000000004E-2]
[0,0,0,0,0,0.2,0.1,0.35460994000000001]
[0,0,0,0,0.1,0,0,0]
[0,0,0,0,0.4,0.1,0,0]
[0,0,0,0,0,0,0,0]
[0,0,0,0,0,0,0,0]
[0,0,0,0,0,0,0,0]
[0,0,0,0,0,0,0,0]
[0,0.1,0,0,0.2,0,0,0]
[0,0,0,0,0,0,0,0]
[0,0,0,0,0,0.2,0,0]
[0,0.1,0.2,6.7658999999999997E-2,0.1,0,0,0]
[0,0,0,0,0,0,0,0]
[0,0,0,0,0,0,0,0]
[0,0,0,0,0,0,0,0]
[0.13175231000000001,0,0.1,0,0.1,0,0.1,8.8652484000000004E-2]
[0,0,0,0,0,0,0,0]
[0,0,0,0,0,0.1,0,8.8652484000000004E-2]
[0,0,0,0,0,0,0,0]
[0,0,0,0,0,0,0,0]
[6.5876156000000005E-2,0,0,0.13531799999999999,0.1,0,0,0]
[6.5876156000000005E-2,0.1,0.1,0,0,0.1,0,0]
[0,0,0,0,0,0,0,0]
[0,0,0,0,0,0,0,0]
[0,0,0,0,0,0.2,0.2,0.17730497000000001]
[0,0,0,0,0,0,0,0]
[6.5876156000000005E-2,0.1,0.1,0.13531799999999999,0,0.1,0,8.8652484000000004E-2]
[0,0,0,0,0,0.1,0,0]
[0,0.2,0.2,6.7658999999999997E-2,0.1,0,0,8.8652484000000004E-2]
[6.5876156000000005E-2,0,0,0,0,0,0,0]
[0.13175231000000001,0.1,0,6.7658999999999997E-2,0.1,0.1,0,0]
[0,0,0.1,0,0,0,0,8.8652484000000004E-2]
[6.5876156000000005E-2,0,0.2,0,0.1,0,0,0]
[0,0,0,0,0,0,0,0]
[0,0,0.1,0,0,0,0,0]
[0,0,0,0.13531799999999999,0,0.1,0.2,0]
[0,0,0,0,0,0,0,8.8652484000000004E-2]
[0,0,0,0,0,0,0,0]
[6.5876156000000005E-2,0,0,6.7658999999999997E-2,0,0,0,0]
[0,0.1,0.1,0.13531799999999999,0.1,0.1,0,8.8652484000000004E-2]
[0.19762845000000001,0,0.1,0,0,0,0,0]
[6.5876156000000005E-2,0,0,6.7658999999999997E-2,0,0.1,0,0]
[6.5876156000000005E-2,0,0,6.7658999999999997E-2,0.2,0.1,0,0]
[0,0.1,0,0.13531799999999999,0,0,0.1,0]
[0,0,0,0,0,0,0,0]
[0,0,0,0,0,0,0,8.8652484000000004E-2]
[0,0,0,0,0,0,0,0]
[0,0,0,0,0,0,0.3,8.8652484000000004E-2]
[0,0.1,0.2,6.7658999999999997E-2,0,0.1,0,0.17730497000000001]
[6.5876156000000005E-2,0,0,0,0,0,0,0]
[0,0.1,0,0,0.1,0,0,0]
[0,0.1,0,0,0,0,0,0]
[0,0.2,0.1,0,0,0,0.1,0]
[0,0,0,0,0,0,0,0]
[0,0,0.1,6.7658999999999997E-2,0,0,0,8.8652484000000004E-2]
[0,0,0,0,0,0,0,0]
[0,0,0,0,0,0,0,8.8652484000000004E-2]
[0,0,0,0.27063599999999999,0.1,0,0,0]
[0,0,0,0,0,0,0,0]
[0,0,0,6.7658999999999997E-2,0.1,0.1,0,0]
[0,0,0,0,0,0,0,0]
[0,0.1,0.1,0,0,0,0,8.8652484000000004E-2]
[0,0,0,0,0,0,0,0]
[0,0,0,0,0,0,0,0]
[0.13175231000000001,0,0.1,6.7658999999999997E-2,0,0,0,0]
[0,0,0,0,0.1,0,0,8.8652484000000004E-2]
[0,0,0,0,0,0,0,0]
[0,0.1,0,0,0,0.2,0,0]
[0,0,0,0,0,0,0,0.26595743999999999]
[0,0,0,0,0,0,0,0]
[0,0,0,0,0,0,0,0]
[0,0.1,0,0,0,0.2,0,0]
[0,0,0,0,0.1,0,0.1,0]
[6.5876156000000005E-2,0,0,0,0.2,0.1,0.1,0]
[0.26350462000000002,0,0,6.7658999999999997E-2,0,0.1,0,0]
[6.5876156000000005E-2,0,0,0,0,0,0,0]
[0.19762845000000001,0.1,0,0,0,0,0.1,8.8652484000000004E-2]
[0,0,0,0,0,0,0,0]
[0,0,0,0.20297699999999999,0.1,0,0.2,8.8652484000000004E-2]
[6.5876156000000005E-2,0.1,0,6.7658999999999997E-2,0,0,0,0]
[0,0,0,0,0,0,0,0]
[0,0.1,0.2,0,0,0,0,0]
[0,0,0,0,0.1,0.1,0,8.8652484000000004E-2]
[0,0.1,0.1,0.20297699999999999,0,0,0.1,0]
[0,0,0,0,0,0,0,0]
[0,0,0.1,0,0,0,0,0]
[0,0,0.1,0.13531799999999999,0,0,0,0]
[0,0,0,0,0,0,0,0]
[0,0,0,0,0,0,0,0]
[6.5876156000000005E-2,0,0.1,0,0.2,0.2,0,0]
[0,0,0,0,0,0,0,0]
[0,0.1,0.1,0.13531799999999999,0,0,0,8.8652484000000004E-2]
[0,0,0.1,0,0,0,0.1,0]
[0,0,0,6.7658999999999997E-2,0,0,0,0]
[0,0,0,0,0,0.1,0,0]
[0,0,0,6.7658999999999997E-2,0,0.2,0,0]
[6.5876156000000005E-2,0.1,0,0,0.2,0,0,0]
[6.5876156000000005E-2,0,0.1,0,0,0,0,0]
[0,0,0,0,0.1,0.1,0,0]
[0,0,0,0,0,0.1,0,8.8652484000000004E-2]
[0,0,0,0,0,0,0,0]
[0,0,0,0,0,0,0,0]
[0,0,0,0,0,0,0,0]
[0,0,0,0,0,0,0,0]
[6.5876156000000005E-2,0,0,0,0,0,0,0]
[0,0,0,0,0,0,0,0]
[6.5876156000000005E-2,0,0,0,0,0,0,0]
[0,0,0,0,0,0,0,0]
[0,0,0,0,0,0,0,0]
[0,0,0,0,0,0,0,0]
[0,0,0,0,0,0,0,0]
[0,0,0,0,0.1,0,0,0]
[6.5876156000000005E-2,0,0,0,0,0,0,0]
[0,0,0,0,0,0,0,0]
[0,0,0,0,0,0,0.1,0]
[0,0,0,0.13531799999999999,0,0,0.2,0]
[0,0,0,0,0,0,0,0]
[0,0,0,0,0,0,0,0]
[0,0,0,0,0,0,0,0]
[0,0,0,0,0,0,0.1,0]
[0,0,0,0,0,0,0,0]
[6.5876156000000005E-2,0,0,6.7658999999999997E-2,0,0,0,0]
[0,0,0,0,0.1,0,0,0]
[0,0,0,0,0.1,0,0,0]
[0,0,0,0,0,0,0,0]
[0,0,0,0.13531799999999999,0,0,0.1,8.8652484000000004E-2]
[0,0,0,0,0,0,0,0]
[0,0,0,0,0,0,0,0]
[6.5876156000000005E-2,0,0,0,0,0.1,0,0]
[0,0,0,0,0,0,0,0]
[0,0,0,0,0,0,0,0]
[0,0,0,0,0,0,0,0]
[0,0,0,0,0,0,0,0]
[0,0.1,0,0,0,0.1,0.1,0.17730497000000001]
[0,0,0,0,0,0,0,0]
[0,0,0,0,0,0,0,0]
[6.5876156000000005E-2,0.2,0.1,0,0,0,0,0]
[0,0.3,0.1,0,0,0,0,0]
[6.5876156000000005E-2,0,0,6.7658999999999997E-2,0,0,0,0]
[0,0,0,0,0,0.1,0,0]
[0,0.2,0.1,0,0,0,0,0]
[6.5876156000000005E-2,0.2,0,0,0,0,0,0]
[0,0,0.2,0,0,0,0.2,0]
[0,0,0,0,0,0,0,0]
[0,0,0,0,0,0,0,0]
[0,0,0.2,6.7658999999999997E-2,0,0.2,0,0]
[0,0,0,0,0,0,0,8.8652484000000004E-2]
[0,0,0,0,0.1,0,0.1,8.8652484000000004E-2]
[6.5876156000000005E-2,0,0,0,0.1,0,0,0]
[0,0,0,0,0,0,0,0]
[6.5876156000000005E-2,0,0,6.7658999999999997E-2,0,0,0,0]
[0,0.1,0,6.7658999999999997E-2,0,0,0,0]
[6.5876156000000005E-2,0,0,0,0,0,0,0]
[0,0,0.1,0,0.1,0,0,0]
[0,0.1,0,0,0,0,0,0]
[0,0,0,0,0,0,0,0]
[0,0,0.1,0,0,0,0,0]
[0,0,0,0,0,0,0.2,0.17730497000000001]
[0,0,0,0,0,0.1,0.2,8.8652484000000004E-2]
[6.5876156000000005E-2,0,0,0,0,0,0,0]
[0,0,0,0,0,0,0,0]
[0,0,0.1,0,0,0.1,0.1,0]
[0.19762845000000001,0,0,6.7658999999999997E-2,0,0,0,0]
[0,0,0,0,0,0,0,0]
[0,0,0,0,0,0,0,0]
[0,0.1,0.1,6.7658999999999997E-2,0,0,0,0]
[0,0,0,0,0,0,0,0]
[0,0,0.1,0.13531799999999999,0,0,0,0]
[6.5876156000000005E-2,0,0,0,0,0,0,0]
[0,0,0,0,0,0,0,0]
[0,0,0,0,0.2,0.2,0,0]
[0,0,0,0,0,0,0,0]
[0,0,0,0,0,0,0,0]
[0,0.1,0,6.7658999999999997E-2,0,0,0,0]
[0.13175231000000001,0.1,0,0,0.1,0,0,0]
[0,0,0,0,0,0,0.1,0]
[0,0,0,0,0,0,0,0]
[0,0,0,0,0.2,0,0,8.8652484000000004E-2]
[0,0,0,0,0,0.1,0,0]
[0,0,0,0,0,0,0,0]
[0,0,0.1,0,0,0.1,0.2,8.8652484000000004E-2]
[6.5876156000000005E-2,0,0.1,0.13531799999999999,0,0.1,0,8.8652484000000004E-2]
[0,0,0,0,0,0,0,0]
[0,0.1,0,0,0.5,0,0,0]
[0,0,0,0,0.3,0.1,0,0]
[6.5876156000000005E-2,0,0,0.13531799999999999,0,0.1,0,0]
[0,0,0,0,0,0,0.1,0]
[6.5876156000000005E-2,0,0,0,0,0,0,0]
[0,0,0,0.13531799999999999,0.3,0,0,0]
[0,0,0,0,0,0,0,0]
[0,0,0,0,0,0,0,0]
[0,0.2,0,6.7658999999999997E-2,0,0,0,0]
[0,0,0,0,0,0,0,0.26595743999999999]
[0,0,0,0,0,0,0,0]
[0,0,0,0,0,0,0,0]
[0,0.1,0,0,0,0,0,8.8652484000000004E-2]
[0,0,0,0,0.2,0,0,0]
[0,0.2,0.1,0,0,0,0,0]
[0,0,0,0,0,0,0,0]
[0,0,0,6.7658999999999997E-2,0,0,0,0]
[0,0,0,0,0,0,0,0]
[0,0,0,0,0,0.1,0,0.35460994000000001]
[0,0,0,0,0,0,0,0]
[6.5876156000000005E-2,0.1,0.1,0,0,0,0.1,8.8652484000000004E-2]
[0,0,0,0,0,0,0,0]
[6.5876156000000005E-2,0,0,0.13531799999999999,0.1,0,0.1,0]
[0,0,0,0,0,0,0,0]
[0,0,0,0,0,0,0,0]
[0,0,0,0,0,0,0,0]
[0,0.1,0,0.13531799999999999,0,0,0,0]
[0,0,0.1,0,0,0.1,0.1,0]
[0,0,0,0,0,0,0,0]
[0,0,0,6.7658999999999997E-2,0,0,0,0]
[0,0,0,0,0,0,0,8.8652484000000004E-2]
[0.13175231000000001,0.1,0,0,0,0,0,0]
[0,0,0,0,0,0,0,0]
[0,0,0,6.7658999999999997E-2,0,0,0,0]
[6.5876156000000005E-2,0,0.1,6.7658999999999997E-2,0,0,0,0]
[0,0,0,0,0,0,0,0]
[0,0.1,0.1,0,0,0.1,0,0.17730497000000001]
[0,0,0,0,0.1,0,0,0]
[0,0,0,0,0.1,0,0.1,0]
[0,0,0,0,0,0,0,0]
[0,0,0,0,0,0,0,0]
[0,0,0,0,0,0.1,0,0]
[0,0,0,0,0,0.1,0,0]
[6.5876156000000005E-2,0,0,0,0,0,0,0]
[0,0,0,0,0,0,0,0]
[0,0,0,6.7658999999999997E-2,0,0,0.1,0]
[0,0,0,0,0,0,0,0]
[0,0.1,0,6.7658999999999997E-2,0.1,0,0,0]
[0,0,0,0,0,0,0,0]
[0,0,0,0,0,0,0.1,0]
[0,0.1,0.1,6.7658999999999997E-2,0.1,0,0,0]
[0,0,0,0,0,0,0,0]
[0,0,0,0,0,0,0,0]
[0,0,0,0,0,0,0,0]
[0.13175231000000001,0,0,0,0,0,0,0]
[0,0,0,0,0,0.1,0.1,0]
[0,0,0,0,0,0,0.1,8.8652484000000004E-2]
[6.5876156000000005E-2,0.1,0.1,6.7658999999999997E-2,0,0,0,0]
[0,0,0,0,0,0,0,0]
[0,0.1,0,0,0,0,0,8.8652484000000004E-2]
[0,0,0.1,0.13531799999999999,0,0.1,0,0]
[0,0,0,0,0,0,0,0]
[0,0,0,0,0.2,0.1,0.1,8.8652484000000004E-2]
[6.5876156000000005E-2,0,0,0,0,0,0,0]
[0,0,0,0,0,0,0,0]
[0,0,0,0,0,0,0,0]
[0,0,0,0,0,0,0,0]
[0,0,0,0,0,0,0,0]
[0,0,0,0,0.1,0.1,0,0]
[0,0,0,0,0,0,0,0]
[0,0,0,0,0,0,0,0]
[0,0,0,0,0,0.2,0,0]
[0,0,0,0,0,0,0,0]
[0,0,0,0,0,0,0,0]
[0,0,0,6.7658999999999997E-2,0.1,0,0.1,0]
[6.5876156000000005E-2,0,0,0,0,0.1,0,0]
[0,0.1,0,6.7658999999999997E-2,0,0,0,0]
[0,0.1,0,0,0,0,0,0]
[6.5876156000000005E-2,0,0,0,0,0,0,8.8652484000000004E-2]
[0,0,0,0,0,0,0,0]
[0,0,0,0,0.1,0,0,0]
[0,0,0,0,0,0,0,0]
[6.5876156000000005E-2,0,0.1,0,0,0.1,0,0]
[0.13175231000000001,0,0,0,0.1,0,0,0]
[0,0.2,0.2,0,0,0,0,0]
[0,0,0,0,0,0,0,0]
[0,0,0,0,0,0,0,0]
[0.13175231000000001,0,0,0,0,0,0,0]
[0,0,0,0,0,0,0,0]
[0,0.2,0.1,0.13531799999999999,0,0,0,0]
[6.5876156000000005E-2,0,0,6.7658999999999997E-2,0,0,0,0]
[6.5876156000000005E-2,0,0,0,0.2,0,0,0]
[0,0,0,0,0,0,0,0]
[0.13175231000000001,0,0.1,0,0.2,0,0,0]
[0,0,0,0,0,0,0,0]
[0,0,0.1,6.7658999999999997E-2,0,0,0,0]
[0,0,0,0,0,0,0.1,8.8652484000000004E-2]
[0,0,0,0,0,0,0,0]
[0,0,0,0,0,0,0,0]
[0,0.1,0,6.7658999999999997E-2,0,0,0,0.17730497000000001]
[0.13175231000000001,0,0,0,0,0,0,0]
[0,0,0,0,0,0,0,0]
[0,0,0,0,0,0,0,0]
[0,0,0.1,0,0,0,0,0]
[0,0,0,0,0,0,0,0]
[0,0,0.1,0,0,0,0,0]
[0.13175231000000001,0,0,0,0,0.1,0,0]
[0,0,0,0,0,0,0,0]
[0,0,0,0,0,0,0,0]
[0,0.1,0.2,0,0,0.1,0,0]
[0,0.1,0,0,0,0,0,0]
[0,0.1,0,0,0,0,0,8.8652484000000004E-2]
[0,0,0.1,6.7658999999999997E-2,0,0.1,0,0]
[0,0,0.1,6.7658999999999997E-2,0,0.1,0,0]
[0,0,0.1,0,0,0.1,0,0]
[0,0,0,0,0,0,0,0]
[0,0,0,0,0,0,0,0]
[6.5876156000000005E-2,0,0,0,0,0,0.1,0]
[0,0,0,0,0,0,0,0]
[6.5876156000000005E-2,0,0.1,6.7658999999999997E-2,0,0,0.1,8.8652484000000004E-2]
[0,0,0,0,0,0,0,0]
[0.13175231000000001,0,0,0,0,0,0,0]
[0,0,0,0,0,0,0,0]
[0,0,0,0,0,0,0,0]
[0,0,0,0,0,0,0,0]
[6.5876156000000005E-2,0,0,0,0,0,0.1,8.8652484000000004E-2]
[0,0,0.1,0,0,0,0,0]
[0,0,0,0,0,0,0,0]
[6.5876156000000005E-2,0,0,0,0.1,0,0.1,0]
[0,0,0.1,6.7658999999999997E-2,0,0,0,0]
[6.5876156000000005E-2,0,0.1,0,0,0,0,0]
[0,0.1,0.1,0,0,0.3,0,0]
[0,0,0,0,0,0,0,0]
[0,0,0,0,0,0.2,0,0]
[0,0,0,0,0.1,0,0.2,0]
[0,0.1,0.1,0.13531799999999999,0,0,0,8.8652484000000004E-2]
[0,0,0,0,0,0,0,0]
[0,0,0,0,0,0,0,0]
[0,0,0.1,0,0,0,0,0]
[0,0,0,0,0,0,0,0]
[0,0,0,0,0,0,0,8.8652484000000004E-2]
[0,0,0.1,0,0,0,0,0]
[0,0,0,6.7658999999999997E-2,0,0.1,0.1,0]
[0,0,0,0,0,0,0,0]
[0.13175231000000001,0.1,0.1,0,0,0,0,0]
[0,0,0,0,0,0,0,0]
[0,0,0,0,0,0,0,0]
[6.5876156000000005E-2,0,0,0,0,0,0,0]
[0.13175231000000001,0,0,0,0,0,0,0]
[0,0.1,0,6.7658999999999997E-2,0,0.1,0.2,0]
[6.5876156000000005E-2,0,0,6.7658999999999997E-2,0,0,0.2,8.8652484000000004E-2]
[0.13175231000000001,0,0,0,0.2,0,0,0]
[0,0,0,0,0,0,0,0]
[0,0,0,0,0,0,0,0]
[0,0.1,0,6.7658999999999997E-2,0,0,0,0]
[0,0,0,0,0.2,0,0,0]
[0,0,0,0,0,0,0,0]
[0,0,0,0,0,0,0,0]
[6.5876156000000005E-2,0,0,0,0,0,0,0]
[0,0,0,0,0,0,0,0]
[0,0,0,0,0,0,0,0]
[0,0,0,0,0,0,0.3,8.8652484000000004E-2]
[0,0,0,0,0,0,0,0]
[6.5876156000000005E-2,0,0,0,0.1,0,0,0]
[6.5876156000000005E-2,0,0,0,0,0,0,8.8652484000000004E-2]
[0,0,0.2,6.7658999999999997E-2,0,0,0,0]
[0,0,0,0,0,0,0,0]
[0,0,0,0,0,0,0,0]
[0,0,0.1,6.7658999999999997E-2,0,0,0,0]
[0,0,0,0,0,0,0,0]
[0,0,0,0,0.1,0,0,0]
[0,0.1,0.1,0,0,0,0,0]
[0,0,0,0,0,0,0,0]
[0,0,0,0,0,0,0,0]
[6.5876156000000005E-2,0,0,0,0,0,0,0]
[0,0,0.1,6.7658999999999997E-2,0,0,0.1,0]
[0,0,0,0,0,0,0,0]
[6.5876156000000005E-2,0,0,0,0,0,0,0]
[0,0,0,0,0,0,0,0]
[0,0,0,0,0,0,0,0]
[0,0.1,0,0,0,0,0,0]
[0,0,0,0,0,0,0,0]
[0,0.1,0,0,0,0,0,0]
[0,0,0,0,0,0,0.1,8.8652484000000004E-2]
[0,0,0.1,0,0,0,0,0]
[0,0,0,0,0,0,0,0]
[0,0,0,0,0,0,0,0]
[0,0,0,0,0,0,0,8.8652484000000004E-2]
[0,0.1,0,0,0,0,0,0]
[0,0,0,0,0,0,0,0]
[0,0,0,0,0.1,0,0,0.17730497000000001]
[0,0,0,0,0,0.1,0,0]
[0,0,0,0,0,0,0,0]
[0,0.2,0,0,0,0,0,0]
[6.5876156000000005E-2,0,0,0,0,0,0,0]
[0,0,0,0,0,0,0,0]
[0,0,0.1,0,0,0,0,0]
[0,0,0,0,0,0,0.1,0]
[0,0,0,0,0,0,0,0]
[0,0.1,0,6.7658999999999997E-2,0,0,0,0]
[0,0.1,0.1,0,0,0,0,0]
[0,0,0,0,0,0,0,0]
[0,0,0,0,0,0,0,0]
[0,0,0,0,0.1,0.1,0,0]
[0,0,0,0,0,0,0,0]
[0,0.1,0,6.7658999999999997E-2,0,0,0,0]
[0,0,0,0,0,0,0,0]
[0,0,0,6.7658999999999997E-2,0.1,0,0,0]
[0,0.1,0.1,0,0,0,0,0]
[0,0,0,6.7658999999999997E-2,0,0,0,0]
[0,0,0.1,0,0,0.1,0.1,0]
[0.26350462000000002,0,0,0,0,0,0,0]
[6.5876156000000005E-2,0.1,0,0,0,0,0,0]
[6.5876156000000005E-2,0,0,6.7658999999999997E-2,0,0,0,0]
[0,0,0,0,0.1,0,0,8.8652484000000004E-2]
[0,0,0,0,0,0,0,8.8652484000000004E-2]
[0,0,0,0,0,0,0,0]
[0.13175231000000001,0.1,0,6.7658999999999997E-2,0,0,0,0]
[0,0,0,0,0,0,0,0]
[0,0,0,0,0,0,0,0]
[0,0,0,0,0,0,0,0]
[0,0,0,0,0,0,0,0]
[0,0,0,0,0,0,0,0]
[0,0,0,0,0,0,0,0]
[0,0,0,0,0,0,0,8.8652484000000004E-2]
[0,0,0,0,0,0,0,0]
[0,0,0,0,0,0,0,0]
[0,0,0,0,0,0,0,0]
[0,0,0,6.7658999999999997E-2,0,0,0.2,0]
[0,0,0,0,0,0,0,0]
[0,0,0,0,0,0,0.1,0]
[0,0.1,0,6.7658999999999997E-2,0,0,0,0]
[0,0,0.1,0,0.3,0,0,0]
[0,0,0.1,0,0,0,0,0]
[0,0,0,0,0,0,0,0]
[6.5876156000000005E-2,0.1,0,0,0,0,0,0]
[0,0,0,0,0,0,0,0]
[0,0,0.1,0,0,0.1,0,0]
[0.13175231000000001,0,0,0,0.1,0,0,0]
[6.5876156000000005E-2,0.1,0,0.13531799999999999,0,0,0,0]
[0,0,0,0,0,0,0,0]
[0,0,0,0,0,0,0,0]
[0,0,0,0,0,0,0,0]
[0,0,0,0,0,0,0,0]
[6.5876156000000005E-2,0,0,6.7658999999999997E-2,0,0.1,0,8.8652484000000004E-2]
[0,0,0,0,0,0,0,0]
[6.5876156000000005E-2,0.1,0.1,0,0,0,0,0]
[0,0,0,0,0,0,0,0]
[0,0,0,0,0,0,0,0]
[0,0,0,0,0,0,0,0]
[0,0,0,0,0.2,0,0,0]
[0,0,0,0,0,0,0,0]
[0,0.1,0.2,6.7658999999999997E-2,0,0,0,0]
[0,0,0,0,0,0,0,0]
[0,0,0,0,0,0,0,0]
[0,0,0.1,0,0,0,0,0]
[0,0,0,0,0,0,0,0]
[0,0,0.1,6.7658999999999997E-2,0,0,0,0]
[0,0,0,0,0,0,0,0]
[0,0,0,0,0,0,0,0]
[0,0.1,0.1,0,0,0,0.1,0]
[0,0.1,0,0,0,0,0,0]
[0,0,0,0,0,0,0,0]
[0,0,0,0,0,0,0,0]
[0,0,0,0,0,0,0,0]
[0,0,0,0,0,0,0,0]
[0,0,0,0,0,0,0,0]
[0,0,0.1,0.13531799999999999,0,0,0,0]
[6.5876156000000005E-2,0,0,0,0,0.1,0.2,0]
[0,0,0,0,0.1,0,0,0.17730497000000001]
[0,0,0,6.7658999999999997E-2,0,0,0,0]
[0,0,0,6.7658999999999997E-2,0,0,0,0]
[0,0.2,0,0,0,0,0,0]
[0,0,0,0,0,0,0,0]
[0,0.1,0.1,0,0,0,0,0]
[0.13175231000000001,0,0,0,0,0.1,0,0]
[6.5876156000000005E-2,0.1,0,0,0,0,0,8.8652484000000004E-2]
[6.5876156000000005E-2,0,0,0,0,0.1,0,0]
[0,0,0,0,0,0,0,0]
[0,0,0,0,0,0,0,0]
[0.26350462000000002,0,0,0,0,0,0,0]
[6.5876156000000005E-2,0,0,0,0,0.1,0,0]
[0,0,0,0,0,0,0,0]
[0,0,0,0,0,0,0,0]
[6.5876156000000005E-2,0,0,0,0,0,0,0]
[0,0,0,0,0,0,0,0]
[0,0,0,0,0,0,0,0]
[0,0,0,0,0,0,0,0]
[0.13175231000000001,0,0.1,0,0,0,0,0]
[0,0,0,0,0,0,0,0]
[0,0,0,0,0,0,0,0]
[6.5876156000000005E-2,0.1,0,0,0,0,0,8.8652484000000004E-2]
[0,0,0,6.7658999999999997E-2,0.1,0,0,0]
[0,0,0,0,0,0,0,0]
[0,0,0,0,0,0,0,0]
[0,0,0,0,0.1,0,0,8.8652484000000004E-2]
[0,0,0.2,6.7658999999999997E-2,0,0,0,0]
[0,0,0,0,0,0,0,0]
[6.5876156000000005E-2,0,0,0,0,0,0,0]
[6.5876156000000005E-2,0,0,0,0,0,0,0]
[0,0,0,0,0,0,0,0]
[0,0,0,0,0,0,0,0]
[0,0,0.1,0,0,0,0,8.8652484000000004E-2]
[0,0,0,0,0,0,0,0]
[0,0,0,0,0,0.1,0,0]
[0,0.1,0,0,0,0,0,0]
[0,0,0,0,0,0,0,0]
[0,0,0.1,0,0,0,0.1,0]
[0,0,0,0,0.1,0,0.1,0]
[0,0,0,0,0,0,0.1,0]
[0,0,0.1,0,0,0,0,0]
[0,0,0,0,0,0,0,0]
[0,0,0,6.7658999999999997E-2,0,0,0,0]
[0,0,0,0,0,0,0,0]
[0,0,0,0,0,0,0,0]
[0.19762845000000001,0,0,6.7658999999999997E-2,0,0,0,0]
[0,0,0,0,0,0.1,0,8.8652484000000004E-2]
[0,0.1,0,0,0,0,0,0]
[0,0,0,0,0,0,0,0]
[0,0,0,0,0,0,0,0]
[0,0,0,0,0,0,0,0]
[0,0,0,0,0,0,0,0]
[0,0,0,0,0,0,0,0]
[0,0,0,0,0,0,0,0]
[0,0,0.1,6.7658999999999997E-2,0,0,0,0]
[0,0,0,0,0,0.1,0.1,0]
[0,0,0,0,0.1,0,0,8.8652484000000004E-2]
[0,0.1,0,0,0,0,0,0]
[0,0,0,0,0,0,0,0]
[0.13175231000000001,0,0,0,0,0,0,0]
[0,0,0,0,0.1,0,0,0]
[0,0,0,0.13531799999999999,0,0,0,0]
[6.5876156000000005E-2,0,0,6.7658999999999997E-2,0,0,0,0]
[6.5876156000000005E-2,0,0.1,0,0,0,0,0]
[0.13175231000000001,0,0,0,0,0,0,0]
[0,0,0,0.13531799999999999,0,0,0,0]
[0,0,0,6.7658999999999997E-2,0,0,0,0]
[0.19762845000000001,0.1,0,0,0,0,0,0]
[0,0,0.2,6.7658999999999997E-2,0,0,0,0]
[0,0.1,0,6.7658999999999997E-2,0,0,0,0]
[0,0,0,0,0,0,0,0]
[0.13175231000000001,0.1,0.1,0,0,0,0,0]
[0,0,0,0,0,0,0.2,8.8652484000000004E-2]
[0,0,0.1,0.20297699999999999,0,0,0,0]
[0,0,0.1,0,0,0,0,0]
[0,0,0,0,0,0,0,0]
[0,0,0,0,0,0,0,8.8652484000000004E-2]
[0,0,0,0,0,0,0.1,0]
[6.5876156000000005E-2,0,0,0,0,0,0,0]
[0,0,0,0.20297699999999999,0,0.1,0,0]
[0,0.1,0.1,0,0,0.1,0,0]
[0,0,0,0,0,0,0,0]
[0,0,0,0,0.1,0.1,0,0]
[0,0,0,0,0,0,0,0]
[0,0,0,0,0,0.1,0,8.8652484000000004E-2]
[6.5876156000000005E-2,0,0,0,0,0,0,0]
[0,0,0,0,0,0,0,0]
[0,0,0,0.13531799999999999,0.1,0,0,0]
[0,0,0,0,0,0,0,0]
[0,0,0,0,0,0,0,0]
[0,0,0,0,0,0,0,8.8652484000000004E-2]
[0,0,0,0,0,0,0,0]
[0,0,0,6.7658999999999997E-2,0,0,0.1,8.8652484000000004E-2]
[0,0,0,0,0,0,0,0]
[0,0,0,0,0,0,0,8.8652484000000004E-2]
[0,0,0,0,0,0,0,0]
[0,0,0,0,0,0,0,0]
[0,0,0.1,0,0.1,0,0,0]
[0,0.1,0,0,0,0,0,0]
[0,0,0,0,0,0,0,0]
[0,0,0,0,0,0,0,0]
[0.13175231000000001,0,0.1,0,0.1,0,0,0]
[0,0,0,0,0,0,0,0]
[0,0,0,0,0,0,0,0]
[0,0,0,0,0,0,0,0]
[0,0,0,0,0,0,0,0]
[0,0,0,0,0,0.1,0,0]
[0,0,0,0,0,0,0,0]
[0,0,0,0,0,0,0,0]
[0.19762845000000001,0,0,0,0,0,0,0]
[0,0,0,0,0,0,0.2,8.8652484000000004E-2]
[0,0,0,0,0.1,0,0.1,8.8652484000000004E-2]
[0.13175231000000001,0,0,0,0,0,0.1,0]
[0,0,0,0,0,0,0.1,0]
[0,0,0,0,0,0,0.2,0]
[0,0,0,6.7658999999999997E-2,0,0,0,0]
[0,0,0,0,0,0,0,0]
[0,0,0,0,0,0,0.2,8.8652484000000004E-2]
[0,0.1,0,0,0,0.1,0,0]
[0,0.1,0,6.7658999999999997E-2,0,0.1,0,0]
[0,0,0,6.7658999999999997E-2,0.1,0,0,0]
[0,0,0,6.7658999999999997E-2,0,0,0,8.8652484000000004E-2]
[0,0,0,0,0,0,0,0]
[0,0,0,0,0,0,0.2,8.8652484000000004E-2]
[6.5876156000000005E-2,0,0,0,0,0,0,0]
[0,0.1,0,0,0,0,0,0]
[0,0,0,0,0,0,0,0]
[0,0,0,0,0,0,0,0]
[0,0.1,0,0,0,0.2,0,0]
[0,0,0.1,6.7658999999999997E-2,0,0,0,0]
[6.5876156000000005E-2,0,0,0,0,0.1,0,8.8652484000000004E-2]
[0,0,0,0,0,0,0,0]
[0,0,0,0,0.1,0.1,0.1,0]
[0,0,0,0,0,0,0.1,0]
[0,0.1,0.1,0,0,0,0,0]
[0,0,0,0,0,0,0,0]
[0,0,0,0,0,0,0,0]
[0,0.1,0,0,0,0,0,0]
[0,0,0,6.7658999999999997E-2,0,0,0,0]
[0,0,0,0,0,0,0,0]
[0,0,0,0,0,0,0,0]
[6.5876156000000005E-2,0.1,0.1,0,0,0,0,0]
[0,0,0,0,0,0,0,0]
[0,0,0,0,0,0,0,8.8652484000000004E-2]
[0,0,0,0,0,0,0,0]
[0,0,0,0,0,0,0,0]
[0,0,0,0,0,0,0,0]
[6.5876156000000005E-2,0,0,0,0,0,0,0]
[0,0,0,0,0.1,0.1,0,0]
[0,0,0,0,0,0,0,0]
[0.13175231000000001,0,0,0,0,0,0,0]
[0,0,0,0,0,0.1,0,8.8652484000000004E-2]
[0,0,0,0,0,0,0,0]
[0,0.1,0,6.7658999999999997E-2,0,0,0,0]
[0,0.1,0.1,6.7658999999999997E-2,0,0,0,0]
[6.5876156000000005E-2,0,0,0,0,0,0,0]
[0,0,0,0,0,0,0,0]
[0,0.1,0,0,0,0,0,0]
[0,0.1,0,0,0,0,0,0]
[0,0.1,0,0,0,0,0,0]
[0,0,0,0,0,0,0,0]
[6.5876156000000005E-2,0,0.1,0,0,0,0,8.8652484000000004E-2]
[0,0,0,0,0,0,0,0.17730497000000001]
[6.5876156000000005E-2,0,0,0,0,0,0,0]
[0,0,0,0,0,0,0,0]
[0,0,0,0,0,0,0,0]
[0,0,0,0,0,0,0,0]
[0,0,0,0,0,0,0,0]
[0,0.1,0.1,6.7658999999999997E-2,0,0,0,0]
[0,0,0,0,0,0,0,0]
[0,0,0,6.7658999999999997E-2,0,0,0,0]
[0,0,0,0,0,0,0,0]
[0,0,0,0,0,0,0,0]
[0,0,0,0,0,0,0,0]
[0,0,0,0,0,0.2,0,0]
[0,0.1,0,6.7658999999999997E-2,0,0,0,0]
[0,0,0,0,0,0,0,0]
[0,0,0,0,0,0,0,0]
[0,0.1,0,0,0,0,0,0]
[0,0,0,0,0,0,0,0]
[0,0,0,0,0,0,0,0]
[0,0,0,6.7658999999999997E-2,0,0,0,0]
[6.5876156000000005E-2,0,0,0,0,0,0,0]
[0,0,0,0,0,0,0,0]
[0,0,0,0,0,0,0,0]
[0,0,0,0,0,0,0,0]
[0,0,0,0,0,0,0,0]
[0,0,0,6.7658999999999997E-2,0,0,0,0]
[0,0,0,0,0,0,0,0]
[0,0,0,0,0,0,0,0]
[0.13175231000000001,0,0,0,0,0,0,0]
[0,0,0,0,0.1,0,0,0]
[0,0,0,0,0,0,0,0]
[0,0,0,0,0,0,0,0]
[0,0,0,0,0,0,0,0]
[0,0,0,0,0,0,0,0]
[0,0.1,0,6.7658999999999997E-2,0,0,0,0]
[0,0.1,0.1,0,0,0,0,0]
[0,0,0,0,0,0,0,0]
[0,0.1,0.1,0,0,0,0.1,0]
[0,0,0,6.7658999999999997E-2,0,0,0,0]
[0,0.1,0.1,6.7658999999999997E-2,0,0,0,0]
[0,0,0,0,0,0,0,0]
[0,0,0,0,0,0,0,0]
[0,0,0,0,0,0,0,0]
[0,0,0,0,0,0,0,0]
[0,0,0,0,0,0,0,0]
[0,0,0,0,0,0,0,0]
[0,0,0,0,0,0,0,0]
[0,0,0,0,0,0,0,0]
[0,0,0,0,0,0,0,0]
[0,0,0,0,0,0,0,0]
[0,0,0,0,0,0,0,0]
[0,0,0,0,0,0,0,0]
[0,0,0.1,0,0,0,0,8.8652484000000004E-2]
[0,0,0,6.7658999999999997E-2,0.1,0,0,0]
[0,0.1,0.1,0,0,0,0,0]
[0,0,0,6.7658999999999997E-2,0,0,0,0]
[0,0.1,0,0,0,0,0,8.8652484000000004E-2]
[0,0,0,0,0,0,0,0]
[0,0,0,0,0,0,0,0]
[6.5876156000000005E-2,0,0,0,0,0,0,0.17730497000000001]
[0,0,0,0.13531799999999999,0,0,0,0]
[0,0,0,0,0.1,0,0,0]
[0,0,0,0,0,0,0,0]
[0,0,0,0,0,0,0,0]
[0,0,0,0,0,0,0,0]
[0,0,0,0,0,0,0,0]
[0,0,0,0,0.1,0,0,0.17730497000000001]
[0,0,0,0,0,0,0,0]
[0,0,0,0,0,0,0,0]
[0,0,0,0,0.1,0,0,0]
[0,0,0,0,0,0,0,0]
[0,0,0,0,0,0,0,0]
[0,0,0,0,0,0,0.1,0]
[0,0.1,0,0,0.1,0,0,0]
[6.5876156000000005E-2,0,0,0,0,0,0,0]
[0,0,0,6.7658999999999997E-2,0,0,0,0]
[0,0,0,0,0,0,0,8.8652484000000004E-2]
[0,0,0,0,0,0,0,0]
[0,0,0,0,0,0,0,0]
[6.5876156000000005E-2,0,0,0.13531799999999999,0,0,0,0]
[0,0,0,0,0,0,0,0]
[0,0,0,0,0,0,0,0]
[0,0,0,0,0,0,0,0]
[6.5876156000000005E-2,0,0,6.7658999999999997E-2,0.1,0,0,0]
[0,0,0,0,0,0,0,0]
[0,0,0,6.7658999999999997E-2,0,0,0,0]
[0,0,0,0,0,0,0.1,0]
[0,0.1,0,0,0,0,0,8.8652484000000004E-2]
[0,0,0,0,0,0,0,0]
[0,0,0.1,6.7658999999999997E-2,0,0,0,0]
[0,0,0,0,0.1,0,0.1,0]
[0,0,0,6.7658999999999997E-2,0,0,0,0]
[0,0,0.1,6.7658999999999997E-2,0,0,0,8.8652484000000004E-2]
[0,0.2,0.1,0,0,0,0,0]
[6.5876156000000005E-2,0,0,0,0.1,0,0,0]
[0,0,0,0,0,0,0,0]
[0,0,0,0,0,0,0,0]
[0,0,0,0,0,0,0.1,0]
[0,0,0,0,0,0,0,0]
[0,0,0,0,0,0,0,0]
[0,0,0,0,0,0,0,0]
[0,0,0,0,0,0,0,0]
[0,0,0,0,0,0,0,0]
[0,0.2,0,0,0,0,0,8.8652484000000004E-2]
[0,0.1,0.1,6.7658999999999997E-2,0,0,0,0]
[0,0.1,0,6.7658999999999997E-2,0,0,0.1,0]
[0,0,0.1,0,0,0,0,0]
[6.5876156000000005E-2,0,0,0,0,0.1,0,0]
[0,0,0,0,0,0,0,0]
[0,0,0,0,0,0,0,0]
[6.5876156000000005E-2,0,0,6.7658999999999997E-2,0,0,0,0]
[0,0,0,6.7658999999999997E-2,0.1,0.1,0,0]
[0,0,0,0,0,0,0,0]
[0,0,0.1,6.7658999999999997E-2,0,0,0,0]
[0,0,0,0,0,0,0,0]
[0,0,0,0,0,0,0,0]
[0,0,0,0,0,0,0,0.17730497000000001]
[0,0,0,0,0,0,0,0]
[0,0,0,0,0.1,0.1,0,0]
[0,0.1,0,0,0,0,0,0]
[0,0,0,0,0,0,0,0]
[0,0,0.1,6.7658999999999997E-2,0,0,0,0]
[0,0,0,0,0,0,0,0]
[0.13175231000000001,0,0,0,0,0,0,0]
[0,0,0,0,0,0,0,0]
[0,0,0,0,0,0,0,0]
[0,0,0,0,0,0,0,0]
[6.5876156000000005E-2,0,0,0,0,0,0,0]
[0,0,0,0,0,0,0,0]
[0,0,0,0,0,0,0,0]
[0,0.1,0,0,0,0,0,0]
[0,0,0.2,0,0,0.1,0,0]
[0,0,0,6.7658999999999997E-2,0,0,0,0]
[0,0,0,0,0,0,0,0]
[0,0,0,0,0,0,0,0]
[0,0,0,0,0,0,0,0]
[0,0,0,0,0,0,0,0]
[0,0,0,0,0.1,0.1,0,0]
[0,0,0,0,0,0,0,0]
[0,0,0,0,0,0.1,0,0]
[6.5876156000000005E-2,0,0,0,0,0,0,0]
[0,0,0,0,0,0,0,0]
[0,0,0,0,0.1,0,0.1,0]
[0,0,0,0,0,0,0,0]
[0,0,0,0,0,0,0,0]
[0,0,0,0,0,0.2,0,0]
[0,0,0,0,0,0,0,0]
[6.5876156000000005E-2,0,0,0.13531799999999999,0,0,0,0]
[0,0.1,0,0,0.2,0,0,0]
[0,0,0,0,0,0,0,0]
[0,0,0,0,0,0,0,0]
[0,0,0,0,0,0,0,0]
[0,0,0,0,0,0,0,0]
[6.5876156000000005E-2,0.1,0,0,0,0,0,0]
[0,0,0,0,0,0,0,0]
[0,0,0,6.7658999999999997E-2,0,0,0,0]
[0,0,0,0,0,0,0,0]
[0,0,0,0,0,0,0,0]
[0,0,0.1,0,0,0,0,0]
[0,0,0,0,0,0,0,0]
[0,0,0,0,0,0,0,0]
[0,0,0,0,0,0,0,0]
[0,0,0,0,0,0,0,0]
[0,0,0,0,0,0,0,0]
[0,0,0,0,0,0,0,0]
[0,0.1,0,0,0,0,0,0]
[0,0.1,0.1,0,0,0,0,0]
[0,0,0,0,0,0,0,0]
[0,0,0,6.7658999999999997E-2,0,0,0,0]
[0,0,0,0,0,0,0,0]
[6.5876156000000005E-2,0,0,6.7658999999999997E-2,0,0,0,0]
[0,0,0.1,0,0,0,0,0]
[6.5876156000000005E-2,0,0,0,0,0,0,0]
[0,0,0,0,0,0,0,0]
[0,0,0.1,0,0,0,0,0.17730497000000001]
[0,0,0,0,0,0,0,0]
[0,0,0,0,0,0,0,0]
[0,0,0,0,0,0,0,0]
[0,0,0,0,0.1,0,0.1,0]
[0,0,0,0,0,0,0,0]
[6.5876156000000005E-2,0,0,0,0,0,0,0]
[6.5876156000000005E-2,0,0,0,0,0,0.1,0]
[0,0,0,0,0,0,0,0]
[0,0,0,0,0,0,0.1,0]
[0,0,0.1,0,0,0,0,8.8652484000000004E-2]
[0,0,0,6.7658999999999997E-2,0,0.1,0.1,0]
[0,0,0.1,6.7658999999999997E-2,0,0,0,0]
[0,0.1,0,0,0,0,0,0]
[0,0,0,0,0,0,0,0]
[0,0,0,0,0,0,0.1,0]
[0,0,0,0,0,0,0,0]
[0,0,0,0,0.1,0,0.1,0]
[0,0,0,6.7658999999999997E-2,0,0,0,0]
[0,0,0,0,0,0,0,0]
[0,0,0,0,0,0,0,0]
[0,0,0,0,0,0,0,0]
[0,0,0,0,0,0,0,8.8652484000000004E-2]
[0,0,0,0,0,0,0,0]
[0,0,0,0,0,0,0,0]
[0,0,0,0,0,0,0,0]
[0,0,0,6.7658999999999997E-2,0.1,0.1,0,0]
[0,0,0,0,0,0,0,0]
[0,0,0,0,0,0,0,0]
[0,0,0,0,0,0,0,0]
[0,0,0,0,0,0,0,0]
[6.5876156000000005E-2,0,0.1,0,0,0,0,0]
[0,0,0,0,0,0,0,0]
[0,0,0,6.7658999999999997E-2,0,0,0,0]
[0,0.1,0,0,0,0.2,0,0]
[0,0,0,0,0,0,0,0]
[0,0,0,0,0,0.1,0,0]
[0,0,0,0,0,0,0,0]
[0,0,0,0,0.1,0,0,0]
[0,0,0,0.20297699999999999,0,0,0,0]
[0,0,0,0,0,0,0,0]
[0,0,0,0,0,0,0,0]
[0,0,0,0,0,0,0,8.8652484000000004E-2]
[0,0,0,0,0,0,0,0]
[0,0.2,0.1,0,0,0,0,0]
[0,0,0,0,0,0,0,0]
[0,0.1,0,0,0,0,0,8.8652484000000004E-2]
[0,0,0,0,0,0,0,0]
[0,0,0,6.7658999999999997E-2,0,0,0,0]
[0,0,0,0,0.1,0.1,0,0]
[6.5876156000000005E-2,0,0,0,0,0,0,0]
[0,0.1,0.1,6.7658999999999997E-2,0,0,0,0]
[0,0,0,0,0,0,0,0]
[0,0,0,0,0,0,0,0]
[0,0,0,0,0,0,0,0]
[6.5876156000000005E-2,0,0,6.7658999999999997E-2,0,0,0,0]
[0,0,0,0,0,0,0,0]
[0,0,0,6.7658999999999997E-2,0,0,0,0]
[0,0,0.1,0,0,0,0,0]
[0,0,0,0,0,0.1,0,0]
[0,0,0,0,0,0,0,0]
[0,0,0,0,0,0,0,0]
[6.5876156000000005E-2,0,0,0,0,0,0,0]
[0,0,0,0,0,0,0,0]
[0,0.1,0,6.7658999999999997E-2,0,0,0,0]
[0,0,0,0.13531799999999999,0,0,0,0]
[0,0,0,0,0,0,0,0]
[0,0,0,0,0,0,0,0]
[0,0,0,6.7658999999999997E-2,0,0,0,0]
[0,0,0.1,0,0,0,0,0]
[0,0.1,0,0,0,0,0,0]
[0,0,0,0,0,0.1,0,0]
[0,0,0,0,0,0,0,0]
[0,0,0,0,0,0,0,0]
[0,0,0,0,0,0,0,0]
[6.5876156000000005E-2,0,0,0,0,0,0,0]
[0,0,0,0,0.3,0,0,0]
[0,0,0,6.7658999999999997E-2,0.1,0,0,0]
[0,0,0.1,0,0,0,0,0]
[6.5876156000000005E-2,0,0,6.7658999999999997E-2,0,0,0,0]
[0,0,0,0,0,0,0,0]
[6.5876156000000005E-2,0.1,0,0,0,0,0,0]
[0,0,0.1,0,0,0,0,8.8652484000000004E-2]
[0,0,0,6.7658999999999997E-2,0,0,0,0]
[0,0,0,6.7658999999999997E-2,0.1,0.1,0,0]
[0,0,0,0,0,0,0,0]
[0,0,0,0,0,0,0,0]
[0,0,0.1,0,0,0,0,0]
[0,0,0,0,0,0,0,0]
[6.5876156000000005E-2,0,0,0,0,0,0,0]
[0,0,0,0,0,0,0,0]
[0,0,0,0,0,0,0,8.8652484000000004E-2]
[0,0.1,0,0.13531799999999999,0,0,0,0]
[0,0,0,0,0,0,0,0]
[0,0,0,0,0,0,0,0]
[0,0,0,0,0,0,0,0]
[0,0,0,0,0,0,0,0]
[0,0,0,0,0,0,0.1,0]
[0,0,0,0,0,0,0,0]
[0,0,0.1,6.7658999999999997E-2,0,0.1,0,0]
[6.5876156000000005E-2,0,0.1,6.7658999999999997E-2,0,0,0,0]
[0,0,0,6.7658999999999997E-2,0,0.1,0,0]
[0,0,0,0,0,0,0,0]
[0,0.1,0,0,0,0,0,0]
[0,0,0.1,6.7658999999999997E-2,0.1,0,0,0]
[6.5876156000000005E-2,0,0,0,0,0,0,0]
[0,0,0,0,0,0,0,0]
[0,0,0,0,0,0,0,0]
[0,0,0,0,0,0,0,0]
[0,0,0,0,0,0,0.2,8.8652484000000004E-2]
[0,0.1,0,0,0.2,0,0,0]
[0,0,0,0,0,0,0,0]
[0,0,0,0.20297699999999999,0,0,0,0]
[0,0,0,0,0,0,0.1,0]
[6.5876156000000005E-2,0.1,0.1,0,0,0,0,0]
[0,0,0,0,0,0,0,0]
[0,0,0,0,0,0,0,0]
[0,0,0,0,0,0,0,0]
[0,0.1,0,0,0,0,0,0]
[0,0,0,0,0,0,0,0]
[0,0,0,0,0,0,0,0]
[0,0,0,6.7658999999999997E-2,0,0.1,0,8.8652484000000004E-2]
[0,0.2,0,0,0,0.1,0,0]
[0,0,0,0,0,0,0,0]
[0,0,0,0,0,0,0,0]
[6.5876156000000005E-2,0,0,0,0,0,0,0]
[0,0,0.1,0,0,0,0,0]
[0,0,0.1,0,0,0,0,0]
[0,0,0,6.7658999999999997E-2,0,0,0,0]
[0,0,0,0,0,0.2,0,0]
[0,0,0,0,0,0,0,0]
[0,0,0,0.13531799999999999,0,0,0.1,0]
[0,0,0,0,0,0,0,0]
[0,0.1,0.1,0,0,0,0,0]
[0,0.1,0,0,0,0.1,0,0]
[0,0,0,0,0,0,0,0]
[0,0,0,0,0,0,0,0]
[0,0.1,0.1,0,0,0,0.1,0]
[0,0,0.1,0,0,0,0,0]
[0,0.1,0.2,0,0,0,0,0]
[0,0,0,0,0,0,0,0]
[0,0.1,0,6.7658999999999997E-2,0,0,0,0]
[0,0,0,0,0,0,0,8.8652484000000004E-2]
[0,0,0.1,0,0,0.1,0,0]
[0,0,0,0,0,0,0,0]
[0,0,0,0,0,0,0,0]
[0,0,0.1,0,0,0,0.1,0]
[0,0,0,0,0,0,0,0]
[0,0,0,0,0,0,0,0]
[0,0,0,0,0,0,0,0]
[0,0,0,0.13531799999999999,0,0,0,0]
[0,0,0,0,0,0,0,0]
[0,0,0,0,0,0,0,8.8652484000000004E-2]
[0,0,0,0,0,0,0,0]
[0,0,0,0,0,0,0,0]
[0,0,0,0,0,0,0,0]
[0,0,0.1,0,0.1,0,0,0]
[0,0,0,0,0,0,0,0]
[0,0.1,0,0,0,0,0,0]
[0,0,0,0,0,0,0,0]
[0,0,0,0,0,0.1,0,8.8652484000000004E-2]
[0,0,0,0,0.1,0.2,0,0]
[6.5876156000000005E-2,0,0,0,0,0,0,0]
[0,0,0,0,0,0,0,0]
[0,0,0,0,0.1,0,0,0]
[0.13175231000000001,0,0,0,0,0,0,0]
[0,0,0,0,0,0,0,0]
[0,0,0,0,0,0,0,0]
[0,0,0,0,0.1,0.1,0,0]
[0,0,0,0,0,0,0,0]
[0,0,0,0,0,0,0,8.8652484000000004E-2]
[6.5876156000000005E-2,0,0,0,0.2,0,0,0]
[0,0,0,0,0,0,0,0]
[0,0,0,0,0,0,0,8.8652484000000004E-2]
[0,0,0.1,0,0,0,0,0]
[6.5876156000000005E-2,0,0,0,0,0.1,0,8.8652484000000004E-2]
[0,0,0,0,0,0.3,0,0]
[0,0.2,0,0,0,0,0.1,0]
[0,0,0,0,0,0,0.1,8.8652484000000004E-2]
[0,0,0,0,0,0,0.1,8.8652484000000004E-2]
[0,0,0,0,0,0,0.2,0]
[0,0,0,0,0,0,0,0.17730497000000001]
[0,0,0,0,0,0,0.2,0]
[0,0,0,0,0,0,0,0]
[0,0,0,0,0.1,0,0,0]
[6.5876156000000005E-2,0,0,0,0,0,0,8.8652484000000004E-2]
[0,0,0,0,0,0,0,0]
[0,0,0.1,0,0,0,0,0]
[0,0,0,0,0,0,0,0]
[0,0,0,0,0,0,0,0]
[6.5876156000000005E-2,0,0,0,0,0,0,0]
[0,0,0,0,0,0,0,0]
[0,0.1,0,0,0,0,0,0]
[0,0,0,0,0,0,0,0]
[6.5876156000000005E-2,0,0,0,0,0,0,8.8652484000000004E-2]
[0,0,0,0,0,0,0,0]
[0,0,0.1,0,0,0,0,8.8652484000000004E-2]
[0,0,0,0,0,0,0,0]
[0,0,0,6.7658999999999997E-2,0,0,0,0]
[6.5876156000000005E-2,0,0,0,0,0,0.1,0]
[0,0,0,0,0,0,0,0]
[0,0,0.1,0,0,0,0,8.8652484000000004E-2]
[0,0,0,0,0,0,0,0]
[0,0,0,0,0,0,0,0]
[0,0,0,0,0,0,0,0]
[0,0,0,0,0,0,0,0]
[0,0,0,0,0,0,0,0]
[0,0,0,0,0,0,0,0]
[0,0,0,0,0,0,0,0]
[0.13175231000000001,0,0,0,0,0,0,0]
[0,0,0,0,0,0,0,0]
[0,0,0,0,0,0,0,8.8652484000000004E-2]
[0,0,0,0,0,0,0,0]
[6.5876156000000005E-2,0,0,0,0,0,0,0]
[0,0,0,0,0.1,0,0.1,0]
[0,0,0,0,0,0,0.1,8.8652484000000004E-2]
[0,0,0.1,0,0,0,0,0]
[0,0,0,0,0,0,0.1,0]
[0,0,0,0,0,0,0,0]
[6.5876156000000005E-2,0,0,0,0,0,0,0]
[0,0,0,0,0,0,0,0]
[0,0.1,0,0,0,0,0,8.8652484000000004E-2]
[0,0,0,0,0,0,0,0]
[0.13175231000000001,0,0,0,0,0,0,0]
[0,0,0,0,0,0,0,0]
[0,0,0,0,0,0,0,0]
[0,0,0,0,0,0,0,0]
[0,0,0,0,0,0,0.1,0]
[0,0,0,0,0,0,0,0]
[0,0,0,0,0,0,0,0]
[0,0,0,0,0,0.1,0,0]
[0,0,0,0,0,0,0,8.8652484000000004E-2]
[0,0,0,0,0.1,0,0,8.8652484000000004E-2]
[0,0,0,0,0,0,0,0]
[0,0,0.1,0,0,0,0,0]
[0,0,0,0,0,0,0,0]
[0,0,0,0,0.1,0,0,0]
[0,0,0,0,0,0,0,0]
[0,0,0,0,0,0,0,0]
[0,0,0,0,0,0,0,0]
[0,0,0.1,6.7658999999999997E-2,0,0,0,0]
[0,0,0,0,0,0,0,0]
[0,0,0,0,0,0.1,0,8.8652484000000004E-2]
[0,0,0,0,0,0,0,0]
[0,0,0,0,0.1,0,0,0]
[0,0,0,0,0,0,0,0]
[0,0,0,0,0,0,0.1,0]
[0,0,0,0,0,0,0,0]
[0,0,0,0,0,0.1,0,8.8652484000000004E-2]
[6.5876156000000005E-2,0,0,0,0.1,0,0,0]
[0,0,0,0,0,0,0,0]
[0,0,0,0,0,0,0,0]
[0,0.1,0,6.7658999999999997E-2,0,0,0,0]
[0,0,0,0,0,0,0,0]
[0,0,0,0.13531799999999999,0,0,0,0]
[0,0,0,0,0.1,0,0,0]
[0,0,0,0,0,0,0.1,0]
[0,0,0,0,0,0,0,8.8652484000000004E-2]
[6.5876156000000005E-2,0,0,0,0,0,0,0]
[0,0,0,0,0,0,0,0]
[0,0,0,6.7658999999999997E-2,0,0,0,0]
[0,0,0,6.7658999999999997E-2,0,0,0,0]
[0,0,0,0,0,0.1,0,0]
[0,0,0,6.7658999999999997E-2,0,0.1,0,0]
[0,0,0,6.7658999999999997E-2,0,0,0,0]
[0,0,0,0,0,0,0,0]
[0,0,0,0,0,0,0,0]
[0,0,0,6.7658999999999997E-2,0,0,0,0]
[0,0,0,6.7658999999999997E-2,0,0,0,0]
[0,0,0,0,0,0,0,0]
[0,0,0,0,0,0,0,0]
[0,0,0,0,0,0,0,0]
[0,0.2,0,0,0,0,0,0]
[0,0,0,0,0,0,0,0]
[0,0,0,0.13531799999999999,0,0,0,0]
[0,0.1,0,6.7658999999999997E-2,0,0,0,0]
[0,0,0,0,0,0,0,0.17730497000000001]
[0,0,0,0,0,0,0,0]
[0,0,0,0,0,0,0,0]
[0,0.1,0.1,0,0,0,0,0]
[0,0,0,6.7658999999999997E-2,0,0,0,0]
[6.5876156000000005E-2,0,0,0,0,0,0,0]
[0,0,0,0,0,0,0,0]
[0,0,0,0,0.1,0,0.1,0]
[0,0,0,0,0,0,0,0]
[0,0,0,0,0,0,0.1,0]
[0,0,0,0,0,0.2,0,0]
[6.5876156000000005E-2,0,0,0,0,0,0,0]
[0,0,0,0,0,0,0,0]
[0,0,0,0,0,0,0,0]
[0,0,0,0,0,0,0,0]
[0,0,0,0,0,0,0,0]
[0,0,0,0,0,0,0,0]
[0,0,0,0,0,0.2,0,0]
[0,0,0,0,0,0,0,0]
[0,0,0,0,0,0,0,0]
[0,0.1,0,0,0,0,0,0]
[0,0,0,0,0,0,0,0]
[0,0.1,0,0,0,0,0,0]
[0,0,0,0,0,0,0,0]
[0,0,0,0,0,0.1,0.1,0]
[0,0,0,0,0,0,0,0]
[0,0,0,6.7658999999999997E-2,0,0.1,0,0]
[0,0,0,0,0,0,0,0]
[0,0,0,6.7658999999999997E-2,0,0,0,0]
[0,0,0,0,0,0,0,0]
[0,0,0.1,0,0.1,0,0,0]
[0,0,0,0,0.1,0,0,0]
[0,0,0,6.7658999999999997E-2,0,0,0,0]
[0,0,0,0,0,0,0,0]
[0,0,0,0,0,0,0,0]
[0,0,0,0,0,0,0,8.8652484000000004E-2]
[0,0,0,0,0,0,0,0]
[0,0,0,0,0,0,0,0]
[0,0,0,0,0,0,0,0]
[0,0,0,0,0,0,0,0]
[0,0,0,0,0,0,0,0]
[0,0.1,0,0,0,0,0,0]
[0,0,0,0,0,0,0,0]
[6.5876156000000005E-2,0,0,0,0,0,0,0]
[0,0,0,0,0.2,0,0,0]
[0,0,0.1,6.7658999999999997E-2,0,0,0,0]
[0,0,0,0,0,0,0,0]
[0,0,0,0,0.1,0,0,0]
[6.5876156000000005E-2,0,0,0,0,0.1,0,0]
[0,0,0,0,0,0,0,0]
[0,0,0,0,0,0,0,0]
[6.5876156000000005E-2,0,0,0,0,0,0,0]
[6.5876156000000005E-2,0,0,0,0,0,0,0]
[0,0.1,0.1,0,0,0,0,0]
[0,0,0,0,0,0,0,0]
[0,0,0,0,0,0,0,0]
[0,0,0,0,0,0,0,0]
[0,0,0,0,0,0.1,0.1,0]
[0,0,0,0,0,0,0,0]
[6.5876156000000005E-2,0,0,0,0,0,0,0]
[0,0,0,0,0,0,0,0]
[0,0,0,0,0,0,0,0]
[0,0,0,0,0,0,0,0]
[0,0,0,0,0,0,0,0]
[0,0,0,0,0,0,0,0]
[0,0,0,0,0,0,0,0]
[0,0,0,0,0,0.1,0,0]
[0,0,0,0,0.1,0,0,0]
[0,0,0,0,0,0,0,0]
[0,0,0,0,0,0,0,0]
[0,0,0,0,0,0,0,0]
[0,0,0,0,0,0,0,0]
[0,0,0,0,0,0,0,0]
[0,0.1,0,0,0,0,0,0]
[0,0,0,0,0,0,0.2,0]
[0,0,0.1,0,0,0,0,8.8652484000000004E-2]
[0,0,0,0,0,0,0,0]
[0,0,0,0,0,0,0,0]
[0,0,0.2,0,0,0,0,0]
[0,0,0,0,0,0,0,0]
[0,0.2,0,0,0,0,0,0]
[0,0,0,0,0,0,0,8.8652484000000004E-2]
[0,0,0,0,0,0,0,0]
[0,0,0,0,0,0,0,0]
[0,0,0,0,0,0,0,0]
[0,0,0.1,0,0,0,0.1,0]
[0,0,0,0,0,0,0,0]
[0,0,0,0,0,0,0,0]
[6.5876156000000005E-2,0,0,0,0,0,0,0]
[0,0,0,0,0,0,0,0]
[0,0,0,0,0.2,0,0,0]
[0,0,0,0,0,0,0,0]
[0,0,0,0,0,0,0,0]
[0,0,0,0,0,0,0,0]
[0,0,0,0,0,0,0,0]
[0,0,0.1,0,0,0,0,0]
[0,0,0,0,0,0.1,0,0]
[0,0,0,6.7658999999999997E-2,0,0,0,0]
[0,0,0,0,0,0,0,0]
[0,0,0,0,0,0,0,0]
[0,0.1,0,0,0,0,0,0]
[0,0,0,0,0,0,0,0]
[0,0,0,0,0,0,0,0]
[0,0,0,0,0,0,0.1,0]
[0,0,0,0,0,0,0,0]
[0,0,0,0,0.1,0,0,0]
[0,0,0,0,0,0,0,0]
[0,0,0,0,0,0,0,0]
[0,0,0,0,0,0,0,0]
[0,0,0,0,0,0,0,0]
[0,0,0,0,0,0,0,0]
[0,0,0,0,0,0,0,0]
[0,0,0,0,0,0,0.1,8.8652484000000004E-2]
[0,0,0,0,0,0,0,0]
[0,0,0,0,0,0.1,0,0]
[0.13175231000000001,0,0,0,0,0,0,0]
[0,0,0,6.7658999999999997E-2,0,0,0,0]
[0,0,0,0,0.1,0,0,0]
[0,0,0,0,0,0,0,0]
[0,0,0,0,0,0.1,0,8.8652484000000004E-2]
[6.5876156000000005E-2,0,0,0,0,0,0,0]
[6.5876156000000005E-2,0,0,6.7658999999999997E-2,0,0,0,0]
[0,0,0,0,0,0.1,0.1,0]
[0,0,0,0,0,0,0,0]
[0,0,0,0,0,0,0,0]
[0,0,0.1,0,0,0,0,0]
[0,0,0,0,0,0,0,0]
[0,0,0,0,0,0,0,0]
[0,0.2,0,0,0,0,0,0]
[0,0,0,0,0,0,0,0]
[0,0,0,0,0,0.1,0,0]
[0,0,0,6.7658999999999997E-2,0.1,0,0,0]
[0,0,0,0,0.1,0.1,0,0]
[0,0,0,0,0,0,0,0]
[0,0,0,0,0,0,0,0]
[0,0,0,0,0,0,0,0]
[0,0,0,0,0,0,0,0]
[0,0,0,0,0,0.1,0,0]
[0,0,0,0,0,0,0,0]
[0,0,0,0,0.1,0,0,0]
[0,0,0,0,0.1,0,0,0]
[0,0,0,0,0,0,0,0]
[0,0,0,0,0,0,0,0]
[0,0,0.1,0,0,0.1,0,0]
[0,0,0,0,0,0,0,0]
[0,0,0,0,0,0,0,0]
[0,0,0,0,0,0,0.1,0]
[6.5876156000000005E-2,0,0,0,0.1,0,0,0]
[0,0,0,0,0,0.1,0,0]
[0,0.1,0.1,0,0,0,0,0]
[0,0,0,0,0,0,0,0]
[0,0,0,0,0,0,0,0]
[0,0,0,0,0,0,0,0]
[0,0,0,0,0.1,0,0,0]
[0,0,0,0,0,0,0,0]
[0,0,0.1,6.7658999999999997E-2,0,0,0,0]
[0,0,0,0,0,0,0,0]
[0,0,0,0,0,0,0,0]
[0,0,0,0,0,0,0,0]
[0,0,0,0,0,0,0.1,8.8652484000000004E-2]
[0,0,0,0,0.2,0,0,0]
[0,0,0,6.7658999999999997E-2,0,0,0,0]
[0,0,0.1,0,0,0,0,0]
[0,0,0,0,0,0,0,0]
[0,0,0,0,0,0,0.1,0]
[6.5876156000000005E-2,0,0,0,0,0,0,0]
[0,0,0,0,0,0.1,0,0]
[0,0,0,0,0,0,0,0]
[0,0,0,0,0,0.1,0,0]
[0,0,0.1,0,0,0,0,8.8652484000000004E-2]
[0,0,0,0,0,0,0,0]
[0,0,0,0,0,0,0,0]
[0.13175231000000001,0,0,0,0,0,0,0]
[0,0,0.1,0,0,0,0,8.8652484000000004E-2]
[6.5876156000000005E-2,0,0.1,0,0,0,0,0]
[0,0,0,6.7658999999999997E-2,0,0,0,0]
[0,0,0,0,0,0,0,0]
[0,0,0,0,0,0,0.1,0]
[0,0,0,0,0,0,0,0]
[0,0,0,0,0,0,0,0]
[0,0,0,6.7658999999999997E-2,0,0,0,0]
[6.5876156000000005E-2,0,0,0,0,0,0.1,0]
[0,0.1,0,0,0.1,0,0,0]
[0,0.1,0,0,0.1,0,0,0]
[0,0,0,0,0,0,0,0]
[0,0,0,0,0,0,0.1,0]
[0,0,0,0,0,0,0,0]
[0,0,0,0,0,0,0,0]
[6.5876156000000005E-2,0,0,0,0,0,0,0]
[6.5876156000000005E-2,0,0,0,0,0,0,0]
[0,0,0,0,0,0,0,0]
[0,0,0,0,0,0,0,0]
[6.5876156000000005E-2,0,0,0,0,0,0,0]
[0,0,0,0,0,0,0,0]
[0,0,0,0,0,0,0,0]
[6.5876156000000005E-2,0,0,0,0,0,0,0]
[0,0,0,0,0,0,0,0]
[6.5876156000000005E-2,0,0.1,0,0,0,0,0]
[0,0,0,0,0,0.1,0,8.8652484000000004E-2]
[0,0,0,0,0,0,0,0]
[0,0,0,0,0,0,0,0]
[0,0,0,0,0,0,0,0]
[0,0.1,0,0,0,0,0,0]
[6.5876156000000005E-2,0,0,0,0,0,0,8.8652484000000004E-2]
[0,0,0,0,0,0,0,0]
[0,0,0.1,0,0,0,0.1,0]
[0,0,0,0,0,0,0,0]
[0,0,0,0,0,0.1,0,8.8652484000000004E-2]
[0,0,0,6.7658999999999997E-2,0,0,0,0]
[0,0,0,0,0,0,0,0]
[0,0,0,0,0,0,0,0]
[0.13175231000000001,0,0,0,0,0,0,0]
[0,0,0,0,0,0,0,0]
[6.5876156000000005E-2,0,0,0,0,0,0,0]
[0,0,0,0,0,0,0,0]
[0,0,0,0,0,0,0,0]
[0,0.1,0,0,0,0.1,0,0]
[0,0,0,0,0,0,0,0]
[0,0,0,0,0.1,0,0,0]
[0,0,0,0,0,0,0,0]
[0,0,0,0,0,0,0,0]
[0,0.1,0,0,0,0.1,0,0]
[0,0,0,0,0,0,0,0]
[0,0.1,0,0,0,0,0,8.8652484000000004E-2]
[0,0,0,0,0,0,0,0]
[0,0,0,0,0,0,0,8.8652484000000004E-2]
[0,0,0,0,0,0,0,0]
[0,0,0,6.7658999999999997E-2,0,0.1,0,0]
[0,0,0,0,0,0,0,0]
[6.5876156000000005E-2,0,0,0,0,0,0,0]
[0,0,0,0,0,0,0,0]
[0,0,0,0,0,0,0,0]
[0,0,0,0,0,0,0,0]
[0,0.1,0,6.7658999999999997E-2,0,0,0,0]
[0,0,0,0,0,0,0,0]
[6.5876156000000005E-2,0,0,0,0,0,0,0]
[6.5876156000000005E-2,0,0.1,0,0,0,0,0]
[0,0,0,0,0,0,0,0]
[0,0,0,6.7658999999999997E-2,0,0,0.1,0]
[0,0,0,6.7658999999999997E-2,0,0,0,0]
[0,0,0,6.7658999999999997E-2,0,0,0,0]
[0,0,0,0,0,0,0,0]
[0,0,0,0,0,0,0.1,8.8652484000000004E-2]
[0,0,0.1,0,0,0,0,0]
[0,0,0,0,0,0,0,0]
[0,0,0,0,0,0,0,0]
[0,0,0,0,0,0.1,0,0]
[0,0,0,0,0,0,0,0]
[6.5876156000000005E-2,0,0,0,0.1,0,0,0]
[0,0,0,0,0,0,0,0]
[0,0,0,0,0,0,0,0]
[0,0,0,0,0,0,0,0]
[0,0,0,0,0,0,0,0]
[6.5876156000000005E-2,0,0,0,0,0,0,8.8652484000000004E-2]
[0,0,0,0,0,0,0,0]
[0,0,0,0,0,0,0,0]
[6.5876156000000005E-2,0,0.1,0,0,0,0,0]
[0,0,0,0,0,0,0,0]
[0,0,0,0,0,0,0,0]
[0,0,0,0,0,0,0,0]
[0,0,0,0,0,0,0.1,0]
[0,0,0,0,0,0,0,0]
[0,0,0.1,0,0,0,0,0]
[0,0,0,0,0,0,0,0]
[0,0,0,0,0,0,0,0]
[0,0,0,0,0,0,0,0]
[0,0.1,0,0,0.1,0,0,0]
[0,0,0,0,0.1,0,0,0]
[0,0,0,0,0.1,0,0,0]
[0,0,0,0,0,0,0,0]
[0,0,0,0,0,0,0,0]
[0,0,0,0,0,0,0,0]
[0,0,0,0,0,0.1,0,0]
[0,0,0,0,0,0,0.1,0]
[0,0,0,0,0,0,0,0]
[0,0,0,0,0.1,0,0,0]
[0,0,0,0,0.1,0,0,0]
[0,0,0,0,0,0,0,0]
[0,0,0,6.7658999999999997E-2,0,0,0,0]
[0,0,0,0,0,0,0,0]
[0,0,0,0,0,0,0.1,0]
[0,0,0,0,0,0,0,0]
[0,0,0,0,0,0,0,0]
[0,0,0,0,0,0,0,0]
[0.13175231000000001,0,0,0,0,0,0,0]
[6.5876156000000005E-2,0,0,0,0,0,0,8.8652484000000004E-2]
[0,0,0,0,0,0,0,0]
[0,0,0.1,0,0,0,0,0]
[0,0,0.1,6.7658999999999997E-2,0,0,0,0]
[0,0,0,0,0,0.1,0,0]
[0,0,0,0,0,0,0,0]
[0,0,0,0,0,0,0,0]
[0,0,0,0,0,0,0,0]
[0,0,0,0,0,0,0,0]
[0,0,0.1,6.7658999999999997E-2,0,0,0,0]
[0,0,0,0,0,0,0,0]
[0,0,0.1,0,0,0,0,8.8652484000000004E-2]
[0,0.1,0,6.7658999999999997E-2,0,0,0,0]
[0,0,0,0,0.1,0,0,0]
[0,0,0,0,0.2,0,0,0]
[6.5876156000000005E-2,0,0,0,0.1,0,0,0]
[0,0,0,0,0,0,0,0]
[0,0,0.1,0,0,0,0,8.8652484000000004E-2]
[0,0.1,0,0,0,0,0,0]
[0,0,0,6.7658999999999997E-2,0,0.1,0,0]
[0,0.2,0,0,0,0,0,0]
[0,0,0,0,0,0,0,0]
[0,0.1,0,0,0,0,0.1,0]
[0,0,0,0,0,0,0,0]
[0,0,0,0,0,0,0.1,0]
[0,0,0.1,6.7658999999999997E-2,0,0,0,0]
[0,0,0,0,0,0,0,0]
[0,0,0,0,0,0,0,0]
[0,0.1,0,0,0,0.1,0,0]
[6.5876156000000005E-2,0,0,6.7658999999999997E-2,0,0,0,0]
[0,0.1,0,0,0,0,0,0]
[0,0,0,0,0,0,0,0]
[0,0,0,0,0.2,0,0,0]
[0,0,0,0,0,0,0,0]
[0,0,0,0,0,0,0,0]
[0,0,0,0,0,0,0,0]
[0,0,0,6.7658999999999997E-2,0.1,0,0,0]
[6.5876156000000005E-2,0.1,0,0,0,0,0,0]
[0,0,0,0,0,0,0,0]
[0,0,0,0,0,0.1,0,0]
[0,0,0,0,0,0,0,0]
[0,0.1,0,0,0,0,0,0]
[0,0,0,0.13531799999999999,0,0,0,0]
[0,0,0,0,0,0,0,0]
[0,0,0,0,0.1,0,0,0]
[0,0,0,0,0,0,0,0]
[0,0,0,0,0,0,0,0]
[0,0,0,0,0,0,0,0]
[0,0,0,6.7658999999999997E-2,0,0,0,0]
[0,0.1,0,6.7658999999999997E-2,0,0,0,0]
[0,0.1,0,0,0,0,0,0]
[0,0,0,0,0,0,0,0]
[0,0,0,0,0,0,0,0]
[0,0,0.1,0,0,0,0.1,0]
[0,0,0,0,0.1,0,0.1,0]
[6.5876156000000005E-2,0.1,0,0,0,0,0,0]
[0,0,0,6.7658999999999997E-2,0,0,0,0]
[0,0,0.1,0,0,0,0,0]
[0,0,0,0,0,0,0,0]
[0,0,0,0,0,0,0,0]
[0,0,0,0,0,0,0,0]
[0,0,0,0,0.1,0,0,0]
[0,0,0,0,0.1,0.1,0,0]
[0,0,0,0,0,0,0.1,0]
[0,0.1,0.1,0,0,0,0,0]
[0,0,0,0,0,0,0,0]
[0,0,0,0,0,0,0,0]
[0,0,0,0,0,0,0,8.8652484000000004E-2]
[0,0,0,0,0,0,0,0]
[0,0,0,0,0,0,0,0]
[0,0.1,0,0,0,0,0.1,0]
[6.5876156000000005E-2,0,0,0,0,0.1,0,0]
[0,0,0,0,0,0,0,0]
[0,0,0,0,0,0,0,0]
[0,0,0,0,0,0,0,0]
[0,0,0,0,0,0,0,0]
[0,0.1,0,6.7658999999999997E-2,0,0,0,0]
[0,0,0,6.7658999999999997E-2,0,0.1,0,0]
[6.5876156000000005E-2,0,0.1,0,0,0,0,0]
[0,0,0,6.7658999999999997E-2,0,0,0,0]
[6.5876156000000005E-2,0.1,0,0,0,0,0,0]
[0,0,0,0,0,0,0,0]
[6.5876156000000005E-2,0,0,0,0,0,0,0]
[0,0,0,6.7658999999999997E-2,0,0,0,0]
[0,0,0,0,0,0,0,0]
[0,0,0,0,0,0,0,0]
[0,0,0,0,0,0,0,0]
[0,0,0,0,0,0,0,8.8652484000000004E-2]
[0,0.1,0,0,0,0,0.1,0]
[0,0,0,0,0,0,0,0]
[0,0,0,0,0,0,0,0]
[0,0,0,0,0,0,0,0]
[0,0,0,0,0,0,0,0]
[0.13175231000000001,0,0,0,0,0,0,0]
[0,0,0,0,0,0,0,0]
[6.5876156000000005E-2,0,0,0,0,0,0,0]
[0,0,0,0,0,0,0,0]
[0,0,0.1,0,0,0,0,0]
[0,0,0,0,0,0,0,0]
[0,0.1,0,6.7658999999999997E-2,0,0,0,0]
[0,0,0.1,0,0,0,0,0]
[0,0,0,0,0,0,0,0]
[0,0,0,0,0,0,0,0]
[0,0,0,0,0,0,0,8.8652484000000004E-2]
[0,0,0,6.7658999999999997E-2,0,0,0,8.8652484000000004E-2]
[0,0,0,0,0,0.1,0,8.8652484000000004E-2]
[0,0,0,0,0,0,0,0]
[0,0,0.1,0,0,0,0,0]
[0,0,0,0,0.1,0,0,0]
[0,0,0,0,0,0,0,0]
[0,0,0,0,0,0,0,0]
[0,0,0,0,0,0,0,0]
[0,0,0,0,0,0,0,8.8652484000000004E-2]
[0,0,0,0,0,0,0,0]
[0,0,0,0,0,0,0,0]
[0,0,0,0,0,0,0,0]
[0,0,0,0,0.1,0,0,0]
[0,0,0,0,0,0,0,0]
[0,0,0,0,0,0,0,0]
[0,0,0,0,0,0,0,0]
[0,0.1,0.1,0,0,0,0,0]
[0,0.1,0,0,0,0,0,8.8652484000000004E-2]
[0,0,0,0,0,0,0,0]
[0,0,0,0,0,0,0,0]
[0,0,0,0,0,0.1,0.1,0]
[0,0,0,6.7658999999999997E-2,0,0.1,0,0]
[0,0,0,0,0,0,0,0]
[0,0,0,6.7658999999999997E-2,0,0,0,0]
[0,0,0,0,0,0,0,0]
[0.13175231000000001,0,0,0,0,0,0,0]
[0,0,0,0,0.1,0.1,0,0]
[0,0,0,0,0,0,0,0]
[0,0,0,0,0,0,0,0]
[0,0,0,0,0,0,0,0.17730497000000001]
[0,0,0,0,0.2,0,0,0]
[0,0,0,0,0,0,0,0]
[6.5876156000000005E-2,0,0,0,0,0,0,0]
[0,0,0,0,0,0,0,0]
[0,0,0,0,0,0,0,0]
[0,0,0,0,0,0,0,0]
[0,0,0,0,0,0,0.1,0]
[0,0,0,0,0,0,0,0]
[0,0,0,0,0,0,0,0]
[0,0,0,0.13531799999999999,0,0,0,0]
[0,0,0.1,0,0,0,0,0]
[0,0,0,0,0,0.1,0,0]
[0,0,0,0,0.1,0,0,0]
[0,0,0,0,0,0,0,0]
[0,0.1,0,0,0.1,0,0,0]
[0,0,0,0,0,0,0,0]
[0,0.1,0,0,0,0,0,0]
[0,0,0.1,6.7658999999999997E-2,0,0,0,0]
[0,0,0,0,0,0,0,0]
[0,0,0,0,0,0,0,0]
[0,0,0,0,0,0,0,0]
[0.13175231000000001,0,0,0,0,0,0,0]
[0,0,0,0.13531799999999999,0,0,0,0]
[0,0,0,0,0,0,0,0]
[0,0,0,0,0.1,0,0,0]
[0,0,0,0,0,0,0,0]
[0,0,0,0,0,0,0.1,8.8652484000000004E-2]
[0,0,0,0,0,0,0,0]
[0,0,0,0,0,0,0,0]
[0,0,0,0,0,0.1,0,0]
[0,0,0,0,0,0,0,0]
[0,0.1,0.1,0,0,0,0,0]
[0,0,0,0,0,0,0,8.8652484000000004E-2]
[0,0,0,0,0,0,0,0]
[0,0,0,0,0,0.1,0,0]
[6.5876156000000005E-2,0,0,0,0,0,0,0]
[0,0,0,6.7658999999999997E-2,0,0,0,0]
[0,0,0,0,0,0,0,0]
[0,0,0.1,0,0,0,0,0]
[0,0,0,6.7658999999999997E-2,0,0,0,0]
[0,0,0,0,0,0,0,0]
[0,0,0,0,0,0,0,0]
[0,0,0,0,0,0,0,0.17730497000000001]
[0,0,0,0,0,0.1,0.1,0]
[0,0,0,0,0,0,0,8.8652484000000004E-2]
[0,0,0,0,0,0,0,0]
[0,0,0,6.7658999999999997E-2,0,0,0,8.8652484000000004E-2]
[0,0,0,0,0,0,0,0]
[0,0,0,0,0,0,0,0]
[0,0.1,0,6.7658999999999997E-2,0,0,0,0]
[0,0,0,0,0,0,0,0]
[0,0,0,0,0,0,0,8.8652484000000004E-2]
[0,0,0,0,0,0,0,0]
[0,0,0,6.7658999999999997E-2,0,0,0,0]
[6.5876156000000005E-2,0.1,0,0,0,0,0,0]
[0,0,0,6.7658999999999997E-2,0,0,0,0]
[0,0,0,0,0,0,0,0]
[0,0,0,0,0.1,0.1,0,0]
[0,0,0.1,6.7658999999999997E-2,0,0,0,0]
[0,0,0,0,0,0,0,0]
[0,0,0,0,0,0,0,8.8652484000000004E-2]
[0,0,0,0,0,0,0,0]
[0,0,0,0,0,0,0,0]
[0,0,0,0,0.1,0,0.1,0]
[0,0,0,0,0,0,0.1,8.8652484000000004E-2]
[6.5876156000000005E-2,0.1,0,0,0,0,0,0]
[0,0,0,0,0,0,0,0]
[0,0,0,0,0,0,0,0]
[0,0,0,0,0,0,0,0]
[0,0,0,0,0,0,0,0]
[0,0,0.1,0,0.1,0,0,0]
[0,0,0,0,0,0,0,0]
[0,0,0,0,0,0,0,0]
[0,0,0.2,0,0,0,0,0]
[0,0,0,0,0,0,0.1,8.8652484000000004E-2]
[0,0,0,0,0,0,0,0]
[0,0,0,6.7658999999999997E-2,0,0,0.1,0]
[0,0,0,6.7658999999999997E-2,0,0,0,8.8652484000000004E-2]
[0,0,0,0,0.1,0,0,0]
[0,0,0.1,0,0,0,0,0]
[0,0,0,0,0,0,0,0]
[0,0,0,6.7658999999999997E-2,0,0,0,0]
[0,0,0,0,0.1,0,0,0]
[0,0,0,0,0,0,0.2,0]
[0,0,0,0,0,0,0,0]
[0,0,0,0,0,0,0,0]
[0,0,0,0,0,0,0,0]
[0,0,0,0,0,0,0,0]
[0,0,0,0,0,0,0,0]
[0,0,0,0,0,0,0,0]
[0,0,0,0,0,0,0,0]
[0,0,0,0,0,0,0,0]
[6.5876156000000005E-2,0,0,0,0,0,0.1,0]
[0,0,0,0,0,0,0,0]
[0,0,0,0,0,0,0,0]
[0,0,0,0,0,0,0.1,8.8652484000000004E-2]
[0,0,0,0,0,0,0,0]
[0,0,0,0,0,0,0,8.8652484000000004E-2]
[0,0,0,0,0,0,0,0]
[0,0,0,0,0,0,0,0]
[0,0,0,0,0,0,0,0]
[0,0,0,0,0,0,0,0]
[0,0,0,0,0,0,0,0]
[0,0,0,0,0,0,0,0]
[6.5876156000000005E-2,0,0,0,0,0,0,0]
[0,0,0,0,0,0,0,0]
[0,0,0,0,0,0,0,0]
[0,0,0,0,0,0,0,0]
[0,0,0,0,0,0,0.1,0]
[0.13175231000000001,0,0,0,0,0,0,0]
[0,0.1,0,0,0,0,0,0]
[0,0,0,0,0,0,0,0]
[0,0.1,0,0,0,0,0,0]
[0,0,0,0,0,0,0,0]
[0,0,0,0,0,0,0,0]
[0,0,0,0,0,0,0,0]
[0,0,0,0,0,0,0,0]
[0,0,0,6.7658999999999997E-2,0,0,0,0]
[0,0,0,0,0,0,0,0]
[0,0,0,0,0,0,0,0]
[0,0,0.1,0,0,0,0,0]
[0,0,0,0,0,0,0,0]
[0,0,0.1,0,0,0.1,0,0]
[0,0,0.1,0,0,0,0,0]
[0,0,0,0,0,0,0,0]
[0,0,0,0,0.1,0,0,0]
[0,0,0,6.7658999999999997E-2,0,0.1,0,0]
[0,0,0,0,0,0,0,0]
[0.13175231000000001,0,0,0,0,0,0,0]
[0,0,0,0,0,0,0,0]
[0,0,0,0,0,0,0,0]
[0,0,0,0,0.2,0,0,0]
[0,0,0,0,0,0,0,0]
[0,0,0,0,0,0,0,0]
[0,0,0,0,0,0.1,0,0]
[0,0,0,0,0,0,0,0]
[0,0,0,0,0,0,0,0]
[6.5876156000000005E-2,0,0,0,0,0,0,0]
[0,0,0,0,0,0,0,0]
[0,0,0,0,0,0,0,0]
[0,0,0,0,0,0,0,0]
[0,0,0,0,0.1,0.1,0,0]
[0,0,0,0,0,0,0,0]
[0,0,0,0,0,0.1,0,8.8652484000000004E-2]
[0,0,0,0,0,0,0,0]
[0,0,0,0,0,0,0,0]
[0,0,0,0,0,0,0,0]
[0,0,0,0,0,0,0,0]
[0,0.1,0,0,0.1,0,0,0]
[0,0,0,0,0,0,0,0]
[0,0,0,0,0,0,0,0]
[0,0,0,0,0,0,0,0]
[0,0,0,0,0,0,0,0]
[0,0,0,6.7658999999999997E-2,0,0,0,8.8652484000000004E-2]
[0,0,0,0,0,0,0,8.8652484000000004E-2]
[0,0,0,0,0,0,0,0]
[0,0,0,0,0,0,0,0]
[0,0,0,0,0.2,0,0,0]
[0,0,0,0,0,0,0,0]
[0,0,0,0,0,0,0,0]
[0,0,0,0,0,0,0,8.8652484000000004E-2]
[0,0,0.1,0,0,0,0.1,0]
[0,0,0.1,0,0,0,0,8.8652484000000004E-2]
[0,0,0,0,0,0,0,0]
[0,0,0,0,0,0,0,0]
[6.5876156000000005E-2,0,0,0,0,0,0,8.8652484000000004E-2]
[0,0,0,0,0,0,0,0]
[0,0,0,0,0,0,0,0]
[0,0,0,0,0,0,0,8.8652484000000004E-2]
[0,0,0,0,0,0,0,0]
[0,0,0,0,0,0,0,0]
[0,0,0,0,0.1,0.1,0,0]
[0,0,0,0,0.2,0,0,0]
[0,0,0.1,0,0,0,0,0]
[6.5876156000000005E-2,0,0,0,0.1,0,0,0]
[6.5876156000000005E-2,0,0,0,0,0,0,8.8652484000000004E-2]
[0,0,0,6.7658999999999997E-2,0,0.1,0,0]
[0.13175231000000001,0,0,0,0,0,0,0]
[0,0,0,0,0,0,0,0]
[0,0,0,0,0,0,0.1,0]
[0,0.1,0,0,0,0.1,0,0]
[0,0,0.1,6.7658999999999997E-2,0,0,0,0]
[0,0,0,0,0,0,0,0]
[0,0.1,0.1,0,0,0,0,0]
[6.5876156000000005E-2,0,0,0,0,0,0,8.8652484000000004E-2]
[0,0,0,0,0,0,0,0]
[0,0,0.1,0,0,0.1,0,0]
[0,0,0,0,0,0,0,0]
[0,0,0,6.7658999999999997E-2,0,0,0,0]
[0,0,0,6.7658999999999997E-2,0,0,0,0]
[0,0,0,0,0,0,0,0]
[0,0,0,0,0,0,0,8.8652484000000004E-2]
[0,0,0.1,6.7658999999999997E-2,0,0,0,0]
[6.5876156000000005E-2,0,0,0,0,0,0,0]
[0,0,0,0,0,0,0,8.8652484000000004E-2]
[0,0,0,0,0,0,0,0]
[0,0,0.1,0,0,0,0,0]
[0,0,0,0,0,0,0,0]
[0,0,0,0,0,0,0,0]
[0,0,0,0,0,0,0.1,0]
[0,0,0,0,0,0,0,0]
[0,0,0,0,0,0,0,0]
[0,0,0,0,0,0,0,0]
[0,0,0,0,0,0,0,0]
[0,0,0,0,0,0,0,0]
[0,0,0,0,0,0,0,0]
[0,0,0,0,0,0,0,0]
[0,0.1,0,0,0,0.1,0,0]
[0,0,0,6.7658999999999997E-2,0,0,0,0]
[0,0.1,0,6.7658999999999997E-2,0,0,0,0]
[0,0,0.1,0,0,0,0,0]
[0,0,0,0,0,0,0,0]
[0,0,0,0,0,0,0,0]
[0,0,0,0,0,0,0,0]
[6.5876156000000005E-2,0,0,0,0,0,0,0]
[0,0,0,0,0,0,0,0]
[0,0,0,0,0,0,0,0.17730497000000001]
[6.5876156000000005E-2,0,0,0,0,0,0,0]
[0,0.1,0,0,0,0,0,0]
[0,0.2,0,0,0,0,0,0]
[0,0,0,0,0,0,0,0]
[0,0.1,0,0,0,0.1,0,0]
[0,0,0,0,0,0,0,0]
[0,0,0,0.13531799999999999,0,0,0,0]
[0,0,0,0,0,0,0,0]
[0,0,0,0,0,0,0,0]
[0,0,0,0,0,0,0,0]
[0,0,0,6.7658999999999997E-2,0,0,0,8.8652484000000004E-2]
[0,0,0,0,0,0,0,0]
[0,0,0,0,0,0,0,0]
[0,0,0.1,0,0,0,0,0]
[0,0,0,0,0,0,0,0]
[0,0,0,0,0,0,0,0]
[0,0.1,0,0,0,0,0,0]
[0,0,0,0,0,0,0,0]
[0,0,0,0,0,0.1,0.1,0]
[0,0,0,0,0,0,0,8.8652484000000004E-2]
[0,0,0,0,0,0,0,0]
[0,0,0,0,0,0,0,0]
[0,0.1,0,6.7658999999999997E-2,0,0,0,0]
[0,0,0.1,0,0,0,0.1,0]
[0,0,0,0,0,0,0,0]
[6.5876156000000005E-2,0,0,0,0,0,0,0]
[0,0,0,0,0,0,0,0]
[0,0,0,0,0,0,0.1,0]
[0,0,0,0.13531799999999999,0,0,0,0]
[6.5876156000000005E-2,0,0,0,0,0,0,0]
[0,0,0,0,0,0,0,0]
[0,0,0.1,6.7658999999999997E-2,0,0,0,0]
[6.5876156000000005E-2,0,0,0,0,0,0,8.8652484000000004E-2]
[0,0,0,0,0,0,0,0]
[0,0,0,0,0,0,0,0]
[0,0,0,0,0,0,0,0]
[0,0,0,0,0,0,0,0]
[0,0,0,0,0,0,0,0]
[0,0,0,0,0.1,0,0,0]
[0,0,0,0,0,0,0,0]
[0,0,0.1,0,0,0,0,0]
[0,0,0,0,0,0.1,0,0]
[0,0,0,0,0,0,0,0]
[0,0,0,0,0,0,0,0]
[0,0,0,0,0,0.1,0,8.8652484000000004E-2]
[0,0,0,0,0,0,0.1,0]
[0,0,0,0,0,0,0,8.8652484000000004E-2]
[0,0,0,6.7658999999999997E-2,0,0,0,0]
[0,0,0,0,0,0,0.1,0]
[0.13175231000000001,0,0,0,0,0,0,0]
[0,0,0,6.7658999999999997E-2,0,0,0,0]
[0,0,0,0,0,0,0,0]
[0,0,0,0,0,0,0,0]
[0,0,0,0,0,0,0,8.8652484000000004E-2]
[0,0,0,0,0,0,0,0]
[0,0,0,0,0,0,0,0]
[0,0,0,0,0,0,0,0]
[0,0.1,0,0,0,0,0,0]
[0,0,0.1,0,0,0,0,0]
[0,0,0,6.7658999999999997E-2,0.1,0,0,0]
[0,0,0,0,0,0,0,0]
[0,0,0.1,0,0,0,0,8.8652484000000004E-2]
[0,0,0,0,0,0.1,0,0]
[0,0,0,6.7658999999999997E-2,0,0.1,0,0]
[0,0,0,0,0,0,0,0]
[0,0.1,0,0,0,0,0,0]
[0,0,0,0,0,0,0,0]
[0,0,0,0.13531799999999999,0,0,0,0]
[0,0.1,0,6.7658999999999997E-2,0,0,0,0]
[0.13175231000000001,0,0,0,0,0,0,0]
[0,0,0,0,0.1,0,0,0]
[0,0,0,0,0,0,0,0]
[0,0,0,0,0,0,0,0]
[0,0,0,0,0,0,0,8.8652484000000004E-2]
[0,0,0,0,0,0,0,8.8652484000000004E-2]
[6.5876156000000005E-2,0,0,0,0,0,0,8.8652484000000004E-2]
[0,0,0,6.7658999999999997E-2,0,0,0,0]
[0,0,0,0,0,0,0.1,8.8652484000000004E-2]
[0,0,0.1,0,0,0,0,0]
[0,0,0,0,0.2,0,0,0]
[0,0,0,0,0.1,0.1,0,0]
[0,0,0,0,0.1,0,0,8.8652484000000004E-2]
[0,0,0,0,0,0,0,0]
[0,0,0,0,0,0,0,0]
[0,0,0,0,0,0,0,0]
[0,0,0,0,0,0,0,0]
[0,0,0,6.7658999999999997E-2,0,0,0,0]
[0,0,0,0,0,0,0,0]
[0,0,0,0,0,0,0.1,0]
[0.13175231000000001,0,0,0,0,0,0,0]
[0,0,0,0,0,0,0,0]
[6.5876156000000005E-2,0,0,0,0,0,0,0]
[0,0,0,0,0,0,0.1,0]
[0,0,0,0,0,0,0,0]
[0,0,0,0,0,0,0,0]
[0,0,0,0,0,0,0,0]
[0,0,0,6.7658999999999997E-2,0,0,0,8.8652484000000004E-2]
[0,0,0,0,0.1,0,0.1,0]
[0,0,0,0,0,0,0,0]
[0,0.1,0,6.7658999999999997E-2,0,0,0,0]
[0,0,0,0,0,0,0,0]
[0,0,0,0,0,0.1,0.1,0]
[0,0,0,0,0,0,0,0]
[0,0.1,0,0,0,0,0,0]
[0,0,0,0,0,0,0,0]
[0,0,0,0,0,0,0,0]
[0,0.1,0,6.7658999999999997E-2,0,0,0,0]
[6.5876156000000005E-2,0,0,0,0,0,0,0]
[0.13175231000000001,0,0,0,0,0,0,0]
[0,0,0,6.7658999999999997E-2,0,0.1,0,0]
[0,0,0,0,0,0,0,0]
[0,0,0,0,0,0,0.1,0]
[0,0.1,0,0,0,0,0,0]
[0,0,0,0,0.1,0,0,0]
[0,0,0,0,0,0,0,0]
[0,0,0,6.7658999999999997E-2,0,0,0,0]
[0,0.1,0,0,0,0,0,0]
[0,0,0,0,0,0,0,0]
[0,0,0,0,0,0,0,0]
[0,0,0.1,0,0,0,0,8.8652484000000004E-2]
[0,0,0,0,0,0,0,0]
[0,0,0,0,0,0,0,0]
[0,0,0,0,0,0,0,0]
[0,0,0,0,0,0,0,0]
[0,0.1,0,6.7658999999999997E-2,0,0,0,0]
[0,0,0,0,0.1,0.1,0,0]
[0,0,0,0,0,0,0,0]
[0,0,0,6.7658999999999997E-2,0,0,0,8.8652484000000004E-2]
[0,0,0,0,0,0,0,0]
[0,0,0,0,0,0,0,0]
[0,0,0,6.7658999999999997E-2,0,0.1,0,0]
[0,0,0,0,0,0,0,0]
[0,0.1,0,0,0,0,0,8.8652484000000004E-2]
[0,0,0,0,0,0,0,0]
[0,0,0,0,0,0,0,0]
[6.5876156000000005E-2,0,0,0,0,0,0,0]
[0,0.1,0,6.7658999999999997E-2,0,0,0,0]
[0,0,0,0,0,0,0,0]
[0,0,0,0,0.2,0,0,0]
[0,0,0,0,0,0,0,0]
[0,0,0,0,0,0,0,0]
[0,0,0,0,0.1,0.1,0,0]
[0,0,0,0,0,0,0,0]
[0,0,0,6.7658999999999997E-2,0,0,0,0]
[0,0,0,0,0,0,0,0]
[0,0,0,0,0,0,0,0]
[0,0,0,0,0,0,0,0]
[0,0,0,0,0,0,0,0]
[0,0,0,0,0,0,0,0]
[0,0,0,0,0,0,0,0]
[0,0,0,0,0,0,0,0]
[0,0,0,0,0,0,0,0]
[0,0.1,0,6.7658999999999997E-2,0,0,0,0]
[0,0,0,6.7658999999999997E-2,0,0.1,0,0]
[0,0,0,0,0,0,0,0]
[0,0,0,0,0,0,0,0]
[0,0,0,0,0,0,0,0]
[0,0,0,0,0,0,0,0]
[0,0,0,0,0,0,0,0]
[6.5876156000000005E-2,0,0,0,0,0,0,0]
[0,0,0,0,0,0,0,0]
[0,0,0,0,0,0,0,0]
[0,0,0,0,0,0,0,0]
[0,0,0,0,0,0,0,0]
[0,0,0.2,0,0,0,0,0]
[0,0.1,0,0,0,0,0,0]
[0,0,0,0,0.1,0,0,0]
[0,0,0,6.7658999999999997E-2,0,0,0,0]
[0,0,0,0,0,0,0,0]
[0,0,0,0,0,0,0,0]
[6.5876156000000005E-2,0,0,0,0.1,0,0,0]
[0,0,0,6.7658999999999997E-2,0,0,0,0]
[0,0,0,0,0,0,0,0]
[0,0,0,0,0,0,0,0]
[0,0,0,0,0.1,0,0,0]
[0,0,0,0,0,0,0,0]
[0,0,0,0,0,0,0,0]
[0,0,0,6.7658999999999997E-2,0,0,0,0]
[0,0,0,0.13531799999999999,0,0,0,0]
[0,0.1,0.1,0,0,0,0,0]
[0,0,0.1,0,0,0,0,0]
[6.5876156000000005E-2,0,0.1,0,0,0,0,0]
[0,0,0,0,0,0,0,0]
[6.5876156000000005E-2,0,0,0,0,0,0,0]
[6.5876156000000005E-2,0,0,0,0,0,0,0]
[0,0,0,0,0,0,0,0]
[0.13175231000000001,0,0,0,0,0,0,0]
[0,0,0,0,0,0,0,0]
[6.5876156000000005E-2,0,0,0,0,0,0,0]
[0,0,0,0,0.2,0,0,0]
[0,0,0,0,0,0,0,0]
[0,0,0,0,0,0,0.2,0]
[0,0,0,0,0,0,0,0]
[0,0,0.1,0,0.1,0,0,0]
[0,0,0.1,0,0,0,0,0]
[0,0,0,0,0,0,0,0]
[0,0,0,0,0.1,0.1,0,0]
[0,0,0,6.7658999999999997E-2,0,0,0,0]
[0,0,0,0,0,0,0,0]
[0,0,0,6.7658999999999997E-2,0,0.1,0,0]
[0,0,0,0,0,0,0,0]
[0,0,0,6.7658999999999997E-2,0,0,0.1,0]
[0,0,0,0,0,0,0,0]
[0,0,0,0,0,0,0,0]
[0,0,0.1,0,0,0,0,0]
[0,0,0.1,0,0,0,0.1,0]
[0,0,0,0,0,0,0,0]
[0,0,0,0,0,0,0,0]
[0,0,0,0,0,0,0,0]
[0,0,0,0,0,0,0,0]
[0,0,0,0,0,0,0,0]
[0,0,0,0,0,0,0,0]
[0,0.1,0,0,0,0,0,0]
[0,0,0,0,0,0,0,0]
[6.5876156000000005E-2,0,0,0,0,0,0,0]
[0,0,0,6.7658999999999997E-2,0,0.1,0,0]
[0,0,0,0,0,0,0,0]
[0,0,0,0,0,0,0,0]
[0,0,0.1,0,0,0,0,0]
[0,0,0,0,0,0,0,0]
[0,0,0,0,0,0,0.1,0]
[0,0,0,0,0,0,0,8.8652484000000004E-2]
[0,0,0,0,0,0,0.1,0]
[0,0,0,0,0.1,0,0,0]
[0,0,0,0,0,0,0,0]
[0,0,0,0,0,0.1,0,0]
[0,0,0,0,0,0,0.1,0]
[0,0,0,0,0,0,0,8.8652484000000004E-2]
[0,0,0,0,0,0,0,8.8652484000000004E-2]
[0,0,0,0,0,0,0.1,0]
[0,0,0.1,0,0,0,0,0]
[0,0,0,0,0,0,0,8.8652484000000004E-2]
[0,0,0,0,0,0,0.1,0]
[0,0.1,0,0,0,0,0,0]
[0,0,0,0,0,0,0,8.8652484000000004E-2]
[0,0,0,0,0,0,0.1,0]
[0,0,0,0,0,0,0,8.8652484000000004E-2]
[0,0,0,0,0,0,0,0]
[0,0,0,0,0,0,0,0]
[6.5876156000000005E-2,0,0,0,0,0,0,0]
[0,0,0,0,0,0,0,8.8652484000000004E-2]
[0,0,0,0,0,0,0,8.8652484000000004E-2]
[0,0,0,0,0,0,0.1,0]
[0,0,0,0,0,0,0,8.8652484000000004E-2]
[0,0,0,0,0.1,0,0,0]
[0,0,0,0,0,0,0.1,0]
[0,0,0,0,0,0,0,8.8652484000000004E-2]
[0,0,0,0,0,0,0,8.8652484000000004E-2]
[0,0,0,0,0,0,0.1,0]
[0,0,0,0,0,0,0.1,0]
[0,0,0,0,0,0,0,8.8652484000000004E-2]
[0,0,0,0,0,0,0.1,0]
[0,0,0,0,0,0,0,0]
[0,0,0,0,0,0,0,0]
[0,0,0,0,0,0,0,0]
[0,0,0,0,0,0,0,0]
[0,0,0,0,0,0,0,0]
[0,0,0,0,0.1,0,0,0]
[6.5876156000000005E-2,0,0,0,0,0,0,0]
[0,0,0,0,0.1,0,0,0]
[0,0,0,0,0,0,0,0]
[0,0,0,0,0,0,0,8.8652484000000004E-2]
[0,0,0,0,0,0,0.1,0]
[0,0,0,0,0,0,0,0]
[0,0,0,0,0,0.1,0,0]
[0,0,0.1,0,0,0,0,0]
[0,0,0,0,0,0,0,0]
[0,0,0,0,0,0,0,0]
[0,0,0,0,0,0,0,0]
[0,0,0,0,0,0,0,0]
[0,0,0,0,0,0,0,0]
[0,0,0,0,0,0,0.1,0]
[0,0,0,0,0,0,0,0]
[0,0,0,0,0,0,0,0]
[0,0,0,0,0,0,0.1,0]
[0,0,0,0,0,0,0,0]
[0,0,0,0,0,0,0,0]
[0,0,0,0,0,0,0,0]
[0,0.1,0,0,0,0,0,0]
[0,0,0,0,0,0,0,0]
[0,0,0,0,0,0,0,0]
[0,0,0,0,0,0,0,0]
[0,0,0,0,0,0,0,0]
[0,0,0,0,0,0,0,0]
[0,0,0,0,0,0,0,0]
[0,0,0,0,0,0,0,0]
[0,0,0,0,0,0,0.1,0]
[0,0,0,0,0,0,0,8.8652484000000004E-2]
[0,0,0,0,0,0,0.1,0]
[0,0,0,0,0,0,0,0]
[0,0,0,0,0,0,0,0]
[0,0,0,0,0,0,0.1,0]
[0,0,0,0,0,0,0,0]
[0,0,0,0,0,0.1,0,0]
[0,0,0,0,0,0,0,0]
[0,0,0,0,0,0,0.1,0]
[0,0,0,0,0,0,0,0]
[0,0,0,0,0,0,0,0]
[0,0,0,0,0,0,0,0]
[0,0,0,6.7658999999999997E-2,0,0,0,0]
[0,0,0,0,0,0,0.1,0]
[0,0,0,0,0,0,0,0]
[0,0,0,0,0,0,0,0]
[0,0,0,0,0,0,0,0]
[0,0,0,0,0,0,0,0]
[0,0,0,0,0,0,0,0]
[0,0,0,0,0,0,0,0]
[0,0,0,0,0,0,0,0]
[6.5876156000000005E-2,0,0,0,0,0,0,0]
[0,0,0,0,0,0,0.1,0]
[0,0.1,0,0,0,0,0,0]
[0,0,0,0,0,0,0,0]
[0,0,0,0,0,0,0,0]
[0,0,0,0,0,0,0,0]
[0,0.1,0,0,0,0,0,0]
[0,0,0.1,0,0,0,0,0]
[0,0,0,0,0,0,0,0]
[0,0,0,0,0,0,0,0]
[0,0,0,0,0,0,0,0]
[0,0,0,0,0,0,0,0]
[0,0,0,0,0,0,0,8.8652484000000004E-2]
[0,0,0,6.7658999999999997E-2,0,0,0,0]
[0,0,0,0,0,0,0,0]
[0,0,0,0,0,0,0,0]
[0,0,0,6.7658999999999997E-2,0,0,0,0]
[0,0,0,6.7658999999999997E-2,0,0,0,0]
[0,0,0,6.7658999999999997E-2,0,0,0,0]
[0,0,0,0,0,0,0,0]
[0,0,0,0,0,0,0,0]
[0,0,0,0,0,0,0,0]
[0,0,0,0,0,0,0,0]
[0,0,0,0,0,0,0,8.8652484000000004E-2]
[0,0,0,0,0,0,0,0]
[6.5876156000000005E-2,0,0,0,0,0,0,0]
[0,0,0,0,0,0,0,0]
[0,0,0,0,0,0,0.1,0]
[0,0,0,0,0,0,0,8.8652484000000004E-2]
[0,0,0,0,0,0,0,0]
[0,0,0,0,0,0,0,0]
[0,0,0,0,0,0,0,8.8652484000000004E-2]
[6.5876156000000005E-2,0,0,0,0,0,0,0]
[0,0,0,0,0,0,0,0]
[0,0,0,0,0,0,0,0]
[0,0,0,0,0,0,0,0]
[0,0,0,0,0,0,0,0]
[0,0,0,6.7658999999999997E-2,0,0,0,0]
[0,0,0,0,0,0,0,0]
[0,0,0,0,0,0,0,0]
[0,0,0,0,0,0,0,0]
[0,0,0,0,0,0,0,0]
[0,0,0,0,0,0,0,8.8652484000000004E-2]
[0,0,0,0,0,0,0,0]
[0,0,0,0,0,0,0,0]
[0,0,0,0,0,0,0,0]
[0,0,0.1,0,0,0,0,0]
[0,0,0,0,0,0,0,0]
[6.5876156000000005E-2,0,0,0,0,0,0,0]
[0,0,0,0,0,0,0,0]
[0,0,0,0,0,0,0,0]
[0,0,0,0,0,0,0,0]
[0,0,0,0,0,0,0,0]
[0,0,0,0,0,0,0,0]
[0,0,0,0,0,0,0,0]
[0,0,0,6.7658999999999997E-2,0,0,0,0]
[0,0,0,0,0.1,0,0,0]
[0,0,0,0,0,0,0,0]
[0,0,0,0,0,0,0.1,0]
[0,0,0,0,0,0,0.1,0]
[6.5876156000000005E-2,0,0,0,0,0,0,0]
[0,0,0,0,0,0,0,0]
[0,0,0,0,0,0.1,0,0]
[0,0,0,0,0,0,0,0]
[0,0,0,0,0,0,0,0]
[0,0,0,0,0,0,0,8.8652484000000004E-2]
[0,0,0,0,0,0,0,0]
[0,0,0,0,0,0,0,0]
[0,0,0,0,0,0,0,0]
[0,0,0,6.7658999999999997E-2,0,0,0,0]
[0,0,0,0,0,0,0,0]
[0,0,0,0,0,0,0,0]
[0,0,0,0,0,0,0,0]
[0,0,0,0,0,0,0,0]
[0,0,0,0,0,0,0,0]
[0,0,0,0,0,0,0,0]
[0,0,0,0,0,0,0,0]
[0,0,0,0,0,0,0,0]
[0,0,0,0,0,0,0,0]
[0,0,0,0,0,0,0,0]
[0,0,0,0,0,0,0,0]
[6.5876156000000005E-2,0,0,0,0,0,0,0]
[0,0,0,0,0,0,0,0]
[0,0,0,0,0,0,0,0]
[0,0,0,0,0,0,0,0]
[0,0,0,0,0,0,0,0]
[0,0.1,0,0,0,0,0,0]
[0,0,0,0,0,0,0,0]
[0,0,0,0,0,0,0,0]
[0,0,0,0,0,0,0,0]
[6.5876156000000005E-2,0,0,0,0,0,0,0]
[0,0,0,0,0,0,0,0]
[0,0,0,0,0,0,0,8.8652484000000004E-2]
[0,0,0,0,0,0,0,0]
[0,0,0,0,0,0,0,0]
[0,0,0,0,0,0,0.1,0]
[0,0,0,0,0,0,0.1,0]
[0,0,0,0,0,0,0,0]
[0,0,0.1,0,0,0,0,0]
[0,0,0,0,0,0,0,0]
[0,0,0,0,0,0.1,0,0]
[0,0,0,0,0,0,0,0]
[0,0,0,0,0,0,0,0]
[0,0,0.1,0,0,0,0,0]
[0,0,0,0,0,0,0.1,0]
[0,0,0,0,0.1,0,0,0]
[0,0,0,0,0,0,0,0]
[0,0,0.1,0,0,0,0,0]
[0,0,0,6.7658999999999997E-2,0,0,0,0]
[0,0,0,0,0,0,0,0]
[0,0,0,0,0,0,0,0]
[0,0,0,0,0,0,0,0]
[0,0,0,0,0,0,0,0]
[0,0,0,0,0,0,0,0]
[0,0,0,0,0,0,0,0]
[0,0,0,0,0,0,0,0]
[0,0,0,0,0,0,0,0]
[0,0,0,0,0,0,0,0]
[0,0,0,0,0,0,0,0]
[0,0,0,0,0,0,0,0]
[0,0,0,0,0,0,0,0]
[0,0,0,0,0,0,0.1,0]
[0,0,0,0,0,0,0,0]
[0,0,0,0,0,0,0,0]
[0,0,0,0,0,0,0,0]
[0,0,0,0,0,0,0.1,0]
[0,0,0.1,0,0,0,0,0]
[0,0,0,0,0,0,0,0]
[0,0,0,0,0,0,0,0]
[0,0,0,0,0,0,0,0]
[0,0,0,0,0,0,0,0]
[0,0,0,0,0,0,0,0]
[0,0.1,0,0,0,0,0,0]
[0,0,0,0,0,0,0,0]
[0,0,0,0,0,0,0,0]
[0,0,0,0,0,0,0,0]
[0,0,0,0,0,0,0,0]
[6.5876156000000005E-2,0,0,0,0,0,0,0]
[0,0,0,0,0,0,0,0]
[0,0,0,0,0,0,0,0]
[0,0,0,0,0,0,0,0]
[6.5876156000000005E-2,0,0,0,0,0,0,0]
[0,0,0,0,0,0.1,0,0]
[0,0,0,0,0,0,0,0]
[0,0,0,0,0,0,0,0]
[6.5876156000000005E-2,0,0,0,0,0,0,0]
[0,0,0,0,0,0,0,0]
[0,0,0,0,0,0,0,0]
[0,0,0,0,0,0,0,0]
[0,0,0,0,0,0,0,0]
[0,0,0,0,0,0,0,0]
[0,0,0,0,0.1,0,0,0]
[0,0,0,0,0,0,0,0]
[0,0,0,6.7658999999999997E-2,0,0,0,0]
[0,0,0,0,0,0,0,0]
[0,0.1,0,0,0,0,0,0]
[0,0.1,0,0,0,0,0,0]
[0,0,0,0,0,0.1,0,0]
[0,0,0,0,0,0,0,0]
[0,0,0,0,0,0,0,0]
[0,0,0,0,0,0,0,0]
[0,0,0,0,0,0,0,0]
[0,0.1,0,0,0,0,0,0]
[0,0,0,0,0,0,0.1,0]
[0,0,0,0,0,0,0.1,0]
[0,0,0,0,0,0,0,0]
[0,0,0,0,0,0.1,0,0]
[0,0,0,6.7658999999999997E-2,0,0,0,0]
[0,0,0,0,0,0,0,8.8652484000000004E-2]
[0,0.1,0,0,0,0,0,0]
[0,0,0,0,0,0,0,0]
[0,0,0,0,0,0,0,0]
[0,0,0,6.7658999999999997E-2,0,0,0,0]
[0,0,0,6.7658999999999997E-2,0,0,0,0]
[6.5876156000000005E-2,0,0,0,0,0,0,0]
[0,0,0,0,0,0.1,0,0]
[0,0,0,6.7658999999999997E-2,0,0,0,0]
[0,0,0,0,0,0,0,0]
[0,0,0,0,0,0.1,0,0]
[0,0,0,0,0,0,0,0]
[0,0,0,0,0,0,0,0]
[0,0,0,0,0,0,0,0]
[0,0,0,0,0,0,0,0]
[0,0,0,0,0,0,0,0]
[0,0,0,0,0,0,0,8.8652484000000004E-2]
[0,0,0,0,0,0,0,0]
[0,0,0,0,0,0,0,0]
[0,0,0,0,0,0,0,0]
[0,0,0,0,0,0,0,0]
[0,0.1,0,0,0,0,0,0]
[0,0,0,0,0,0,0,0]
[0,0,0,0,0,0,0,0]
[0,0,0,0,0,0,0,0]
[0,0.1,0,0,0,0,0,0]
[6.5876156000000005E-2,0,0,0,0,0,0,0]
[0,0,0,0,0,0,0,0]
[0,0,0,0,0,0,0,0]
[0,0,0,0,0,0,0,0]
[0,0,0,0,0,0,0,0]
[0,0,0,0,0,0,0,0]
[0,0,0,0,0,0,0,0]
[0,0,0,0,0,0,0,0]
[0,0,0,0,0,0.1,0,0]
[0,0,0,0,0,0,0,0]
[0,0,0,0,0.1,0,0,0]
[0,0,0,0,0,0,0.1,0]
[0,0,0,0,0,0,0,0]
[0,0,0,0,0,0,0,0]
[0,0,0,0,0,0,0,0]
[0,0,0,0,0,0,0.1,0]
[0,0,0,0,0,0,0,0]
[0,0,0,0,0,0,0,0]
[0,0,0,0,0,0,0,8.8652484000000004E-2]
[0,0,0,6.7658999999999997E-2,0,0,0,0]
[0,0,0,6.7658999999999997E-2,0,0,0,0]
[0,0,0.1,0,0,0,0,0]
[6.5876156000000005E-2,0,0,0,0,0,0,0]
[0,0,0,0,0,0,0,8.8652484000000004E-2]
[0,0,0,6.7658999999999997E-2,0,0,0,0]
[0,0,0,0,0,0.1,0,0]
[0,0,0.1,0,0,0,0,0]
[0,0,0,0,0,0,0,0]
[0,0,0,0,0,0,0,0]
[0,0,0,0,0,0,0,0]
[0,0,0,0,0,0,0,0]
[0,0,0,0,0,0,0,0]
[6.5876156000000005E-2,0,0,0,0,0,0,0]
[0,0,0,0,0,0,0,0]
[0,0,0,0,0,0,0,0]
[0,0,0,0,0.1,0,0,0]
[0,0,0,0,0,0,0,0]
[0,0,0,6.7658999999999997E-2,0,0,0,0]
[0,0,0,0,0,0,0,0]
[0,0,0,0,0,0,0,0]
[0,0,0,0,0,0,0,8.8652484000000004E-2]
[0,0,0.1,0,0,0,0,0]
[0,0,0,0,0.1,0,0,0]
[0,0,0,6.7658999999999997E-2,0,0,0,0]
[0,0,0,0,0,0,0.1,0]
[0,0,0,6.7658999999999997E-2,0,0,0,0]
[0,0.1,0,0,0,0,0,0]
[0,0,0,0,0,0,0,8.8652484000000004E-2]
[0,0,0,0,0,0,0,0]
[0,0,0,0,0,0,0,0]
[0,0,0,0,0,0.1,0,0]
[0,0,0,0,0,0,0,0]
[0,0,0,0,0,0,0,8.8652484000000004E-2]
[0,0.1,0,0,0,0,0,0]
[6.5876156000000005E-2,0,0,0,0,0,0,0]
[0,0,0,0,0,0,0,0]
[0,0,0,0,0,0,0,0]
[0,0,0,0,0,0,0.1,0]
[0,0,0,0,0,0,0,0]
[0,0,0,0,0,0.1,0,0]
[0,0,0,0,0,0.1,0,0]
[0,0,0,0,0,0,0,0]
[0,0,0.1,0,0,0,0,0]
[0,0,0,0,0,0,0,0]
[0,0,0,0,0,0,0,0]
[0,0,0,0,0,0,0,0]
[0,0,0,0,0,0,0,0]
[0,0,0,0,0,0,0,0]
[0,0,0,0,0,0,0,0]
[0,0,0,0,0,0,0,0]
[0,0,0,0,0,0,0.1,0]
[0,0,0,0,0,0,0,8.8652484000000004E-2]
[0,0,0,0,0,0,0,0]
[0,0,0,0,0,0,0,8.8652484000000004E-2]
[0,0,0.1,0,0,0,0,0]
[0,0,0,0,0,0,0,0]
[0,0,0,0,0,0,0,0]
[0,0,0,0,0,0,0,0]
[0,0,0,0,0,0,0,8.8652484000000004E-2]
[0,0,0,0,0,0,0,0]
[0,0,0,0,0,0,0,8.8652484000000004E-2]
[0,0,0,0,0,0,0,0]
[0,0,0,0,0,0,0,0]
[0,0,0,0,0,0,0,0]
[0,0,0,0,0,0,0.1,0]
[0,0,0,0,0,0,0,0]
[0,0,0,0,0,0.1,0,0]
[0,0,0,0,0,0,0,0]
[6.5876156000000005E-2,0,0,0,0,0,0,0]
[0,0,0,0,0,0,0,0]
[0,0,0,0,0,0,0,0]
[0,0,0,0,0,0,0,8.8652484000000004E-2]
[0,0,0,0,0,0.1,0,0]
[0,0,0,0,0,0,0,8.8652484000000004E-2]
[0,0,0,0,0,0.1,0,0]
[0,0,0,6.7658999999999997E-2,0,0,0,0]
[0,0,0,0,0,0,0,0]
[0,0,0,6.7658999999999997E-2,0,0,0,0]
[0,0,0,0,0,0,0,0]
[0,0.1,0,0,0,0,0,0]
[0,0,0,0,0,0,0,8.8652484000000004E-2]
[0,0,0,0,0,0,0,0]
[0,0.1,0,0,0,0,0,0]
[0,0,0,0,0,0,0,8.8652484000000004E-2]
[0,0,0,0,0,0,0,0]
[0,0,0,6.7658999999999997E-2,0,0,0,0]
[0,0,0,0,0,0,0,0]
[0,0.1,0,0,0,0,0,0]
[0,0,0,0,0,0,0,0]
[0,0,0.1,0,0,0,0,0]
[0,0.1,0,0,0,0,0,0]
[0,0,0.1,0,0,0,0,0]
[0,0,0.1,0,0,0,0,0]
[6.5876156000000005E-2,0,0,0,0,0,0,0]
[0,0,0,0,0,0,0,0]
[0,0.1,0,0,0,0,0,0]
[0,0,0,0,0,0,0,0]
[0,0,0,0,0,0,0,0]
[0,0,0,0,0,0,0,0]
[0,0,0,0,0,0,0,0]
[0,0,0,0,0,0,0,0]
[0,0,0,0,0,0,0.1,0]
[0,0,0,0,0,0,0,0]
[0,0,0,0,0,0.1,0,0]
[0,0,0,0,0,0,0,8.8652484000000004E-2]
[0,0,0,0,0,0,0,0]
[6.5876156000000005E-2,0,0,0,0,0,0,0]
[0,0,0,0,0,0,0,0]
[0,0,0.1,0,0,0,0,0]
[0,0,0,0,0,0,0,0]
[0,0,0,0,0,0,0,0]
[0,0,0,0,0,0,0,0]
[0,0,0,0,0,0,0,0]
[0,0,0,0,0,0,0,0]
[0,0,0,0,0,0,0,0]
[0,0,0,0,0,0,0,0]
[0,0,0,0,0,0,0,0]
[0,0,0,0,0,0,0,0]
[0,0,0,0,0,0,0,0]
[0,0,0,0,0,0,0,0]
[0,0,0,0,0,0,0,0]
[0,0,0,0,0,0,0,0]
[0,0.1,0,0,0,0,0,0]
[0,0,0,0,0,0,0,0]
[0,0,0,0,0,0,0,0]
[0,0,0,0,0,0,0,0]
[0,0,0,0,0,0,0,8.8652484000000004E-2]
[0,0,0,0,0,0.1,0,0]
[0,0,0,0,0,0,0,0]
[0,0,0,0,0,0,0,0]
[0,0,0,0,0,0,0,0]
[0,0,0,0,0,0,0.1,0]
[0,0.1,0,0,0,0,0,0]
[0,0,0.1,0,0,0,0,0]
[0,0.1,0,0,0,0,0,0]
[0,0,0,0,0,0,0.1,0]
[0,0,0,0,0,0,0,0]
[0,0,0,0,0,0,0,0]
[0,0,0,0,0,0,0,0]
[0,0,0,0,0,0,0,0]
[0,0,0,0,0,0,0,0]
[0,0,0,0,0,0,0,0]
[0,0,0,0,0,0,0.1,0]
[0,0,0,0,0,0,0,0]
[0,0,0,0,0,0,0,0]
[0,0,0,0,0,0,0,0]
[0,0,0,0,0,0,0,0]
[0,0,0,0,0,0,0,0]
[0,0,0,0,0,0,0,0]
[0,0,0,0,0,0,0,0]
[0,0,0,0,0,0,0.1,0]
[0,0,0,0,0,0,0,0]
[0,0,0,0,0.1,0,0,0]
[0,0,0,0,0,0,0,0]
[0,0,0,0,0,0,0,0]
[0,0,0,6.7658999999999997E-2,0,0,0,0]
[0,0,0,0,0,0,0,0]
[0,0,0,0,0,0,0,0]
[0,0,0,0,0,0,0,0]
[0,0,0,0,0,0,0,0]
[0,0,0.1,0,0,0,0,0]
[0,0.1,0,0,0,0,0,0]
[0,0,0,0,0,0,0,0]
[0,0,0,0,0,0,0,0]
[0,0,0,0,0,0,0,0]
[0,0,0,0,0,0,0,8.8652484000000004E-2]
[0,0,0,0,0,0,0,0]
[0,0,0,0,0,0,0,0]
[0,0,0,0,0,0,0,0]
[0,0,0,0,0,0,0,0]
[0,0,0,0,0,0,0.1,0]
[0,0,0,0,0,0,0,0]
[0,0,0.1,0,0,0,0,0]
[0,0,0.1,0,0,0,0,0]
[0,0,0,0,0,0,0,0]
[0,0,0,6.7658999999999997E-2,0,0,0,0]
[0,0,0.1,0,0,0,0,0]
[6.5876156000000005E-2,0,0,0,0,0,0,0]
[0,0,0,0,0,0,0,0]
[0,0,0,6.7658999999999997E-2,0,0,0,0]
[0,0,0,0,0,0.1,0,0]
[0,0,0,0,0,0,0,0]
[6.5876156000000005E-2,0,0,0,0,0,0,0]
[0,0,0,0,0,0,0,0]
[0,0,0,0,0,0,0,0]
[0,0,0,0,0,0,0,0]
[0,0,0,0,0,0.1,0,0]
[0,0,0,0,0,0,0,0]
[0,0,0.1,0,0,0,0,0]
[0,0,0,0,0,0,0,0]
[0,0,0,0,0,0,0,0]
[0,0,0,0,0,0,0,0]
[0,0,0,0,0,0,0,0]
[0,0,0,0,0,0.1,0,0]
[0,0,0,0,0,0,0,0]
[0,0,0,0,0,0.1,0,0]
[0,0,0,0,0,0,0,0]
[0,0,0.1,0,0,0,0,0]
[0,0,0,0,0,0,0,0]
[0,0,0,0,0,0,0.1,0]
[0,0,0,0,0,0,0,0]
[0,0,0,0,0,0.1,0,0]
[0,0,0,0,0,0,0,0]
[0,0,0,0,0,0,0,0]
[0,0,0,0,0,0,0,8.8652484000000004E-2]
[0,0,0,6.7658999999999997E-2,0,0,0,0]
[0,0,0,0,0,0,0,0]
[0,0.1,0,0,0,0,0,0]
[0,0,0,0,0,0,0,0]
[0,0,0,0,0,0,0,0]
[6.5876156000000005E-2,0,0,0,0,0,0,0]
[0,0,0,0,0,0,0,0]
[0,0.1,0,0,0,0,0,0]
[0,0,0,0,0,0,0,0]
[0,0,0,0,0,0,0,0]
[0,0,0,0,0,0,0,0]
[0,0,0,0,0,0,0,8.8652484000000004E-2]
[0,0,0,0,0,0,0,0]
[0,0,0,0,0,0,0,8.8652484000000004E-2]
[0,0,0,0,0,0,0.1,0]
[0,0,0,0,0,0,0,8.8652484000000004E-2]
[0,0,0,0,0,0,0.1,0]
[0,0,0,0,0,0,0,0]
[0,0,0,0,0,0,0,0]
[0,0,0,0,0,0,0,0]
[0,0,0,0,0,0,0,0]
[0,0,0,0,0,0,0,0]
[6.5876156000000005E-2,0,0,0,0,0,0,0]
[0,0,0,0,0,0,0,0]
[0,0,0,0,0,0,0,0]
[0,0,0,0,0,0,0,0]
[0,0,0.1,0,0,0,0,0]
[0,0,0,0,0,0,0,0]
[0,0,0,0,0,0,0,0]
[0,0,0.1,0,0,0,0,0]
[0,0,0,0,0,0,0,0]
[0,0.1,0,0,0,0,0,0]
[0,0,0,0,0.1,0,0,0]
[0,0.1,0,0,0,0,0,0]
[0,0,0,0,0,0,0,0]
[0,0,0,0,0,0,0,0]
[0,0,0,0,0,0,0,0]
[0,0,0,0,0,0,0,0]
[0,0,0.1,0,0,0,0,0]
[0,0,0,0,0,0,0,8.8652484000000004E-2]
[0,0,0.1,0,0,0,0,0]
[0,0,0,0,0,0,0,0]
[0,0,0,0,0.1,0,0,0]
[0,0,0,0,0,0,0,8.8652484000000004E-2]
[0,0,0,0,0,0,0,0]
[0,0.1,0,0,0,0,0,0]
[0,0.1,0,0,0,0,0,0]
[0,0,0,0,0,0,0.1,0]
[0,0,0,0,0,0,0,0]
[0,0,0.1,0,0,0,0,0]
[0,0,0,0,0,0,0,0]
[0,0,0,0,0,0,0,0]
[0,0,0,0,0,0,0,0]
[0,0,0,0,0,0,0,0]
[0,0,0,0,0,0,0,0]
[0,0,0,0,0,0,0,0]
[0,0,0,0,0,0,0,0]
[0,0,0,0,0.1,0,0,0]
[0,0.1,0,0,0,0,0,0]
[0,0,0,0,0,0,0,0]
[0,0,0,0,0,0,0,0]
[0,0,0,0,0,0,0,0]
[0,0,0,0,0,0.1,0,0]
[6.5876156000000005E-2,0,0,0,0,0,0,0]
[0,0,0,0,0,0,0,0]
[0,0,0,0,0,0,0,0]
[0,0,0,0,0,0,0,0]
[0,0,0,0,0,0,0,0]
[0,0,0,0,0,0,0,0]
[0,0,0,0,0,0,0,0]
[0,0,0,0,0,0,0,8.8652484000000004E-2]
[0,0,0,0,0,0,0,0]
[6.5876156000000005E-2,0,0,0,0,0,0,0]
[0,0,0,6.7658999999999997E-2,0,0,0,0]
[0,0,0,0,0.1,0,0,0]
[0,0,0,0,0,0,0,0]
[0,0,0,0,0,0,0,0]
[0,0,0,0,0,0,0,0]
[0,0,0,0,0,0,0,0]
[0,0,0,0,0,0,0,0]
[0,0,0,0,0,0.1,0,0]
[0,0,0,0,0,0,0,0]
[0,0,0,0,0,0,0,8.8652484000000004E-2]
[0,0,0.1,0,0,0,0,0]
[0,0,0,0,0,0,0,0]
[0,0,0,0,0,0,0,0]
[0,0,0,0,0,0,0,0]
[0,0,0,6.7658999999999997E-2,0,0,0,0]
[0,0,0,0,0,0,0,0]
[0,0,0,0,0,0,0,0]
[0,0,0,0,0,0,0,0]
[0,0,0,0,0,0,0,0]
[0,0,0,0,0,0,0,8.8652484000000004E-2]
[0,0,0,0,0,0,0,0]
[0,0,0,0,0,0,0,0]
[0,0,0,0,0,0,0,0]
[0,0,0,0,0,0,0,0]
[0,0,0,0,0,0,0,0]
[0,0,0,0,0,0,0,8.8652484000000004E-2]
[0,0,0,0,0,0,0,0]
[0,0,0,0,0,0,0,0]
[0,0,0,0,0,0,0,0]
[0,0,0,0,0,0.1,0,0]
[0,0,0,0,0,0,0,8.8652484000000004E-2]
[0,0,0,0,0,0,0,8.8652484000000004E-2]
[0,0.1,0,0,0,0,0,0]
[0,0,0,0,0,0,0.1,0]
[0,0,0.1,0,0,0,0,0]
[0,0,0,0,0.1,0,0,0]
[0,0,0,0,0,0.1,0,0]
[6.5876156000000005E-2,0,0,0,0,0,0,0]
[0,0,0,0,0,0,0,0]
[0,0,0,0,0,0,0,0]
[0,0,0,0,0,0,0,0]
[0,0,0,0,0,0,0,0]
[0,0,0,0,0,0,0,0]
[0,0,0,0,0,0,0,0]
[0,0,0,6.7658999999999997E-2,0,0,0,0]
[0,0,0,0,0,0,0,0]
[0,0,0,0,0,0,0,8.8652484000000004E-2]
[0,0,0,0,0,0,0,0]
[0,0,0,0,0,0.1,0,0]
[0,0,0,0,0,0,0,8.8652484000000004E-2]
[0,0,0,0,0,0,0,0]
[6.5876156000000005E-2,0,0,0,0,0,0,0]
[0,0,0,0,0,0.1,0,0]
[0,0,0,0,0,0,0,0]
[0,0,0,0,0,0,0,0]
[0,0,0,0,0.1,0,0,0]
[0,0,0,0,0,0,0,0]
[0,0,0,0,0,0,0,0]
[0,0,0,0,0,0,0,0]
[0,0,0,0,0,0,0,0]
[0,0,0,0,0,0,0,0]
[0,0,0,0,0,0,0,8.8652484000000004E-2]
[0,0,0,0,0,0,0,0]
[0,0,0,0,0,0,0,0]
[0,0,0,0,0,0,0,0]
[0,0,0,0,0,0,0,8.8652484000000004E-2]
[0,0,0,0,0,0,0,0]
[0,0,0,0,0,0,0,0]
[0,0,0,0,0,0,0,0]
[0,0,0,0,0,0,0,0]
[0,0,0,0,0,0,0,0]
[0,0,0,0,0,0,0,0]
[0,0,0,0,0,0,0,0]
[0,0,0,0,0,0,0,0]
[6.5876156000000005E-2,0,0,0,0,0,0,0]
[0,0,0,0,0,0,0,8.8652484000000004E-2]
[0,0,0,0,0,0,0.1,0]
[0,0,0,0,0,0,0,0]
[0,0,0,0,0,0,0,0]
[0,0,0,0,0,0.1,0,0]
[0,0,0,0,0,0,0,0]
[0,0,0,0,0,0,0,0]
[0,0,0,0,0,0,0,0]
[0,0,0,0,0,0,0,0]
[0,0,0,0,0.1,0,0,0]
[0,0,0,6.7658999999999997E-2,0,0,0,0]
[0,0,0,0,0,0,0,8.8652484000000004E-2]
[0,0,0,0,0,0,0,0]
[0,0,0.1,0,0,0,0,0]
[0,0,0,0,0,0,0,0]
[0,0,0,0,0,0,0,0]
[0,0,0,0,0,0,0,0]
[0,0,0,0,0,0,0,0]
[0,0,0,0,0.1,0,0,0]
[0,0,0,0,0,0,0,0]
[0,0,0,0,0,0,0,8.8652484000000004E-2]
[0,0,0,0,0,0,0,0]
[0,0,0,0,0,0,0.1,0]
[0,0,0,0,0,0,0,0]
[0,0,0,0,0,0.1,0,0]
[0,0,0,0,0.1,0,0,0]
[0,0,0,0,0,0.1,0,0]
[6.5876156000000005E-2,0,0,0,0,0,0,0]
[0,0,0,0,0,0,0,0]
[0,0,0,0,0,0,0,0]
[0,0,0,6.7658999999999997E-2,0,0,0,0]
[0,0,0,0,0,0.1,0,0]
[0,0,0,0,0,0,0,0]
[0,0.1,0,0,0,0,0,0]
[0,0,0,0,0,0,0,0]
[0,0,0,0,0,0,0,0]
[0,0.1,0,0,0,0,0,0]
[0,0,0,0,0,0,0,0]
[0,0.1,0,0,0,0,0,0]
[0,0,0,0,0,0,0,0]
[0,0,0,0,0,0,0,0]
[0,0,0,0,0,0,0,0]
[0,0,0,0,0,0,0,0]
[0,0,0,0,0,0,0.1,0]
[0,0,0,0,0,0,0,0]
[0,0,0,0,0,0,0,0]
[0,0,0,0,0,0,0,0]
[0,0,0.1,0,0,0,0,0]
[0,0,0,0,0,0,0,0]
[0,0,0,0,0,0,0,0]
[0,0,0,0,0,0,0,0]
[0,0,0,0,0,0,0,0]
[0,0.1,0,0,0,0,0,0]
[0,0,0,0,0,0,0,0]
[0,0,0,0,0,0,0,0]
[0,0,0,0,0,0,0,0]
[0,0,0,0,0,0,0,0]
[0,0,0,0,0,0,0,0]
[0,0,0,0,0,0,0,8.8652484000000004E-2]
[0,0,0.1,0,0,0,0,0]
[0,0,0,0,0,0,0,0]
[0,0,0,6.7658999999999997E-2,0,0,0,0]
[0,0,0,6.7658999999999997E-2,0,0,0,0]
[6.5876156000000005E-2,0,0,0,0,0,0,0]
[0,0,0,0,0,0.1,0,0]
[0,0,0,0,0,0,0,0]
[0,0,0,0,0,0,0,0]
[6.5876156000000005E-2,0,0,0,0,0,0,0]
[6.5876156000000005E-2,0,0,0,0,0,0,0]
[0,0.1,0,0,0,0,0,0]
[0,0,0,0,0,0,0,0]
[0,0,0,0,0,0,0,0]
[0,0,0,0,0,0,0,0]
[0,0.1,0,0,0,0,0,0]
[0,0,0,0,0,0,0,0]
[0,0,0,0,0,0,0,0]
[6.5876156000000005E-2,0,0,0,0,0,0,0]
[0,0,0,0,0,0,0,0]
[0,0,0,0,0.1,0,0,0]
[0,0,0,0,0,0,0,8.8652484000000004E-2]
[0,0,0,0,0,0,0,0]
[0,0,0,0,0,0,0,0]
[0,0.1,0,0,0,0,0,0]
[0,0,0.1,0,0,0,0,0]
[0,0,0,0,0,0,0,0]
[0,0,0,0,0,0,0,0]
[0,0,0,0,0,0,0,0]
[0,0,0,0,0,0,0.1,0]
[0,0,0,0,0,0,0,0]
[0,0.1,0,0,0,0,0,0]
[0,0,0,0,0,0,0,0]
[0,0,0,6.7658999999999997E-2,0,0,0,0]
[0,0,0,0,0,0,0,0]
[0,0.1,0,0,0,0,0,0]
[6.5876156000000005E-2,0,0,0,0,0,0,0]
[0,0,0,6.7658999999999997E-2,0,0,0,0]
[0,0,0,0,0,0,0,0]
[0,0,0,0,0,0,0,0]
[0,0,0,0,0,0,0,0]
[0,0,0,0,0,0,0,0]
[0,0,0,0,0,0,0,0]
[0,0,0,0,0,0,0.1,0]
[0,0,0,0,0,0,0,0]
[0,0,0,0,0,0,0,0]
[0,0,0.1,0,0,0,0,0]
[0,0,0,0,0,0,0,8.8652484000000004E-2]
[0,0,0,0,0,0,0,0]
[0,0,0,6.7658999999999997E-2,0,0,0,0]
[0,0,0,0,0,0,0,0]
[0,0,0,0,0,0,0,0]
[0,0,0,0,0,0,0,0]
[0,0.1,0,0,0,0,0,0]
[0,0,0.1,0,0,0,0,0]
[0,0,0.1,0,0,0,0,0]
[0,0,0,0,0,0,0,0]
[6.5876156000000005E-2,0,0,0,0,0,0,0]
[0,0,0,0,0,0,0,8.8652484000000004E-2]
[0,0,0,6.7658999999999997E-2,0,0,0,0]
[6.5876156000000005E-2,0,0,0,0,0,0,0]
[0,0,0,0,0,0,0,0]
[0,0,0,0,0,0,0,0]
[0,0,0,0,0,0,0,0]
[0,0,0,0,0,0,0,0]
[0,0,0,0,0,0,0,0]
[0,0.1,0,0,0,0,0,0]
[0,0.1,0,0,0,0,0,0]
[0,0,0,6.7658999999999997E-2,0,0,0,0]
[0,0.1,0,0,0,0,0,0]
[0,0,0,0,0,0.1,0,0]
[0,0,0,0,0,0,0,0]
[0,0,0,6.7658999999999997E-2,0,0,0,0]
[0,0,0,6.7658999999999997E-2,0,0,0,0]
[0,0,0,0,0,0,0,0]
[0,0.1,0,0,0,0,0,0]
[0,0,0,0,0,0,0,0]
[0,0,0,0,0,0,0,0]
[0,0.1,0,0,0,0,0,0]
[0,0,0,0,0,0,0,0]
[0,0,0,0,0,0,0,0]
[0,0,0,0,0,0,0,0]
[0,0,0,0,0,0,0,0]
[0,0,0,0,0,0,0,0]
[0,0,0,0,0,0,0,0]
[0,0,0,0,0,0,0,0]
[0,0,0.1,0,0,0,0,0]
[0,0.1,0,0,0,0,0,0]
[0,0,0.1,0,0,0,0,0]
[0,0.1,0,0,0,0,0,0]
[0,0,0,0,0,0,0,0]
[0,0,0,0,0,0,0,0]
[0,0,0,0,0,0,0,0]
[0,0,0,0,0,0,0,0]
[0,0,0,0,0,0,0,0]
[6.5876156000000005E-2,0,0,0,0,0,0,0]
[0,0,0,0,0,0,0,0]
[0,0,0,0,0,0,0,0]
[0,0,0,0,0,0,0,0]
[0,0,0,0,0,0.1,0,0]
[0,0,0,0,0,0,0,0]
[0,0,0,0,0,0,0,0]
[0,0.1,0,0,0,0,0,0]
[0,0,0,0,0,0,0,0]
[0,0,0,0,0,0,0,0]
[0,0,0,0,0,0,0.1,0]
[0,0,0,0,0,0,0,0]
[0,0,0,0,0.1,0,0,0]
[0,0,0,0,0,0,0,8.8652484000000004E-2]
[0,0,0.1,0,0,0,0,0]
[0,0,0,0,0,0,0,0]
[0,0,0,0,0,0,0,0]
[0,0,0,0,0,0,0,0]
[0,0,0,0,0,0,0,0]
[0,0,0,0,0,0,0,0]
[0,0,0,0,0,0,0,0]
[0,0,0,0,0,0,0,0]
[0,0,0,0,0,0,0,0]
[0,0,0,0,0,0,0,0]
[0,0,0,0,0,0,0,0]
[0,0,0,0,0,0,0,0]
[0,0,0,0,0,0,0,0]
[0,0,0,0,0,0,0,0]
[0,0,0,0,0,0,0,0]
[6.5876156000000005E-2,0,0,0,0,0,0,0]
[0,0,0,0,0.1,0,0,0]
[0,0,0,0,0,0,0,0]
[0,0,0,0,0,0,0,0]
[0,0,0,0,0,0,0,0]
[0,0,0,0,0,0,0.1,0]
[0,0,0,0,0,0,0,0]
[0,0,0,0,0,0,0,0]
[0,0,0,0,0,0,0,0]
[0,0,0,0,0,0,0.1,0]
[0,0,0.1,0,0,0,0,0]
[0,0,0,0,0,0,0,0]
[0,0,0,0,0,0,0,0]
[0,0,0,0,0,0,0,0]
[0,0,0,0,0,0,0,0]
[0,0,0,0,0,0,0,0]
[0,0.1,0,0,0,0,0,0]
[0,0,0,0,0,0,0.1,0]
[0,0,0,0,0,0,0,0]
[0,0,0,0,0,0,0,0]
[0,0,0.1,0,0,0,0,0]
[0,0,0,0,0,0,0,0]
[0,0,0,6.7658999999999997E-2,0,0,0,0]
[0,0,0,0,0,0,0,0]
[0,0,0,6.7658999999999997E-2,0,0,0,0]
[0,0,0,0,0,0,0,0]
[0,0,0,0,0,0.1,0,0]
[0,0,0,0,0,0,0,0]
[0,0,0,0,0,0,0,8.8652484000000004E-2]
[0,0,0,0,0,0,0,0]
[0,0.1,0,0,0,0,0,0]
[0,0,0,0,0,0,0,0]
[0,0,0,0,0,0.1,0,0]
[0,0,0,0,0,0,0,0]
[0,0,0,6.7658999999999997E-2,0,0,0,0]
[0,0,0,0,0,0,0,0]
[0,0,0,0,0,0,0,0]
[0,0,0,0,0,0,0,0]
[0,0,0,0,0,0,0,0]
[0,0,0,0,0,0,0,0]
[0,0,0,0,0,0,0,0]
[0,0,0,0,0,0,0,0]
[0,0,0,0,0.1,0,0,0]
[0,0,0,0,0,0,0,0]
[0,0,0,0,0,0,0,8.8652484000000004E-2]
[0,0,0,0,0,0,0,0]
[6.5876156000000005E-2,0,0,0,0,0,0,0]
[0,0,0,0,0,0,0,0]
[0,0,0,0,0,0,0,0]
[0,0,0,0,0,0,0,0]
[0,0,0,0,0.1,0,0,0]
[0,0,0,6.7658999999999997E-2,0,0,0,0]
[0,0,0,0,0,0,0.1,0]
[0,0,0,0,0,0,0,0]
[0,0,0,0,0,0,0,0]
[0,0,0,0,0,0,0,0]
[0,0,0,0,0,0,0,0]
[0,0,0,0,0,0,0,0]
[0,0,0,6.7658999999999997E-2,0,0,0,0]
[0,0,0,0,0,0,0,8.8652484000000004E-2]
[0,0,0,0,0,0,0,0]
[0,0,0,0,0,0,0,0]
[0,0,0,0,0,0,0,0]
[0,0,0,0,0,0,0,0]
[0,0,0,0,0,0,0,0]
[0,0,0,6.7658999999999997E-2,0,0,0,0]
[0,0,0.1,0,0,0,0,0]
[0,0,0,6.7658999999999997E-2,0,0,0,0]
[0,0,0.1,0,0,0,0,0]
[0,0,0,0,0,0,0.1,0]
[0,0,0,0,0,0,0.1,0]
[0,0,0,0,0,0,0,8.8652484000000004E-2]
[0,0,0,0,0,0,0,0]
[0,0,0,0,0,0,0,0]
[0,0,0.1,0,0,0,0,0]
[0,0,0,0,0,0,0,8.8652484000000004E-2]
[0,0,0,0,0,0,0,0]
[0,0,0,0,0,0,0,8.8652484000000004E-2]
[0,0,0,0,0,0,0.1,0]
[0,0,0,0,0,0,0,0]
[6.5876156000000005E-2,0,0,0,0,0,0,0]
[6.5876156000000005E-2,0,0,0,0,0,0,0]
[0,0,0,0,0,0,0,0]
[0,0,0,0,0,0,0,0]
[0,0.1,0,0,0,0,0,0]
[0,0.1,0,0,0,0,0,0]
[0,0.1,0,0,0,0,0,0]
[0,0,0,0,0,0,0,0]
[0,0,0,0,0,0,0,0]
[0,0,0,0,0,0,0,0]
[0,0,0,0,0,0,0,0]
[0,0,0,0,0,0,0,0]
[0,0,0,0,0,0,0,0]
[0,0,0,0,0,0,0,0]
[0,0,0,0,0,0,0,8.8652484000000004E-2]
[0,0,0,0,0,0.1,0,0]
[0,0,0,0,0,0,0,0]
[0,0,0,0,0,0,0,0]
[0,0,0,0,0,0,0,0]
[0,0,0,0,0,0,0,0]
[0,0,0,0,0.1,0,0,0]
[0,0,0,0,0,0,0,0]
[6.5876156000000005E-2,0,0,0,0,0,0,0]
[0,0,0,0,0,0,0,0]
[0,0,0,0,0,0,0,0]
[0,0,0,0,0,0,0,0]
[0,0,0,0,0,0,0,0]
[0,0,0,0,0,0,0,8.8652484000000004E-2]
[0,0,0,0,0,0,0,0]
[0,0,0,0,0,0,0,0]
[0,0,0,0,0,0,0,0]
[0,0,0,0,0,0,0,0]
[0,0,0,0,0,0,0,0]
[0,0,0.1,0,0,0,0,0]
[0,0,0,0,0,0,0,0]
[0,0,0,0,0,0,0,0]
[0,0,0,0,0,0,0,0]
[0,0,0,0,0,0,0,0]
[0,0,0,0,0,0,0,0]
[0,0,0,0,0,0,0,0]
[0,0,0.1,0,0,0,0,0]
[0,0,0,0,0,0,0.1,0]
[0,0,0,0,0.1,0,0,0]
[0,0,0,0,0,0,0,8.8652484000000004E-2]
[0,0,0,0,0,0.1,0,0]
[0,0,0,0,0,0,0,0]
[0,0,0,0,0,0,0,0]
[0,0,0,6.7658999999999997E-2,0,0,0,0]
[0,0,0,0,0,0,0,0]
[0,0,0,0,0,0,0,0]
[0,0,0,0,0,0,0,0]
[0,0,0,0,0,0.1,0,0]
[0,0,0,0,0,0,0.1,0]
[0,0,0,0,0,0,0,0]
[0,0,0,0,0,0,0,0]
[0,0.1,0,0,0,0,0,0]
[6.5876156000000005E-2,0,0,0,0,0,0,0]
[0,0,0,0,0,0,0,0]
[0,0,0,0,0,0,0,0]
[0,0,0,0,0,0,0,0]
[0,0,0,0,0,0,0,0]
[0,0,0,0,0,0,0,0]
[0,0,0,0,0,0,0,0]
[0,0,0,0,0,0,0,0]
[0,0,0,0,0,0,0,0]
[0,0,0,6.7658999999999997E-2,0,0,0,0]
[0,0,0,0,0,0,0,0]
[0,0,0,0,0,0,0,0]
[0,0,0,6.7658999999999997E-2,0,0,0,0]
[0,0,0,0,0,0,0,0]
[0,0,0,0,0,0,0,0]
[0,0,0,6.7658999999999997E-2,0,0,0,0]
[0,0,0,0,0,0,0,8.8652484000000004E-2]
[0,0,0,0,0,0,0,0]
[0,0,0,0,0,0,0,0]
[0,0,0,0,0,0,0,0]
[0,0,0,0,0,0,0,0]
[0,0,0,0,0,0,0,0]
[0,0,0.1,0,0,0,0,0]
[0,0,0,0,0,0,0,0]
[0,0,0,0,0,0,0,0]
[0,0,0,0,0,0,0,0]
[0,0,0,0,0,0,0,0]
[0,0.1,0,0,0,0,0,0]
[0,0,0.1,0,0,0,0,0]
[0,0,0,0,0,0,0,0]
[0,0,0,0,0,0,0,0]
[6.5876156000000005E-2,0,0,0,0,0,0,0]
[0,0.1,0,0,0,0,0,0]
[0,0,0,0,0,0,0,0]
[6.5876156000000005E-2,0,0,0,0,0,0,0]
[0,0,0,0,0,0,0,0]
[0,0,0,0,0,0,0,0]
[0,0,0,6.7658999999999997E-2,0,0,0,0]
[0,0,0,6.7658999999999997E-2,0,0,0,0]
[0,0,0,0,0,0,0,0]
[0,0,0,0,0,0,0,0]
[0,0,0,0,0,0,0,0]
[0,0,0,6.7658999999999997E-2,0,0,0,0]
[0,0,0,0,0,0,0,0]
[0,0,0,0,0,0,0,0]
[0,0,0,0,0,0,0,0]
[6.5876156000000005E-2,0,0,0,0,0,0,0]
[0,0,0.1,0,0,0,0,0]
[0,0.1,0,0,0,0,0,0]
[0,0,0,6.7658999999999997E-2,0,0,0,0]
[0,0,0,0,0,0,0,0]
[0,0,0,0,0,0,0,0]
[0,0.1,0,0,0,0,0,0]
[6.5876156000000005E-2,0,0,0,0,0,0,0]
[0,0,0,0,0,0,0,0]
[0,0,0,0,0,0,0,0]
[0,0,0,0,0,0,0,0]
[0,0,0,0,0.1,0,0,0]
[0,0,0,0,0,0,0,0]
[0,0,0,0,0,0,0,0]
[0,0,0,0,0,0,0,0]
[0,0,0,0,0,0,0.1,0]
[0,0,0,0,0,0,0,0]
[0,0,0,0,0,0,0,0]
[0,0,0,0,0,0,0,0]
[0,0,0.1,0,0,0,0,0]
[0,0,0,0,0,0,0,0]
[0,0,0,0,0,0,0,0]
[0,0,0,0,0,0,0,0]
[0,0,0,0,0,0,0,0]
[0,0.1,0,0,0,0,0,0]
[0,0.1,0,0,0,0,0,0]
[0,0,0,0,0,0,0,0]
[0,0,0,0,0,0,0,0]
[0,0,0,0,0,0,0,0]
[0,0.1,0,0,0,0,0,0]
[0,0,0,0,0,0,0,0]
[0,0.1,0,0,0,0,0,0]
[0,0,0,0,0,0,0,0]
[6.5876156000000005E-2,0,0,0,0,0,0,0]
[0,0,0.1,0,0,0,0,0]
[0,0.1,0,0,0,0,0,0]
[0,0,0,0,0,0,0,0]
[0,0,0,6.7658999999999997E-2,0,0,0,0]
[0,0.1,0,0,0,0,0,0]
[0,0,0,0,0,0,0,0]
[0,0,0.1,0,0,0,0,0]
[0,0,0,0,0,0,0.1,0]
[0,0,0,0,0,0,0,0]
[0,0,0,6.7658999999999997E-2,0,0,0,0]
[0,0,0,0,0,0,0,0]
[0,0,0,0,0,0,0,0]
[0,0,0,0,0,0,0,0]
[6.5876156000000005E-2,0,0,0,0,0,0,0]
[0,0.1,0,0,0,0,0,0]
[0,0,0,0,0,0,0,0]
[0,0,0,0,0,0,0,0]
[0,0,0,0,0,0,0,8.8652484000000004E-2]
[0,0,0,0,0,0,0,0]
[0,0,0,0,0,0,0,0]
[0,0,0,0,0,0,0,0]
[0,0,0.1,0,0,0,0,0]
[0,0,0,0,0,0,0,0]
[0,0,0,0,0,0,0,0]
[0,0.1,0,0,0,0,0,0]
[0,0,0,0,0,0,0,0]
[0,0.1,0,0,0,0,0,0]
[0,0,0.1,0,0,0,0,0]
[0,0,0.1,0,0,0,0,0]
[0,0,0,6.7658999999999997E-2,0,0,0,0]
[0,0,0,0,0,0,0,8.8652484000000004E-2]
[0,0,0,0,0,0,0,0]
[0,0,0,0,0,0,0,0]
[0,0,0,0,0,0,0,0]
[0,0,0,0,0,0,0,8.8652484000000004E-2]
[0,0,0,0,0,0,0,0]
[0,0,0,6.7658999999999997E-2,0,0,0,0]
[0,0,0,0,0,0,0,0]
[0,0,0,0,0,0,0,8.8652484000000004E-2]
[0,0,0,0,0,0,0.1,0]
[0,0,0,6.7658999999999997E-2,0,0,0,0]
[0,0,0.1,0,0,0,0,0]
[0,0,0,0,0,0,0,0]
[0,0,0,0,0,0,0,0]
[0,0,0,0,0,0,0,8.8652484000000004E-2]
[0,0,0,0,0,0,0,0]
[0,0,0,0,0,0,0,8.8652484000000004E-2]
[0,0,0,0,0,0,0,0]
[0,0,0,0,0,0,0,8.8652484000000004E-2]
[0,0,0.1,0,0,0,0,0]
[0,0,0,0,0,0,0,0]
[0,0,0,0,0,0,0,0]
[0,0,0,0,0,0,0,0]
[0,0,0,0,0,0.1,0,0]
[0,0,0,0,0,0,0,0]
[0,0,0,0,0,0,0,0]
[0,0,0,0,0,0,0,0]
[0,0,0,6.7658999999999997E-2,0,0,0,0]
[0,0,0,0,0,0,0,0]
[0,0,0,0,0,0,0,0]
[0,0,0,0,0,0,0,0]
[0,0,0,0,0,0,0,0]
[0,0,0,0,0.1,0,0,0]
[0,0,0,0,0,0,0,0]
[0,0,0,0,0,0,0,0]
[0,0,0.1,0,0,0,0,0]
[0,0,0,0,0,0,0,0]
[0,0,0,6.7658999999999997E-2,0,0,0,0]
[0,0,0,0,0,0,0,8.8652484000000004E-2]
[0,0,0,0,0,0,0,8.8652484000000004E-2]
[0,0,0,0,0,0,0,0]
[0,0,0,0,0,0,0,0]
[0,0,0,0,0,0.1,0,0]
[0,0,0,0,0,0,0,0]
[0,0,0,6.7658999999999997E-2,0,0,0,0]
[0,0,0,0,0,0,0,0]
[0,0,0.1,0,0,0,0,0]
[0,0,0,0,0,0,0,0]
[0,0,0,0,0,0,0,0]
[0,0,0,0,0,0,0,0]
[0,0,0,0,0,0,0,0]
[0,0,0,0,0,0,0,0]
[0,0,0,0,0,0,0,0]
[0,0,0,0,0,0,0,0]
[6.5876156000000005E-2,0,0,0,0,0,0,0]
[0,0,0,0,0,0,0,0]
[0,0,0,0,0,0,0,0]
[0,0,0,0,0,0,0,0]
[0,0,0,0,0,0,0,0]
[0,0,0,0,0,0,0.1,0]
[0,0,0,0,0,0,0,0]
[6.5876156000000005E-2,0,0,0,0,0,0,0]
[0,0,0,0,0,0,0,0]
[0,0,0,0,0,0,0.1,0]
[0,0,0,0,0,0,0,0]
[0,0,0,0,0,0.1,0,0]
[0,0,0,0,0,0,0,0]
[0,0,0,0,0,0,0,0]
[0,0,0,0,0,0.1,0,0]
[0,0,0,0,0,0,0,0]
[0,0,0,0,0,0,0,0]
[0,0,0,0,0,0,0,0]
[0,0,0.1,0,0,0,0,0]
[0,0,0,0,0,0,0,0]
[0,0,0,0,0,0,0,0]
[0,0,0,0,0,0,0,0]
[0,0,0,0,0,0,0,0]
[0,0.1,0,0,0,0,0,0]
[0,0,0,0,0,0,0,0]
[0,0,0.1,0,0,0,0,0]
[0,0,0,6.7658999999999997E-2,0,0,0,0]
[0,0,0,0,0,0,0,0]
[0,0.1,0,0,0,0,0,0]
[0,0,0,0,0,0.1,0,0]
[0,0,0,0,0,0.1,0,0]
[0,0,0,0,0,0,0,0]
[6.5876156000000005E-2,0,0,0,0,0,0,0]
[0,0,0,0,0,0,0.1,0]
[0,0,0,0,0,0,0,0]
[0,0,0,0,0.1,0,0,0]
[0,0,0,0,0,0,0,0]
[0,0,0,0,0,0,0,0]
[6.5876156000000005E-2,0,0,0,0,0,0,0]
[0,0,0,0,0,0.1,0,0]
[0,0,0,0,0,0,0,0]
[0,0,0,0,0,0,0,8.8652484000000004E-2]
[0,0,0,0,0,0,0,0]
[0,0,0,0,0.1,0,0,0]
[0,0,0,0,0,0,0,0]
[0,0,0,0,0,0,0,0]
[0,0,0,0,0,0,0,0]
[0,0,0,0,0,0,0,0]
[0,0,0,0,0,0,0,0]
[0,0,0,6.7658999999999997E-2,0,0,0,0]
[0,0,0,0,0,0,0,0]
[6.5876156000000005E-2,0,0,0,0,0,0,0]
[0,0,0,0,0,0,0,0]
[6.5876156000000005E-2,0,0,0,0,0,0,0]
[0,0,0,0,0,0,0,0]
[0,0,0,0,0,0,0,8.8652484000000004E-2]
[0,0,0,0,0,0,0,0]
[0,0,0,0,0,0,0,0]
[6.5876156000000005E-2,0,0,0,0,0,0,0]
[0,0,0,0,0,0,0,0]
[0,0,0,6.7658999999999997E-2,0,0,0,0]
[0,0,0,0,0,0,0,0]
[0,0,0,0,0,0.1,0,0]
[0,0,0,0,0,0,0,0]
[0,0,0,0,0,0,0,0]
[0,0.1,0,0,0,0,0,0]
[0,0,0,0,0,0,0,0]
[6.5876156000000005E-2,0,0,0,0,0,0,0]
[0,0,0,0,0,0,0,0]
[0,0,0,0,0,0,0,0]
[0,0,0,0,0,0,0,0]
[6.5876156000000005E-2,0,0,0,0,0,0,0]
[0,0,0,0,0,0,0,0]
[0,0,0,0,0.1,0,0,0]
[0,0,0,6.7658999999999997E-2,0,0,0,0]
[0,0,0,0,0,0,0,0]
[0,0,0,0,0,0,0,0]
[0,0,0,0,0,0,0,0]
[0,0.1,0,0,0,0,0,0]
[0,0,0,0,0,0,0,0]
[0,0,0,0,0,0,0.1,0]
[0,0,0,0,0,0,0,0]
[0,0,0,0,0,0,0,0]
[0,0,0,0,0.1,0,0,0]
[0,0,0,0,0,0,0,0]
[0,0,0,0,0,0,0,0]
[0,0,0,0,0,0,0.1,0]
[0,0.1,0,0,0,0,0,0]
[0,0,0,0,0,0,0,0]
[0,0,0,0,0,0,0,0]
[0,0,0,6.7658999999999997E-2,0,0,0,0]
[0,0.1,0,0,0,0,0,0]
[0,0,0,0,0,0,0,0]
[0,0,0,0,0,0,0,0]
[6.5876156000000005E-2,0,0,0,0,0,0,0]
[0,0,0,0,0,0,0.1,0]
[0,0,0,0,0,0,0,0]
[0,0,0,0,0,0,0,0]
[0,0,0,0,0,0,0,0]
[0,0,0,6.7658999999999997E-2,0,0,0,0]
[0,0,0,0,0,0,0,0]
[0,0,0,6.7658999999999997E-2,0,0,0,0]
[0,0,0,0,0,0,0,0]
[0,0,0,0,0,0,0,0]
[0,0,0,6.7658999999999997E-2,0,0,0,0]
[0,0,0,0,0,0.1,0,0]
[0,0,0,0,0,0,0,0]
[0,0,0,0,0,0,0,0]
[0,0,0,0,0,0,0,0]
[0,0,0,0,0,0,0,0]
[0,0,0,0,0,0,0,0]
[0,0,0,0,0,0,0.1,0]
[0,0,0.1,0,0,0,0,0]
[0,0,0,0,0,0,0,0]
[0,0,0,0,0,0,0,0]
[0,0,0,0,0,0.1,0,0]
[0,0,0,0,0,0,0.1,0]
[0,0,0,0,0.1,0,0,0]
[0,0,0,0,0,0,0,0]
[0,0,0,0,0,0,0,0]
[0,0,0,0,0,0,0,0]
[0,0,0,6.7658999999999997E-2,0,0,0,0]
[0,0,0,0,0,0,0,0]
[0,0,0,0,0,0,0,0]
[0,0,0,0,0,0,0,0]
[0,0,0,0,0,0,0,0]
[0,0,0,0,0,0,0,0]
[6.5876156000000005E-2,0,0,0,0,0,0,0]
[0,0,0,0,0,0,0,0]
[0,0,0,0,0,0,0,0]
[0,0,0,0,0,0,0,0]
[0,0,0,0,0,0,0,0]
[0,0,0,0,0,0,0,0]
[0,0,0,0,0,0,0,0]
[0,0,0.1,0,0,0,0,0]
[0,0,0,0,0,0,0,0]
[0,0,0,0,0,0,0,8.8652484000000004E-2]
[0,0,0,0,0,0,0,0]
[0,0,0,0,0,0,0,8.8652484000000004E-2]
[0,0.1,0,0,0,0,0,0]
[0,0,0,0,0,0.1,0,0]
[6.5876156000000005E-2,0,0,0,0,0,0,0]
[0,0,0,0,0,0,0,0]
[0,0,0,6.7658999999999997E-2,0,0,0,0]
[0,0,0,0,0,0,0,0]
[0,0,0,0,0,0,0,0]
[0,0,0,0,0,0,0,0]
[0,0,0,0,0,0,0,0]
[0,0,0,0,0,0,0,0]
[6.5876156000000005E-2,0,0,0,0,0,0,0]
[0,0,0,0,0,0,0,0]
[0,0,0.1,0,0,0,0,0]
[0,0,0,0,0,0.1,0,0]
[0,0.1,0,0,0,0,0,0]
[0,0,0,0,0,0,0,0]
[0,0.1,0,0,0,0,0,0]
[0,0,0,0,0,0,0,0]
[0,0,0.1,0,0,0,0,0]
[6.5876156000000005E-2,0,0,0,0,0,0,0]
[0,0,0,6.7658999999999997E-2,0,0,0,0]
[0,0,0,0,0,0,0,0]
[0,0,0,0,0,0,0,0]
[0,0,0,0,0,0,0,0]
[0,0,0,0,0,0,0,0]
[0,0,0,0,0,0,0,0]
[0,0,0,0,0,0,0,0]
[0,0,0,0,0,0,0,0]
[0,0,0.1,0,0,0,0,0]
[0,0,0,0,0,0,0,0]
[6.5876156000000005E-2,0,0,0,0,0,0,0]
[0,0,0.1,0,0,0,0,0]
[0,0,0,0,0,0,0.1,0]
[0,0,0.1,0,0,0,0,0]
[0,0.1,0,0,0,0,0,0]
[0,0,0,0,0,0,0,0]
[0,0,0,0,0,0,0,0]
[0,0,0,6.7658999999999997E-2,0,0,0,0]
[0,0,0,6.7658999999999997E-2,0,0,0,0]
[0,0,0,0,0,0,0,0]
[0,0,0,0,0,0,0,0]
[0,0,0,6.7658999999999997E-2,0,0,0,0]
[0,0,0,0,0,0,0,0]
[0,0,0,0,0,0,0,0]
[0,0,0,0,0,0,0,8.8652484000000004E-2]
[0,0,0,6.7658999999999997E-2,0,0,0,0]
[0,0.1,0,0,0,0,0,0]
[0,0,0.1,0,0,0,0,0]
[0,0,0,0,0,0,0,0]
[0,0,0,0,0,0,0,0]
[0,0,0,0,0,0,0,0]
[6.5876156000000005E-2,0,0,0,0,0,0,0]
[0,0,0,0,0,0,0,0]
[0,0,0,6.7658999999999997E-2,0,0,0,0]
[0,0,0,0,0,0,0,0]
[0,0,0,0,0,0.1,0,0]
[0,0,0,0,0,0,0,0]
[6.5876156000000005E-2,0,0,0,0,0,0,0]
[0,0,0,0,0,0.1,0,0]
[0,0,0,0,0,0,0,0]
[0,0,0,0,0,0,0,0]
[0,0,0,0,0,0,0,0]
[0,0,0,0,0,0,0,0]
[0,0,0,6.7658999999999997E-2,0,0,0,0]
[0,0,0,0,0,0,0.1,0]
[0,0,0,0,0,0,0,0]
[0,0,0,0,0,0,0,0]
[0,0,0,0,0,0,0,0]
[0,0,0,0,0,0,0,0]
[0,0,0,0,0,0,0,0]
[0,0,0,0,0,0,0,0]
[0,0,0,0,0,0,0,0]
[0,0,0,0,0,0,0.1,0]
[0,0,0,0,0.1,0,0,0]
[0,0,0,0,0,0,0,0]
[0,0,0,0,0,0,0.1,0]
[0,0,0,0,0,0,0,0]
[0,0,0,0,0,0,0,0]
[0,0,0,6.7658999999999997E-2,0,0,0,0]
[0,0,0,0,0,0,0,0]
[0,0,0.1,0,0,0,0,0]
[6.5876156000000005E-2,0,0,0,0,0,0,0]
[0,0,0,0,0,0,0,0]
[0,0,0,0,0,0,0,0]
[0,0,0,0,0,0,0,0]
[0,0,0,0,0,0,0,0]
[0,0,0,0,0,0,0,0]
[0,0,0,0,0,0,0,0]
[0,0.1,0,0,0,0,0,0]
[0,0,0,0,0,0,0,0]
[0,0,0,0,0,0.1,0,0]
[0,0,0,0,0,0,0,0]
[0,0,0,0,0,0,0,0]
[0,0,0,0,0,0,0,0]
[0,0,0,0,0,0,0,0]
[0,0,0,0,0,0,0,8.8652484000000004E-2]
[0,0,0,0,0,0,0,0]
[0,0,0,0,0,0,0,0]
[0,0,0,0,0,0.1,0,0]
[0,0,0,6.7658999999999997E-2,0,0,0,0]
[0,0,0.1,0,0,0,0,0]
[0,0,0,0,0,0,0,0]
[0,0,0,0,0,0,0,0]
[0,0,0,0,0,0,0,0]
[6.5876156000000005E-2,0,0,0,0,0,0,0]
[0,0,0,0,0,0,0,8.8652484000000004E-2]
[0,0,0,0,0,0,0,0]
[6.5876156000000005E-2,0,0,0,0,0,0,0]
[0,0,0,0,0,0,0,0]
[0,0,0,0,0,0,0,0]
[0,0,0,0,0,0,0,0]
[0,0,0,0,0,0,0,0]
[0,0,0,0,0,0,0,0]
[0,0,0,6.7658999999999997E-2,0,0,0,0]
[0,0,0,0,0.1,0,0,0]
[0,0,0,0,0,0,0,0]
[0,0,0,0,0,0,0,0]
[0,0,0,0,0,0,0,0]
[0,0,0,0,0,0,0,0]
[0,0,0,6.7658999999999997E-2,0,0,0,0]
[0,0,0,0,0,0,0.1,0]
[0,0,0,0,0,0,0,0]
[0,0,0,0,0,0,0,0]
[0,0,0,0,0,0,0,0]
[0,0.1,0,0,0,0,0,0]
[0,0,0,0,0,0,0,0]
[0,0,0,0,0,0,0,0]
[0,0,0,0,0,0,0,0]
[0,0,0,0,0,0,0,0]
[0,0.1,0,0,0,0,0,0]
[0,0,0,0,0,0,0,0]
[0,0,0,0,0,0,0,0]
[0,0,0,0,0,0,0,0]
[0,0,0.1,0,0,0,0,0]
[6.5876156000000005E-2,0,0,0,0,0,0,0]
[0,0,0,0,0,0,0,0]
[0,0,0,0,0,0,0,0]
[0,0,0,0,0,0,0,0]
[6.5876156000000005E-2,0,0,0,0,0,0,0]
[0,0,0,0,0.1,0,0,0]
[0,0,0,0,0,0,0,0]
[0,0,0,0,0,0,0,0]
[0,0,0,0,0,0,0,0]
[0,0,0,0,0,0,0,0]
[0,0,0,0,0,0,0,0]
[0,0,0,0,0,0,0,0]
[0,0,0,0,0,0,0,0]
[0,0,0,0,0,0,0,0]
[0,0,0,0,0,0,0,0]
[0,0,0,0,0,0,0,0]
[0,0.1,0,0,0,0,0,0]
[0,0,0,0,0,0,0,0]
[0,0,0,0,0,0,0,0]
[0,0,0,6.7658999999999997E-2,0,0,0,0]
[0,0,0,0,0,0,0,0]
[0,0,0,0,0,0,0,0]
[0,0,0.1,0,0,0,0,0]
[0,0,0,0,0,0,0,0]
[0,0,0,0,0,0,0,0]
[0,0,0,6.7658999999999997E-2,0,0,0,0]
[0,0,0,0,0,0,0,0]
[0,0,0,0,0,0,0,0]
[0,0,0,0,0,0,0,0]
[0,0,0,0,0,0,0,0]
[0,0,0,0,0,0,0,0]
[0,0,0,0,0,0,0,0]
[0,0,0.1,0,0,0,0,0]
[0,0,0,0,0,0,0,0]
[0,0,0,0,0,0,0,8.8652484000000004E-2]
[0,0,0,0,0,0,0,0]
[0,0,0,0,0,0,0,0]
[0,0,0,0,0,0,0,0]
[0,0,0,0,0,0.1,0,0]
[0,0,0,0,0,0,0,0]
[0,0,0,0,0,0,0,8.8652484000000004E-2]
[0,0,0,0,0,0,0.1,0]
[0,0,0,0,0,0,0,0]
[0,0,0,0,0,0,0,0]
[0,0,0,0,0,0,0,0]
[0,0,0,0,0,0,0,0]
[0,0,0.1,0,0,0,0,0]
[0,0,0,0,0,0,0,0]
[0,0,0,0,0,0,0,0]
[0,0.1,0,0,0,0,0,0]
[0,0,0,0,0,0,0,0]
[0,0,0,0,0,0,0,0]
[0,0,0,0,0,0.1,0,0]
[0,0,0,0,0,0,0,0]
[0,0,0,0,0,0,0,0]
[0,0,0,0,0,0,0,0]
[0,0,0,0,0,0,0,0]
[0,0,0,0,0,0,0,0]
[0,0,0,0,0,0,0,8.8652484000000004E-2]
[0,0,0.1,0,0,0,0,0]
[0,0,0,0,0,0,0,0]
[0,0,0,0,0,0,0,0]
[0,0,0,0,0,0,0,8.8652484000000004E-2]
[0,0,0,0,0,0,0,0]
[0,0,0.1,0,0,0,0,0]
[0,0.1,0,0,0,0,0,0]
[0,0,0,0,0,0,0,0]
[0,0,0,6.7658999999999997E-2,0,0,0,0]
[0,0,0,0,0,0,0,0]
[0,0,0,0,0,0,0,0]
[0,0,0,0,0,0,0,0]
[0,0,0,0,0,0,0,0]
[0,0,0.1,0,0,0,0,0]
[0,0,0,0,0,0,0,0]
[0,0,0,0,0,0,0,0]
[0,0,0,0,0,0,0,8.8652484000000004E-2]
[0,0,0,0,0.1,0,0,0]
[0,0,0,0,0,0,0,0]
[0,0.1,0,0,0,0,0,0]
[0,0,0,0,0,0,0,0]
[6.5876156000000005E-2,0,0,0,0,0,0,0]
[0,0,0,0,0,0,0,0]
[0,0,0.1,0,0,0,0,0]
[0,0,0,6.7658999999999997E-2,0,0,0,0]
[0,0,0,0,0,0,0,0]
[0,0,0,0,0,0,0.1,0]
[0,0,0,0,0,0,0,0]
[0,0,0.1,0,0,0,0,0]
[0,0,0,0,0,0,0,0]
[0,0,0,0,0,0,0,0]
[0,0,0.1,0,0,0,0,0]
[0,0,0,0,0,0,0,0]
[0,0,0,0,0,0,0.1,0]
[0,0,0,0,0,0,0,0]
[0,0,0,0,0,0,0,0]
[0,0,0,0,0,0,0,0]
[0,0,0,0,0,0,0,0]
[0,0,0,0,0,0,0.1,0]
[0,0,0,6.7658999999999997E-2,0,0,0,0]
[0,0,0,0,0,0,0,0]
[0,0,0,0,0,0,0,0]
[0,0,0,0,0,0,0,0]
[0,0,0,0,0,0,0,0]
[0,0,0,0,0,0,0,0]
[0,0,0,0,0,0,0,0]
[0,0,0,0,0,0,0,0]
[0,0,0,6.7658999999999997E-2,0,0,0,0]
[0,0,0,0,0,0.1,0,0]
[0,0,0,0,0,0,0,0]
[0,0,0,0,0,0,0,0]
[0,0,0,0,0,0,0,0]
[6.5876156000000005E-2,0,0,0,0,0,0,0]
[0,0,0,0,0,0,0,0]
[0,0,0,0,0,0,0,0]
[0,0,0,0,0,0,0,0]
[0,0,0,0,0,0,0,0]
[0,0,0,0,0,0,0,0]
[0,0,0,0,0,0,0,0]
[0,0,0,0,0,0,0,0]
[0,0,0,0,0,0,0,0]
[0,0,0,0,0,0,0,0]
[0,0,0,0,0,0,0.1,0]
[0,0,0,6.7658999999999997E-2,0,0,0,0]
[0,0,0,0,0,0,0,0]
[0,0,0,0,0,0,0,8.8652484000000004E-2]
[0,0,0,0,0,0,0,0]
[0,0,0,0,0,0,0,0]
[0,0,0,0,0,0,0,0]
[0,0,0,0,0,0,0.1,0]
[0,0,0,0,0,0,0,0]
[0,0,0,6.7658999999999997E-2,0,0,0,0]
[0,0,0,0,0,0,0,0]
[0,0,0,0,0,0,0,0]
[0,0,0,0,0,0,0,0]
[0,0,0,6.7658999999999997E-2,0,0,0,0]
[0,0,0,0,0,0,0,8.8652484000000004E-2]
[0,0,0,6.7658999999999997E-2,0,0,0,0]
[0,0,0,0,0,0,0,0]
[0,0,0,0,0,0,0,0]
[0,0,0.1,0,0,0,0,0]
[0,0,0,0,0,0,0,0]
[6.5876156000000005E-2,0,0,0,0,0,0,0]
[0,0,0,0,0,0,0,0]
[0,0,0,0,0,0,0,0]
[0,0,0,6.7658999999999997E-2,0,0,0,0]
[0,0,0,0,0,0.1,0,0]
[0,0,0,0,0,0,0,8.8652484000000004E-2]
[0,0,0,0,0,0,0.1,0]
[0,0,0,0,0,0,0,0]
[0,0,0,0,0,0,0,0]
[0,0,0,0,0,0,0,0]
[0,0,0.1,0,0,0,0,0]
[6.5876156000000005E-2,0,0,0,0,0,0,0]
[0,0,0,0,0,0,0,0]
[0,0.1,0,0,0,0,0,0]
[0,0,0,0,0,0.1,0,0]
[0,0,0,6.7658999999999997E-2,0,0,0,0]
[0,0,0,0,0.1,0,0,0]
[0,0,0,0,0,0,0,0]
[0,0,0,0,0,0,0,0]
[0,0,0,0,0,0,0,0]
[0,0,0,0,0,0,0,0]
[0,0,0,0,0,0,0,0]
[0,0,0,0,0,0,0,0]
[0,0,0,0,0,0,0,0]
[0,0,0,0,0,0,0,8.8652484000000004E-2]
[0,0,0,0,0,0,0,0]
[0,0,0,0,0,0,0,0]
[0,0,0,0,0,0,0,0]
[0,0,0,0,0,0,0,0]
[0,0,0,0,0,0,0.1,0]
[6.5876156000000005E-2,0,0,0,0,0,0,0]
[0,0,0,0,0,0,0,0]
[0,0,0,0,0,0.1,0,0]
[0,0,0,0,0,0,0,0]
[0,0,0,0,0,0,0,0]
[0,0,0,0,0,0,0,0]
[0,0,0,0,0,0,0,8.8652484000000004E-2]
[0,0.1,0,0,0,0,0,0]
[0,0.1,0,0,0,0,0,0]
[0,0,0,0,0,0,0,0]
[0,0,0,6.7658999999999997E-2,0,0,0,0]
[0,0,0,0,0,0,0,0]
[0,0,0,0,0,0,0,0]
[0,0,0,0,0,0,0,0]
[0,0,0,0,0,0,0,0]
[0,0,0,0,0,0,0,0]
[0,0,0,0,0,0,0,0]
[0,0.1,0,0,0,0,0,0]
[0,0,0,0,0,0,0,0]
[0,0,0,0,0.1,0,0,0]
[0,0,0,0,0,0,0,0]
[0,0,0,6.7658999999999997E-2,0,0,0,0]
[0,0,0,0,0,0.1,0,0]
[0,0,0,0,0,0,0,0]
[0,0,0.1,0,0,0,0,0]
[0,0,0,0,0,0,0,0]
[0,0,0,0,0,0,0,0]
[0,0,0,0,0,0,0,0]
[0,0,0,6.7658999999999997E-2,0,0,0,0]
[0,0,0.1,0,0,0,0,0]
[0,0,0.1,0,0,0,0,0]
[0,0,0,0,0,0.1,0,0]
[0,0,0,0,0,0,0,0]
[0,0.1,0,0,0,0,0,0]
[0,0,0,0,0,0,0,0]
[0,0,0,0,0,0,0,0]
[0,0,0,6.7658999999999997E-2,0,0,0,0]
[0,0,0,6.7658999999999997E-2,0,0,0,0]
[0,0,0,0,0,0,0,0]
[0,0.1,0,0,0,0,0,0]
[0,0,0,0,0,0,0,0]
[0,0,0,0,0,0,0,0]
[0,0,0,6.7658999999999997E-2,0,0,0,0]
[0,0,0,0,0,0,0,0]
[0,0,0,0,0,0,0,0]
[0,0,0,0,0,0,0,0]
[0,0,0,0,0,0,0,0]
[0,0,0,0,0,0,0,0]
[0,0,0,0,0,0,0,0]
[0,0,0,0,0,0,0,0]
[6.5876156000000005E-2,0,0,0,0,0,0,0]
[0,0,0,0,0,0,0,0]
[0,0,0,0,0,0,0,0]
[0,0,0.1,0,0,0,0,0]
[0,0,0,0,0,0,0,0]
[0,0,0,0,0,0.1,0,0]
[0,0,0,6.7658999999999997E-2,0,0,0,0]
[0,0,0,6.7658999999999997E-2,0,0,0,0]
[0,0,0,0,0,0,0,0]
[0,0,0,0,0,0,0,0]
[0,0,0,0,0,0,0,0]
[0,0,0.1,0,0,0,0,0]
[0,0,0.1,0,0,0,0,0]
[0,0,0,0,0,0,0,0]
[0,0,0,0,0,0,0,0]
[0,0,0,0,0,0,0,0]
[0,0,0,0,0,0,0,0]
[0,0,0,0,0,0,0,0]
[0,0,0,0,0,0,0,0]
[0,0.1,0,0,0,0,0,0]
[0,0,0,0,0,0,0,0]
[0,0,0,0,0,0,0,0]
[0,0,0,0,0.1,0,0,0]
[0,0.1,0,0,0,0,0,0]
[0,0,0,6.7658999999999997E-2,0,0,0,0]
[0,0,0,0,0,0,0,0]
[0,0,0,0,0,0,0,0]
[0,0,0,6.7658999999999997E-2,0,0,0,0]
[0,0,0,0,0,0,0,0]
[0,0,0.1,0,0,0,0,0]
[0,0,0,0,0,0,0,0]
[0,0,0,0,0,0,0,0]
[0,0,0,0,0,0,0,0]
[0,0,0,0,0,0,0,0]
[0,0,0,0,0,0,0,0]
[0,0,0,0,0,0,0,0]
[0,0,0,0,0,0.1,0,0]
[0,0.1,0,0,0,0,0,0]
[0,0,0,0,0,0,0,8.8652484000000004E-2]
[0,0.1,0,0,0,0,0,0]
[0,0,0,0,0,0,0,0]
[0,0.1,0,0,0,0,0,0]
[0,0,0,0,0,0,0,8.8652484000000004E-2]
[0,0,0,0,0,0,0,0]
[0,0,0,0,0,0,0,0]
[0,0,0,6.7658999999999997E-2,0,0,0,0]
[0,0,0,6.7658999999999997E-2,0,0,0,0]
[0,0,0,0,0,0,0,0]
[0,0,0,0,0,0,0,0]
[0,0,0,0,0,0,0,0]
[0,0,0,0,0,0,0,0]
[0,0,0,0,0,0,0,0]
[0,0,0,0,0,0,0,0]
[0,0,0,0,0,0,0,0]
[0,0,0,0,0,0,0,0]
[6.5876156000000005E-2,0,0,0,0,0,0,0]
[0,0,0,6.7658999999999997E-2,0,0,0,0]
[0,0,0,0,0,0,0,0]
[0,0,0,0,0,0,0,0]
[0,0,0,0,0,0,0,0]
[0,0,0,0,0,0,0,0]
[6.5876156000000005E-2,0,0,0,0,0,0,0]
[0,0,0,0,0,0,0,0]
[0,0,0,0,0,0,0,0]
[0,0,0,0,0,0,0,0]
[0,0,0,0,0,0,0,0]
[0,0,0,0,0,0,0,0]
[0,0,0,0,0,0,0,0]
[0,0,0,0,0,0,0,0]
[0,0,0,0,0,0,0,0]
[0,0.1,0,0,0,0,0,0]
[0,0,0,0,0,0,0,0]
[0,0,0,0,0,0,0,0]
[0,0,0,0,0,0,0,8.8652484000000004E-2]
[0,0.1,0,0,0,0,0,0]
[0,0,0,0,0,0,0,0]
[0,0,0,0,0,0,0,0]
[0,0,0,0,0,0,0,0]
[6.5876156000000005E-2,0,0,0,0,0,0,0]
[0,0,0,0,0,0,0,8.8652484000000004E-2]
[0,0,0,6.7658999999999997E-2,0,0,0,0]
[0,0,0,0,0,0,0,0]
[0,0,0,0,0,0,0,0]
[0,0,0,0,0,0,0,0]
[0,0.1,0,0,0,0,0,0]
[0,0,0,0,0,0,0,0]
[0,0,0,0,0,0,0,0]
[0,0,0,0,0,0,0,0]
[0,0,0,0,0,0,0,0]
[6.5876156000000005E-2,0,0,0,0,0,0,0]
[0,0,0,0,0,0,0,0]
[0,0,0.1,0,0,0,0,0]
[0,0,0,0,0,0,0,0]
[0,0,0,0,0,0,0,0]
[0,0,0,6.7658999999999997E-2,0,0,0,0]
[0,0,0,0,0,0,0.1,0]
[0,0,0,0,0,0,0,8.8652484000000004E-2]
[0,0,0,0,0,0,0,0]
[0,0,0,0,0.1,0,0,0]
[0,0,0,0,0,0,0,0]
[0,0,0,0,0,0,0,0]
[0,0.1,0,0,0,0,0,0]
[6.5876156000000005E-2,0,0,0,0,0,0,0]
[0,0,0,0,0,0,0,0]
[0,0,0,0,0,0,0,0]
[0,0,0.1,0,0,0,0,0]
[0,0,0,0,0,0,0,0]
[0,0,0,0,0,0,0,0]
[0,0,0,0,0,0,0,0]
[0,0,0,0,0,0,0,0]
[0,0,0,0,0,0,0,0]
[0,0,0,0,0,0,0,0]
[0,0,0,0,0,0,0,0]
[0,0,0,0,0,0,0,0]
[0,0,0,0,0,0,0,0]
[0,0,0,0,0,0,0.1,0]
[0,0,0,0,0,0,0,0]
[0,0,0,0,0,0,0,0]
[0,0,0,0,0,0,0,0]
[0,0,0,0,0,0,0,8.8652484000000004E-2]
[0,0,0,0,0,0,0,0]
[0,0,0,0,0,0,0,8.8652484000000004E-2]
[0,0,0,0,0,0,0,0]
[0,0,0,0,0,0,0,8.8652484000000004E-2]
[0,0,0,0,0,0,0,0]
[0,0,0,0,0,0,0,8.8652484000000004E-2]
[0,0,0,0,0,0,0,0]
[0,0,0,0,0,0,0,0]
[0,0,0,0,0,0,0,0]
[0,0,0,6.7658999999999997E-2,0,0,0,0]
[0,0,0,0,0,0,0,0]
[0,0,0,0,0,0,0,0]
[0,0,0,0,0,0,0,0]
[0,0,0,0,0,0,0,0]
[0,0,0,0,0,0,0,0]
[0,0,0,0,0,0,0,0]
[0,0,0,0,0,0,0,0]
[0,0,0,0,0,0,0,0]
[0,0,0,0,0,0,0,0]
[0,0,0,0,0,0,0,0]
[0,0,0,0,0,0,0,0]
[0,0,0,0,0,0,0,0]
[0,0,0,0,0,0,0,0]
[0,0,0,0,0,0,0,0]
[6.5876156000000005E-2,0,0,0,0,0,0,0]
[0,0,0,0,0,0,0,0]
[0,0,0,0,0,0,0,0]
[0,0,0,0,0,0,0,0]
[0,0,0,0,0,0,0,0]
[0,0,0,0,0,0,0,0]
[0,0,0,0,0,0,0,0]
[0,0,0,0,0,0,0,0]
[0,0,0,6.7658999999999997E-2,0,0,0,0]
[0,0,0,0,0,0,0,8.8652484000000004E-2]
[6.5876156000000005E-2,0,0,0,0,0,0,0]
[0,0,0,0,0,0,0,0]
[0,0,0,0,0,0,0,0]
[0,0,0,0,0,0,0,0]
[0,0,0,0,0,0,0,0]
[0,0,0,0,0,0,0,0]
[0,0,0,0,0,0,0,0]
[0,0,0,0,0,0,0,0]
[0,0,0,0,0,0,0.1,0]
[0,0,0,0,0,0.1,0,0]
[0,0,0,0,0,0,0,0]
[0,0,0,0,0,0,0,0]
[0,0,0.1,0,0,0,0,0]
[0,0,0,0,0,0,0,0]
[6.5876156000000005E-2,0,0,0,0,0,0,0]
[0,0,0,0,0,0,0,0]
[0,0,0,0,0,0,0,0]
[0,0,0,0,0,0,0,0]
[0,0,0,6.7658999999999997E-2,0,0,0,0]
[0,0,0,0,0,0,0,0]
[0,0,0,0,0,0,0,0]
[0,0,0,0,0,0,0,0]
[0,0,0,0,0,0,0,0]
[0,0,0,0,0,0,0,0]
[0,0,0,0,0,0,0,0]
[0,0,0,0,0,0,0,0]
[0,0,0,0,0,0,0,0]
[0,0,0,0,0,0,0,0]
[0,0,0,0,0,0,0,0]
[0,0,0,0,0,0.1,0,0]
[0,0,0,0,0,0,0,0]
[0,0,0,0,0,0,0,0]
[0,0,0,6.7658999999999997E-2,0,0,0,0]
[0,0,0,0,0,0,0,0]
[0,0,0,0,0,0,0,0]
[0,0,0,0,0,0,0,0]
[0,0,0,6.7658999999999997E-2,0,0,0,0]
[0,0,0,0,0,0,0,0]
[0,0,0,0,0,0,0,0]
[0,0,0,0,0,0,0,0]
[0,0,0,0,0,0,0,0]
[0,0,0,0,0,0,0,0]
[0,0,0,0,0,0,0,0]
[0,0,0,0,0,0,0,8.8652484000000004E-2]
[0,0,0,0,0,0,0,0]
[6.5876156000000005E-2,0,0,0,0,0,0,0]
[0,0,0,0,0,0,0,8.8652484000000004E-2]
[0,0,0,6.7658999999999997E-2,0,0,0,0]
[0,0,0,6.7658999999999997E-2,0,0,0,0]
[0,0,0,0,0,0,0,0]
[0,0,0,0,0,0,0,0]
[0,0,0,0,0,0,0,0]
[0,0,0,0,0,0,0,0]
[0,0,0,0,0,0,0,0]
[0,0,0,0,0,0,0,0]
[0,0,0,0,0,0,0,0]
[0,0,0,0,0,0,0,0]
[0,0,0,0,0,0,0,8.8652484000000004E-2]
[0,0,0,0,0.1,0,0,0]
[0,0,0,0,0,0,0,0]
[0,0,0,0,0,0,0,0]
[0,0,0,0,0,0,0,0]
[0,0,0,0,0,0,0,0]
[0,0,0,0,0,0,0,0]
[0,0,0,0,0,0,0,0]
[0,0,0,0,0,0,0,0]
[0,0,0,0,0,0,0,0]
[0,0,0,0,0,0,0,0]
[0,0,0,0,0,0,0,0]
[6.5876156000000005E-2,0,0,0,0,0,0,0]
[6.5876156000000005E-2,0,0,0,0,0,0,0]
[6.5876156000000005E-2,0,0,0,0,0,0,0]
[0,0.1,0,0,0,0,0,0]
[0,0,0,6.7658999999999997E-2,0,0,0,0]
[0,0.1,0,0,0,0,0,0]
[0,0,0,0,0,0,0,0]
[0,0,0,0,0,0,0.1,0]
[0,0,0,0,0,0,0,0]
[0,0.1,0,0,0,0,0,0]
[0,0,0.1,0,0,0,0,0]
[6.5876156000000005E-2,0,0,0,0,0,0,0]
[6.5876156000000005E-2,0,0,0,0,0,0,0]
[0,0,0,0,0,0,0,0]
[0,0.1,0,0,0,0,0,0]
[6.5876156000000005E-2,0,0,0,0,0,0,0]
[0,0.1,0,0,0,0,0,0]
[0,0.1,0,0,0,0,0,0]
[0,0,0,6.7658999999999997E-2,0,0,0,0]
[0,0.1,0,0,0,0,0,0]
[0,0,0,0,0,0,0.1,0]
[0,0,0,0,0,0,0,0]
[0,0,0.1,0,0,0,0,0]
[0,0,0,0,0,0,0,0]
[0,0,0,6.7658999999999997E-2,0,0,0,0]
[0,0,0,0,0,0,0,0]
[0,0,0,0,0.1,0,0,0]
[0,0,0,0,0,0,0,0]
[0,0,0,0,0,0,0,0]
[0,0,0,0,0,0,0,0]
[0,0,0,0,0,0,0,0]
[0,0,0,0,0,0,0,8.8652484000000004E-2]
[0,0,0,0,0,0,0.1,0]
[0,0,0,6.7658999999999997E-2,0,0,0,0]
[0,0,0,0,0,0,0,0]
[0,0,0,0,0,0,0,0]
[0,0,0,0,0,0.1,0,0]
[0,0,0,0,0,0,0,0]
[0,0,0,0,0,0,0,0]
[6.5876156000000005E-2,0,0,0,0,0,0,0]
[0,0,0,0,0,0,0,0]
[0,0,0,0,0,0,0,0]
[0,0,0,0,0,0,0,0]
[0,0,0,0,0,0,0,0]
[0,0.1,0,0,0,0,0,0]
[0,0,0,0,0,0,0,0]
[6.5876156000000005E-2,0,0,0,0,0,0,0]
[0,0,0,0,0,0,0,0]
[0,0,0,0,0,0,0,0]
[0,0,0,6.7658999999999997E-2,0,0,0,0]
[0,0.1,0,0,0,0,0,0]
[0,0,0,0,0,0,0.1,0]
[0,0,0,0,0,0,0,0]
[0,0,0,0,0,0,0,0]
[0,0,0,0,0,0,0,0]
[0,0,0,0,0,0,0,0]
[0,0,0.1,0,0,0,0,0]
[0,0,0,0,0,0,0,0]
[0,0.1,0,0,0,0,0,0]
[0,0,0,0,0,0,0.1,0]
[0,0,0,0,0,0,0.1,0]
[0,0.1,0,0,0,0,0,0]
[6.5876156000000005E-2,0,0,0,0,0,0,0]
[0,0,0,0,0,0,0,0]
[0,0,0,0,0,0,0,0]
[0,0,0,0,0,0,0,0]
[0,0,0,0,0,0,0,0]
[0,0,0,0,0,0,0,0]
[0,0.1,0,0,0,0,0,0]
[0,0,0,0,0,0,0.1,0]
[0,0,0,0,0.1,0,0,0]
[0,0.1,0,0,0,0,0,0]
[6.5876156000000005E-2,0,0,0,0,0,0,0]
[6.5876156000000005E-2,0,0,0,0,0,0,0]
[0,0,0,0,0,0,0,0]
[0,0,0,0,0,0.1,0,0]
[0,0,0,0,0,0,0.1,0]
[0,0,0,0,0,0,0.1,0]
[0,0.1,0,0,0,0,0,0]
[0,0,0,0,0,0,0,0]
[0,0,0,0,0,0.1,0,0]
[0,0,0,6.7658999999999997E-2,0,0,0,0]
[0,0,0,6.7658999999999997E-2,0,0,0,0]
[0,0,0,6.7658999999999997E-2,0,0,0,0]
[0,0,0,0,0,0,0,8.8652484000000004E-2]
[0,0,0,0,0,0,0,0]
[0,0,0,0,0,0,0,0]
[0,0,0.1,0,0,0,0,0]
[0,0,0,0,0,0,0,0]
[0,0,0,0,0,0,0,0]
[0,0,0,0,0,0,0,0]
[0,0,0,6.7658999999999997E-2,0,0,0,0]
[6.5876156000000005E-2,0,0,0,0,0,0,0]
[0,0,0,0,0,0,0,0]
[0,0,0,0,0.1,0,0,0]
[0,0,0,6.7658999999999997E-2,0,0,0,0]
[0,0,0,0,0,0,0,0]
[0,0,0,0,0,0,0,0]
[0,0,0,0,0,0,0,0]
[0,0,0,6.7658999999999997E-2,0,0,0,0]
[0,0,0,0,0,0,0,0]
[0,0,0,0,0,0.1,0,0]
[0,0,0,0,0,0,0,0]
[0,0,0,0,0,0,0,0]
[0,0,0,0,0,0,0,0]
[0,0,0,0,0.1,0,0,0]
[0,0,0,0,0,0,0,0]
[0,0,0,0,0,0,0,0]
[0,0,0,0,0.1,0,0,0]
[0,0,0,0,0.1,0,0,0]
[0,0,0,0,0,0,0,0]
[6.5876156000000005E-2,0,0,0,0,0,0,0]
[0,0,0,0,0,0,0,0]
[0,0,0.1,0,0,0,0,0]
[0,0,0,0,0,0,0,8.8652484000000004E-2]
[6.5876156000000005E-2,0,0,0,0,0,0,0]
[0,0,0,0,0,0,0,8.8652484000000004E-2]
[0,0,0,0,0.1,0,0,0]
[0,0,0,6.7658999999999997E-2,0,0,0,0]
[0,0,0,0,0,0,0,0]
[0,0,0,0,0,0,0,0]
[0,0,0,0,0,0,0,0]
[0,0,0,0,0,0,0,0]
[0,0,0,0,0,0,0,0]
[0,0,0,0,0,0,0,0]
[0,0,0,0,0,0,0,0]
[0,0,0,0,0,0,0,0]
[0,0,0,0,0,0,0,0]
[0,0,0,0,0.1,0,0,0]
[0,0,0,0,0,0,0,0]
[0,0,0,0,0,0,0,0]
[0,0,0,0,0,0,0,0]
[0,0,0,0,0,0,0,0]
[0,0.1,0,0,0,0,0,0]
[0,0,0,0,0,0,0,0]
[0,0,0,0,0,0,0,0]
[0,0,0,0,0,0,0,0]
[0,0,0,0,0,0,0,0]
[0,0.1,0,0,0,0,0,0]
[0,0,0,0,0,0,0,0]
[0,0,0,0,0,0,0,0]
[0,0,0,0,0,0,0,0]
[0,0,0,0,0,0,0,0]
[0,0,0,0,0,0,0,0]
[0,0,0,0,0,0,0,0]
[0,0.1,0,0,0,0,0,0]
[0,0,0,0,0,0,0,0]
[0,0,0,6.7658999999999997E-2,0,0,0,0]
[0,0,0,0,0,0,0,0]
[0,0,0,0,0,0,0,0]
[0,0,0,0,0,0,0,0]
[0,0,0,0,0,0,0,0]
[0,0,0,0,0,0,0,0]
[0,0,0,0,0,0,0,0]
[0,0,0,0,0,0,0,0]
[6.5876156000000005E-2,0,0,0,0,0,0,0]
[0,0,0,0,0,0,0,0]
[0,0,0,0,0.1,0,0,0]
[0,0,0,0,0,0,0,0]
[0,0.1,0,0,0,0,0,0]
[0,0,0,0,0,0,0,0]
[0,0,0,0,0,0,0,0]
[0,0,0,0,0,0,0,0]
[0,0,0,0,0,0,0,0]
[0,0,0,0,0,0,0,0]
[0,0,0,0,0,0,0,0]
[0,0,0,0,0,0,0,0]
[0,0,0,0,0,0,0,0]
[0,0,0,0,0,0,0,0]
[0,0,0.1,0,0,0,0,0]
[0,0,0,0,0,0,0,0]
[0,0,0,0,0,0,0,0]
[0,0,0,0,0,0,0,0]
[0,0,0,0,0,0,0,0]
[6.5876156000000005E-2,0,0,0,0,0,0,0]
[0,0,0,0,0,0,0,0]
[0,0,0,0,0,0,0,0]
[0,0,0,0,0,0,0,0]
[0,0,0,6.7658999999999997E-2,0,0,0,0]
[0,0,0.1,0,0,0,0,0]
[0,0,0,0,0,0,0,0]
[0,0,0,0,0,0,0,0]
[0,0,0,0,0,0,0,0]
[0,0,0,0,0,0,0,8.8652484000000004E-2]
[0,0,0,0,0.1,0,0,0]
[0,0,0,0,0,0,0,8.8652484000000004E-2]
[0,0,0,0,0,0,0,0]
[0,0,0,0,0,0,0,0]
[0,0,0,0,0,0,0,0]
[0,0,0,0,0,0,0,0]
[0,0.1,0,0,0,0,0,0]
[0,0,0,0,0,0,0,0]
[0,0,0,0,0,0.1,0,0]
[0,0,0,0,0,0,0,0]
[0,0,0,0,0,0,0,0]
[0,0,0,6.7658999999999997E-2,0,0,0,0]
[0,0.1,0,0,0,0,0,0]
[0,0,0,0,0,0,0,0]
[6.5876156000000005E-2,0,0,0,0,0,0,0]
[0,0,0,0,0,0,0,8.8652484000000004E-2]
[0,0,0,6.7658999999999997E-2,0,0,0,0]
[0,0.1,0,0,0,0,0,0]
[0,0,0,0,0,0,0,0]
[0,0,0,0,0,0,0,0]
[0,0,0,0,0,0,0,0]
[0,0,0,0,0,0,0,0]
[0,0.1,0,0,0,0,0,0]
[0,0,0,0,0,0,0,0]
[0,0,0,0,0,0,0,0]
[0,0,0,0,0,0,0.1,0]
[0,0,0,0,0,0,0.1,0]
[0,0,0,0,0,0,0,0]
[0,0,0,0,0,0,0,0]
[0,0,0,0,0,0,0,8.8652484000000004E-2]
[0,0,0,0,0,0,0,0]
[6.5876156000000005E-2,0,0,0,0,0,0,0]
[0,0,0,0,0,0,0,0]
[0,0,0,0,0,0,0,0]
[0,0,0.1,0,0,0,0,0]
[0,0,0,0,0,0,0,0]
[0,0,0,0,0.1,0,0,0]
[0,0,0,0,0,0,0,0]
[0,0,0,0,0.1,0,0,0]
[0,0,0,0,0,0,0,0]
[0,0,0,0,0,0,0,0]
[0,0,0,0,0.1,0,0,0]
[0,0,0,0,0,0,0,0]
[0,0,0,0,0,0,0.1,0]
[0,0,0,0,0,0,0,0]
[0,0,0,0,0,0,0,0]
[0,0,0,0,0,0,0,8.8652484000000004E-2]
[6.5876156000000005E-2,0,0,0,0,0,0,0]
[0,0,0.1,0,0,0,0,0]
[0,0,0,0,0,0,0.1,0]
[0,0,0,0,0,0,0,0]
[0,0,0,0,0,0,0,0]
[0,0,0,0,0,0,0,0]
[0,0,0,0,0,0,0,0]
[0,0,0,0,0,0,0,0]
[0,0,0,0,0,0,0,0]
[0,0,0,0,0,0,0,0]
[0,0,0,0,0,0,0,0]
[0,0,0,0,0,0,0,0]
[0,0,0,0,0,0,0,0]
[0,0,0,0,0,0,0,0]
[0,0,0,0,0,0,0,0]
[0,0,0,0,0,0,0,0]
[0,0,0,0,0,0,0,0]
[0,0,0,0,0,0,0,0]
[0,0,0,0,0,0,0,0]
[0,0,0,0,0,0,0,8.8652484000000004E-2]
[0,0,0,0,0,0,0,0]
[0,0,0,0,0,0,0,0]
[0,0.1,0,0,0,0,0,0]
[0,0,0,0,0,0,0,0]
[0,0,0,0,0,0.1,0,0]
[0,0,0,0,0,0,0,0]
[0,0,0,0,0,0,0,0]
[0,0.1,0,0,0,0,0,0]
[0,0,0,0,0,0.1,0,0]
[0,0,0,0,0,0,0,0]
[0,0.1,0,0,0,0,0,0]
[0,0.1,0,0,0,0,0,0]
[0,0.1,0,0,0,0,0,0]
[0,0,0,0,0,0,0,0]
[0,0,0,0,0,0,0,0]
[0,0,0,0,0,0,0,0]
[0,0,0,6.7658999999999997E-2,0,0,0,0]
[0,0,0,0,0,0,0,0]
[0,0.1,0,0,0,0,0,0]
[6.5876156000000005E-2,0,0,0,0,0,0,0]
[0,0,0,0,0,0,0,0]
[0,0,0,6.7658999999999997E-2,0,0,0,0]
[0,0,0,0,0,0,0,0]
[0,0,0,0,0,0,0,0]
[0,0,0,6.7658999999999997E-2,0,0,0,0]
[0,0,0,0,0,0,0,0]
[0,0,0,0,0,0,0,0]
[0,0.1,0,0,0,0,0,0]
[0,0,0.1,0,0,0,0,0]
[0,0,0,0,0,0,0,0]
[0,0,0,0,0,0,0,0]
[0,0,0,6.7658999999999997E-2,0,0,0,0]
[0,0,0,6.7658999999999997E-2,0,0,0,0]
[0,0,0,6.7658999999999997E-2,0,0,0,0]
[0,0,0,0,0,0,0,0]
[0,0,0.1,0,0,0,0,0]
[0,0,0,0,0,0,0,0]
[0,0,0,0,0,0,0,0]
[0,0,0,0,0,0,0,0]
[0,0,0,0,0,0,0,0]
[0,0,0,0,0,0,0,0]
[0,0,0,0,0,0,0,0]
[0,0,0,0,0,0,0,0]
[0,0,0,0,0,0,0,0]
[6.5876156000000005E-2,0,0,0,0,0,0,0]
[0,0.1,0,0,0,0,0,0]
[0,0,0,0,0,0,0,0]
[0,0,0,0,0,0,0,0]
[0,0.1,0,0,0,0,0,0]
[0,0,0,0,0,0,0,8.8652484000000004E-2]
[0,0,0,6.7658999999999997E-2,0,0,0,0]
[0,0,0,0,0,0,0,0]
[0,0,0,0,0,0,0,0]
[0,0,0,0,0,0,0.1,0]
[0,0,0,0,0,0,0,0]
[0,0,0,0,0,0,0,0]
[0,0,0,0,0.1,0,0,0]
[0,0,0,0,0,0,0,0]
[0,0.1,0,0,0,0,0,0]
[0,0,0,6.7658999999999997E-2,0,0,0,0]
[0,0,0,0,0,0,0,0]
[0,0,0,0,0,0,0,8.8652484000000004E-2]
[0,0,0,0,0,0,0,0]
[0,0,0,0,0,0,0,0]
[0,0,0.1,0,0,0,0,0]
[0,0,0,0,0,0.1,0,0]
[0,0,0,0,0,0,0,0]
[0,0,0,0,0,0,0,0]
[6.5876156000000005E-2,0,0,0,0,0,0,0]
[0,0,0,0,0,0,0,0]
[0,0,0,0,0,0,0,0]
[0,0,0,0,0,0,0,0]
[0,0,0,0,0,0,0,0]
[0,0,0,0,0,0,0,0]
[0,0,0,0,0,0,0,0]
[0,0,0,0,0,0,0,0]
[0,0,0,0,0,0,0,0]
[0,0,0,0,0,0,0,0]
[0,0,0,0,0,0,0,0]
[0,0,0,0,0,0,0.1,0]
[0,0,0,0,0,0,0,0]
[0,0,0,0,0,0,0,0]
[0,0,0,0,0,0,0,0]
[0,0,0,6.7658999999999997E-2,0,0,0,0]
[0,0,0,0,0,0,0,0]
[0,0,0,0,0,0,0,8.8652484000000004E-2]
[6.5876156000000005E-2,0,0,0,0,0,0,0]
[0,0,0,0,0,0,0,0]
[0,0,0,6.7658999999999997E-2,0,0,0,0]
[0,0,0,0,0,0,0,8.8652484000000004E-2]
[0,0,0,6.7658999999999997E-2,0,0,0,0]
[0,0,0,0,0,0.1,0,0]
[0,0,0,0,0,0,0,0]
[0,0,0,0,0,0,0,8.8652484000000004E-2]
[0,0,0,0,0,0,0,0]
[6.5876156000000005E-2,0,0,0,0,0,0,0]
[0,0,0,0,0,0,0,0]
[0,0,0,0,0,0,0,0]
[0,0,0,6.7658999999999997E-2,0,0,0,0]
[0,0,0,0,0,0,0,0]
[0,0,0.1,0,0,0,0,0]
[0,0,0.1,0,0,0,0,0]
[0,0,0,0,0,0,0,0]
[0,0,0,0,0,0,0,0]
[0,0,0,0,0,0,0,0]
[0,0,0,0,0,0,0,0]
[0,0,0,0,0,0,0,0]
[0,0,0,0,0,0,0,0]
[0,0.1,0,0,0,0,0,0]
[0,0,0,0,0,0,0,0]
[0,0,0.1,0,0,0,0,0]
[0,0,0.1,0,0,0,0,0]
[0,0.1,0,0,0,0,0,0]
[6.5876156000000005E-2,0,0,0,0,0,0,0]
[0,0,0,0,0.1,0,0,0]
[0,0,0,0,0,0,0,0]
[0,0,0,0,0,0,0.1,0]
[0,0.1,0,0,0,0,0,0]
[0,0,0,6.7658999999999997E-2,0,0,0,0]
[0,0,0,0,0,0,0,0]
[0,0,0,6.7658999999999997E-2,0,0,0,0]
[0,0,0,6.7658999999999997E-2,0,0,0,0]
[0,0,0,0,0,0,0.1,0]
[0,0.1,0,0,0,0,0,0]
[0,0,0,0,0,0.1,0,0]
[0,0,0.1,0,0,0,0,0]
[0,0,0,0,0,0,0,0]
[0,0,0,0,0,0,0,0]
[0,0,0,0,0,0,0,0]
[0,0,0.1,0,0,0,0,0]
[0,0,0,0,0,0,0,0]
[0,0,0.1,0,0,0,0,0]
[0,0,0,6.7658999999999997E-2,0,0,0,0]
[0,0,0,0,0,0,0,0]
[0,0,0.1,0,0,0,0,0]
[6.5876156000000005E-2,0,0,0,0,0,0,0]
[0,0,0,0,0.1,0,0,0]
[0,0,0,0,0,0,0,0]
[0,0,0,0,0,0,0,0]
[0,0,0,0,0,0,0,0]
[0,0,0,6.7658999999999997E-2,0,0,0,0]
[0,0,0.1,0,0,0,0,0]
[0,0,0,0,0,0,0,0]
[0,0,0,0,0,0,0,0]
[0,0,0,6.7658999999999997E-2,0,0,0,0]
[0,0,0,0,0,0,0,0]
[0,0,0,0,0,0,0,0]
[0,0,0,0,0,0.1,0,0]
[0,0,0,0,0,0,0,0]
[0,0,0,0,0,0,0,0]
[0,0,0,0,0,0,0,0]
[0,0,0,0,0,0,0,0]
[0,0,0,0,0,0,0,0]
[0,0,0,0,0,0,0,0]
[0,0,0,0,0,0,0,0]
[0,0,0,0,0,0,0,0]
[0,0,0,0,0,0,0,0]
[0,0,0,0,0,0,0,0]
[0,0,0,0,0,0,0,0]
[6.5876156000000005E-2,0,0,0,0,0,0,0]
[0,0,0,0,0,0.1,0,0]
[0,0,0,0,0,0,0,0]
[0,0,0,0,0,0,0,0]
[0,0.1,0,0,0,0,0,0]
[0,0,0,0,0,0,0,0]
[0,0,0,6.7658999999999997E-2,0,0,0,0]
[0,0,0,0,0,0,0,0]
[0,0,0,0,0,0,0,0]
[0,0,0,0,0,0,0,0]
[0,0,0,0,0,0,0,0]
[0,0,0,0,0,0,0.1,0]
[0,0,0,6.7658999999999997E-2,0,0,0,0]
[0,0.1,0,0,0,0,0,0]
[0,0,0,0,0,0,0.1,0]
[0,0,0,0,0.1,0,0,0]
[0,0,0,0,0.1,0,0,0]
[0,0,0.1,0,0,0,0,0]
[0,0,0,0,0,0,0,0]
[0,0,0,0,0,0,0,0]
[0,0,0,0,0,0,0,0]
[0,0,0,0,0,0,0,0]
[0,0,0,0,0,0,0,0]
[0,0,0,0,0,0,0,0]
[0,0,0,0,0,0,0,0]
[0,0.1,0,0,0,0,0,0]
[0,0,0.1,0,0,0,0,0]
[0,0,0,0,0,0,0,0]
[0,0,0,0,0,0,0,0]
[0,0,0,0,0,0,0,0]
[0,0,0,0,0,0,0,0]
[0,0,0,0,0,0,0,0]
[0,0,0,0,0,0,0,0]
[0,0,0,0,0,0,0,0]
[0,0,0,0,0,0.1,0,0]
[0,0,0,0,0,0,0,0]
[0,0,0,0,0,0,0,0]
[0,0.1,0,0,0,0,0,0]
[0,0,0,0,0,0,0,0]
[6.5876156000000005E-2,0,0,0,0,0,0,0]
[0,0,0,6.7658999999999997E-2,0,0,0,0]
[0,0,0,6.7658999999999997E-2,0,0,0,0]
[0,0,0,0,0,0,0,0]
[0,0,0,0,0,0,0,0]
[0,0.1,0,0,0,0,0,0]
[0,0,0,6.7658999999999997E-2,0,0,0,0]
[0,0,0,0,0.1,0,0,0]
[0,0,0,0,0,0,0,0]
[0,0.1,0,0,0,0,0,0]
[0,0,0,6.7658999999999997E-2,0,0,0,0]
[0,0,0,0,0,0,0,8.8652484000000004E-2]
[0,0,0,0,0,0,0,0]
[0,0,0,0,0,0,0.1,0]
[0,0,0,0,0,0,0,8.8652484000000004E-2]
[0,0,0,0,0,0,0,0]
[0,0,0,0,0,0,0,8.8652484000000004E-2]
[0,0,0,0,0,0,0,0]
[0,0,0,0,0,0,0,0]
[0,0,0,0,0,0,0.1,0]
[0,0,0,0,0,0,0,0]
[0,0,0,0,0,0,0,0]
[0,0,0,0,0,0,0,0]
[0,0,0,0,0,0,0,0]
[0,0,0,0,0,0,0,0]
[0,0,0,0,0,0,0,0]
[0,0,0,0,0,0,0,0]
[0,0,0,0,0,0,0,0]
[0,0,0,0,0,0,0,0]
[0,0,0,0,0,0,0,0]
[0,0,0,0,0,0,0.1,0]
[0,0,0,0,0,0,0,0]
[0,0,0,0,0,0,0,0]
[0,0,0,0,0,0,0,0]
[0,0,0,0,0,0,0,0]
[0,0,0,0,0,0,0,0]
[0,0,0,0,0,0,0,0]
[0,0,0,0,0,0,0,0]
[0,0,0,0,0,0,0,0]
[6.5876156000000005E-2,0,0,0,0,0,0,0]
[0,0,0,0,0,0,0,0]
[0,0,0,0,0,0,0,0]
[0,0,0,6.7658999999999997E-2,0,0,0,0]
[0,0,0,0,0,0,0,8.8652484000000004E-2]
[0,0,0,0,0,0,0,0]
[0,0,0,0,0,0,0,0]
[0,0,0,0,0,0,0,0]
[0,0,0,6.7658999999999997E-2,0,0,0,0]
[0,0,0,0,0,0,0,0]
[0,0,0,0,0,0,0,0]
[0,0,0,0,0,0,0,0]
[0,0,0,0,0,0,0,0]
[0,0,0,0,0,0,0,0]
[0,0,0,0,0,0,0,0]
[0,0,0,0,0,0,0,0]
[0,0,0,0,0,0,0,0]
[0,0,0,0,0,0,0,8.8652484000000004E-2]
[0,0,0,0,0,0.1,0,0]
[0,0,0,0,0,0,0.1,0]
[0,0,0,0,0.1,0,0,0]
[0,0,0,0,0,0,0,0]
[0,0,0,6.7658999999999997E-2,0,0,0,0]
[0,0,0,0,0,0,0,0]
[0,0,0.1,0,0,0,0,0]
[0,0,0,0,0,0,0,8.8652484000000004E-2]
[0,0,0,0,0,0,0,0]
[0,0,0,0,0,0,0,0]
[0,0.1,0,0,0,0,0,0]
[0,0,0,0,0,0,0,0]
[0,0,0,0,0,0,0,0]
[0,0,0,0,0,0,0,0]
[0,0,0,0,0,0,0,0]
[0,0,0,0,0,0,0,0]
[0,0,0,0,0,0,0,0]
[0,0,0,0,0,0,0,0]
[0,0,0,0,0,0,0,0]
[0,0,0,0,0,0,0,0]
[0,0,0,0,0,0,0,8.8652484000000004E-2]
[0,0,0,0,0,0,0.1,0]
[6.5876156000000005E-2,0,0,0,0,0,0,0]
[0,0,0,0,0,0,0,0]
[0,0,0,0,0,0,0,0]
[0,0,0,0,0,0,0,0]
[0,0,0,0,0,0,0,0]
[0,0,0,0,0,0,0,0]
[0,0,0,0,0,0,0,0]
[6.5876156000000005E-2,0,0,0,0,0,0,0]
[0,0,0,0,0,0,0,0]
[0,0,0,0,0,0,0,0]
[0,0,0,0,0,0,0,8.8652484000000004E-2]
[0,0,0,0,0,0,0,0]
[0,0,0.1,0,0,0,0,0]
[0,0.1,0,0,0,0,0,0]
[0,0,0,0,0,0,0,0]
[0,0,0,0,0,0,0,0]
[0,0,0,0,0,0,0,0]
[0,0,0,0,0,0,0,0]
[0,0,0,0,0,0,0,0]
[0,0,0,0,0,0,0,8.8652484000000004E-2]
[0,0,0,0,0,0,0,8.8652484000000004E-2]
[0,0,0.1,0,0,0,0,0]
[0,0,0,0,0,0,0,0]
[6.5876156000000005E-2,0,0,0,0,0,0,0]
[0,0,0,0,0,0,0,8.8652484000000004E-2]
[0,0,0,6.7658999999999997E-2,0,0,0,0]
[0,0,0,6.7658999999999997E-2,0,0,0,0]
[0,0,0,0,0,0,0,0]
[0,0,0,0,0,0,0,0]
[0,0,0,0,0,0.1,0,0]
[0,0,0,0,0,0,0,0]
[0,0,0,0,0,0,0,0]
[0,0,0,0,0,0,0,0]
[0,0,0,0,0,0,0,0]
[0,0,0,6.7658999999999997E-2,0,0,0,0]
[0,0,0,0,0,0,0,0]
[0,0,0,0,0,0,0,0]
[6.5876156000000005E-2,0,0,0,0,0,0,0]
[0,0,0,0,0,0,0,0]
[6.5876156000000005E-2,0,0,0,0,0,0,0]
[0,0,0,0,0,0,0,0]
[0,0,0,0,0,0,0,0]
[0,0,0,0,0,0,0,0]
[6.5876156000000005E-2,0,0,0,0,0,0,0]
[6.5876156000000005E-2,0,0,0,0,0,0,0]
[0,0,0,0,0,0,0,8.8652484000000004E-2]
[0,0,0,0,0,0,0,0]
[0,0,0,0,0,0,0,0]
[0,0,0,6.7658999999999997E-2,0,0,0,0]
[0,0,0,0,0,0,0,0]
[0,0,0,0,0,0,0,0]
[6.5876156000000005E-2,0,0,0,0,0,0,0]
[0,0,0,0,0,0,0,0]
[0,0,0,6.7658999999999997E-2,0,0,0,0]
[0,0,0,0,0,0,0,0]
[0,0,0.1,0,0,0,0,0]
[0,0,0,0,0,0,0,8.8652484000000004E-2]
[0,0,0,0,0,0,0,0]
[0,0,0,0,0,0,0.1,0]
[6.5876156000000005E-2,0,0,0,0,0,0,0]
[0,0,0,6.7658999999999997E-2,0,0,0,0]
[0,0,0.1,0,0,0,0,0]
[0,0,0.1,0,0,0,0,0]
[0,0,0,0,0,0,0,0]
[0,0,0,0,0,0,0,8.8652484000000004E-2]
[0,0,0,0,0,0,0,0]
[0,0,0,0,0,0,0,0]
[0,0,0,0,0,0.1,0,0]
[0,0,0,6.7658999999999997E-2,0,0,0,0]
[0,0,0,0,0,0,0,0]
[0,0,0,0,0,0.1,0,0]
[0,0,0.1,0,0,0,0,0]
[0,0,0,0,0,0,0,0]
[0,0,0,0,0,0,0,0]
[0,0,0,0,0,0.1,0,0]
[0,0.1,0,0,0,0,0,0]
[0,0,0,0,0,0,0,0]
[0,0,0,0,0,0,0,8.8652484000000004E-2]
[0,0,0,0,0.1,0,0,0]
[0,0,0,0,0,0,0,0]
[0,0,0,0,0,0,0,0]
[0,0,0,0,0,0,0,0]
[0,0,0,0,0,0,0,0]
[0,0,0,0,0,0,0,0]
[0,0,0,0,0,0,0,0]
[0,0,0,6.7658999999999997E-2,0,0,0,0]
[0,0,0,0,0,0,0,0]
[6.5876156000000005E-2,0,0,0,0,0,0,0]
[0,0,0,6.7658999999999997E-2,0,0,0,0]
[0,0,0,0,0,0,0.1,0]
[0,0,0,0,0,0.1,0,0]
[0,0,0,0,0,0,0,0]
[0,0,0.1,0,0,0,0,0]
[0,0,0,0,0,0,0,0]
[0,0,0,0,0,0,0,0]
[0,0,0,0,0,0,0,0]
[0,0,0,0,0,0,0,0]
[0,0,0,0,0,0,0,0]
[0,0,0,0,0,0,0,0]
[0,0,0,0,0,0,0.1,0]
[0,0,0,0,0,0,0,0]
[0,0,0,0,0,0,0,0]
[0,0,0,0,0,0,0,0]
[0,0,0,0,0,0,0,0]
[0,0,0,0,0,0.1,0,0]
[0,0,0,0,0,0,0,8.8652484000000004E-2]
[0,0,0,0,0,0,0,0]
[6.5876156000000005E-2,0,0,0,0,0,0,0]
[0,0,0,0,0,0,0,0]
[0,0,0.1,0,0,0,0,0]
[0,0,0,0,0,0,0,0]
[0,0,0,0,0,0,0,0]
[0,0,0,0,0,0,0,0]
[0,0,0,0,0,0,0,8.8652484000000004E-2]
[0,0.1,0,0,0,0,0,0]
[0,0,0,0,0,0,0,8.8652484000000004E-2]
[0,0,0,0,0,0,0,0]
[0,0,0,0,0,0,0,0]
[0,0,0,0,0,0,0.1,0]
[0,0,0,0,0,0,0,0]
[6.5876156000000005E-2,0,0,0,0,0,0,0]
[0,0,0,0,0.1,0,0,0]
[0,0,0,0,0,0,0,0]
[0,0,0.1,0,0,0,0,0]
[0,0,0,0,0,0,0,0]
[0,0,0,6.7658999999999997E-2,0,0,0,0]
[0,0.1,0,0,0,0,0,0]
[0,0,0,0,0,0,0,0]
[0,0,0,0,0,0.1,0,0]
[0,0,0,6.7658999999999997E-2,0,0,0,0]
[0,0,0,0,0,0,0,0]
[0,0,0.1,0,0,0,0,0]
[0,0,0,0,0,0,0,0]
[0,0,0,0,0.1,0,0,0]
[0,0,0,0,0,0,0,0]
[0,0,0,0,0,0,0,0]
[0,0,0,0,0,0,0,0]
[0,0,0,0,0,0,0,0]
[0,0,0,0,0,0.1,0,0]
[0,0,0,0,0,0,0,0]
[0,0,0,0,0,0,0,0]
[0,0,0,0,0,0.1,0,0]
[0,0,0,0,0,0,0,0]
[0,0,0,0,0,0,0.1,0]
[0,0,0,0,0,0.1,0,0]
[0,0,0,6.7658999999999997E-2,0,0,0,0]
[0,0,0,0,0,0,0,0]
[0,0,0,6.7658999999999997E-2,0,0,0,0]
[0,0,0,0,0,0,0,0]
[0,0,0,0,0,0,0,0]
[0,0,0,0,0,0,0,0]
[0,0,0,6.7658999999999997E-2,0,0,0,0]
[0,0,0,0,0,0,0,8.8652484000000004E-2]
[0,0,0,0,0,0,0,0]
[0,0,0,0,0,0,0,0]
[0,0,0.1,0,0,0,0,0]
[0,0,0,0,0,0,0,0]
[0,0.1,0,0,0,0,0,0]
[0,0,0,0,0,0,0,0]
[0,0,0,0,0,0,0,0]
[0,0,0,0,0,0,0,0]
[0,0,0,0,0,0,0,0]
[0,0,0,0,0,0,0,0]
[0,0.1,0,0,0,0,0,0]
[0,0,0.1,0,0,0,0,0]
[0,0,0,0,0,0,0,0]
[6.5876156000000005E-2,0,0,0,0,0,0,0]
[0,0,0,0,0,0,0,0]
[0,0,0,0,0,0.1,0,0]
[0,0,0,0,0,0,0,0]
[0,0,0,0,0,0,0,0]
[0,0,0,0,0,0,0,8.8652484000000004E-2]
[0,0,0,0,0,0,0,0]
[0,0.1,0,0,0,0,0,0]
[0,0,0,0,0,0,0,0]
[0,0,0,0,0,0,0,0]
[6.5876156000000005E-2,0,0,0,0,0,0,0]
[0,0,0,0,0,0,0,0]
[0,0,0,0,0,0,0,0]
[0,0,0,0,0,0,0,0]
[0,0,0,0,0,0,0,0]
[0,0,0,0,0,0,0,0]
[0,0,0.1,0,0,0,0,0]
[0,0,0,0,0,0.1,0,0]
[0,0.1,0,0,0,0,0,0]
[0,0,0,0,0,0.1,0,0]
[0,0,0,0,0,0,0,8.8652484000000004E-2]
[0,0,0,0,0,0,0,0]
[0,0,0,0,0,0,0,8.8652484000000004E-2]
[0,0,0,0,0,0,0,0]
[0,0,0,0,0,0,0,0]
[6.5876156000000005E-2,0,0,0,0,0,0,0]
[0,0,0,0,0,0,0,0]
[0,0,0,0,0,0,0,0]
[0,0,0,0,0,0,0,0]
[0,0,0,0,0,0,0,0]
[0,0,0,0,0,0,0,0]
[0,0,0,0,0,0,0,0]
[0,0,0,0,0,0,0,0]
[0,0,0,0,0,0,0,0]
[0,0,0,0,0,0,0,0]
[0,0,0,0,0,0,0,8.8652484000000004E-2]
[0,0,0,0,0,0,0,0]
[0,0,0,0,0,0,0,0]
[0,0,0,0,0,0,0.1,0]
[0,0,0,0,0,0,0,8.8652484000000004E-2]
[0,0,0,0,0,0,0,0]
[0,0,0,0,0,0,0.1,0]
[0,0,0,0,0,0.1,0,0]
[0,0,0,0,0,0,0,8.8652484000000004E-2]
[0,0,0,0,0,0,0,0]
[0,0,0,0,0,0,0,0]
[0,0,0,0,0,0,0,0]
[0,0,0.1,0,0,0,0,0]
[0,0,0,0,0,0,0,0]
[0,0,0,0,0,0,0,0]
[0,0,0,0,0,0,0,0]
[6.5876156000000005E-2,0,0,0,0,0,0,0]
[0,0,0,0,0,0,0,0]
[0,0,0,0,0,0,0,0]
[0,0,0,0,0,0,0,0]
[0,0,0,0,0,0,0,0]
[0,0,0,0,0,0,0,0]
[0,0,0,0,0,0,0,0]
[0,0,0,0,0,0,0,0]
[0,0,0,0,0,0,0,0]
[0,0,0,6.7658999999999997E-2,0,0,0,0]
[0,0,0,0,0,0,0,0]
[0,0,0,0,0,0,0,0]
[0,0,0,0,0,0.1,0,0]
[0,0,0,0,0,0,0,0]
[0,0,0,0,0,0,0,0]
[0,0,0,0,0.1,0,0,0]
[0,0,0,0,0,0,0,0]
[0,0,0,0,0,0,0,0]
[0,0,0,0,0.1,0,0,0]
[0,0,0,0,0,0,0,0]
[0,0,0,0,0,0,0.1,0]
[0,0,0,6.7658999999999997E-2,0,0,0,0]
[0,0,0,0,0,0,0,0]
[0,0,0,0,0,0,0,0]
[0,0,0,0,0,0,0,0]
[0,0,0,6.7658999999999997E-2,0,0,0,0]
[0,0,0,0,0,0.1,0,0]
[0,0,0,0,0,0,0,0]
[0,0,0,0,0,0,0,8.8652484000000004E-2]
[0,0,0.1,0,0,0,0,0]
[0,0,0,0,0,0,0,0]
[0,0,0,0,0.1,0,0,0]
[0,0,0,0,0,0.1,0,0]
[0,0,0,0,0,0,0,0]
[0,0,0,0,0,0,0,0]
[0,0,0,0,0,0,0.1,0]
[0,0,0,0,0,0,0,0]
[0,0,0,0,0,0,0,0]
[0,0,0,6.7658999999999997E-2,0,0,0,0]
[0,0,0,0,0,0,0.1,0]
[0,0,0,6.7658999999999997E-2,0,0,0,0]
[0,0,0,0,0,0,0,0]
[0,0,0,0,0,0,0.1,0]
[0,0,0,0,0,0,0,0]
[6.5876156000000005E-2,0,0,0,0,0,0,0]
[0,0,0,0,0,0,0,8.8652484000000004E-2]
[0,0,0,0,0,0,0,0]
[0,0,0,0,0,0,0,0]
[0,0,0,0,0,0,0,0]
[0,0,0.1,0,0,0,0,0]
[0,0,0,0,0,0,0,0]
[6.5876156000000005E-2,0,0,0,0,0,0,0]
[0,0,0,0,0,0,0,0]
[0,0,0,0,0,0,0,0]
[6.5876156000000005E-2,0,0,0,0,0,0,0]
[0,0,0,0,0,0,0,0]
[0,0,0,0,0,0,0,0]
[0,0,0,0,0,0,0,0]
[0,0,0,0,0.1,0,0,0]
[0,0,0,0,0,0,0,0]
[0,0,0,0,0,0,0,0]
[0,0,0,0,0,0,0,0]
[0,0,0,0,0,0,0,0]
[0,0,0,0,0,0,0,0]
[0,0,0,0,0,0,0,0]
[0,0.1,0,0,0,0,0,0]
[0,0,0,0,0,0,0,0]
[0,0,0,0,0,0,0,0]
[0,0,0,0,0,0,0,0]
[0,0,0,0,0,0,0,0]
[0,0,0,0,0,0,0,0]
[0,0,0,0,0,0,0,0]
[0,0,0,0,0,0,0,0]
[0,0,0,0,0,0,0,0]
[0,0,0,6.7658999999999997E-2,0,0,0,0]
[0,0,0,0,0,0,0.1,0]
[0,0,0,0,0,0,0,0]
[0,0,0,0,0,0,0,0]
[0,0,0,0,0,0,0,0]
[0,0,0,0,0,0,0,0]
[0,0,0,0,0,0,0,0]
[0,0,0,0,0,0,0,0]
[0,0,0,6.7658999999999997E-2,0,0,0,0]
[0,0,0,0,0,0,0,0]
[0,0,0,0,0,0,0,0]
[0,0,0,0,0,0,0,0]
[0,0,0,0,0,0,0,0]
[0,0,0,0,0,0,0.1,0]
[0,0,0,0,0,0,0,0]
[0,0,0,0,0,0,0,0]
[0,0,0,6.7658999999999997E-2,0,0,0,0]
[0,0,0,0,0,0,0,0]
[0,0,0,0,0,0,0,0]
[0,0,0,0,0,0,0,0]
[6.5876156000000005E-2,0,0,0,0,0,0,0]
[0,0,0,0,0,0,0,0]
[0,0,0,0,0,0,0,0]
[0,0,0,0,0,0,0,0]
[0,0,0,0,0,0,0,0]
[0,0,0,6.7658999999999997E-2,0,0,0,0]
[0,0.1,0,0,0,0,0,0]
[0,0,0.1,0,0,0,0,0]
[0,0,0,0,0,0.1,0,0]
[0,0,0,0,0,0,0,0]
[0,0,0,0,0,0,0,0]
[6.5876156000000005E-2,0,0,0,0,0,0,0]
[0,0,0,0,0,0,0,0]
[0,0,0,0,0,0,0,0]
[6.5876156000000005E-2,0,0,0,0,0,0,0]
[0,0,0,0,0,0,0,8.8652484000000004E-2]
[0,0,0,0,0,0,0,0]
[6.5876156000000005E-2,0,0,0,0,0,0,0]
[0,0,0,0,0,0,0,0]
[0,0,0,0,0,0,0,0]
[0,0,0,0,0,0,0,0]
[0,0,0,0,0,0,0,0]
[0,0,0,0,0,0,0,0]
[0,0,0,0,0,0,0,0]
[0,0,0.1,0,0,0,0,0]
[0,0,0,0,0,0,0,0]
[0,0,0,6.7658999999999997E-2,0,0,0,0]
[0,0,0,0,0,0,0,0]
[0,0,0,0,0,0,0,0]
[0,0.1,0,0,0,0,0,0]
[0,0,0,0,0,0,0,0]
[0,0,0,0,0,0,0,0]
[0,0,0,0,0,0,0,0]
[0,0,0,0,0,0,0,0]
[6.5876156000000005E-2,0,0,0,0,0,0,0]
[0,0,0,0,0,0,0,0]
[0,0,0,0,0,0,0.1,0]
[0,0,0,0,0,0,0,0]
[0,0,0,0,0,0,0,0]
[0,0.1,0,0,0,0,0,0]
[0,0,0,0,0,0,0,0]
[6.5876156000000005E-2,0,0,0,0,0,0,0]
[0,0,0,0,0,0,0,0]
[0,0.1,0,0,0,0,0,0]
[0,0,0,0,0,0,0,0]
[0,0,0,0,0,0,0,8.8652484000000004E-2]
[0,0,0,0,0,0,0,8.8652484000000004E-2]
[0,0,0,0,0,0,0,8.8652484000000004E-2]
[0,0,0,6.7658999999999997E-2,0,0,0,0]
[0,0,0,6.7658999999999997E-2,0,0,0,0]
[0,0,0,0,0,0,0,0]
[0,0,0,6.7658999999999997E-2,0,0,0,0]
[0,0,0,0,0,0,0,8.8652484000000004E-2]
[0,0,0,0,0,0,0,0]
[0,0,0,0,0,0,0,0]
[0,0,0,0,0,0,0,0]
[0,0,0,0,0,0,0,0]
[6.5876156000000005E-2,0,0,0,0,0,0,0]
[0,0,0,0,0,0,0,0]
[0,0,0,0,0,0,0,0]
[0,0,0,0,0,0,0,0]
[0,0,0,0,0,0,0,0]
[0,0,0,6.7658999999999997E-2,0,0,0,0]
[0,0,0,0,0.1,0,0,0]
[0,0,0,0,0.1,0,0,0]
[0,0,0,0,0,0,0,0]
[0,0,0,0,0,0,0,0]
[0,0,0,6.7658999999999997E-2,0,0,0,0]
[0,0,0,0,0,0,0,0]
[6.5876156000000005E-2,0,0,0,0,0,0,0]
[6.5876156000000005E-2,0,0,0,0,0,0,0]
[0,0.1,0,0,0,0,0,0]
[0,0,0,0,0,0,0,0]
[0,0,0.1,0,0,0,0,0]
[0,0,0,0,0,0.1,0,0]
[0,0,0,0,0,0,0,0]
[0,0,0,0,0,0,0,0]
[0,0,0,0,0,0,0,8.8652484000000004E-2]
[0,0,0,0,0,0,0,0]
[0,0,0,0,0,0,0,0]
[0,0,0,0,0,0,0,0]
[0,0,0,0,0,0,0,0]
[0,0,0,0,0,0,0,0]
[0,0,0,0,0,0,0,0]
[0,0,0,0,0,0,0,8.8652484000000004E-2]
[0,0,0,0,0,0,0.1,0]
[0,0,0,0,0,0,0.1,0]
[0,0,0,0,0.1,0,0,0]
[0,0,0,6.7658999999999997E-2,0,0,0,0]
[0,0,0.1,0,0,0,0,0]
[0,0,0,0,0,0,0,0]
[0,0,0,0,0,0,0,8.8652484000000004E-2]
[0,0,0,0,0,0,0,0]
[0,0,0,0,0,0,0,0]
[0,0,0,0,0.1,0,0,0]
[0,0,0,0,0,0,0,0]
[0,0,0,0,0,0,0,0]
[0,0,0,0,0,0,0,0]
[0,0,0,0,0,0.1,0,0]
[0,0,0,6.7658999999999997E-2,0,0,0,0]
[6.5876156000000005E-2,0,0,0,0,0,0,0]
[0,0,0,0,0,0,0,0]
[0,0,0,0,0,0,0,0]
[0,0,0,0,0,0,0.1,0]
[0,0,0,6.7658999999999997E-2,0,0,0,0]
[0,0,0,0,0,0,0,0]
[0,0,0,0,0,0,0,0]
[0,0,0,0,0,0,0,8.8652484000000004E-2]
[6.5876156000000005E-2,0,0,0,0,0,0,0]
[0,0,0,0,0,0,0,0]
[0,0,0,0,0,0,0,0]
[0,0,0,0,0,0,0,0]
[0,0,0,0,0,0,0,0]
[0,0,0,0,0,0,0,0]
[0,0,0,0,0,0,0.1,0]
[0,0,0,0,0,0,0,0]
[0,0,0,0,0,0,0,0]
[0,0,0,0,0,0,0,8.8652484000000004E-2]
[0,0,0,0,0,0,0,0]
[0,0,0,0,0,0,0,0]
[0,0,0,0,0,0,0,0]
[0,0,0,0,0,0,0,0]
[0,0,0,0,0,0,0,0]
[0,0,0,0,0,0,0,0]
[6.5876156000000005E-2,0,0,0,0,0,0,0]
[0,0,0,0,0,0,0,0]
[0,0,0.1,0,0,0,0,0]
[0,0,0,0,0,0,0,0]
[0,0,0,0,0,0,0,0]
[0,0,0,0,0,0,0,0]
[0,0,0,0,0,0,0,0]
[0,0,0,0,0,0,0,0]
[0,0.1,0,0,0,0,0,0]
[0,0,0,0,0,0,0,0]
[0,0,0,0,0,0.1,0,0]
[0,0,0,0,0,0,0,0]
[0,0,0,0,0,0,0,0]
[6.5876156000000005E-2,0,0,0,0,0,0,0]
[0,0,0,0,0,0,0,0]
[0,0,0.1,0,0,0,0,0]
[0,0,0,0,0,0,0,0]
[0,0,0.1,0,0,0,0,0]
[0,0,0,0,0,0,0,0]
[0,0,0,0,0,0,0,0]
[0,0,0,6.7658999999999997E-2,0,0,0,0]
[0,0,0.1,0,0,0,0,0]
[0,0,0,0,0,0,0,0]
[0,0,0,6.7658999999999997E-2,0,0,0,0]
[0,0,0,6.7658999999999997E-2,0,0,0,0]
[0,0,0,0,0,0,0,0]
[0,0,0,0,0.1,0,0,0]
[0,0,0,0,0,0,0,0]
[0,0,0.1,0,0,0,0,0]
[0,0,0,0,0,0,0,0]
[6.5876156000000005E-2,0,0,0,0,0,0,0]
[0,0,0,0,0,0,0,0]
[0,0.1,0,0,0,0,0,0]
[0,0,0,0,0,0,0,0]
[6.5876156000000005E-2,0,0,0,0,0,0,0]
[0,0,0.1,0,0,0,0,0]
[0,0.1,0,0,0,0,0,0]
[0,0,0,0,0,0,0,0]
[0,0,0,0,0,0,0,0]
[0,0,0,0,0,0,0,0]
[0,0,0,0,0,0,0,0]
[0,0,0,0,0,0,0,0]
[0,0,0,0,0,0,0,0]
[0,0,0.1,0,0,0,0,0]
[0,0,0,6.7658999999999997E-2,0,0,0,0]
[0,0,0,0,0,0,0.1,0]
[0,0.1,0,0,0,0,0,0]
[0,0.1,0,0,0,0,0,0]
[0,0,0,0,0,0,0,0]
[0,0,0,0,0,0,0,0]
[0,0,0,0,0,0,0.1,0]
[0,0,0,0,0,0,0,0]
[0,0,0,0,0,0,0,0]
[6.5876156000000005E-2,0,0,0,0,0,0,0]
[0,0,0,0,0,0.1,0,0]
[0,0,0,0,0,0,0,0]
[0,0,0,0,0,0.1,0,0]
[0,0,0,0,0,0,0,0]
[0,0,0,6.7658999999999997E-2,0,0,0,0]
[0,0,0,0,0,0,0,0]
[0,0,0,0,0,0,0,0]
[0,0,0,6.7658999999999997E-2,0,0,0,0]
[0,0.1,0,0,0,0,0,0]
[0,0,0,0,0,0,0,0]
[0,0,0,0,0,0,0,0]
[0,0,0,0,0,0,0,0]
[0,0,0.1,0,0,0,0,0]
[0,0,0,0,0,0,0,0]
[0,0,0,0,0,0,0,0]
[0,0,0,0,0,0,0,0]
[0,0,0,0,0,0,0,0]
[0,0,0,0,0,0,0.1,0]
[0,0.1,0,0,0,0,0,0]
[0,0.1,0,0,0,0,0,0]
[0,0,0,0,0,0,0,0]
[0,0,0,0,0,0,0,0]
[0,0,0,0,0,0,0,0]
[0,0,0,0,0,0,0,0]
[0,0.1,0,0,0,0,0,0]
[0,0,0,6.7658999999999997E-2,0,0,0,0]
[0,0,0,0,0,0,0,0]
[0,0,0,0,0,0,0,0]
[6.5876156000000005E-2,0,0,0,0,0,0,0]
[0,0,0,0,0,0,0,0]
[6.5876156000000005E-2,0,0,0,0,0,0,0]
[0,0,0,0,0,0,0,0]
[0,0,0,0,0,0,0,0]
[0,0,0,0,0,0,0,0]
[0,0,0,0,0,0,0,8.8652484000000004E-2]
[0,0,0,0,0,0,0,0]
[0,0,0,6.7658999999999997E-2,0,0,0,0]
[0,0,0,0,0,0,0,0]
[0,0,0,0,0,0,0,0]
[0,0,0,6.7658999999999997E-2,0,0,0,0]
[0,0,0,6.7658999999999997E-2,0,0,0,0]
[0,0,0,0,0,0,0,0]
[0,0,0,0,0.1,0,0,0]
[0,0,0,0,0,0,0,0]
[0,0,0,0,0,0,0,8.8652484000000004E-2]
[0,0,0,0,0,0,0.1,0]
[0,0,0,0,0,0,0,0]
[0,0,0,0,0,0,0.1,0]
[0,0,0,0,0,0,0,0]
[0,0,0,0,0,0,0,0]
[0,0,0,0,0,0,0,0]
[0,0,0.1,0,0,0,0,0]
[0,0,0.1,0,0,0,0,0]
[0,0,0,6.7658999999999997E-2,0,0,0,0]
[6.5876156000000005E-2,0,0,0,0,0,0,0]
[0,0,0,0,0,0,0,0]
[0,0.1,0,0,0,0,0,0]
[0,0,0,0,0,0,0,0]
[0,0,0,0,0,0,0,0]
[0,0,0,0,0,0,0.1,0]
[0,0,0,0,0,0,0,0]
[0,0,0,0,0,0,0,0]
[0,0,0,0,0,0,0,8.8652484000000004E-2]
[6.5876156000000005E-2,0,0,0,0,0,0,0]
[0,0,0,0,0,0,0,0]
[0,0,0,0,0,0,0,0]
[0,0,0,0,0,0,0,0]
[0,0,0,0,0,0,0,0]
[0,0,0,0,0,0,0,8.8652484000000004E-2]
[0,0,0,0,0,0,0,0]
[0,0.1,0,0,0,0,0,0]
[0,0,0.1,0,0,0,0,0]
[0,0,0,0,0,0.1,0,0]
[0,0,0,0,0,0,0,0]
[6.5876156000000005E-2,0,0,0,0,0,0,0]
[0,0,0,0,0,0,0,0]
[0,0,0,0,0,0,0,0]
[0,0,0,0,0,0,0,0]
[0,0,0,0,0,0,0,0]
[0,0,0,0,0,0,0,0]
[0,0,0,0,0,0,0,0]
[0,0,0,0,0,0,0,0]
[0,0,0,0,0,0,0,0]
[0,0,0,6.7658999999999997E-2,0,0,0,0]
[0,0,0,6.7658999999999997E-2,0,0,0,0]
[0,0,0,0,0,0.1,0,0]
[0,0,0,0,0,0.1,0,0]
[0,0,0,0,0,0.1,0,0]
[0,0,0,0,0,0.1,0,0]
[0,0,0,0,0,0,0,0]
[0,0,0,0,0,0.1,0,0]
[0,0,0,0,0,0.1,0,0]
[0,0,0,0,0,0,0,0]
[0,0,0,0,0,0,0,0]
[6.5876156000000005E-2,0,0,0,0,0,0,0]
[0,0,0,0,0,0,0,0]
[0,0,0,0,0,0,0,0]
[0,0,0,0,0,0.1,0,0]
[0,0,0,0,0,0,0,0]
[0,0.1,0,0,0,0,0,0]
[6.5876156000000005E-2,0,0,0,0,0,0,0]
[0,0,0,6.7658999999999997E-2,0,0,0,0]
[0,0,0,0,0,0,0,0]
[0,0,0,0,0,0,0,0]
[0,0,0,0,0,0,0,0]
[0,0,0,0,0,0,0,0]
[0,0,0,0,0,0,0,0]
[0,0,0,0,0,0,0,0]
[0,0,0,0,0,0,0,0]
[0,0,0,0,0,0,0,0]
[0,0,0,0,0,0,0,0]
[0,0,0,0,0,0,0,0]
[0,0,0,0,0,0.1,0,0]
[0,0,0,0,0,0,0,0]
[0,0,0,0,0,0,0,0]
[0,0,0,0,0,0,0,0]
[0,0,0,0,0,0,0,0]
[0,0,0,0,0,0,0,0]
[0,0,0,0,0,0.1,0,0]
[0,0,0,6.7658999999999997E-2,0,0,0,0]
[0,0,0,0,0,0,0,0]
[0,0,0,0,0,0,0,0]
[0,0,0,0,0,0,0,0]
[0,0,0,0,0,0,0,0]
[0,0,0,0,0,0,0.1,0]
[0,0,0.1,0,0,0,0,0]
[0,0,0,0,0,0,0,0]
[0,0,0,0,0.1,0,0,0]
[0,0,0,0,0,0,0,0]
[0,0,0,0,0,0,0,0]
[0,0,0,0,0,0,0,0]
[0,0,0,0,0,0,0,0]
[0,0,0,0,0,0,0,0]
[0,0,0,0,0,0,0.1,0]
[0,0,0,0,0,0,0,0]
[0,0,0.1,0,0,0,0,0]
[0,0.1,0,0,0,0,0,0]
[6.5876156000000005E-2,0,0,0,0,0,0,0]
[0,0,0,6.7658999999999997E-2,0,0,0,0]
[0,0.1,0,0,0,0,0,0]
[0,0,0,0,0,0,0,0]
[0,0,0,0,0,0,0,0]
[0,0,0,0,0,0,0,0]
[0,0,0,0,0,0,0,0]
[0,0,0,6.7658999999999997E-2,0,0,0,0]
[0,0,0.1,0,0,0,0,0]
[0,0,0,0,0,0,0,0]
[0,0,0,6.7658999999999997E-2,0,0,0,0]
[0,0,0,6.7658999999999997E-2,0,0,0,0]
[0,0,0,0,0,0.1,0,0]
[0,0,0,6.7658999999999997E-2,0,0,0,0]
[0,0,0,0,0,0,0,0]
[0,0,0,0,0,0,0,0]
[0,0,0,0,0,0,0,0]
[0,0,0,0,0,0,0,0]
[0,0,0,0,0,0,0,0]
[0,0,0,0,0,0,0,0]
[0,0,0,0,0,0,0,0]
[0,0,0,0,0,0,0,0]
[0,0,0,0,0,0,0.1,0]
[0,0,0,0,0.1,0,0,0]
[0,0,0,0,0,0,0,0]
[0,0,0,0,0,0,0,0]
[0,0,0,0,0,0,0,0]
[0,0,0,0,0,0,0,0]
[0,0,0,0,0,0,0,8.8652484000000004E-2]
[0,0,0,0,0,0,0,0]
[0,0,0,0,0,0,0,0]
[0,0,0,0,0,0,0,0]
[0,0,0,0,0,0,0,0]
[0,0,0,0,0,0,0,0]
[0,0,0,0,0,0,0,0]
[0,0,0,6.7658999999999997E-2,0,0,0,0]
[0,0,0,0,0,0,0.1,0]
[0,0,0,0,0,0,0,0]
[0,0,0,0,0,0,0,8.8652484000000004E-2]
[0,0,0,0,0,0,0,0]
[0,0,0,0,0,0,0,8.8652484000000004E-2]
[0,0,0,0,0,0,0,0]
[0,0,0,0,0,0,0,0]
[0,0,0,0,0,0.1,0,0]
[0,0.1,0,0,0,0,0,0]
[0,0,0,0,0,0,0,0]
[0,0,0,6.7658999999999997E-2,0,0,0,0]
[0,0,0,6.7658999999999997E-2,0,0,0,0]
[0,0,0,0,0,0,0,8.8652484000000004E-2]
[0,0,0,0,0,0,0.1,0]
[0,0,0.1,0,0,0,0,0]
[0,0,0,0,0,0,0,0]
[0,0,0,6.7658999999999997E-2,0,0,0,0]
[0,0,0,6.7658999999999997E-2,0,0,0,0]
[0,0,0,0,0,0,0,0]
[0,0,0,0,0,0,0,8.8652484000000004E-2]
[0,0,0,0,0,0,0,0]
[0,0,0,0,0,0,0,0]
[0,0,0,0,0,0,0,0]
[0,0,0,0,0,0,0,0]
[0,0,0,0,0,0.1,0,0]
[0,0,0,0,0,0,0,0]
[0,0,0,0,0,0,0,0]
[0,0,0,0,0,0,0,0]
[0,0,0,0,0,0.1,0,0]
[0,0,0,0,0,0,0,0]
[6.5876156000000005E-2,0,0,0,0,0,0,0]
[0,0.1,0,0,0,0,0,0]
[0,0,0,0,0.1,0,0,0]
[0,0,0,6.7658999999999997E-2,0,0,0,0]
[0,0,0,0,0,0,0,0]
[0,0,0.1,0,0,0,0,0]
[0,0,0,0,0,0,0,0]
[0,0,0,0,0,0.1,0,0]
[0,0,0,0,0,0.1,0,0]
[0,0,0,0,0,0,0,0]
[0,0,0,0,0,0,0,0]
[0,0,0,0,0,0,0,0]
[0,0,0,0,0,0.1,0,0]
[0,0,0,0,0,0,0,0]
[0,0,0,0,0,0,0,0]
[0,0,0,0,0,0,0,0]
[0,0,0,0,0,0,0,0]
[0,0,0,0,0,0,0,0]
[0,0,0,6.7658999999999997E-2,0,0,0,0]
[0,0,0,0,0,0,0,0]
[0,0,0,0,0,0.1,0,0]
[0,0,0,0,0,0,0,0]
[0,0,0,0,0,0,0,0]
[0,0,0,0,0,0,0.1,0]
[0,0,0,6.7658999999999997E-2,0,0,0,0]
[6.5876156000000005E-2,0,0,0,0,0,0,0]
[0,0,0,6.7658999999999997E-2,0,0,0,0]
[0,0,0,0,0,0,0,0]
[0,0,0,0,0,0,0,0]
[0,0,0,0,0,0,0,0]
[0,0,0,6.7658999999999997E-2,0,0,0,0]
[0,0,0,6.7658999999999997E-2,0,0,0,0]
[6.5876156000000005E-2,0,0,0,0,0,0,0]
[6.5876156000000005E-2,0,0,0,0,0,0,0]
[0,0.1,0,0,0,0,0,0]
[0,0.1,0,0,0,0,0,0]
[0,0,0,0,0,0,0,0]
[0,0,0,0,0,0,0,8.8652484000000004E-2]
[0,0,0,0,0,0,0,0]
[0,0,0,0,0,0,0,8.8652484000000004E-2]
[0,0,0,0,0,0,0,0]
[0,0.1,0,0,0,0,0,0]
[0,0,0.1,0,0,0,0,0]
[0,0,0,0,0,0,0,0]
[0,0,0,0,0,0,0,0]
[0,0,0.1,0,0,0,0,0]
[0,0,0,0,0,0,0,0]
[0,0,0,6.7658999999999997E-2,0,0,0,0]
[0,0.1,0,0,0,0,0,0]
[0,0,0,0,0,0,0,0]
[0,0,0,0,0,0,0,0]
[0,0,0,0,0,0,0,0]
[0,0,0.1,0,0,0,0,0]
[0,0,0,6.7658999999999997E-2,0,0,0,0]
[0,0,0,0,0,0,0,0]
[0,0,0,0,0,0,0,0]
[6.5876156000000005E-2,0,0,0,0,0,0,0]
[0,0,0,0,0,0,0,0]
[0,0,0,0,0,0,0,0]
[0,0,0.1,0,0,0,0,0]
[0,0,0,0,0,0,0,0]
[0,0,0,0,0,0,0,0]
[0,0,0,0,0,0,0,0]
[0,0,0,0,0,0,0,0]
[0,0,0,0,0,0,0,0]
[0,0,0,0,0,0,0,0]
[0,0,0,0,0,0,0,0]
[0,0,0,0,0,0,0,0]
[0,0,0,0,0,0.1,0,0]
[0,0,0,0,0,0,0,0]
[0,0,0,0,0,0,0,0]
[0,0,0,0,0,0,0,0]
[0,0,0,0,0,0,0,0]
[0,0,0,0,0,0,0,0]
[0,0,0,0,0,0,0,0]
[0,0,0,6.7658999999999997E-2,0,0,0,0]
[0,0,0,0,0,0,0,0]
[0,0,0,0,0,0,0,0]
[0,0,0,0,0,0,0,0]
[0,0,0,0,0,0,0,8.8652484000000004E-2]
[0,0,0,0,0,0,0,0]
[0,0,0,0,0,0,0,0]
[0,0,0,6.7658999999999997E-2,0,0,0,0]
[0,0,0,6.7658999999999997E-2,0,0,0,0]
[0,0,0,6.7658999999999997E-2,0,0,0,0]
[0,0,0,0,0,0,0,0]
[0,0,0,0,0,0,0,0]
[0,0,0,0,0,0,0,0]
[0,0,0,0,0,0,0,0]
[0,0,0,0,0,0,0,0]
[0,0,0,0,0,0,0,0]
[0,0,0,0,0,0,0,0]
[0,0,0,6.7658999999999997E-2,0,0,0,0]
[0,0,0,0,0.1,0,0,0]
[0,0,0,0,0,0,0,0]
[0,0,0,0,0,0,0,0]
[0,0.1,0,0,0,0,0,0]
[0,0,0,0,0,0,0,0]
[6.5876156000000005E-2,0,0,0,0,0,0,0]
[6.5876156000000005E-2,0,0,0,0,0,0,0]
[0,0,0,0,0,0,0,0]
[0,0,0,0,0,0,0,0]
[0,0,0,0,0,0,0,8.8652484000000004E-2]
[0,0,0,0,0,0,0,0]
[0,0,0,0,0,0,0,0]
[0,0,0,0,0,0,0,0]
[0,0,0,0,0,0,0,0]
[0,0,0,0,0,0,0,0]
[0,0,0,0,0,0,0,0]
[0,0,0,0,0,0,0,0]
[0,0,0,6.7658999999999997E-2,0,0,0,0]
[0,0,0,0,0,0,0,0]
[0,0,0,0,0,0,0,0]
[0,0,0,0,0,0,0,0]
[0,0.1,0,0,0,0,0,0]
[0,0,0,0,0,0,0,0]
[0,0,0,0,0,0,0,0]
[0,0,0.1,0,0,0,0,0]
[0,0,0,0,0,0,0,0]
[0,0,0,0,0,0,0,0]
[0,0,0,0,0,0,0.1,0]
[0,0,0,0,0,0,0,0]
[0,0,0,0,0,0,0,0]
[0,0,0,6.7658999999999997E-2,0,0,0,0]
[0,0,0.1,0,0,0,0,0]
[0,0,0,0,0,0,0,0]
[0,0,0,0,0,0,0,0]
[0,0,0,0,0,0,0,0]
[6.5876156000000005E-2,0,0,0,0,0,0,0]
[0,0,0,0,0,0,0,0]
[0,0,0,0,0,0,0,0]
[0,0,0,0,0,0,0,0]
[0,0,0,0,0,0,0,0]
[0,0,0,0,0,0,0,0]
[0,0,0,0,0,0,0,0]
[0,0,0,0,0,0,0,0]
[0,0,0,0,0,0,0,0]
[0,0,0,0,0,0,0,0]
[0,0,0,0,0,0,0,0]
[0,0,0,0,0,0,0,0]
[0,0,0,0,0,0,0,0]
[0,0,0,0,0,0,0,0]
[0,0,0,6.7658999999999997E-2,0,0,0,0]
[0,0,0,0,0,0.1,0,0]
[0,0,0,0,0,0,0,0]
[0,0,0,0,0,0,0,8.8652484000000004E-2]
[0,0,0,0,0,0,0,0]
[0,0,0,0,0,0,0,0]
[0,0,0,0,0,0,0,0]
[0,0,0,0,0,0,0,0]
[0,0,0,0,0,0,0,0]
[0,0,0,0,0,0,0,8.8652484000000004E-2]
[0,0,0.1,0,0,0,0,0]
[6.5876156000000005E-2,0,0,0,0,0,0,0]
[0,0,0,6.7658999999999997E-2,0,0,0,0]
[0,0,0,0,0,0,0,0]
[0,0,0,0,0,0,0,0]
[0,0,0,0,0,0,0,0]
[0,0,0,0,0,0,0,0]
[0,0,0.1,0,0,0,0,0]
[0,0.1,0,0,0,0,0,0]
[0,0,0,0,0,0,0.1,0]
[0,0,0,0,0,0,0,0]
[0,0,0,0,0,0,0,0]
[0,0,0,0,0,0,0,0]
[0,0,0,0,0,0,0,0]
[0,0,0,0,0,0,0,0]
[0,0.1,0,0,0,0,0,0]
[0,0,0,0,0,0,0,0]
[0,0,0,0,0,0,0,0]
[0,0,0,0,0,0,0,0]
[0,0.1,0,0,0,0,0,0]
[0,0,0,0,0,0,0,0]
[0,0,0,0,0,0,0,0]
[0,0,0,0,0,0,0,0]
[0,0,0,0,0,0,0,0]
[0,0,0,6.7658999999999997E-2,0,0,0,0]
[0,0,0,0,0,0,0,0]
[0,0,0,0,0,0,0,0]
[0,0,0,0,0,0,0,0]
[0,0,0,0,0,0,0,0]
[0,0,0,0,0,0,0,0]
[0,0,0,6.7658999999999997E-2,0,0,0,0]
[0,0,0,6.7658999999999997E-2,0,0,0,0]
[0,0,0,0,0,0,0,0]
[0,0,0,0,0,0,0,0]
[0,0,0,0,0,0,0,8.8652484000000004E-2]
[0,0,0.1,0,0,0,0,0]
[0,0,0,0,0,0,0,0]
[0,0,0,0,0,0,0,0]
[0,0,0,0,0,0,0,0]
[0,0,0,0,0,0,0,0]
[0,0,0,0,0,0,0,0]
[0,0,0.1,0,0,0,0,0]
[0,0,0,0,0,0,0,0]
[6.5876156000000005E-2,0,0,0,0,0,0,0]
[0,0.1,0,0,0,0,0,0]
[0,0,0,0,0,0,0.1,0]
[0,0,0,0,0,0,0,0]
[0,0,0.1,0,0,0,0,0]
[0,0,0,0,0,0,0,0]
[0,0,0,0,0,0,0,0]
[0,0,0,0,0,0,0,0]
[0,0.1,0,0,0,0,0,0]
[0,0,0,0,0,0,0,0]
[0,0,0,0,0,0,0.1,0]
[0,0,0,0,0,0,0,0]
[0,0,0,0,0,0,0.1,0]
[0,0,0,0,0,0,0,0]
[0,0,0,0,0,0,0,0]
[0,0,0,0,0,0,0,0]
[0,0,0,0,0.1,0,0,0]
[0,0,0,0,0.1,0,0,0]
[0,0,0,0,0,0,0,0]
[0,0,0,0,0,0,0,0]
[0,0,0,0,0,0,0,0]
[0,0,0,0,0,0,0,0]
[0,0,0,0,0.1,0,0,0]
[0,0,0,0,0,0,0,0]
[0,0,0,6.7658999999999997E-2,0,0,0,0]
[0,0,0,0,0,0,0,0]
[0,0,0,0,0,0,0,0]
[0,0,0,0,0,0,0,0]
[0,0,0,0,0,0,0,0]
[0,0,0,0,0,0,0,0]
[0,0,0,0,0,0,0,0]
[0,0,0,0,0,0,0,0]
[0,0,0,0,0,0,0,0]
[0,0,0,0,0,0,0,0]
[0,0,0,0,0,0,0,0]
[0,0,0,0,0,0,0,0]
[0,0,0,0,0,0,0,0]
[0,0,0.1,0,0,0,0,0]
[0,0,0,0,0,0,0,0]
[0,0,0,0,0,0,0,0]
[0,0,0,0,0,0,0,0]
[0,0,0,6.7658999999999997E-2,0,0,0,0]
[0,0,0,0,0,0,0,0]
[0,0,0,0,0,0,0,0]
[0,0,0,0,0,0,0,0]
[0,0.1,0,0,0,0,0,0]
[0,0,0,0,0.1,0,0,0]
[0,0,0,0,0,0,0,0]
[0,0,0,0,0,0,0,0]
[0,0,0,0,0,0,0,0]
[0,0.1,0,0,0,0,0,0]
[6.5876156000000005E-2,0,0,0,0,0,0,0]
[0,0,0,0,0,0,0,0]
[0,0,0,0,0,0,0,0]
[0,0,0,0,0,0,0,0]
[0,0,0,0,0,0,0,0]
[0,0,0,0,0,0,0,8.8652484000000004E-2]
[0,0,0,0,0,0,0.1,0]
[0,0,0,0,0,0,0,0]
[0,0,0,0,0,0,0,0]
[0,0,0,6.7658999999999997E-2,0,0,0,0]
[0,0,0,0,0,0,0,0]
[0,0,0,0,0,0,0,0]
[0,0,0,0,0,0,0,0]
[0,0,0,0,0,0,0,0]
[0,0,0,0,0,0,0,0]
[0,0,0,0,0,0,0,0]
[0,0,0,0,0,0,0,0]
[0,0,0,0,0,0,0,0]
[0,0,0,6.7658999999999997E-2,0,0,0,0]
[0,0.1,0,0,0,0,0,0]
[0,0,0,0,0,0,0,0]
[0,0,0,6.7658999999999997E-2,0,0,0,0]
[0,0,0.1,0,0,0,0,0]
[0,0,0,0,0,0,0,0]
[0,0,0,0,0,0,0,8.8652484000000004E-2]
[0,0,0,0,0,0,0,0]
[0,0,0,0,0,0,0,0]
[0,0,0,0,0,0,0,0]
[0,0,0,0,0,0,0,0]
[0,0,0,0,0,0,0,0]
[0,0,0,0,0,0,0,0]
[0,0,0,0,0,0,0,0]
[0,0,0,0,0,0,0,0]
[0,0,0,0,0,0,0.1,0]
[0,0,0,0,0,0,0,0]
[0,0,0.1,0,0,0,0,0]
[0,0,0,6.7658999999999997E-2,0,0,0,0]
[0,0,0,0,0,0,0,8.8652484000000004E-2]
[0,0,0,0,0,0,0,8.8652484000000004E-2]
[0,0,0,0,0,0,0,0]
[0,0,0.1,0,0,0,0,0]
[0,0,0,0,0,0,0,0]
[0,0,0,0,0,0,0,0]
[6.5876156000000005E-2,0,0,0,0,0,0,0]
[0,0,0,6.7658999999999997E-2,0,0,0,0]
[6.5876156000000005E-2,0,0,0,0,0,0,0]
[0,0,0,0,0,0,0,8.8652484000000004E-2]
[0,0,0,0,0,0,0,0]
[0,0,0,0,0,0,0,0]
[0,0,0,6.7658999999999997E-2,0,0,0,0]
[0,0.1,0,0,0,0,0,0]
[0,0,0,0,0,0,0,0]
[0,0.1,0,0,0,0,0,0]
[0,0,0,0,0,0,0,0]
[0,0,0.1,0,0,0,0,0]
[0,0,0,0,0,0,0,0]
[6.5876156000000005E-2,0,0,0,0,0,0,0]
[0,0,0,0,0.1,0,0,0]
[0,0,0,0,0,0,0,0]
[0,0,0,0,0,0.1,0,0]
[0,0,0,0,0,0,0,0]
[0,0,0,0,0,0,0,0]
[0,0,0,0,0,0,0,8.8652484000000004E-2]
[0,0,0,0,0,0,0,0]
[0,0,0,0,0,0,0,0]
[0,0,0,6.7658999999999997E-2,0,0,0,0]
[0,0,0,0,0,0,0,0]
[0,0,0,0,0,0,0,0]
[0,0,0,0,0,0,0,0]
[0,0,0,0,0,0,0,0]
[0,0,0,0,0,0,0,0]
[0,0,0,0,0,0,0,8.8652484000000004E-2]
[0,0,0,0,0,0,0,8.8652484000000004E-2]
[0,0,0,0,0,0,0,8.8652484000000004E-2]
[0,0,0,0,0,0,0,0]
[0,0,0,0,0,0,0,0]
[0,0,0,0,0,0,0.1,0]
[0,0,0,0,0,0,0.1,0]
[0,0,0,0,0,0,0,0]
[0,0,0,0,0,0,0,8.8652484000000004E-2]
[0,0,0,0,0,0,0,0]
[0,0,0,0,0,0,0,0]
[0,0,0,6.7658999999999997E-2,0,0,0,0]
[6.5876156000000005E-2,0,0,0,0,0,0,0]
[0,0,0,6.7658999999999997E-2,0,0,0,0]
[0,0,0,0,0,0,0,0]
[0,0,0,0,0,0,0,0]
[0,0,0,6.7658999999999997E-2,0,0,0,0]
[0,0,0,6.7658999999999997E-2,0,0,0,0]
[0,0,0,0,0,0,0,0]
[0,0,0,6.7658999999999997E-2,0,0,0,0]
[0,0,0,0,0,0,0,0]
[0,0,0,0,0,0,0,0]
[0,0,0,0,0,0,0,0]
[0,0,0,0,0,0,0,0]
[0,0,0,0,0,0,0,0]
[0,0,0,0,0,0,0,0]
[0,0,0,0,0,0,0,0]
[0,0,0,0,0,0,0,0]
[0,0,0,6.7658999999999997E-2,0,0,0,0]
[0,0,0,0,0,0,0,0]
[0,0,0.1,0,0,0,0,0]
[0,0,0,0,0,0,0,0]
[0,0,0,0,0,0,0,0]
[0,0,0,0,0,0,0.1,0]
[0,0,0,6.7658999999999997E-2,0,0,0,0]
[0,0,0,0,0,0,0,0]
[0,0,0,0,0,0,0,0]
[0,0,0,0,0,0,0,0]
[0,0,0,0,0,0,0,0]
[0,0,0,0,0,0,0,0]
[6.5876156000000005E-2,0,0,0,0,0,0,0]
[6.5876156000000005E-2,0,0,0,0,0,0,0]
[0,0.1,0,0,0,0,0,0]
[0,0,0,0,0,0,0,0]
[0,0.1,0,0,0,0,0,0]
[0,0,0.1,0,0,0,0,0]
[0,0,0,0,0,0,0,0]
[0,0,0,0,0,0,0.1,0]
[0,0,0,0,0,0,0,0]
[0,0,0,6.7658999999999997E-2,0,0,0,0]
[0,0,0,0,0,0,0,0]
[0,0,0,0,0,0,0,0]
[0,0,0,0,0,0,0,0]
[0,0,0,0,0,0,0,0]
[0,0,0,0,0,0,0,0]
[0,0,0,0,0,0.1,0,0]
[0,0,0,0,0,0,0,0]
[0,0,0,0,0,0,0,0]
[0,0,0,0,0,0,0,0]
[0,0,0,0,0,0,0,0]
[0,0,0,0,0,0.1,0,0]
[0,0.1,0,0,0,0,0,0]
[0,0,0,0,0,0,0,0]
[0,0,0,0,0.1,0,0,0]
[0,0,0,0,0,0,0,0]
[0,0,0,0,0,0.1,0,0]
[0,0,0,0,0,0,0,0]
[0,0,0,0,0,0,0,0]
[0,0.1,0,0,0,0,0,0]
[0,0,0,0,0,0,0,0]
[0,0,0,0,0,0,0,0]
[0,0,0,0,0,0,0,0]
[0,0,0,0,0,0,0,0]
[0,0,0,0,0,0,0,0]
[0,0,0,6.7658999999999997E-2,0,0,0,0]
[0,0.1,0,0,0,0,0,0]
[0,0,0,6.7658999999999997E-2,0,0,0,0]
[0,0,0,0,0,0,0,0]
[0,0,0,0,0.1,0,0,0]
[0,0,0,0,0,0.1,0,0]
[0,0,0,0,0,0,0,0]
[0,0,0,0,0,0,0.1,0]
[0,0,0,0,0,0,0,0]
[0,0,0,0,0,0,0,0]
[6.5876156000000005E-2,0,0,0,0,0,0,0]
[0,0,0,0,0,0,0,0]
[0,0,0,0,0,0,0,0]
[0,0,0,0,0,0,0,0]
[0,0,0,0,0,0,0,0]
[0,0,0,0,0.1,0,0,0]
[0,0,0,0,0.1,0,0,0]
[0,0,0,0,0,0,0,0]
[0,0,0,0,0,0,0.1,0]
[0,0,0,0,0,0,0,0]
[0,0,0,0,0,0,0,0]
[0,0,0,0,0,0,0,0]
[0,0,0,0,0,0,0,0]
[0,0,0,0,0,0.1,0,0]
[6.5876156000000005E-2,0,0,0,0,0,0,0]
[0,0,0,0,0,0,0,0]
[0,0,0,0,0,0,0,0]
[0,0,0,0,0,0,0,0]
[0,0,0,0,0,0,0,0]
[0,0,0,0,0,0,0,0]
[0,0,0.1,0,0,0,0,0]
[0,0,0.1,0,0,0,0,0]
[0,0.1,0,0,0,0,0,0]
[0,0.1,0,0,0,0,0,0]
[0,0,0,0,0,0,0,0]
[0,0,0,0,0,0,0,0]
[0,0,0,0,0,0,0,0]
[0,0,0,0,0,0,0,0]
[0,0.1,0,0,0,0,0,0]
[0,0,0,0,0,0,0,0]
[0,0,0,6.7658999999999997E-2,0,0,0,0]
[0,0,0,0,0.1,0,0,0]
[0,0,0,0,0,0,0,0]
[0,0,0.1,0,0,0,0,0]
[0,0,0,0,0,0,0,8.8652484000000004E-2]
[0,0,0,0,0,0,0,0]
[0,0,0,0,0,0,0,0]
[0,0,0,0,0,0,0,0]
[0,0,0,0,0,0,0,0]
[0,0,0,0,0,0,0,0]
[0,0,0,0,0,0,0,0]
[0,0,0,0,0,0,0,0]
[0,0,0,0,0,0,0,0]
[0,0,0,0,0,0,0,0]
[0,0,0,0,0,0,0,0]
[0,0,0,0,0,0,0,0]
[0,0,0,0,0,0,0,0]
[0,0,0,0,0,0,0,0]
[0,0,0,0,0.1,0,0,0]
[0,0,0,0,0,0,0,0]
[0,0,0,0,0,0,0,8.8652484000000004E-2]
[0,0,0.1,0,0,0,0,0]
[0,0,0,6.7658999999999997E-2,0,0,0,0]
[0,0,0,0,0,0,0,0]
[0,0.1,0,0,0,0,0,0]
[0,0,0,0,0,0,0,0]
[0,0,0,0,0,0,0,0]
[0,0.1,0,0,0,0,0,0]
[0,0,0,0,0,0,0,0]
[0,0,0,6.7658999999999997E-2,0,0,0,0]
[0,0,0,0,0,0,0,0]
[0,0,0,0,0,0,0,0]
[0,0,0,0,0,0,0,0]
[0,0,0.1,0,0,0,0,0]
[0,0,0,0,0,0,0,0]
[0,0,0,0,0,0,0,0]
[0,0,0,0,0,0,0,0]
[0,0,0,0,0,0,0,0]
[0,0,0,0,0,0.1,0,0]
[0,0,0,0,0,0,0,0]
[0,0,0,0,0,0,0,0]
[6.5876156000000005E-2,0,0,0,0,0,0,0]
[0,0,0,0,0,0,0,0]
[0,0,0,6.7658999999999997E-2,0,0,0,0]
[0,0,0,0,0,0,0,0]
[0,0,0,0,0,0,0,0]
[0,0,0,0,0,0,0,0]
[0,0,0,0,0,0,0,0]
[0,0,0,0,0,0,0,0]
[0,0,0.1,0,0,0,0,0]
[0,0,0,0,0,0,0,0]
[0,0,0,0,0,0,0,0]
[0,0,0,0,0,0,0,0]
[0,0,0,6.7658999999999997E-2,0,0,0,0]
[0,0,0,0,0,0,0,0]
[0,0,0,0,0,0,0,0]
[0,0,0,0,0,0,0,0]
[0,0,0,0,0,0,0,0]
[0,0,0,0,0,0,0,0]
[0,0,0,0,0,0,0,0]
[0,0,0,0,0,0,0,0]
[0,0,0,0,0,0,0,0]
[0,0,0,0,0.1,0,0,0]
[0,0,0,0,0,0,0,0]
[0,0,0,0,0,0.1,0,0]
[0,0,0,0,0.1,0,0,0]
[0,0,0,0,0,0,0,8.8652484000000004E-2]
[0,0,0.1,0,0,0,0,0]
[0,0,0,0,0,0,0,8.8652484000000004E-2]
[0,0,0,0,0,0,0,8.8652484000000004E-2]
[0,0,0,0,0,0.1,0,0]
[0,0,0,0,0.1,0,0,0]
[0,0,0,0,0,0,0,8.8652484000000004E-2]
[0,0,0,6.7658999999999997E-2,0,0,0,0]
[0,0,0,0,0.1,0,0,0]
[0,0,0.1,0,0,0,0,0]
[0,0.1,0,0,0,0,0,0]
[0,0,0,0,0.1,0,0,0]
[0,0,0,6.7658999999999997E-2,0,0,0,0]
[0,0,0,0,0,0,0,0]
[0,0,0,0,0,0,0,0]
[0,0,0,0,0.1,0,0,0]
[0,0,0,0,0.1,0,0,0]
[0,0,0,0,0.1,0,0,0]
[0,0,0,0,0,0,0,0]
[0,0.1,0,0,0,0,0,0]
[0,0,0,0,0,0,0,0]
[0,0,0,0,0,0,0.1,0]
[6.5876156000000005E-2,0,0,0,0,0,0,0]
[0,0,0.1,0,0,0,0,0]
[0,0,0,0,0,0,0,0]
[0,0,0,0,0.1,0,0,0]
[0,0,0,0,0,0.1,0,0]
[0,0,0,0,0.1,0,0,0]
[0,0,0,0,0,0,0.1,0]
[0,0,0,0,0,0,0.1,0]
[0,0,0,0,0,0.1,0,0]
[0,0.1,0,0,0,0,0,0]
[0,0,0,6.7658999999999997E-2,0,0,0,0]
[0,0,0,0,0,0,0,0]
[0,0,0,0,0,0.1,0,0]
[0,0,0,0,0,0,0,0]
[0,0,0,0,0,0,0,0]
[0,0.1,0,0,0,0,0,0]
[0,0,0,0,0,0,0,0]
[0,0,0,6.7658999999999997E-2,0,0,0,0]
[0,0,0,0,0.1,0,0,0]
[0,0,0,0,0.1,0,0,0]
[0,0,0.1,0,0,0,0,0]
[6.5876156000000005E-2,0,0,0,0,0,0,0]
[0,0,0,0,0.1,0,0,0]
[0,0,0,0,0,0,0,0]
[6.5876156000000005E-2,0,0,0,0,0,0,0]
[0,0,0,0,0,0,0,0]
[0,0,0,0,0,0,0,0]
[0,0,0,0,0,0,0,0]
[0,0,0,0,0,0,0,0]
[0,0,0,0,0,0.1,0,0]
[0,0,0,0,0,0,0,0]
[0,0,0,6.7658999999999997E-2,0,0,0,0]
[0,0,0,0,0,0,0,0]
[6.5876156000000005E-2,0,0,0,0,0,0,0]
[0,0,0,0,0,0,0,0]
[0,0,0,0,0,0,0,0]
[0,0,0,0,0,0,0,0]
[0,0,0,0,0,0,0,0]
[0,0,0,0,0,0,0,0]
[0,0,0,0,0,0,0,0]
[0,0,0,6.7658999999999997E-2,0,0,0,0]
[0,0,0,0,0,0,0,0]
[0,0,0.1,0,0,0,0,0]
[0,0,0,0,0,0,0,8.8652484000000004E-2]
[0,0,0,0,0,0,0,0]
[0,0,0,0,0,0,0,0]
[0,0,0,0,0,0,0,0]
[0,0,0,0,0,0,0.1,0]
[0,0,0,0,0,0,0,0]
[0,0,0,0,0,0,0,0]
[0,0,0,0,0,0,0,0]
[0,0,0,0,0,0,0.1,0]
[0,0,0,0,0,0,0,0]
[0,0,0,6.7658999999999997E-2,0,0,0,0]
[0,0,0,0,0,0,0,0]
[0,0,0,0,0,0,0,0]
[0,0,0.1,0,0,0,0,0]
[0,0,0,0,0,0,0,0]
[0,0,0,0,0,0,0,0]
[0,0,0,0,0.1,0,0,0]
[0,0,0,0,0,0,0,0]
[0,0,0,0,0,0,0,0]
[0,0,0,0,0,0,0,0]
[0,0,0,0,0,0,0,0]
[0,0,0,0,0,0,0,8.8652484000000004E-2]
[0,0,0,0,0.1,0,0,0]
[0,0,0,0,0,0,0,0]
[0,0,0,0,0,0,0,0]
[0,0,0,0,0,0,0,0]
[0,0.1,0,0,0,0,0,0]
[6.5876156000000005E-2,0,0,0,0,0,0,0]
[0,0,0.1,0,0,0,0,0]
[0,0,0,0,0,0,0,0]
[0,0,0,0,0,0,0,0]
[0,0,0.1,0,0,0,0,0]
[0,0,0,6.7658999999999997E-2,0,0,0,0]
[0,0,0,6.7658999999999997E-2,0,0,0,0]
[0,0,0,0,0,0,0,0]
[0,0,0,0,0,0,0,0]
[0,0,0,0,0,0,0,0]
[0,0,0,0,0,0,0,0]
[0,0,0,0,0,0,0,0]
[0,0,0,0,0,0,0,0]
[0,0,0,0,0,0,0,0]
[0,0,0,0,0,0,0,0]
[0,0,0,0,0,0,0,0]
[0,0,0,0,0,0,0,0]
[0,0,0,0,0,0,0,0]
[0,0,0,0,0,0,0,0]
[0,0,0,0,0,0,0,0]
[0,0,0,0,0,0,0,0]
[0,0,0,0,0,0,0,0]
[0,0,0,0,0,0,0,0]
[0,0,0,0,0,0,0,0]
[0,0,0,0,0,0,0,0]
[0,0,0,0,0,0,0,0]
[0,0,0,0,0,0,0,0]
[0,0,0,0,0,0,0,0]
[0,0,0,0,0,0,0,0]
[0,0,0,0,0,0,0,0]
[0,0,0,0,0,0,0,0]
[0,0,0,0,0,0,0,0]
[0,0,0,0,0,0,0,0]
[0,0,0,0,0,0,0,0]
[0,0,0,0,0,0,0,0]
[0,0,0,6.7658999999999997E-2,0,0,0,0]
[0,0,0,0,0,0,0,0]
[0,0,0.1,0,0,0,0,0]
[0,0,0,0,0,0,0,8.8652484000000004E-2]
[6.5876156000000005E-2,0,0,0,0,0,0,0]
[0,0,0,0,0,0,0,0]
[0,0,0,0,0,0,0,0]
[0,0,0,0,0,0,0,0]
[0,0,0,0,0,0,0,0]
[0,0,0,0,0,0,0,0]
[0,0,0,6.7658999999999997E-2,0,0,0,0]
[0,0,0,0,0,0,0,0]
[0,0,0,0,0,0,0,0]
[0,0,0,0,0,0,0,0]
[0,0,0,0,0.1,0,0,0]
[0,0,0,0,0,0,0,0]
[6.5876156000000005E-2,0,0,0,0,0,0,0]
[0,0,0,0,0,0,0,0]
[0,0,0,6.7658999999999997E-2,0,0,0,0]
[0,0,0,0,0,0,0,0]
[0,0,0.1,0,0,0,0,0]
[0,0,0,6.7658999999999997E-2,0,0,0,0]
[0,0,0,0,0,0,0,0]
[0,0,0.1,0,0,0,0,0]
[0,0,0,0,0,0.1,0,0]
[0,0,0,0,0,0,0,0]
[0,0,0,0,0,0,0,0]
[0,0,0,0,0,0,0,0]
[0,0.1,0,0,0,0,0,0]
[0,0,0.1,0,0,0,0,0]
[0,0,0,6.7658999999999997E-2,0,0,0,0]
[0,0,0,0,0,0,0,0]
[0,0,0,0,0,0,0,8.8652484000000004E-2]
[0,0,0,0,0,0,0,0]
[0,0,0,0,0,0,0,8.8652484000000004E-2]
[0,0,0,0,0,0,0,0]
[0,0,0,0,0,0,0,0]
[0,0.1,0,0,0,0,0,0]
[0,0,0,0,0,0,0,0]
[0,0,0,0,0,0.1,0,0]
[0,0,0,0,0,0,0,0]
[0,0,0.1,0,0,0,0,0]
[0,0,0,0,0,0,0,8.8652484000000004E-2]
[0,0,0,0,0,0,0,0]
[0,0,0,0,0,0,0,0]
[0,0,0,0,0,0,0.1,0]
[0,0,0,0,0,0,0,0]
[0,0,0,0,0,0,0,0]
[0,0,0,0,0,0,0,0]
[0,0,0,0,0,0,0,0]
[0,0,0.1,0,0,0,0,0]
[0,0,0,0,0,0,0,0]
[0,0,0,6.7658999999999997E-2,0,0,0,0]
[0,0,0,0,0,0,0,0]
[0,0,0,6.7658999999999997E-2,0,0,0,0]
[0,0,0,0,0,0,0.1,0]
[0,0,0,0,0,0,0,0]
[0,0,0,0,0.1,0,0,0]
[0,0,0,0,0,0,0,0]
[0,0,0,0,0,0,0,0]
[0,0,0,0,0,0,0.1,0]
[0,0,0,0,0,0,0,8.8652484000000004E-2]
[0,0,0,0,0,0,0,0]
[0,0,0,0,0,0,0,0]
[0,0,0,0,0,0,0,8.8652484000000004E-2]
[0,0,0,0,0,0,0,0]
[0,0,0,0,0,0,0,0]
[0,0,0,0,0,0,0,0]
[6.5876156000000005E-2,0,0,0,0,0,0,0]
[0,0,0,6.7658999999999997E-2,0,0,0,0]
[0,0,0,0,0,0,0,0]
[0,0,0,0,0,0,0,0]
[0,0,0,0,0,0,0,0]
[0,0,0,0,0,0,0,0]
[0,0,0,6.7658999999999997E-2,0,0,0,0]
[0,0,0,6.7658999999999997E-2,0,0,0,0]
[0,0,0,0,0,0,0,0]
[0,0,0,0,0,0,0.1,0]
[0,0,0,0,0,0,0,0]
[0,0,0,6.7658999999999997E-2,0,0,0,0]
[0,0,0.1,0,0,0,0,0]
[0,0,0,0,0,0,0,0]
[0,0,0,6.7658999999999997E-2,0,0,0,0]
[0,0,0,0,0,0,0,0]
[0,0,0,6.7658999999999997E-2,0,0,0,0]
[0,0,0,0,0,0,0,0]
[0,0,0,0,0,0.1,0,0]
[0,0.1,0,0,0,0,0,0]
[0,0,0,0,0,0,0,0]
[0,0,0,0,0,0,0,0]
[0,0,0,0,0,0,0,0]
[0,0,0,0,0,0,0,0]
[0,0.1,0,0,0,0,0,0]
[0,0,0,6.7658999999999997E-2,0,0,0,0]
[0,0.1,0,0,0,0,0,0]
[0,0,0,0,0,0,0,0]
[0,0,0,0,0,0,0,0]
[0,0,0,0,0,0,0,0]
[0,0,0,0,0.1,0,0,0]
[0,0,0,0,0,0,0,0]
[0,0.1,0,0,0,0,0,0]
[0,0,0,0,0.1,0,0,0]
[0,0,0,6.7658999999999997E-2,0,0,0,0]
[0,0,0,0,0,0,0,0]
[0,0.1,0,0,0,0,0,0]
[0,0,0,0,0,0,0,0]
[0,0,0,0,0,0,0,0]
[0,0,0,0,0,0,0,0]
[0,0,0,0,0.1,0,0,0]
[0,0,0,0,0,0,0,0]
[0,0,0,0,0,0.1,0,0]
[0,0,0.1,0,0,0,0,0]
[0,0,0,0,0,0,0,0]
[0,0,0,0,0,0,0,0]
[0,0,0,0,0,0,0,8.8652484000000004E-2]
[0,0,0,0,0,0,0,0]
[0,0,0,0,0,0,0,0]
[0,0,0,0,0,0,0,0]
[0,0,0,0,0,0,0,0]
[0,0,0,0,0,0,0,8.8652484000000004E-2]
[0,0,0,0,0,0,0,0]
[0,0,0,0,0,0,0,0]
[6.5876156000000005E-2,0,0,0,0,0,0,0]
[6.5876156000000005E-2,0,0,0,0,0,0,0]
[0,0,0,0,0,0,0,0]
[0,0,0,0,0,0,0,0]
[0,0,0,0,0,0,0,0]
[0,0,0,0,0,0,0,0]
[0,0,0,6.7658999999999997E-2,0,0,0,0]
[0,0,0,0,0,0,0,0]
[0,0,0,0,0,0,0,0]
[0,0,0,6.7658999999999997E-2,0,0,0,0]
[6.5876156000000005E-2,0,0,0,0,0,0,0]
[0,0,0,0,0,0,0,0]
[0,0,0,0,0,0,0,0]
[0,0,0,0,0,0,0,0]
[0,0,0,0,0,0,0,0]
[0,0.1,0,0,0,0,0,0]
[0,0,0.1,0,0,0,0,0]
[0,0,0,0,0,0,0,0]
[0,0,0,0,0,0,0,0]
[0,0,0,6.7658999999999997E-2,0,0,0,0]
[6.5876156000000005E-2,0,0,0,0,0,0,0]
[0,0,0.1,0,0,0,0,0]
[0,0,0,0,0,0,0,0]
[0,0,0,0,0,0,0,0]
[6.5876156000000005E-2,0,0,0,0,0,0,0]
[0,0,0,0,0,0,0,0]
[0,0,0,0,0,0,0,0]
[0,0,0,0,0,0,0,0]
[0,0,0,6.7658999999999997E-2,0,0,0,0]
[0,0,0,0,0,0,0,0]
[0,0,0,0,0.1,0,0,0]
[0,0,0,0,0,0,0,0]
[0,0,0,0,0,0,0,0]
[0,0,0,0,0,0,0,0]
[0,0,0,0,0,0,0,0]
[0,0,0,0,0,0,0,8.8652484000000004E-2]
[0,0,0,0,0,0,0,0]
[0,0,0,0,0,0,0,0]
[0,0,0,0,0,0,0,0]
[0,0,0,0,0,0,0,0]
[0,0,0,0,0,0,0,0]
[0,0,0,0,0,0,0,0]
[0,0.1,0,0,0,0,0,0]
[0,0,0,0,0,0,0,0]
[0,0,0,0,0,0,0,0]
[6.5876156000000005E-2,0,0,0,0,0,0,0]
[0,0,0,0,0,0,0,0]
[0,0,0,0,0,0,0,0]
[0,0,0,0,0.1,0,0,0]
[0,0,0,0,0,0,0,0]
[0,0,0,0,0,0,0,0]
[0,0,0,0,0,0,0,0]
[0,0,0,0,0,0,0,0]
[0,0,0,0,0,0,0,0]
[0,0,0,0,0,0,0,0]
[0,0,0,0,0,0,0,0]
[0,0,0,0,0,0,0,0]
[0,0,0,0,0,0,0,0]
[0,0,0,0,0,0,0,0]
[0,0.1,0,0,0,0,0,0]
[0,0,0,0,0,0,0,0]
[0,0,0,0,0,0,0,0]
[0,0,0,0,0,0,0,0]
[0,0,0,0,0,0,0,0]
[0,0,0,0,0,0,0,0]
[0,0,0,0,0,0,0,0]
[0,0,0,0,0,0,0,0]
[0,0,0,0,0,0,0,8.8652484000000004E-2]
[0,0,0,0,0,0,0.1,0]
[0,0,0.1,0,0,0,0,0]
[6.5876156000000005E-2,0,0,0,0,0,0,0]
[0,0,0,0,0,0.1,0,0]
[0,0,0,0,0,0.1,0,0]
[0,0,0,0,0.1,0,0,0]
[0,0,0,0,0,0,0,0]
[0,0,0,0,0,0,0,0]
[0,0,0,0,0,0,0,0]
[0,0,0,0,0,0,0,0]
[0,0,0,0,0,0,0,0]
[0,0.1,0,0,0,0,0,0]
[0,0,0,0,0,0,0,0]
[675,602,589,780,474,529,514,589]
[1518,1000,1000,1478,1000,1000,1000,1128]

{"sheet":"Author1Ind","index":3,"n_rows":0,"n_cols":0,"rows_kept":0,"cut":false,"hidden":false,"merged":[]}

{"sheet":"Author2Ind","index":4,"n_rows":0,"n_cols":0,"rows_kept":0,"cut":false,"hidden":false,"merged":[]}

{"sheet":"Test","index":5,"n_rows":0,"n_cols":0,"rows_kept":0,"cut":false,"hidden":false,"merged":[]}